Workbook

Sheet รายปี
A1: ดัชนีราคาสินค้าเกษตร
A3: รายการสินค้า | B3: 2548 | C3: 2549 | D3: 2550 | E3: 2551 | F3: 2552 | G3: 2553 | H3: 2554 | I3: 2555 | J3: 2556 | K3: 2557 | L3: 2558 | M3: 2559 | N3: 2560 | O3: 2561 | P3: 2562 | Q3: 2563 | R3: 2564 | S3: 2565 | T3: 2566 | U3: 2567 | V3: 2568
A5: ภาคเกษตรกรรม | B5: =AVERAGE(รายเดือน!B5:M5) -> 100 | C5: =AVERAGE(รายเดือน!N5:Y5) -> 108.61321 | D5: =AVERAGE(รายเดือน!Z5:AK5) -> 111.54471 | E5: =AVERAGE(รายเดือน!AL5:AW5) -> 133.79172 | F5: =AVERAGE(รายเดือน!AX5:BI5) -> 122.61617 | G5: =AVERAGE(รายเดือน!BJ5:BU5) -> 153.08023 | H5: =AVERAGE(รายเดือน!BV5:CG5) -> 172.46232 | I5: =AVERAGE(รายเดือน!CH5:CS5) -> 153.75135 | J5: =AVERAGE(รายเดือน!CT5:DE5) -> 151.4252 | K5: =AVERAGE(รายเดือน!DF5:DQ5) -> 141.1189 | L5: =AVERAGE(รายเดือน!DR5:EC5) -> 133.24714 | M5: =AVERAGE(รายเดือน!ED5:EO5) -> 135.63111 | N5: =AVERAGE(รายเดือน!EP5:FA5) -> 133.52324 | O5: =AVERAGE(รายเดือน!FB5:FM5) -> 127.29576 | P5: =AVERAGE(รายเดือน!FN5:FY5) -> 129.42264 | Q5: =AVERAGE(รายเดือน!FZ5:GK5) -> 136.82697 | R5: =AVERAGE(รายเดือน!GL5:GW5) -> 140.58002 | S5: =AVERAGE(รายเดือน!GX5:HI5) -> 156.94611 | T5: =AVERAGE(รายเดือน!HJ5:HU5) -> 153.66828 | U5: =AVERAGE(รายเดือน!HV5:IG5) -> 165.57993 | V5: =AVERAGE(รายเดือน!IH5:IS5) -> 149.28373
A6: 1. หมวดพืชผลสำคัญ | B6: =AVERAGE(รายเดือน!B6:M6) -> 100 | C6: =AVERAGE(รายเดือน!N6:Y6) -> 114.3247 | D6: =AVERAGE(รายเดือน!Z6:AK6) -> 121.43224 | E6: =AVERAGE(รายเดือน!AL6:AW6) -> 146.88532 | F6: =AVERAGE(รายเดือน!AX6:BI6) -> 130.65469 | G6: =AVERAGE(รายเดือน!BJ6:BU6) -> 169.80954 | H6: =AVERAGE(รายเดือน!BV6:CG6) -> 191.57528 | I6: =AVERAGE(รายเดือน!CH6:CS6) -> 169.5019 | J6: =AVERAGE(รายเดือน!CT6:DE6) -> 158.11233 | K6: =AVERAGE(รายเดือน!DF6:DQ6) -> 140.78279 | L6: =AVERAGE(รายเดือน!DR6:EC6) -> 134.64749 | M6: =AVERAGE(รายเดือน!ED6:EO6) -> 137.50799 | N6: =AVERAGE(รายเดือน!EP6:FA6) -> 137.69499 | O6: =AVERAGE(รายเดือน!FB6:FM6) -> 132.61048 | P6: =AVERAGE(รายเดือน!FN6:FY6) -> 131.8262 | Q6: =AVERAGE(รายเดือน!FZ6:GK6) -> 140.99502 | R6: =AVERAGE(รายเดือน!GL6:GW6) -> 145.89206 | S6: =AVERAGE(รายเดือน!GX6:HI6) -> 156.74054 | T6: =AVERAGE(รายเดือน!HJ6:HU6) -> 157.45892 | U6: =AVERAGE(รายเดือน!HV6:IG6) -> 177.57481 | V6: =AVERAGE(รายเดือน!IH6:IS6) -> 153.6166
A7: 1.1 กลุ่มธัญพืชและพืชอาหาร | B7: =AVERAGE(รายเดือน!B7:M7) -> 100 | C7: =AVERAGE(รายเดือน!N7:Y7) -> 106.68065 | D7: =AVERAGE(รายเดือน!Z7:AK7) -> 119.19392 | E7: =AVERAGE(รายเดือน!AL7:AW7) -> 151.83297 | F7: =AVERAGE(รายเดือน!AX7:BI7) -> 141.57484 | G7: =AVERAGE(รายเดือน!BJ7:BU7) -> 163.15323 | H7: =AVERAGE(รายเดือน!BV7:CG7) -> 169.73826 | I7: =AVERAGE(รายเดือน!CH7:CS7) -> 175.56795 | J7: =AVERAGE(รายเดือน!CT7:DE7) -> 171.67175 | K7: =AVERAGE(รายเดือน!DF7:DQ7) -> 153.42756 | L7: =AVERAGE(รายเดือน!DR7:EC7) -> 148.84527 | M7: =AVERAGE(รายเดือน!ED7:EO7) -> 135.76009 | N7: =AVERAGE(รายเดือน!EP7:FA7) -> 133.92758 | O7: =AVERAGE(รายเดือน!FB7:FM7) -> 150.50249 | P7: =AVERAGE(รายเดือน!FN7:FY7) -> 147.81168 | Q7: =AVERAGE(รายเดือน!FZ7:GK7) -> 152.09903 | R7: =AVERAGE(รายเดือน!GL7:GW7) -> 140.10838 | S7: =AVERAGE(รายเดือน!GX7:HI7) -> 157.39878 | T7: =AVERAGE(รายเดือน!HJ7:HU7) -> 179.90904 | U7: =AVERAGE(รายเดือน!HV7:IG7) -> 183.81131 | V7: =AVERAGE(รายเดือน!IH7:IS7) -> 153.41227
A8: ข้าวเปลือก | B8: =AVERAGE(รายเดือน!B8:M8) -> 100 | C8: =AVERAGE(รายเดือน!N8:Y8) -> 107.85282 | D8: =AVERAGE(รายเดือน!Z8:AK8) -> 118.80155 | E8: =AVERAGE(รายเดือน!AL8:AW8) -> 159.24547 | F8: =AVERAGE(รายเดือน!AX8:BI8) -> 149.96993 | G8: =AVERAGE(รายเดือน!BJ8:BU8) -> 156.59148 | H8: =AVERAGE(รายเดือน!BV8:CG8) -> 165.32375 | I8: =AVERAGE(รายเดือน!CH8:CS8) -> 173.83728 | J8: =AVERAGE(รายเดือน!CT8:DE8) -> 168.92178 | K8: =AVERAGE(รายเดือน!DF8:DQ8) -> 145.38424 | L8: =AVERAGE(รายเดือน!DR8:EC8) -> 141.89082 | M8: =AVERAGE(รายเดือน!ED8:EO8) -> 134.72493 | N8: =AVERAGE(รายเดือน!EP8:FA8) -> 126.57587 | O8: =AVERAGE(รายเดือน!FB8:FM8) -> 145.02391 | P8: =AVERAGE(รายเดือน!FN8:FY8) -> 153.6307 | Q8: =AVERAGE(รายเดือน!FZ8:GK8) -> 159.22396 | R8: =AVERAGE(รายเดือน!GL8:GW8) -> 130.54085 | S8: =AVERAGE(รายเดือน!GX8:HI8) -> 141.37548 | T8: =AVERAGE(รายเดือน!HJ8:HU8) -> 165.83348 | U8: =AVERAGE(รายเดือน!HV8:IG8) -> 170.687 | V8: =AVERAGE(รายเดือน!IH8:IS8) -> 145.79667
A9: ข้าวเปลือกเจ้าความชื้น 15% | B9: =AVERAGE(รายเดือน!B9:M9) -> 100 | C9: =AVERAGE(รายเดือน!N9:Y9) -> 99.9737 | D9: =AVERAGE(รายเดือน!Z9:AK9) -> 97.591674 | E9: =AVERAGE(รายเดือน!AL9:AW9) -> 159.43042 | F9: =AVERAGE(รายเดือน!AX9:BI9) -> 145.15079 | G9: =AVERAGE(รายเดือน!BJ9:BU9) -> 126.24236 | H9: =AVERAGE(รายเดือน!BV9:CG9) -> 137.43414 | I9: =AVERAGE(รายเดือน!CH9:CS9) -> 151.8435 | J9: =AVERAGE(รายเดือน!CT9:DE9) -> 141.04173 | K9: =AVERAGE(รายเดือน!DF9:DQ9) -> 115.92025 | L9: =AVERAGE(รายเดือน!DR9:EC9) -> 116.56773 | M9: =AVERAGE(รายเดือน!ED9:EO9) -> 118.73671 | N9: =AVERAGE(รายเดือน!EP9:FA9) -> 116.30109 | O9: =AVERAGE(รายเดือน!FB9:FM9) -> 116.66859 | P9: =AVERAGE(รายเดือน!FN9:FY9) -> 116.91241 | Q9: =AVERAGE(รายเดือน!FZ9:GK9) -> 132.14938 | R9: =AVERAGE(รายเดือน!GL9:GW9) -> 125.26553 | S9: =AVERAGE(รายเดือน!GX9:HI9) -> 131.72187 | T9: =AVERAGE(รายเดือน!HJ9:HU9) -> 160.83921 | U9: =AVERAGE(รายเดือน!HV9:IG9) -> 159.78279 | V9: =AVERAGE(รายเดือน!IH9:IS9) -> 109.78832
A10: ข้าวเปลือกเจ้าหอมมะลิ | B10: =AVERAGE(รายเดือน!B10:M10) -> 100 | C10: =AVERAGE(รายเดือน!N10:Y10) -> 106.44616 | D10: =AVERAGE(รายเดือน!Z10:AK10) -> 114.13079 | E10: =AVERAGE(รายเดือน!AL10:AW10) -> 177.49485 | F10: =AVERAGE(รายเดือน!AX10:BI10) -> 175.84969 | G10: =AVERAGE(รายเดือน!BJ10:BU10) -> 176.35614 | H10: =AVERAGE(รายเดือน!BV10:CG10) -> 169.62823 | I10: =AVERAGE(รายเดือน!CH10:CS10) -> 196.54159 | J10: =AVERAGE(รายเดือน!CT10:DE10) -> 202.78495 | K10: =AVERAGE(รายเดือน!DF10:DQ10) -> 179.36016 | L10: =AVERAGE(รายเดือน!DR10:EC10) -> 168.38955 | M10: =AVERAGE(รายเดือน!ED10:EO10) -> 135.36614 | N10: =AVERAGE(รายเดือน!EP10:FA10) -> 132.58943 | O10: =AVERAGE(รายเดือน!FB10:FM10) -> 196.79934 | P10: =AVERAGE(รายเดือน!FN10:FY10) -> 201.54701 | Q10: =AVERAGE(รายเดือน!FZ10:GK10) -> 175.04694 | R10: =AVERAGE(รายเดือน!GL10:GW10) -> 139.5157 | S10: =AVERAGE(รายเดือน!GX10:HI10) -> 167.22452 | T10: =AVERAGE(รายเดือน!HJ10:HU10) -> 180.13502 | U10: =AVERAGE(รายเดือน!HV10:IG10) -> 191.87779 | V10: =AVERAGE(รายเดือน!IH10:IS10) -> 195.54076
A11: ข้าวเปลือกเหนียวเมล็ดยาว | B11: =AVERAGE(รายเดือน!B11:M11) -> 100 | C11: =AVERAGE(รายเดือน!N11:Y11) -> 130.14005 | D11: =AVERAGE(รายเดือน!Z11:AK11) -> 182.89839 | E11: =AVERAGE(รายเดือน!AL11:AW11) -> 135.17363 | F11: =AVERAGE(รายเดือน!AX11:BI11) -> 132.032 | G11: =AVERAGE(รายเดือน!BJ11:BU11) -> 224.38738 | H11: =AVERAGE(รายเดือน!BV11:CG11) -> 246.44913 | I11: =AVERAGE(รายเดือน!CH11:CS11) -> 212.62793 | J11: =AVERAGE(รายเดือน!CT11:DE11) -> 215.57408 | K11: =AVERAGE(รายเดือน!DF11:DQ11) -> 198.65399 | L11: =AVERAGE(รายเดือน!DR11:EC11) -> 190.4341 | M11: =AVERAGE(รายเดือน!ED11:EO11) -> 202.03112 | N11: =AVERAGE(รายเดือน!EP11:FA11) -> 170.05459 | O11: =AVERAGE(รายเดือน!FB11:FM11) -> 157.8512 | P11: =AVERAGE(รายเดือน!FN11:FY11) -> 203.94029 | Q11: =AVERAGE(รายเดือน!FZ11:GK11) -> 237.33866 | R11: =AVERAGE(รายเดือน!GL11:GW11) -> 159.83054 | S11: =AVERAGE(รายเดือน!GX11:HI11) -> 154.61678 | T11: =AVERAGE(รายเดือน!HJ11:HU11) -> 191.06476 | U11: =AVERAGE(รายเดือน!HV11:IG11) -> 203.12713 | V11: =AVERAGE(รายเดือน!IH11:IS11) -> 199.63456
A12: อ้อยโรงงาน | B12: =AVERAGE(รายเดือน!B12:M12) -> 100 | C12: =AVERAGE(รายเดือน!N12:Y12) -> 121.79878 | D12: =AVERAGE(รายเดือน!Z12:AK12) -> 115.77744 | E12: =AVERAGE(รายเดือน!AL12:AW12) -> 118.00305 | F12: =AVERAGE(รายเดือน!AX12:BI12) -> 138.04878 | G12: =AVERAGE(รายเดือน!BJ12:BU12) -> 173.24223 | H12: =AVERAGE(รายเดือน!BV12:CG12) -> 170.10671 | I12: =AVERAGE(รายเดือน!CH12:CS12) -> 176.18902 | J12: =AVERAGE(รายเดือน!CT12:DE12) -> 176.69207 | K12: =AVERAGE(รายเดือน!DF12:DQ12) -> 167.92683 | L12: =AVERAGE(รายเดือน!DR12:EC12) -> 145.70122 | M12: =AVERAGE(รายเดือน!ED12:EO12) -> 137.29013 | N12: =AVERAGE(รายเดือน!EP12:FA12) -> 177.90973 | O12: =AVERAGE(รายเดือน!FB12:FM12) -> 139.64984 | P12: =AVERAGE(รายเดือน!FN12:FY12) -> 122.22191 | Q12: =AVERAGE(รายเดือน!FZ12:GK12) -> 131.11593 | R12: =AVERAGE(รายเดือน!GL12:GW12) -> 169.88869 | S12: =AVERAGE(รายเดือน!GX12:HI12) -> 196.36227 | T12: =AVERAGE(รายเดือน!HJ12:HU12) -> 213.25922 | U12: =AVERAGE(รายเดือน!HV12:IG12) -> 265.33044 | V12: =AVERAGE(รายเดือน!IH12:IS12) -> 208.3987
A13: มันสำปะหลังสดคละ | B13: =AVERAGE(รายเดือน!B13:M13) -> 100 | C13: =AVERAGE(รายเดือน!N13:Y13) -> 80.34504 | D13: =AVERAGE(รายเดือน!Z13:AK13) -> 107.94824 | E13: =AVERAGE(รายเดือน!AL13:AW13) -> 133.51818 | F13: =AVERAGE(รายเดือน!AX13:BI13) -> 92.54467 | G13: =AVERAGE(รายเดือน!BJ13:BU13) -> 172.15034 | H13: =AVERAGE(รายเดือน!BV13:CG13) -> 176.03204 | I13: =AVERAGE(รายเดือน!CH13:CS13) -> 149.04498 | J13: =AVERAGE(รายเดือน!CT13:DE13) -> 157.48614 | K13: =AVERAGE(รายเดือน!DF13:DQ13) -> 155.51448 | L13: =AVERAGE(รายเดือน!DR13:EC13) -> 159.39618 | M13: =AVERAGE(รายเดือน!ED13:EO13) -> 112.46457 | N13: =AVERAGE(รายเดือน!EP13:FA13) -> 103.69377 | O13: =AVERAGE(รายเดือน!FB13:FM13) -> 175.95707 | P13: =AVERAGE(รายเดือน!FN13:FY13) -> 139.73095 | Q13: =AVERAGE(รายเดือน!FZ13:GK13) -> 132.82501 | R13: =AVERAGE(รายเดือน!GL13:GW13) -> 152.84042 | S13: =AVERAGE(รายเดือน!GX13:HI13) -> 186.4582 | T13: =AVERAGE(รายเดือน!HJ13:HU13) -> 214.87163 | U13: =AVERAGE(รายเดือน!HV13:IG13) -> 172.43992 | V13: =AVERAGE(รายเดือน!IH13:IS13) -> 126.71493
A14: ข้าวโพดเลี้ยงสัตว์ ความชื้น 14.5% | B14: =AVERAGE(รายเดือน!B14:M14) -> 100 | C14: =AVERAGE(รายเดือน!N14:Y14) -> 108.24213 | D14: =AVERAGE(รายเดือน!Z14:AK14) -> 139.72298 | E14: =AVERAGE(รายเดือน!AL14:AW14) -> 161.09781 | F14: =AVERAGE(รายเดือน!AX14:BI14) -> 125.95759 | G14: =AVERAGE(รายเดือน!BJ14:BU14) -> 163.57729 | H14: =AVERAGE(รายเดือน!BV14:CG14) -> 167.45896 | I14: =AVERAGE(รายเดือน!CH14:CS14) -> 185.67031 | J14: =AVERAGE(รายเดือน!CT14:DE14) -> 162.0383 | K14: =AVERAGE(รายเดือน!DF14:DQ14) -> 148.58071 | L14: =AVERAGE(รายเดือน!DR14:EC14) -> 164.60328 | M14: =AVERAGE(รายเดือน!ED14:EO14) -> 150.13081 | N14: =AVERAGE(รายเดือน!EP14:FA14) -> 126.66723 | O14: =AVERAGE(รายเดือน!FB14:FM14) -> 162.51909 | P14: =AVERAGE(รายเดือน!FN14:FY14) -> 160.24224 | Q14: =AVERAGE(รายเดือน!FZ14:GK14) -> 157.42561 | R14: =AVERAGE(รายเดือน!GL14:GW14) -> 168.3168 | S14: =AVERAGE(รายเดือน!GX14:HI14) -> 201.34205 | T14: =AVERAGE(รายเดือน!HJ14:HU14) -> 208.87112 | U14: =AVERAGE(รายเดือน!HV14:IG14) -> 177.52052 | V14: =AVERAGE(รายเดือน!IH14:IS14) -> 169.06862
A15: ถั่วเขียวผิวมันใหญ่ | B15: =AVERAGE(รายเดือน!B15:M15) -> 100 | C15: =AVERAGE(รายเดือน!N15:Y15) -> 104.51764 | D15: =AVERAGE(รายเดือน!Z15:AK15) -> 111.46461 | E15: =AVERAGE(รายเดือน!AL15:AW15) -> 100.05606 | F15: =AVERAGE(รายเดือน!AX15:BI15) -> 115.41229 | G15: =AVERAGE(รายเดือน!BJ15:BU15) -> 183.79818 | H15: =AVERAGE(รายเดือน!BV15:CG15) -> 151.05038 | I15: =AVERAGE(รายเดือน!CH15:CS15) -> 114.58538 | J15: =AVERAGE(รายเดือน!CT15:DE15) -> 135.95422 | K15: =AVERAGE(รายเดือน!DF15:DQ15) -> 182.92922 | L15: =AVERAGE(รายเดือน!DR15:EC15) -> 188.25041 | M15: =AVERAGE(รายเดือน!ED15:EO15) -> 166.75847 | N15: =AVERAGE(รายเดือน!EP15:FA15) -> 139.61457 | O15: =AVERAGE(รายเดือน!FB15:FM15) -> 119.59799 | P15: =AVERAGE(รายเดือน!FN15:FY15) -> 121.70209 | Q15: =AVERAGE(รายเดือน!FZ15:GK15) -> 133.007 | R15: =AVERAGE(รายเดือน!GL15:GW15) -> 139.32983 | S15: =AVERAGE(รายเดือน!GX15:HI15) -> 139.86428 | T15: =AVERAGE(รายเดือน!HJ15:HU15) -> 153.47769 | U15: =AVERAGE(รายเดือน!HV15:IG15) -> 146.16094 | V15: =AVERAGE(รายเดือน!IH15:IS15) -> 125.73931
A16: 1.2 กลุ่มไม้ยืนต้น | B16: =AVERAGE(รายเดือน!B16:M16) -> 100 | C16: =AVERAGE(รายเดือน!N16:Y16) -> 130.67187 | D16: =AVERAGE(รายเดือน!Z16:AK16) -> 132.55583 | E16: =AVERAGE(รายเดือน!AL16:AW16) -> 147.82297 | F16: =AVERAGE(รายเดือน!AX16:BI16) -> 109.3737 | G16: =AVERAGE(รายเดือน!BJ16:BU16) -> 197.24951 | H16: =AVERAGE(รายเดือน!BV16:CG16) -> 245.64442 | I16: =AVERAGE(รายเดือน!CH16:CS16) -> 173.16732 | J16: =AVERAGE(รายเดือน!CT16:DE16) -> 144.30949 | K16: =AVERAGE(รายเดือน!DF16:DQ16) -> 107.27201 | L16: =AVERAGE(รายเดือน!DR16:EC16) -> 87.2176 | M16: =AVERAGE(รายเดือน!ED16:EO16) -> 93.828917 | N16: =AVERAGE(รายเดือน!EP16:FA16) -> 111.51885 | O16: =AVERAGE(รายเดือน!FB16:FM16) -> 80.48175 | P16: =AVERAGE(รายเดือน!FN16:FY16) -> 81.423625 | Q16: =AVERAGE(รายเดือน!FZ16:GK16) -> 83.221435 | R16: =AVERAGE(รายเดือน!GL16:GW16) -> 101.978 | S16: =AVERAGE(รายเดือน!GX16:HI16) -> 103.51306 | T16: =AVERAGE(รายเดือน!HJ16:HU16) -> 88.022255 | U16: =AVERAGE(รายเดือน!HV16:IG16) -> 135.63784 | V16: =AVERAGE(รายเดือน!IH16:IS16) -> 117.59188
... A51: กุ้งขาวแวนนาไม (70 ตัว/กก.) | B51: =AVERAGE(รายเดือน!B51:M51) -> 100 | C51: =AVERAGE(รายเดือน!N51:Y51) -> 95.622435 | D51: =AVERAGE(รายเดือน!Z51:AK51) -> 82.079343 | E51: =AVERAGE(รายเดือน!AL51:AW51) -> 87.4829 | F51: =AVERAGE(รายเดือน!AX51:BI51) -> 87.619699 | G51: =AVERAGE(รายเดือน!BJ51:BU51) -> 90.629275 | H51: =AVERAGE(รายเดือน!BV51:CG51) -> 105.74555 | I51: =AVERAGE(รายเดือน!CH51:CS51) -> 104.03557 | J51: =AVERAGE(รายเดือน!CT51:DE51) -> 161.62791 | K51: =AVERAGE(รายเดือน!DF51:DQ51) -> 182.69494 | L51: =AVERAGE(รายเดือน!DR51:EC51) -> 147.19562 | M51: =AVERAGE(รายเดือน!ED51:EO51) -> 147.66293 | N51: =AVERAGE(รายเดือน!EP51:FA51) -> 151.96145 | O51: =AVERAGE(รายเดือน!FB51:FM51) -> 124.16416 | P51: =AVERAGE(รายเดือน!FN51:FY51) -> 118.34466 | Q51: =AVERAGE(รายเดือน!FZ51:GK51) -> 114.97541 | R51: =AVERAGE(รายเดือน!GL51:GW51) -> 114.97483 | S51: =AVERAGE(รายเดือน!GX51:HI51) -> 124.98965 | T51: =AVERAGE(รายเดือน!HJ51:HU51) -> 104.55834 | U51: =AVERAGE(รายเดือน!HV51:IG51) -> 107.44719 | V51: =AVERAGE(รายเดือน!IH51:IS51) -> 119.33795
A52: ที่มา : สำนักงานเศรษฐกิจการเกษตร
A53: หมายเหตุ ดัชนีราคาสินค้าเกษตร คำนวณแบบปริมาณลูกโซ่ (Chained-base Laspeyres) และปีอ้างอิง (Reference Year) คือ พ.ศ. 2548 = 100)

Sheet รายไตรมาส
A1: ดัชนีราคาสินค้าเกษตร
A2: (2548 = 100)
A3: รายการสินค้า | B3: 2548 | F3: 2549 | J3: 2550 | N3: 2551 | R3: 2552 | V3: 2553 | Z3: 2554 | AD3: 2555 | AH3: 2556 | AL3: 2557 | AP3: 2558 | AT3: 2559 | AX3: 2560 | BB3: 2561 | BF3: 2562 | BJ3: 2563 | BN3: 2564 | BR3: 2565 | BV3: 2566 | BZ3: 2567 | CD3: 2568 | CH3: 2569
B4: ไตรมาส 1 | C4: ไตรมาส 2 | D4: ไตรมาส 3 | E4: ไตรมาส 4 | F4: ไตรมาส 1 | G4: ไตรมาส 2 | H4: ไตรมาส 3 | I4: ไตรมาส 4 | J4: ไตรมาส 1 | K4: ไตรมาส 2 | L4: ไตรมาส 3 | M4: ไตรมาส 4 | N4: ไตรมาส 1 | O4: ไตรมาส 2 | P4: ไตรมาส 3 | Q4: ไตรมาส 4 | R4: ไตรมาส 1 | S4: ไตรมาส 2 | T4: ไตรมาส 3 | U4: ไตรมาส 4 | V4: ไตรมาส 1 | W4: ไตรมาส 2 | X4: ไตรมาส 3 | Y4: ไตรมาส 4 | Z4: ไตรมาส 1 | AA4: ไตรมาส 2 | AB4: ไตรมาส 3 | AC4: ไตรมาส 4 | AD4: ไตรมาส 1 | AE4: ไตรมาส 2 | AF4: ไตรมาส 3 | AG4: ไตรมาส 4 | AH4: ไตรมาส 1 | AI4: ไตรมาส 2 | AJ4: ไตรมาส 3 | AK4: ไตรมาส 4 | AL4: ไตรมาส 1 | AM4: ไตรมาส 2 | AN4: ไตรมาส 3 | AO4: ไตรมาส 4 | AP4: ไตรมาส 1 | AQ4: ไตรมาส 2 | AR4: ไตรมาส 3 | AS4: ไตรมาส 4 | AT4: ไตรมาส 1 | AU4: ไตรมาส 2 | AV4: ไตรมาส 3 | AW4: ไตรมาส 4 | AX4: ไตรมาส 1 | AY4: ไตรมาส 2 | AZ4: ไตรมาส 3 | BA4: ไตรมาส 4 | BB4: ไตรมาส 1 | BC4: ไตรมาส 2 | BD4: ไตรมาส 3 | BE4: ไตรมาส 4 | BF4: ไตรมาส 1 | BG4: ไตรมาส 2 | BH4: ไตรมาส 3 | BI4: ไตรมาส 4 | BJ4: ไตรมาส 1 | BK4: ไตรมาส 2 | BL4: ไตรมาส 3 | BM4: ไตรมาส 4 | BN4: ไตรมาส 1 | BO4: ไตรมาส 2 | BP4: ไตรมาส 3 | BQ4: ไตรมาส 4 | BR4: ไตรมาส 1 | BS4: ไตรมาส 2 | BT4: ไตรมาส 3 | BU4: ไตรมาส 4 | BV4: ไตรมาส 1 | BW4: ไตรมาส 2 | BX4: ไตรมาส 3 | BY4: ไตรมาส 4 | BZ4: ไตรมาส 1 | CA4: ไตรมาส 2 | CB4: ไตรมาส 3 | CC4: ไตรมาส 4 | CD4: ไตรมาส 1 | CE4: ไตรมาส 2 | CF4: ไตรมาส 3 | CG4: ไตรมาส 4 | CH4: ไตรมาส 1 | CI4: ไตรมาส 2 | CJ4: ไตรมาส 3 | CK4: ไตรมาส 4
A5: ภาคเกษตรกรรม | B5: =AVERAGE(รายเดือน!B5:D5) -> 95.312793 | C5: =AVERAGE(รายเดือน!E5:G5) -> 96.889458 | D5: =AVERAGE(รายเดือน!H5:J5) -> 102.22262 | E5: =AVERAGE(รายเดือน!K5:M5) -> 105.57513 | F5: =AVERAGE(รายเดือน!N5:P5) -> 111.42417 | G5: =AVERAGE(รายเดือน!Q5:S5) -> 114.89353 | H5: =AVERAGE(รายเดือน!T5:V5) -> 106.28693 | I5: =AVERAGE(รายเดือน!W5:Y5) -> 101.84821 | J5: =AVERAGE(รายเดือน!Z5:AB5) -> 109.72578 | K5: =AVERAGE(รายเดือน!AC5:AE5) -> 110.33871 | L5: =AVERAGE(รายเดือน!AF5:AH5) -> 109.90575 | M5: =AVERAGE(รายเดือน!AI5:AK5) -> 116.20858 | N5: =AVERAGE(รายเดือน!AL5:AN5) -> 128.08685 | O5: =AVERAGE(รายเดือน!AO5:AQ5) -> 146.78142 | P5: =AVERAGE(รายเดือน!AR5:AT5) -> 143.88177 | Q5: =AVERAGE(รายเดือน!AU5:AW5) -> 116.41683 | R5: =AVERAGE(รายเดือน!AX5:AZ5) -> 118.55973 | S5: =AVERAGE(รายเดือน!BA5:BC5) -> 120.86398 | T5: =AVERAGE(รายเดือน!BD5:BF5) -> 120.55813 | U5: =AVERAGE(รายเดือน!BG5:BI5) -> 130.48283 | V5: =AVERAGE(รายเดือน!BJ5:BL5) -> 144.41169 | W5: =AVERAGE(รายเดือน!BM5:BO5) -> 149.87765 | X5: =AVERAGE(รายเดือน!BP5:BR5) -> 155.15371 | Y5: =AVERAGE(รายเดือน!BS5:BU5) -> 162.87785 | Z5: =AVERAGE(รายเดือน!BV5:BX5) -> 184.06525 | AA5: =AVERAGE(รายเดือน!BY5:CA5) -> 179.06863 | AB5: =AVERAGE(รายเดือน!CB5:CD5) -> 168.86991 | AC5: =AVERAGE(รายเดือน!CE5:CG5) -> 157.84548 | AD5: =AVERAGE(รายเดือน!CH5:CJ5) -> 158.98601 | AE5: =AVERAGE(รายเดือน!CK5:CM5) -> 156.95069 | AF5: =AVERAGE(รายเดือน!CN5:CP5) -> 150.48217 | AG5: =AVERAGE(รายเดือน!CQ5:CS5) -> 148.58652 | AH5: =AVERAGE(รายเดือน!CT5:CV5) -> 151.40141 | AI5: =AVERAGE(รายเดือน!CW5:CY5) -> 154.66161 | AJ5: =AVERAGE(รายเดือน!CZ5:DB5) -> 150.75971 | AK5: =AVERAGE(รายเดือน!DC5:DE5) -> 148.87805 | AL5: =AVERAGE(รายเดือน!DF5:DH5) -> 148.21082 | AM5: =AVERAGE(รายเดือน!DI5:DK5) -> 143.91981 | AN5: =AVERAGE(รายเดือน!DL5:DN5) -> 138.17694 | AO5: =AVERAGE(รายเดือน!DO5:DQ5) -> 134.16802 | AP5: =AVERAGE(รายเดือน!DR5:DT5) -> 136.79107 | AQ5: =AVERAGE(รายเดือน!DU5:DW5) -> 135.1944 | AR5: =AVERAGE(รายเดือน!DX5:DZ5) -> 132.6256 | AS5: =AVERAGE(รายเดือน!EA5:EC5) -> 128.3775 | AT5: =AVERAGE(รายเดือน!ED5:EF5) -> 128.46758 | AU5: =AVERAGE(รายเดือน!EG5:EI5) -> 140.06589 | AV5: =AVERAGE(รายเดือน!EJ5:EL5) -> 140.71882 | AW5: =AVERAGE(รายเดือน!EM5:EO5) -> 133.27216 | AX5: =AVERAGE(รายเดือน!EP5:ER5) -> 144.57764 | AY5: =AVERAGE(รายเดือน!ES5:EU5) -> 136.50729 | AZ5: =AVERAGE(รายเดือน!EV5:EX5) -> 128.97617 | BA5: =AVERAGE(รายเดือน!EY5:FA5) -> 124.03184 | BB5: =AVERAGE(รายเดือน!FB5:FD5) -> 127.90779 | BC5: =AVERAGE(รายเดือน!FE5:FG5) -> 130.22053 | BD5: =AVERAGE(รายเดือน!FH5:FJ5) -> 126.75771 | BE5: =AVERAGE(รายเดือน!FK5:FM5) -> 124.29701 | BF5: =AVERAGE(รายเดือน!FN5:FP5) -> 126.65405 | BG5: =AVERAGE(รายเดือน!FQ5:FS5) -> 133.75741 | BH5: =AVERAGE(รายเดือน!FT5:FV5) -> 129.65489 | BI5: =AVERAGE(รายเดือน!FW5:FY5) -> 127.62422 | BJ5: =AVERAGE(รายเดือน!FZ5:GB5) -> 137.22178 | BK5: =AVERAGE(รายเดือน!GC5:GE5) -> 130.6347 | BL5: =AVERAGE(รายเดือน!GF5:GH5) -> 137.01975 | BM5: =AVERAGE(รายเดือน!GI5:GK5) -> 142.43164 | BN5: =AVERAGE(รายเดือน!GL5:GN5) -> 150.07875 | BO5: =AVERAGE(รายเดือน!GO5:GQ5) -> 146.32513 | BP5: =AVERAGE(รายเดือน!GR5:GT5) -> 130.16079 | BQ5: =AVERAGE(รายเดือน!GU5:GW5) -> 135.75543 | BR5: =AVERAGE(รายเดือน!GX5:GZ5) -> 156.17265 | BS5: =AVERAGE(รายเดือน!HA5:HC5) -> 161.60512 | BT5: =AVERAGE(รายเดือน!HD5:HF5) -> 156.48254 | BU5: =AVERAGE(รายเดือน!HG5:HI5) -> 153.52414 | BV5: =AVERAGE(รายเดือน!HJ5:HL5) -> 154.47851 | BW5: =AVERAGE(รายเดือน!HM5:HO5) -> 153.1292 | BX5: =AVERAGE(รายเดือน!HP5:HR5) -> 153.80979 | BY5: =AVERAGE(รายเดือน!HS5:HU5) -> 153.25562 | BZ5: =AVERAGE(รายเดือน!HV5:HX5) -> 162.69022 | CA5: =AVERAGE(รายเดือน!HY5:IA5) -> 170.07791 | CB5: =AVERAGE(รายเดือน!IB5:ID5) -> 165.14862 | CC5: =AVERAGE(รายเดือน!IE5:IG5) -> 164.40296 | CD5: =AVERAGE(รายเดือน!IH5:IJ5) -> 161.12289 | CE5: =AVERAGE(รายเดือน!IK5:IM5) -> 150.17143 | CF5: =AVERAGE(รายเดือน!IN5:IP5) -> 143.89561 | CG5: =AVERAGE(รายเดือน!IQ5:IS5) -> 141.94499 | CH5: =AVERAGE(รายเดือน!IT5:IV5) -> 147.46053 | CI5: =AVERAGE(รายเดือน!IW5:IY5) -> 159.35018
A6: 1. หมวดพืชผลสำคัญ | B6: =AVERAGE(รายเดือน!B6:D6) -> 94.387552 | C6: =AVERAGE(รายเดือน!E6:G6) -> 95.433115 | D6: =AVERAGE(รายเดือน!H6:J6) -> 102.3991 | E6: =AVERAGE(รายเดือน!K6:M6) -> 107.78024 | F6: =AVERAGE(รายเดือน!N6:P6) -> 115.73483 | G6: =AVERAGE(รายเดือน!Q6:S6) -> 121.93884 | H6: =AVERAGE(รายเดือน!T6:V6) -> 112.40949 | I6: =AVERAGE(รายเดือน!W6:Y6) -> 107.21565 | J6: =AVERAGE(รายเดือน!Z6:AB6) -> 120.19838 | K6: =AVERAGE(รายเดือน!AC6:AE6) -> 120.87396 | L6: =AVERAGE(รายเดือน!AF6:AH6) -> 118.72507 | M6: =AVERAGE(รายเดือน!AI6:AK6) -> 125.93156 | N6: =AVERAGE(รายเดือน!AL6:AN6) -> 139.80792 | O6: =AVERAGE(รายเดือน!AO6:AQ6) -> 163.96027 | P6: =AVERAGE(รายเดือน!AR6:AT6) -> 160.24769 | Q6: =AVERAGE(รายเดือน!AU6:AW6) -> 123.52539 | R6: =AVERAGE(รายเดือน!AX6:AZ6) -> 125.31208 | S6: =AVERAGE(รายเดือน!BA6:BC6) -> 127.80292 | T6: =AVERAGE(รายเดือน!BD6:BF6) -> 127.88298 | U6: =AVERAGE(รายเดือน!BG6:BI6) -> 141.62076 | V6: =AVERAGE(รายเดือน!BJ6:BL6) -> 158.71277 | W6: =AVERAGE(รายเดือน!BM6:BO6) -> 165.79961 | X6: =AVERAGE(รายเดือน!BP6:BR6) -> 171.71959 | Y6: =AVERAGE(รายเดือน!BS6:BU6) -> 183.00622 | Z6: =AVERAGE(รายเดือน!BV6:BX6) -> 209.5682 | AA6: =AVERAGE(รายเดือน!BY6:CA6) -> 199.1118 | AB6: =AVERAGE(รายเดือน!CB6:CD6) -> 185.18395 | AC6: =AVERAGE(รายเดือน!CE6:CG6) -> 172.43717 | AD6: =AVERAGE(รายเดือน!CH6:CJ6) -> 176.21045 | AE6: =AVERAGE(รายเดือน!CK6:CM6) -> 174.26472 | AF6: =AVERAGE(รายเดือน!CN6:CP6) -> 165.24536 | AG6: =AVERAGE(รายเดือน!CQ6:CS6) -> 162.28707 | AH6: =AVERAGE(รายเดือน!CT6:CV6) -> 162.94021 | AI6: =AVERAGE(รายเดือน!CW6:CY6) -> 163.53808 | AJ6: =AVERAGE(รายเดือน!CZ6:DB6) -> 155.60412 | AK6: =AVERAGE(รายเดือน!DC6:DE6) -> 150.36693 | AL6: =AVERAGE(รายเดือน!DF6:DH6) -> 149.09161 | AM6: =AVERAGE(รายเดือน!DI6:DK6) -> 144.08133 | AN6: =AVERAGE(รายเดือน!DL6:DN6) -> 136.45941 | AO6: =AVERAGE(รายเดือน!DO6:DQ6) -> 133.49882 | AP6: =AVERAGE(รายเดือน!DR6:DT6) -> 139.44864 | AQ6: =AVERAGE(รายเดือน!DU6:DW6) -> 137.44502 | AR6: =AVERAGE(รายเดือน!DX6:DZ6) -> 132.499 | AS6: =AVERAGE(รายเดือน!EA6:EC6) -> 129.19729 | AT6: =AVERAGE(รายเดือน!ED6:EF6) -> 128.15934 | AU6: =AVERAGE(รายเดือน!EG6:EI6) -> 142.63818 | AV6: =AVERAGE(รายเดือน!EJ6:EL6) -> 143.19199 | AW6: =AVERAGE(รายเดือน!EM6:EO6) -> 136.04246 | AX6: =AVERAGE(รายเดือน!EP6:ER6) -> 152.02489 | AY6: =AVERAGE(รายเดือน!ES6:EU6) -> 140.79141 | AZ6: =AVERAGE(รายเดือน!EV6:EX6) -> 130.54423 | BA6: =AVERAGE(รายเดือน!EY6:FA6) -> 127.41943 | BB6: =AVERAGE(รายเดือน!FB6:FD6) -> 134.28172 | BC6: =AVERAGE(รายเดือน!FE6:FG6) -> 136.91841 | BD6: =AVERAGE(รายเดือน!FH6:FJ6) -> 130.82768 | BE6: =AVERAGE(รายเดือน!FK6:FM6) -> 128.41409 | BF6: =AVERAGE(รายเดือน!FN6:FP6) -> 127.93689 | BG6: =AVERAGE(รายเดือน!FQ6:FS6) -> 136.68066 | BH6: =AVERAGE(รายเดือน!FT6:FV6) -> 131.72518 | BI6: =AVERAGE(รายเดือน!FW6:FY6) -> 130.96209 | BJ6: =AVERAGE(รายเดือน!FZ6:GB6) -> 141.13564 | BK6: =AVERAGE(รายเดือน!GC6:GE6) -> 134.31243 | BL6: =AVERAGE(รายเดือน!GF6:GH6) -> 140.10142 | BM6: =AVERAGE(รายเดือน!GI6:GK6) -> 148.43058 | BN6: =AVERAGE(รายเดือน!GL6:GN6) -> 158.46622 | BO6: =AVERAGE(รายเดือน!GO6:GQ6) -> 153.43335 | BP6: =AVERAGE(รายเดือน!GR6:GT6) -> 133.06966 | BQ6: =AVERAGE(รายเดือน!GU6:GW6) -> 138.59902 | BR6: =AVERAGE(รายเดือน!GX6:GZ6) -> 158.25848 | BS6: =AVERAGE(รายเดือน!HA6:HC6) -> 164.47802 | BT6: =AVERAGE(รายเดือน!HD6:HF6) -> 153.68251 | BU6: =AVERAGE(รายเดือน!HG6:HI6) -> 150.54317 | BV6: =AVERAGE(รายเดือน!HJ6:HL6) -> 153.96621 | BW6: =AVERAGE(รายเดือน!HM6:HO6) -> 155.34923 | BX6: =AVERAGE(รายเดือน!HP6:HR6) -> 159.7163 | BY6: =AVERAGE(รายเดือน!HS6:HU6) -> 160.80392 | BZ6: =AVERAGE(รายเดือน!HV6:HX6) -> 174.50002 | CA6: =AVERAGE(รายเดือน!HY6:IA6) -> 183.99255 | CB6: =AVERAGE(รายเดือน!IB6:ID6) -> 176.50231 | CC6: =AVERAGE(รายเดือน!IE6:IG6) -> 175.30435 | CD6: =AVERAGE(รายเดือน!IH6:IJ6) -> 169.32327 | CE6: =AVERAGE(รายเดือน!IK6:IM6) -> 151.66011 | CF6: =AVERAGE(รายเดือน!IN6:IP6) -> 146.67998 | CG6: =AVERAGE(รายเดือน!IQ6:IS6) -> 146.80306 | CH6: =AVERAGE(รายเดือน!IT6:IV6) -> 154.7589 | CI6: =AVERAGE(รายเดือน!IW6:IY6) -> 170.9345
A7: 1.1 กลุ่มธัญพืชและพืชอาหาร | B7: =AVERAGE(รายเดือน!B7:D7) -> 99.270373 | C7: =AVERAGE(รายเดือน!E7:G7) -> 99.738221 | D7: =AVERAGE(รายเดือน!H7:J7) -> 100.35667 | E7: =AVERAGE(รายเดือน!K7:M7) -> 100.63474 | F7: =AVERAGE(รายเดือน!N7:P7) -> 103.54187 | G7: =AVERAGE(รายเดือน!Q7:S7) -> 104.57839 | H7: =AVERAGE(รายเดือน!T7:V7) -> 109.35352 | I7: =AVERAGE(รายเดือน!W7:Y7) -> 109.24881 | J7: =AVERAGE(รายเดือน!Z7:AB7) -> 115.38511 | K7: =AVERAGE(รายเดือน!AC7:AE7) -> 117.23014 | L7: =AVERAGE(รายเดือน!AF7:AH7) -> 122.84317 | M7: =AVERAGE(รายเดือน!AI7:AK7) -> 121.31727 | N7: =AVERAGE(รายเดือน!AL7:AN7) -> 134.91201 | O7: =AVERAGE(รายเดือน!AO7:AQ7) -> 176.8906 | P7: =AVERAGE(รายเดือน!AR7:AT7) -> 158.73402 | Q7: =AVERAGE(รายเดือน!AU7:AW7) -> 136.79527 | R7: =AVERAGE(รายเดือน!AX7:AZ7) -> 140.59184 | S7: =AVERAGE(รายเดือน!BA7:BC7) -> 140.73009 | T7: =AVERAGE(รายเดือน!BD7:BF7) -> 139.17743 | U7: =AVERAGE(รายเดือน!BG7:BI7) -> 145.80001 | V7: =AVERAGE(รายเดือน!BJ7:BL7) -> 157.64136 | W7: =AVERAGE(รายเดือน!BM7:BO7) -> 156.26763 | X7: =AVERAGE(รายเดือน!BP7:BR7) -> 171.73712 | Y7: =AVERAGE(รายเดือน!BS7:BU7) -> 166.96682 | Z7: =AVERAGE(รายเดือน!BV7:BX7) -> 167.29928 | AA7: =AVERAGE(รายเดือน!BY7:CA7) -> 164.34243 | AB7: =AVERAGE(รายเดือน!CB7:CD7) -> 169.54832 | AC7: =AVERAGE(รายเดือน!CE7:CG7) -> 177.76301 | AD7: =AVERAGE(รายเดือน!CH7:CJ7) -> 172.67748 | AE7: =AVERAGE(รายเดือน!CK7:CM7) -> 175.11016 | AF7: =AVERAGE(รายเดือน!CN7:CP7) -> 178.57427 | AG7: =AVERAGE(รายเดือน!CQ7:CS7) -> 175.90987 | AH7: =AVERAGE(รายเดือน!CT7:CV7) -> 177.90419 | AI7: =AVERAGE(รายเดือน!CW7:CY7) -> 178.25483 | AJ7: =AVERAGE(รายเดือน!CZ7:DB7) -> 172.20124 | AK7: =AVERAGE(รายเดือน!DC7:DE7) -> 158.32675 | AL7: =AVERAGE(รายเดือน!DF7:DH7) -> 153.67092 | AM7: =AVERAGE(รายเดือน!DI7:DK7) -> 151.9057 | AN7: =AVERAGE(รายเดือน!DL7:DN7) -> 157.14707 | AO7: =AVERAGE(รายเดือน!DO7:DQ7) -> 150.98654 | AP7: =AVERAGE(รายเดือน!DR7:DT7) -> 151.00605 | AQ7: =AVERAGE(รายเดือน!DU7:DW7) -> 149.90633 | AR7: =AVERAGE(รายเดือน!DX7:DZ7) -> 151.38837 | AS7: =AVERAGE(รายเดือน!EA7:EC7) -> 143.08036 | AT7: =AVERAGE(รายเดือน!ED7:EF7) -> 139.13908 | AU7: =AVERAGE(รายเดือน!EG7:EI7) -> 140.04058 | AV7: =AVERAGE(รายเดือน!EJ7:EL7) -> 138.20147 | AW7: =AVERAGE(รายเดือน!EM7:EO7) -> 125.65923 | AX7: =AVERAGE(รายเดือน!EP7:ER7) -> 132.92831 | AY7: =AVERAGE(รายเดือน!ES7:EU7) -> 131.10308 | AZ7: =AVERAGE(รายเดือน!EV7:EX7) -> 134.37153 | BA7: =AVERAGE(รายเดือน!EY7:FA7) -> 137.3074 | BB7: =AVERAGE(รายเดือน!FB7:FD7) -> 146.89496 | BC7: =AVERAGE(รายเดือน!FE7:FG7) -> 155.29827 | BD7: =AVERAGE(รายเดือน!FH7:FJ7) -> 150.14576 | BE7: =AVERAGE(รายเดือน!FK7:FM7) -> 149.67098 | BF7: =AVERAGE(รายเดือน!FN7:FP7) -> 143.99076 | BG7: =AVERAGE(รายเดือน!FQ7:FS7) -> 147.36993 | BH7: =AVERAGE(รายเดือน!FT7:FV7) -> 150.12749 | BI7: =AVERAGE(รายเดือน!FW7:FY7) -> 149.75854 | BJ7: =AVERAGE(รายเดือน!FZ7:GB7) -> 150.93559 | BK7: =AVERAGE(รายเดือน!GC7:GE7) -> 158.83195 | BL7: =AVERAGE(รายเดือน!GF7:GH7) -> 156.92771 | BM7: =AVERAGE(รายเดือน!GI7:GK7) -> 141.70088 | BN7: =AVERAGE(รายเดือน!GL7:GN7) -> 149.02383 | BO7: =AVERAGE(รายเดือน!GO7:GQ7) -> 144.63298 | BP7: =AVERAGE(รายเดือน!GR7:GT7) -> 134.06903 | BQ7: =AVERAGE(รายเดือน!GU7:GW7) -> 132.70768 | BR7: =AVERAGE(รายเดือน!GX7:GZ7) -> 145.65633 | BS7: =AVERAGE(รายเดือน!HA7:HC7) -> 156.99485 | BT7: =AVERAGE(รายเดือน!HD7:HF7) -> 162.85947 | BU7: =AVERAGE(รายเดือน!HG7:HI7) -> 164.08449 | BV7: =AVERAGE(รายเดือน!HJ7:HL7) -> 172.58784 | BW7: =AVERAGE(รายเดือน!HM7:HO7) -> 176.32197 | BX7: =AVERAGE(รายเดือน!HP7:HR7) -> 186.75689 | BY7: =AVERAGE(รายเดือน!HS7:HU7) -> 183.96948 | BZ7: =AVERAGE(รายเดือน!HV7:HX7) -> 191.20596 | CA7: =AVERAGE(รายเดือน!HY7:IA7) -> 185.30894 | CB7: =AVERAGE(รายเดือน!IB7:ID7) -> 184.63988 | CC7: =AVERAGE(รายเดือน!IE7:IG7) -> 174.09047 | CD7: =AVERAGE(รายเดือน!IH7:IJ7) -> 162.87483 | CE7: =AVERAGE(รายเดือน!IK7:IM7) -> 154.23595 | CF7: =AVERAGE(รายเดือน!IN7:IP7) -> 150.28829 | CG7: =AVERAGE(รายเดือน!IQ7:IS7) -> 146.24999 | CH7: =AVERAGE(รายเดือน!IT7:IV7) -> 151.70231 | CI7: =AVERAGE(รายเดือน!IW7:IY7) -> 156.63548
A8: ข้าวเปลือก | B8: =AVERAGE(รายเดือน!B8:D8) -> 99.035884 | C8: =AVERAGE(รายเดือน!E8:G8) -> 99.781359 | D8: =AVERAGE(รายเดือน!H8:J8) -> 101.21891 | E8: =AVERAGE(รายเดือน!K8:M8) -> 99.963851 | F8: =AVERAGE(รายเดือน!N8:P8) -> 101.73601 | G8: =AVERAGE(รายเดือน!Q8:S8) -> 105.10004 | H8: =AVERAGE(รายเดือน!T8:V8) -> 112.85455 | I8: =AVERAGE(รายเดือน!W8:Y8) -> 111.72068 | J8: =AVERAGE(รายเดือน!Z8:AB8) -> 115.40872 | K8: =AVERAGE(รายเดือน!AC8:AE8) -> 118.1879 | L8: =AVERAGE(รายเดือน!AF8:AH8) -> 122.79131 | M8: =AVERAGE(รายเดือน!AI8:AK8) -> 118.81828 | N8: =AVERAGE(รายเดือน!AL8:AN8) -> 132.59125 | O8: =AVERAGE(รายเดือน!AO8:AQ8) -> 190.64094 | P8: =AVERAGE(รายเดือน!AR8:AT8) -> 167.62839 | Q8: =AVERAGE(รายเดือน!AU8:AW8) -> 146.1213 | R8: =AVERAGE(รายเดือน!AX8:AZ8) -> 150.84936 | S8: =AVERAGE(รายเดือน!BA8:BC8) -> 149.57302 | T8: =AVERAGE(รายเดือน!BD8:BF8) -> 147.98434 | U8: =AVERAGE(รายเดือน!BG8:BI8) -> 151.47302 | V8: =AVERAGE(รายเดือน!BJ8:BL8) -> 158.63204 | W8: =AVERAGE(รายเดือน!BM8:BO8) -> 145.54379 | X8: =AVERAGE(รายเดือน!BP8:BR8) -> 161.27684 | Y8: =AVERAGE(รายเดือน!BS8:BU8) -> 160.91325 | Z8: =AVERAGE(รายเดือน!BV8:BX8) -> 157.20985 | AA8: =AVERAGE(รายเดือน!BY8:CA8) -> 156.32218 | AB8: =AVERAGE(รายเดือน!CB8:CD8) -> 170.27951 | AC8: =AVERAGE(รายเดือน!CE8:CG8) -> 177.48344 | AD8: =AVERAGE(รายเดือน!CH8:CJ8) -> 171.35508 | AE8: =AVERAGE(รายเดือน!CK8:CM8) -> 174.01548 | AF8: =AVERAGE(รายเดือน!CN8:CP8) -> 176.46074 | AG8: =AVERAGE(รายเดือน!CQ8:CS8) -> 173.51784 | AH8: =AVERAGE(รายเดือน!CT8:CV8) -> 178.79924 | AI8: =AVERAGE(รายเดือน!CW8:CY8) -> 173.74586 | AJ8: =AVERAGE(รายเดือน!CZ8:DB8) -> 167.71544 | AK8: =AVERAGE(รายเดือน!DC8:DE8) -> 155.42659 | AL8: =AVERAGE(รายเดือน!DF8:DH8) -> 147.61633 | AM8: =AVERAGE(รายเดือน!DI8:DK8) -> 141.50665 | AN8: =AVERAGE(รายเดือน!DL8:DN8) -> 151.51831 | AO8: =AVERAGE(รายเดือน!DO8:DQ8) -> 140.89568 | AP8: =AVERAGE(รายเดือน!DR8:DT8) -> 141.14986 | AQ8: =AVERAGE(รายเดือน!DU8:DW8) -> 141.18523 | AR8: =AVERAGE(รายเดือน!DX8:DZ8) -> 145.4314 | AS8: =AVERAGE(รายเดือน!EA8:EC8) -> 139.79678 | AT8: =AVERAGE(รายเดือน!ED8:EF8) -> 134.18194 | AU8: =AVERAGE(รายเดือน!EG8:EI8) -> 139.55204 | AV8: =AVERAGE(รายเดือน!EJ8:EL8) -> 143.81221 | AW8: =AVERAGE(รายเดือน!EM8:EO8) -> 121.35355 | AX8: =AVERAGE(รายเดือน!EP8:ER8) -> 123.08605 | AY8: =AVERAGE(รายเดือน!ES8:EU8) -> 124.21013 | AZ8: =AVERAGE(รายเดือน!EV8:EX8) -> 129.13125 | BA8: =AVERAGE(รายเดือน!EY8:FA8) -> 129.87604 | BB8: =AVERAGE(รายเดือน!FB8:FD8) -> 141.55497 | BC8: =AVERAGE(รายเดือน!FE8:FG8) -> 147.88485 | BD8: =AVERAGE(รายเดือน!FH8:FJ8) -> 143.94837 | BE8: =AVERAGE(รายเดือน!FK8:FM8) -> 146.70746 | BF8: =AVERAGE(รายเดือน!FN8:FP8) -> 147.2682 | BG8: =AVERAGE(รายเดือน!FQ8:FS8) -> 152.55263 | BH8: =AVERAGE(รายเดือน!FT8:FV8) -> 158.22119 | BI8: =AVERAGE(รายเดือน!FW8:FY8) -> 156.48077 | BJ8: =AVERAGE(รายเดือน!FZ8:GB8) -> 157.09462 | BK8: =AVERAGE(รายเดือน!GC8:GE8) -> 171.9156 | BL8: =AVERAGE(รายเดือน!GF8:GH8) -> 168.2786 | BM8: =AVERAGE(รายเดือน!GI8:GK8) -> 139.60699 | BN8: =AVERAGE(รายเดือน!GL8:GN8) -> 144.20229 | BO8: =AVERAGE(รายเดือน!GO8:GQ8) -> 139.20562 | BP8: =AVERAGE(รายเดือน!GR8:GT8) -> 122.35643 | BQ8: =AVERAGE(รายเดือน!GU8:GW8) -> 116.39906 | BR8: =AVERAGE(รายเดือน!GX8:GZ8) -> 129.57044 | BS8: =AVERAGE(รายเดือน!HA8:HC8) -> 140.48482 | BT8: =AVERAGE(รายเดือน!HD8:HF8) -> 146.97099 | BU8: =AVERAGE(รายเดือน!HG8:HI8) -> 148.47567 | BV8: =AVERAGE(รายเดือน!HJ8:HL8) -> 154.47239 | BW8: =AVERAGE(รายเดือน!HM8:HO8) -> 157.82537 | BX8: =AVERAGE(รายเดือน!HP8:HR8) -> 178.74028 | BY8: =AVERAGE(รายเดือน!HS8:HU8) -> 172.29587 | BZ8: =AVERAGE(รายเดือน!HV8:HX8) -> 172.59897 | CA8: =AVERAGE(รายเดือน!HY8:IA8) -> 170.98626 | CB8: =AVERAGE(รายเดือน!IB8:ID8) -> 174.89347 | CC8: =AVERAGE(รายเดือน!IE8:IG8) -> 164.2693 | CD8: =AVERAGE(รายเดือน!IH8:IJ8) -> 158.19323 | CE8: =AVERAGE(รายเดือน!IK8:IM8) -> 148.3864 | CF8: =AVERAGE(รายเดือน!IN8:IP8) -> 141.64249 | CG8: =AVERAGE(รายเดือน!IQ8:IS8) -> 134.96457 | CH8: =AVERAGE(รายเดือน!IT8:IV8) -> 147.08263 | CI8: =AVERAGE(รายเดือน!IW8:IY8) -> 150.44982
A9: ข้าวเปลือกเจ้าความชื้น 15% | B9: =AVERAGE(รายเดือน!B9:D9) -> 97.981164 | C9: =AVERAGE(รายเดือน!E9:G9) -> 98.391945 | D9: =AVERAGE(รายเดือน!H9:J9) -> 101.75333 | E9: =AVERAGE(รายเดือน!K9:M9) -> 101.87356 | F9: =AVERAGE(รายเดือน!N9:P9) -> 100.08015 | G9: =AVERAGE(รายเดือน!Q9:S9) -> 101.60806 | H9: =AVERAGE(รายเดือน!T9:V9) -> 100.84661 | I9: =AVERAGE(รายเดือน!W9:Y9) -> 97.359984 | J9: =AVERAGE(รายเดือน!Z9:AB9) -> 98.191564 | K9: =AVERAGE(รายเดือน!AC9:AE9) -> 96.748823 | L9: =AVERAGE(รายเดือน!AF9:AH9) -> 96.378118 | M9: =AVERAGE(รายเดือน!AI9:AK9) -> 99.048192 | N9: =AVERAGE(รายเดือน!AL9:AN9) -> 119.6824 | O9: =AVERAGE(รายเดือน!AO9:AQ9) -> 189.16441 | P9: =AVERAGE(รายเดือน!AR9:AT9) -> 177.82286 | Q9: =AVERAGE(รายเดือน!AU9:AW9) -> 151.052 | R9: =AVERAGE(รายเดือน!AX9:AZ9) -> 152.12905 | S9: =AVERAGE(รายเดือน!BA9:BC9) -> 149.37381 | T9: =AVERAGE(รายเดือน!BD9:BF9) -> 142.67608 | U9: =AVERAGE(รายเดือน!BG9:BI9) -> 136.42421 | V9: =AVERAGE(รายเดือน!BJ9:BL9) -> 137.35097 | W9: =AVERAGE(รายเดือน!BM9:BO9) -> 118.50015 | X9: =AVERAGE(รายเดือน!BP9:BR9) -> 124.74201 | Y9: =AVERAGE(รายเดือน!BS9:BU9) -> 124.37631 | Z9: =AVERAGE(รายเดือน!BV9:BX9) -> 129.39585 | AA9: =AVERAGE(รายเดือน!BY9:CA9) -> 123.22914 | AB9: =AVERAGE(รายเดือน!CB9:CD9) -> 142.59593 | AC9: =AVERAGE(รายเดือน!CE9:CG9) -> 154.51566 | AD9: =AVERAGE(รายเดือน!CH9:CJ9) -> 146.31299 | AE9: =AVERAGE(รายเดือน!CK9:CM9) -> 153.83729 | AF9: =AVERAGE(รายเดือน!CN9:CP9) -> 154.41339 | AG9: =AVERAGE(รายเดือน!CQ9:CS9) -> 152.81034 | AH9: =AVERAGE(รายเดือน!CT9:CV9) -> 156.51237 | AI9: =AVERAGE(รายเดือน!CW9:CY9) -> 147.5253 | AJ9: =AVERAGE(รายเดือน!CZ9:DB9) -> 137.19567 | AK9: =AVERAGE(รายเดือน!DC9:DE9) -> 122.93357 | AL9: =AVERAGE(รายเดือน!DF9:DH9) -> 116.33604 | AM9: =AVERAGE(รายเดือน!DI9:DK9) -> 106.96824 | AN9: =AVERAGE(รายเดือน!DL9:DN9) -> 121.55095 | AO9: =AVERAGE(รายเดือน!DO9:DQ9) -> 118.82577 | AP9: =AVERAGE(รายเดือน!DR9:DT9) -> 117.67859 | AQ9: =AVERAGE(รายเดือน!DU9:DW9) -> 114.74301 | AR9: =AVERAGE(รายเดือน!DX9:DZ9) -> 119.04619 | AS9: =AVERAGE(รายเดือน!EA9:EC9) -> 114.80313 | AT9: =AVERAGE(รายเดือน!ED9:EF9) -> 116.90211 | AU9: =AVERAGE(รายเดือน!EG9:EI9) -> 121.49584 | AV9: =AVERAGE(รายเดือน!EJ9:EL9) -> 127.2618 | AW9: =AVERAGE(รายเดือน!EM9:EO9) -> 109.28708 | AX9: =AVERAGE(รายเดือน!EP9:ER9) -> 111.97508 | AY9: =AVERAGE(รายเดือน!ES9:EU9) -> 117.27429 | AZ9: =AVERAGE(รายเดือน!EV9:EX9) -> 117.68655 | BA9: =AVERAGE(รายเดือน!EY9:FA9) -> 118.26842 | BB9: =AVERAGE(รายเดือน!FB9:FD9) -> 115.46382 | BC9: =AVERAGE(รายเดือน!FE9:FG9) -> 119.39793 | BD9: =AVERAGE(รายเดือน!FH9:FJ9) -> 113.14647 | BE9: =AVERAGE(รายเดือน!FK9:FM9) -> 118.66614 | BF9: =AVERAGE(รายเดือน!FN9:FP9) -> 115.09004 | BG9: =AVERAGE(รายเดือน!FQ9:FS9) -> 117.48724 | BH9: =AVERAGE(รายเดือน!FT9:FV9) -> 117.31276 | BI9: =AVERAGE(รายเดือน!FW9:FY9) -> 117.75961 | BJ9: =AVERAGE(รายเดือน!FZ9:GB9) -> 123.1161 | BK9: =AVERAGE(รายเดือน!GC9:GE9) -> 139.38099 | BL9: =AVERAGE(รายเดือน!GF9:GH9) -> 138.39446 | BM9: =AVERAGE(รายเดือน!GI9:GK9) -> 127.70598 | BN9: =AVERAGE(รายเดือน!GL9:GN9) -> 137.56822 | BO9: =AVERAGE(รายเดือน!GO9:GQ9) -> 131.66834 | BP9: =AVERAGE(รายเดือน!GR9:GT9) -> 116.25276 | BQ9: =AVERAGE(รายเดือน!GU9:GW9) -> 115.57281 | BR9: =AVERAGE(รายเดือน!GX9:GZ9) -> 120.11113 | BS9: =AVERAGE(รายเดือน!HA9:HC9) -> 131.8806 | BT9: =AVERAGE(รายเดือน!HD9:HF9) -> 136.99647 | BU9: =AVERAGE(รายเดือน!HG9:HI9) -> 137.89928 | BV9: =AVERAGE(รายเดือน!HJ9:HL9) -> 146.12224 | BW9: =AVERAGE(รายเดือน!HM9:HO9) -> 149.14255 | BX9: =AVERAGE(รายเดือน!HP9:HR9) -> 177.86457 | BY9: =AVERAGE(รายเดือน!HS9:HU9) -> 170.22747 | BZ9: =AVERAGE(รายเดือน!HV9:HX9) -> 172.26802 | CA9: =AVERAGE(รายเดือน!HY9:IA9) -> 162.21425 | CB9: =AVERAGE(รายเดือน!IB9:ID9) -> 161.89459 | CC9: =AVERAGE(รายเดือน!IE9:IG9) -> 142.75432 | CD9: =AVERAGE(รายเดือน!IH9:IJ9) -> 130.2684 | CE9: =AVERAGE(รายเดือน!IK9:IM9) -> 107.8381 | CF9: =AVERAGE(รายเดือน!IN9:IP9) -> 101.53925 | CG9: =AVERAGE(รายเดือน!IQ9:IS9) -> 99.507549 | CH9: =AVERAGE(รายเดือน!IT9:IV9) -> 109.49418 | CI9: =AVERAGE(รายเดือน!IW9:IY9) -> 111.63798
A10: ข้าวเปลือกเจ้าหอมมะลิ | B10: =AVERAGE(รายเดือน!B10:D10) -> 100.44898 | C10: =AVERAGE(รายเดือน!E10:G10) -> 101.12569 | D10: =AVERAGE(รายเดือน!H10:J10) -> 99.425225 | E10: =AVERAGE(รายเดือน!K10:M10) -> 99.000108 | F10: =AVERAGE(รายเดือน!N10:P10) -> 101.77204 | G10: =AVERAGE(รายเดือน!Q10:S10) -> 105.22503 | H10: =AVERAGE(รายเดือน!T10:V10) -> 111.08123 | I10: =AVERAGE(รายเดือน!W10:Y10) -> 107.70632 | J10: =AVERAGE(รายเดือน!Z10:AB10) -> 107.29422 | K10: =AVERAGE(รายเดือน!AC10:AE10) -> 112.55612 | L10: =AVERAGE(รายเดือน!AF10:AH10) -> 116.74656 | M10: =AVERAGE(รายเดือน!AI10:AK10) -> 119.92626 | N10: =AVERAGE(รายเดือน!AL10:AN10) -> 152.04858 | O10: =AVERAGE(รายเดือน!AO10:AQ10) -> 213.64711 | P10: =AVERAGE(รายเดือน!AR10:AT10) -> 178.39714 | Q10: =AVERAGE(รายเดือน!AU10:AW10) -> 165.88656 | R10: =AVERAGE(รายเดือน!AX10:AZ10) -> 165.38336 | S10: =AVERAGE(รายเดือน!BA10:BC10) -> 170.85349 | T10: =AVERAGE(รายเดือน!BD10:BF10) -> 181.23848 | U10: =AVERAGE(รายเดือน!BG10:BI10) -> 185.92344 | V10: =AVERAGE(รายเดือน!BJ10:BL10) -> 183.88895 | W10: =AVERAGE(รายเดือน!BM10:BO10) -> 171.72975 | X10: =AVERAGE(รายเดือน!BP10:BR10) -> 175.89415 | Y10: =AVERAGE(รายเดือน!BS10:BU10) -> 173.91172 | Z10: =AVERAGE(รายเดือน!BV10:BX10) -> 158.92419 | AA10: =AVERAGE(รายเดือน!BY10:CA10) -> 158.77671 | AB10: =AVERAGE(รายเดือน!CB10:CD10) -> 167.82562 | AC10: =AVERAGE(รายเดือน!CE10:CG10) -> 192.9864 | AD10: =AVERAGE(รายเดือน!CH10:CJ10) -> 195.1849 | AE10: =AVERAGE(รายเดือน!CK10:CM10) -> 190.85132 | AF10: =AVERAGE(รายเดือน!CN10:CP10) -> 198.41232 | AG10: =AVERAGE(รายเดือน!CQ10:CS10) -> 201.71782 | AH10: =AVERAGE(รายเดือน!CT10:CV10) -> 206.63269 | AI10: =AVERAGE(รายเดือน!CW10:CY10) -> 205.27925 | AJ10: =AVERAGE(รายเดือน!CZ10:DB10) -> 203.99957 | AK10: =AVERAGE(รายเดือน!DC10:DE10) -> 195.22828 | AL10: =AVERAGE(รายเดือน!DF10:DH10) -> 185.06019 | AM10: =AVERAGE(รายเดือน!DI10:DK10) -> 180.28413 | AN10: =AVERAGE(รายเดือน!DL10:DN10) -> 182.07136 | AO10: =AVERAGE(รายเดือน!DO10:DQ10) -> 170.02494 | AP10: =AVERAGE(รายเดือน!DR10:DT10) -> 170.21581 | AQ10: =AVERAGE(รายเดือน!DU10:DW10) -> 173.27839 | AR10: =AVERAGE(รายเดือน!DX10:DZ10) -> 171.14413 | AS10: =AVERAGE(รายเดือน!EA10:EC10) -> 158.91986 | AT10: =AVERAGE(รายเดือน!ED10:EF10) -> 140.7266 | AU10: =AVERAGE(รายเดือน!EG10:EI10) -> 141.20377 | AV10: =AVERAGE(รายเดือน!EJ10:EL10) -> 142.44442 | AW10: =AVERAGE(รายเดือน!EM10:EO10) -> 117.08977 | AX10: =AVERAGE(รายเดือน!EP10:ER10) -> 120.62739 | AY10: =AVERAGE(รายเดือน!ES10:EU10) -> 120.01548 | AZ10: =AVERAGE(รายเดือน!EV10:EX10) -> 138.43669 | BA10: =AVERAGE(รายเดือน!EY10:FA10) -> 151.27816 | BB10: =AVERAGE(รายเดือน!FB10:FD10) -> 186.27086 | BC10: =AVERAGE(รายเดือน!FE10:FG10) -> 202.41278 | BD10: =AVERAGE(รายเดือน!FH10:FJ10) -> 201.6197 | BE10: =AVERAGE(รายเดือน!FK10:FM10) -> 196.89404 | BF10: =AVERAGE(รายเดือน!FN10:FP10) -> 201.522 | BG10: =AVERAGE(รายเดือน!FQ10:FS10) -> 204.5031 | BH10: =AVERAGE(รายเดือน!FT10:FV10) -> 208.6782 | BI10: =AVERAGE(รายเดือน!FW10:FY10) -> 191.48475 | BJ10: =AVERAGE(รายเดือน!FZ10:GB10) -> 180.5447 | BK10: =AVERAGE(รายเดือน!GC10:GE10) -> 191.78395 | BL10: =AVERAGE(รายเดือน!GF10:GH10) -> 183.39109 | BM10: =AVERAGE(รายเดือน!GI10:GK10) -> 144.46801 | BN10: =AVERAGE(รายเดือน!GL10:GN10) -> 153.98571 | BO10: =AVERAGE(รายเดือน!GO10:GQ10) -> 147.77242 | BP10: =AVERAGE(รายเดือน!GR10:GT10) -> 130.29211 | BQ10: =AVERAGE(รายเดือน!GU10:GW10) -> 126.01256 | BR10: =AVERAGE(รายเดือน!GX10:GZ10) -> 148.15742 | BS10: =AVERAGE(รายเดือน!HA10:HC10) -> 167.17146 | BT10: =AVERAGE(รายเดือน!HD10:HF10) -> 177.85236 | BU10: =AVERAGE(รายเดือน!HG10:HI10) -> 175.71684 | BV10: =AVERAGE(รายเดือน!HJ10:HL10) -> 173.86004 | BW10: =AVERAGE(รายเดือน!HM10:HO10) -> 176.68541 | BX10: =AVERAGE(รายเดือน!HP10:HR10) -> 189.62807 | BY10: =AVERAGE(รายเดือน!HS10:HU10) -> 180.36656 | BZ10: =AVERAGE(รายเดือน!HV10:HX10) -> 184.285 | CA10: =AVERAGE(รายเดือน!HY10:IA10) -> 188.09937 | CB10: =AVERAGE(รายเดือน!IB10:ID10) -> 198.37117 | CC10: =AVERAGE(รายเดือน!IE10:IG10) -> 196.75563 | CD10: =AVERAGE(รายเดือน!IH10:IJ10) -> 197.29648 | CE10: =AVERAGE(รายเดือน!IK10:IM10) -> 201.61187 | CF10: =AVERAGE(รายเดือน!IN10:IP10) -> 195.39502 | CG10: =AVERAGE(รายเดือน!IQ10:IS10) -> 187.85965 | CH10: =AVERAGE(รายเดือน!IT10:IV10) -> 205.11798 | CI10: =AVERAGE(รายเดือน!IW10:IY10) -> 209.97236
A11: ข้าวเปลือกเหนียวเมล็ดยาว | B11: =AVERAGE(รายเดือน!B11:D11) -> 100.01815 | C11: =AVERAGE(รายเดือน!E11:G11) -> 101.72161 | D11: =AVERAGE(รายเดือน!H11:J11) -> 102.06789 | E11: =AVERAGE(รายเดือน!K11:M11) -> 96.192351 | F11: =AVERAGE(รายเดือน!N11:P11) -> 106.00539 | G11: =AVERAGE(รายเดือน!Q11:S11) -> 114.04236 | H11: =AVERAGE(รายเดือน!T11:V11) -> 146.35781 | I11: =AVERAGE(รายเดือน!W11:Y11) -> 154.15462 | J11: =AVERAGE(รายเดือน!Z11:AB11) -> 172.50171 | K11: =AVERAGE(รายเดือน!AC11:AE11) -> 184.14666 | L11: =AVERAGE(รายเดือน!AF11:AH11) -> 203.3371 | M11: =AVERAGE(รายเดือน!AI11:AK11) -> 171.60809 | N11: =AVERAGE(รายเดือน!AL11:AN11) -> 143.45355 | O11: =AVERAGE(รายเดือน!AO11:AQ11) -> 165.08468 | P11: =AVERAGE(รายเดือน!AR11:AT11) -> 125.10088 | Q11: =AVERAGE(รายเดือน!AU11:AW11) -> 107.05539 | R11: =AVERAGE(รายเดือน!AX11:AZ11) -> 128.03865 | S11: =AVERAGE(รายเดือน!BA11:BC11) -> 122.95061 | T11: =AVERAGE(รายเดือน!BD11:BF11) -> 122.35859 | U11: =AVERAGE(รายเดือน!BG11:BI11) -> 154.78016 | V11: =AVERAGE(รายเดือน!BJ11:BL11) -> 191.82061 | W11: =AVERAGE(รายเดือน!BM11:BO11) -> 195.23869 | X11: =AVERAGE(รายเดือน!BP11:BR11) -> 254.41294 | Y11: =AVERAGE(รายเดือน!BS11:BU11) -> 256.0773 | Z11: =AVERAGE(รายเดือน!BV11:BX11) -> 240.8467 | AA11: =AVERAGE(รายเดือน!BY11:CA11) -> 253.27916 | AB11: =AVERAGE(รายเดือน!CB11:CD11) -> 259.66294 | AC11: =AVERAGE(รายเดือน!CE11:CG11) -> 232.00774 | AD11: =AVERAGE(รายเดือน!CH11:CJ11) -> 218.61238 | AE11: =AVERAGE(รายเดือน!CK11:CM11) -> 214.3286 | AF11: =AVERAGE(รายเดือน!CN11:CP11) -> 216.3169 | AG11: =AVERAGE(รายเดือน!CQ11:CS11) -> 201.25386 | AH11: =AVERAGE(รายเดือน!CT11:CV11) -> 211.84323 | AI11: =AVERAGE(รายเดือน!CW11:CY11) -> 216.89775 | AJ11: =AVERAGE(รายเดือน!CZ11:DB11) -> 221.06424 | AK11: =AVERAGE(รายเดือน!DC11:DE11) -> 212.4911 | AL11: =AVERAGE(รายเดือน!DF11:DH11) -> 202.81769 | AM11: =AVERAGE(รายเดือน!DI11:DK11) -> 206.75519 | AN11: =AVERAGE(รายเดือน!DL11:DN11) -> 210.46929 | AO11: =AVERAGE(รายเดือน!DO11:DQ11) -> 174.57379 | AP11: =AVERAGE(รายเดือน!DR11:DT11) -> 180.17007 | AQ11: =AVERAGE(รายเดือน!DU11:DW11) -> 186.60411 | AR11: =AVERAGE(รายเดือน!DX11:DZ11) -> 198.46689 | AS11: =AVERAGE(รายเดือน!EA11:EC11) -> 196.49534 | AT11: =AVERAGE(รายเดือน!ED11:EF11) -> 194.49587 | AU11: =AVERAGE(รายเดือน!EG11:EI11) -> 211.64216 | AV11: =AVERAGE(รายเดือน!EJ11:EL11) -> 217.86956 | AW11: =AVERAGE(รายเดือน!EM11:EO11) -> 184.11688 | AX11: =AVERAGE(รายเดือน!EP11:ER11) -> 182.07881 | AY11: =AVERAGE(รายเดือน!ES11:EU11) -> 177.23757 | AZ11: =AVERAGE(รายเดือน!EV11:EX11) -> 170.177 | BA11: =AVERAGE(รายเดือน!EY11:FA11) -> 150.72498 | BB11: =AVERAGE(รายเดือน!FB11:FD11) -> 160.62166 | BC11: =AVERAGE(รายเดือน!FE11:FG11) -> 156.23232 | BD11: =AVERAGE(รายเดือน!FH11:FJ11) -> 152.5487 | BE11: =AVERAGE(รายเดือน!FK11:FM11) -> 162.00213 | BF11: =AVERAGE(รายเดือน!FN11:FP11) -> 169.57067 | BG11: =AVERAGE(รายเดือน!FQ11:FS11) -> 189.58682 | BH11: =AVERAGE(รายเดือน!FT11:FV11) -> 219.27477 | BI11: =AVERAGE(รายเดือน!FW11:FY11) -> 237.32889 | BJ11: =AVERAGE(รายเดือน!FZ11:GB11) -> 244.75124 | BK11: =AVERAGE(รายเดือน!GC11:GE11) -> 262.55264 | BL11: =AVERAGE(รายเดือน!GF11:GH11) -> 258.37372 | BM11: =AVERAGE(รายเดือน!GI11:GK11) -> 183.67703 | BN11: =AVERAGE(รายเดือน!GL11:GN11) -> 178.75862 | BO11: =AVERAGE(รายเดือน!GO11:GQ11) -> 176.83359 | BP11: =AVERAGE(รายเดือน!GR11:GT11) -> 153.46247 | BQ11: =AVERAGE(รายเดือน!GU11:GW11) -> 130.26746 | BR11: =AVERAGE(รายเดือน!GX11:GZ11) -> 152.58294 | BS11: =AVERAGE(รายเดือน!HA11:HC11) -> 149.15989 | BT11: =AVERAGE(รายเดือน!HD11:HF11) -> 153.32686 | BU11: =AVERAGE(รายเดือน!HG11:HI11) -> 163.39742 | BV11: =AVERAGE(รายเดือน!HJ11:HL11) -> 178.27265 | BW11: =AVERAGE(รายเดือน!HM11:HO11) -> 184.32178 | BX11: =AVERAGE(รายเดือน!HP11:HR11) -> 200.38176 | BY11: =AVERAGE(รายเดือน!HS11:HU11) -> 201.28285 | BZ11: =AVERAGE(รายเดือน!HV11:HX11) -> 189.38702 | CA11: =AVERAGE(รายเดือน!HY11:IA11) -> 204.07643 | CB11: =AVERAGE(รายเดือน!IB11:ID11) -> 210.68767 | CC11: =AVERAGE(รายเดือน!IE11:IG11) -> 208.3574 | CD11: =AVERAGE(รายเดือน!IH11:IJ11) -> 208.68168 | CE11: =AVERAGE(รายเดือน!IK11:IM11) -> 210.63939 | CF11: =AVERAGE(รายเดือน!IN11:IP11) -> 200.11715 | CG11: =AVERAGE(รายเดือน!IQ11:IS11) -> 179.10004 | CH11: =AVERAGE(รายเดือน!IT11:IV11) -> 191.25938 | CI11: =AVERAGE(รายเดือน!IW11:IY11) -> 196.58742
A12: อ้อยโรงงาน | B12: =AVERAGE(รายเดือน!B12:D12) -> 95.487805 | C12: =AVERAGE(รายเดือน!E12:G12) -> 95.121951 | D12: =AVERAGE(รายเดือน!H12:J12) -> 95.121951 | E12: =AVERAGE(รายเดือน!K12:M12) -> 114.26829 | F12: =AVERAGE(รายเดือน!N12:P12) -> 127.68293 | G12: =AVERAGE(รายเดือน!Q12:S12) -> 119.26829 | H12: =AVERAGE(รายเดือน!T12:V12) -> 119.26829 | I12: =AVERAGE(รายเดือน!W12:Y12) -> 120.97561 | J12: =AVERAGE(รายเดือน!Z12:AB12) -> 124.93902 | K12: =AVERAGE(รายเดือน!AC12:AE12) -> 116.03659 | L12: =AVERAGE(รายเดือน!AF12:AH12) -> 113.41463 | M12: =AVERAGE(รายเดือน!AI12:AK12) -> 108.71951 | N12: =AVERAGE(รายเดือน!AL12:AN12) -> 107.56098 | O12: =AVERAGE(รายเดือน!AO12:AQ12) -> 116.89024 | P12: =AVERAGE(รายเดือน!AR12:AT12) -> 123.47561 | Q12: =AVERAGE(รายเดือน!AU12:AW12) -> 124.08537 | R12: =AVERAGE(รายเดือน!AX12:AZ12) -> 129.39024 | S12: =AVERAGE(รายเดือน!BA12:BC12) -> 137.37805 | T12: =AVERAGE(รายเดือน!BD12:BF12) -> 137.37805 | U12: =AVERAGE(รายเดือน!BG12:BI12) -> 148.04878 | V12: =AVERAGE(รายเดือน!BJ12:BL12) -> 160.2439 | W12: =AVERAGE(รายเดือน!BM12:BO12) -> 184.57317 | X12: =AVERAGE(รายเดือน!BP12:BR12) -> 184.57317 | Y12: =AVERAGE(รายเดือน!BS12:BU12) -> 163.57866 | Z12: =AVERAGE(รายเดือน!BV12:BX12) -> 170.60976 | AA12: =AVERAGE(รายเดือน!BY12:CA12) -> 168.84146 | AB12: =AVERAGE(รายเดือน!CB12:CD12) -> 166.46341 | AC12: =AVERAGE(รายเดือน!CE12:CG12) -> 174.5122 | AD12: =AVERAGE(รายเดือน!CH12:CJ12) -> 174.7561 | AE12: =AVERAGE(รายเดือน!CK12:CM12) -> 177.37805 | AF12: =AVERAGE(รายเดือน!CN12:CP12) -> 178.17073 | AG12: =AVERAGE(รายเดือน!CQ12:CS12) -> 174.45122 | AH12: =AVERAGE(รายเดือน!CT12:CV12) -> 167.92683 | AI12: =AVERAGE(รายเดือน!CW12:CY12) -> 186.58537 | AJ12: =AVERAGE(รายเดือน!CZ12:DB12) -> 188.04878 | AK12: =AVERAGE(รายเดือน!DC12:DE12) -> 164.20732 | AL12: =AVERAGE(รายเดือน!DF12:DH12) -> 158.90244 | AM12: =AVERAGE(รายเดือน!DI12:DK12) -> 173.41463 | AN12: =AVERAGE(รายเดือน!DL12:DN12) -> 175.2439 | AO12: =AVERAGE(รายเดือน!DO12:DQ12) -> 164.14634 | AP12: =AVERAGE(รายเดือน!DR12:DT12) -> 155.54878 | AQ12: =AVERAGE(รายเดือน!DU12:DW12) -> 153.35366 | AR12: =AVERAGE(รายเดือน!DX12:DZ12) -> 142.13415 | AS12: =AVERAGE(รายเดือน!EA12:EC12) -> 131.76829 | AT12: =AVERAGE(รายเดือน!ED12:EF12) -> 138.59756 | AU12: =AVERAGE(รายเดือน!EG12:EI12) -> 129.63415 | AV12: =AVERAGE(รายเดือน!EJ12:EL12) -> 130.2439 | AW12: =AVERAGE(รายเดือน!EM12:EO12) -> 150.6849 | AX12: =AVERAGE(รายเดือน!EP12:ER12) -> 178.46347 | AY12: =AVERAGE(รายเดือน!ES12:EU12) -> 182.83856 | AZ12: =AVERAGE(รายเดือน!EV12:EX12) -> 182.83856 | BA12: =AVERAGE(รายเดือน!EY12:FA12) -> 167.49832 | BB12: =AVERAGE(รายเดือน!FB12:FD12) -> 141.15088 | BC12: =AVERAGE(รายเดือน!FE12:FG12) -> 144.90618 | BD12: =AVERAGE(รายเดือน!FH12:FJ12) -> 148.56548 | BE12: =AVERAGE(รายเดือน!FK12:FM12) -> 123.9768 | BF12: =AVERAGE(รายเดือน!FN12:FP12) -> 108.39594 | BG12: =AVERAGE(รายเดือน!FQ12:FS12) -> 124.9974 | BH12: =AVERAGE(รายเดือน!FT12:FV12) -> 130.26805 | BI12: =AVERAGE(รายเดือน!FW12:FY12) -> 125.22626 | BJ12: =AVERAGE(รายเดือน!FZ12:GB12) -> 127.13536 | BK12: =AVERAGE(รายเดือน!GC12:GE12) -> 130.516 | BL12: =AVERAGE(รายเดือน!GF12:GH12) -> 130.516 | BM12: =AVERAGE(รายเดือน!GI12:GK12) -> 136.29634 | BN12: =AVERAGE(รายเดือน!GL12:GN12) -> 165.72969 | BO12: =AVERAGE(รายเดือน!GO12:GQ12) -> 170.06926 | BP12: =AVERAGE(รายเดือน!GR12:GT12) -> 170.06926 | BQ12: =AVERAGE(รายเดือน!GU12:GW12) -> 173.68652 | BR12: =AVERAGE(รายเดือน!GX12:GZ12) -> 193.22012 | BS12: =AVERAGE(รายเดือน!HA12:HC12) -> 196.2599 | BT12: =AVERAGE(รายเดือน!HD12:HF12) -> 196.2599 | BU12: =AVERAGE(รายเดือน!HG12:HI12) -> 199.70914 | BV12: =AVERAGE(รายเดือน!HJ12:HL12) -> 205.45823 | BW12: =AVERAGE(รายเดือน!HM12:HO12) -> 212.50975 | BX12: =AVERAGE(รายเดือน!HP12:HR12) -> 212.50975 | BY12: =AVERAGE(รายเดือน!HS12:HU12) -> 222.55914 | BZ12: =AVERAGE(รายเดือน!HV12:HX12) -> 264.77362 | CA12: =AVERAGE(รายเดือน!HY12:IA12) -> 273.36996 | CB12: =AVERAGE(รายเดือน!IB12:ID12) -> 273.36996 | CC12: =AVERAGE(รายเดือน!IE12:IG12) -> 249.80822 | CD12: =AVERAGE(รายเดือน!IH12:IJ12) -> 206.98109 | CE12: =AVERAGE(รายเดือน!IK12:IM12) -> 213.55792 | CF12: =AVERAGE(รายเดือน!IN12:IP12) -> 213.55792 | CG12: =AVERAGE(รายเดือน!IQ12:IS12) -> 199.49786 | CH12: =AVERAGE(รายเดือน!IT12:IV12) -> 160.74783 | CI12: =AVERAGE(รายเดือน!IW12:IY12) -> 161.21561
A13: มันสำปะหลังสดคละ | B13: =AVERAGE(รายเดือน!B13:D13) -> 102.77264 | C13: =AVERAGE(รายเดือน!E13:G13) -> 103.0191 | D13: =AVERAGE(รายเดือน!H13:J13) -> 98.582871 | E13: =AVERAGE(รายเดือน!K13:M13) -> 95.625385 | F13: =AVERAGE(รายเดือน!N13:P13) -> 99.5687 | G13: =AVERAGE(รายเดือน!Q13:S13) -> 77.880468 | H13: =AVERAGE(รายเดือน!T13:V13) -> 69.993839 | I13: =AVERAGE(รายเดือน!W13:Y13) -> 73.937153 | J13: =AVERAGE(รายเดือน!Z13:AB13) -> 86.50647 | K13: =AVERAGE(รายเดือน!AC13:AE13) -> 93.900185 | L13: =AVERAGE(รายเดือน!AF13:AH13) -> 123.96796 | M13: =AVERAGE(รายเดือน!AI13:AK13) -> 127.41836 | N13: =AVERAGE(รายเดือน!AL13:AN13) -> 154.77511 | O13: =AVERAGE(รายเดือน!AO13:AQ13) -> 156.50031 | P13: =AVERAGE(รายเดือน!AR13:AT13) -> 128.65065 | Q13: =AVERAGE(รายเดือน!AU13:AW13) -> 94.146642 | R13: =AVERAGE(รายเดือน!AX13:AZ13) -> 86.50647 | S13: =AVERAGE(รายเดือน!BA13:BC13) -> 83.056069 | T13: =AVERAGE(รายเดือน!BD13:BF13) -> 90.203327 | U13: =AVERAGE(รายเดือน!BG13:BI13) -> 110.41282 | V13: =AVERAGE(รายเดือน!BJ13:BL13) -> 137.76956 | W13: =AVERAGE(รายเดือน!BM13:BO13) -> 161.18299 | X13: =AVERAGE(รายเดือน!BP13:BR13) -> 199.87677 | Y13: =AVERAGE(รายเดือน!BS13:BU13) -> 189.77203 | Z13: =AVERAGE(รายเดือน!BV13:BX13) -> 214.6642 | AA13: =AVERAGE(รายเดือน!BY13:CA13) -> 185.3358 | AB13: =AVERAGE(รายเดือน!CB13:CD13) -> 146.39556 | AC13: =AVERAGE(รายเดือน!CE13:CG13) -> 157.73259 | AD13: =AVERAGE(รายเดือน!CH13:CJ13) -> 144.91682 | AE13: =AVERAGE(รายเดือน!CK13:CM13) -> 139.49476 | AF13: =AVERAGE(รายเดือน!CN13:CP13) -> 152.31054 | AG13: =AVERAGE(รายเดือน!CQ13:CS13) -> 159.45779 | AH13: =AVERAGE(รายเดือน!CT13:CV13) -> 153.78928 | AI13: =AVERAGE(รายเดือน!CW13:CY13) -> 164.38694 | AJ13: =AVERAGE(รายเดือน!CZ13:DB13) -> 158.47197 | AK13: =AVERAGE(รายเดือน!DC13:DE13) -> 153.29636 | AL13: =AVERAGE(รายเดือน!DF13:DH13) -> 162.66174 | AM13: =AVERAGE(รายเดือน!DI13:DK13) -> 156.25385 | AN13: =AVERAGE(รายเดือน!DL13:DN13) -> 140.72705 | AO13: =AVERAGE(รายเดือน!DO13:DQ13) -> 162.41528 | AP13: =AVERAGE(รายเดือน!DR13:DT13) -> 162.90819 | AQ13: =AVERAGE(รายเดือน!DU13:DW13) -> 159.21134 | AR13: =AVERAGE(รายเดือน!DX13:DZ13) -> 166.85151 | AS13: =AVERAGE(รายเดือน!EA13:EC13) -> 148.61368 | AT13: =AVERAGE(รายเดือน!ED13:EF13) -> 133.82625 | AU13: =AVERAGE(รายเดือน!EG13:EI13) -> 127.91128 | AV13: =AVERAGE(รายเดือน!EJ13:EL13) -> 93.40727 | AW13: =AVERAGE(รายเดือน!EM13:EO13) -> 94.713491 | AX13: =AVERAGE(รายเดือน!EP13:ER13) -> 111.31238 | AY13: =AVERAGE(รายเดือน!ES13:EU13) -> 88.909425 | AZ13: =AVERAGE(รายเดือน!EV13:EX13) -> 90.646948 | BA13: =AVERAGE(รายเดือน!EY13:FA13) -> 123.90634 | BB13: =AVERAGE(รายเดือน!FB13:FD13) -> 160.01232 | BC13: =AVERAGE(รายเดือน!FE13:FG13) -> 185.56993 | BD13: =AVERAGE(รายเดือน!FH13:FJ13) -> 178.58287 | BE13: =AVERAGE(รายเดือน!FK13:FM13) -> 179.66317 | BF13: =AVERAGE(รายเดือน!FN13:FP13) -> 160.9735 | BG13: =AVERAGE(รายเดือน!FQ13:FS13) -> 137.60936 | BH13: =AVERAGE(รายเดือน!FT13:FV13) -> 123.05607 | BI13: =AVERAGE(รายเดือน!FW13:FY13) -> 137.28486 | BJ13: =AVERAGE(รายเดือน!FZ13:GB13) -> 141.93469 | BK13: =AVERAGE(รายเดือน!GC13:GE13) -> 123.74615 | BL13: =AVERAGE(รายเดือน!GF13:GH13) -> 126.43253 | BM13: =AVERAGE(รายเดือน!GI13:GK13) -> 139.18669 | BN13: =AVERAGE(รายเดือน!GL13:GN13) -> 153.65372 | BO13: =AVERAGE(รายเดือน!GO13:GQ13) -> 145.77942 | BP13: =AVERAGE(รายเดือน!GR13:GT13) -> 150.59766 | BQ13: =AVERAGE(รายเดือน!GU13:GW13) -> 161.33086 | BR13: =AVERAGE(รายเดือน!GX13:GZ13) -> 169.80899 | BS13: =AVERAGE(รายเดือน!HA13:HC13) -> 184.34175 | BT13: =AVERAGE(รายเดือน!HD13:HF13) -> 199.69192 | BU13: =AVERAGE(รายเดือน!HG13:HI13) -> 191.99014 | BV13: =AVERAGE(รายเดือน!HJ13:HL13) -> 212.19963 | BW13: =AVERAGE(รายเดือน!HM13:HO13) -> 222.51797 | BX13: =AVERAGE(รายเดือน!HP13:HR13) -> 208.79852 | BY13: =AVERAGE(รายเดือน!HS13:HU13) -> 215.97042 | BZ13: =AVERAGE(รายเดือน!HV13:HX13) -> 224.83056 | CA13: =AVERAGE(รายเดือน!HY13:IA13) -> 173.87553 | CB13: =AVERAGE(รายเดือน!IB13:ID13) -> 142.25508 | CC13: =AVERAGE(รายเดือน!IE13:IG13) -> 148.79852 | CD13: =AVERAGE(รายเดือน!IH13:IJ13) -> 132.29821 | CE13: =AVERAGE(รายเดือน!IK13:IM13) -> 106.26822 | CF13: =AVERAGE(รายเดือน!IN13:IP13) -> 122.76032 | CG13: =AVERAGE(รายเดือน!IQ13:IS13) -> 145.53296 | CH13: =AVERAGE(รายเดือน!IT13:IV13) -> 172.05175 | CI13: =AVERAGE(รายเดือน!IW13:IY13) -> 190.51961
A14: ข้าวโพดเลี้ยงสัตว์ ความชื้น 14.5% | B14: =AVERAGE(รายเดือน!B14:D14) -> 102.18878 | C14: =AVERAGE(รายเดือน!E14:G14) -> 100.2736 | D14: =AVERAGE(รายเดือน!H14:J14) -> 100.342 | E14: =AVERAGE(รายเดือน!K14:M14) -> 97.195622 | F14: =AVERAGE(รายเดือน!N14:P14) -> 97.811218 | G14: =AVERAGE(รายเดือน!Q14:S14) -> 112.3803 | H14: =AVERAGE(รายเดือน!T14:V14) -> 109.57592 | I14: =AVERAGE(รายเดือน!W14:Y14) -> 113.20109 | J14: =AVERAGE(รายเดือน!Z14:AB14) -> 141.24487 | K14: =AVERAGE(รายเดือน!AC14:AE14) -> 140.08208 | L14: =AVERAGE(รายเดือน!AF14:AH14) -> 128.65937 | M14: =AVERAGE(รายเดือน!AI14:AK14) -> 148.90561 | N14: =AVERAGE(รายเดือน!AL14:AN14) -> 161.08071 | O14: =AVERAGE(รายเดือน!AO14:AQ14) -> 171.34063 | P14: =AVERAGE(รายเดือน!AR14:AT14) -> 178.52257 | Q14: =AVERAGE(รายเดือน!AU14:AW14) -> 133.44733 | R14: =AVERAGE(รายเดือน!AX14:AZ14) -> 131.46375 | S14: =AVERAGE(รายเดือน!BA14:BC14) -> 134.40492 | T14: =AVERAGE(รายเดือน!BD14:BF14) -> 114.22709 | U14: =AVERAGE(รายเดือน!BG14:BI14) -> 123.73461 | V14: =AVERAGE(รายเดือน!BJ14:BL14) -> 148.49521 | W14: =AVERAGE(รายเดือน!BM14:BO14) -> 170.65663 | X14: =AVERAGE(รายเดือน!BP14:BR14) -> 172.16142 | Y14: =AVERAGE(รายเดือน!BS14:BU14) -> 162.9959 | Z14: =AVERAGE(รายเดือน!BV14:BX14) -> 170.65663 | AA14: =AVERAGE(รายเดือน!BY14:CA14) -> 175.2394 | AB14: =AVERAGE(รายเดือน!CB14:CD14) -> 155.06156 | AC14: =AVERAGE(รายเดือน!CE14:CG14) -> 168.87825 | AD14: =AVERAGE(รายเดือน!CH14:CJ14) -> 176.19699 | AE14: =AVERAGE(รายเดือน!CK14:CM14) -> 186.25171 | AF14: =AVERAGE(รายเดือน!CN14:CP14) -> 194.52804 | AG14: =AVERAGE(รายเดือน!CQ14:CS14) -> 185.70451 | AH14: =AVERAGE(รายเดือน!CT14:CV14) -> 179.68536 | AI14: =AVERAGE(รายเดือน!CW14:CY14) -> 176.19699 | AJ14: =AVERAGE(รายเดือน!CZ14:DB14) -> 156.08755 | AK14: =AVERAGE(รายเดือน!DC14:DE14) -> 136.18331 | AL14: =AVERAGE(รายเดือน!DF14:DH14) -> 137.0041 | AM14: =AVERAGE(รายเดือน!DI14:DK14) -> 151.02599 | AN14: =AVERAGE(รายเดือน!DL14:DN14) -> 152.66758 | AO14: =AVERAGE(รายเดือน!DO14:DQ14) -> 153.62517 | AP14: =AVERAGE(รายเดือน!DR14:DT14) -> 174.5554 | AQ14: =AVERAGE(รายเดือน!DU14:DW14) -> 169.42544 | AR14: =AVERAGE(รายเดือน!DX14:DZ14) -> 162.3803 | AS14: =AVERAGE(รายเดือน!EA14:EC14) -> 152.05198 | AT14: =AVERAGE(รายเดือน!ED14:EF14) -> 161.9015 | AU14: =AVERAGE(รายเดือน!EG14:EI14) -> 158.07114 | AV14: =AVERAGE(รายเดือน!EJ14:EL14) -> 155.54036 | AW14: =AVERAGE(รายเดือน!EM14:EO14) -> 125.01026 | AX14: =AVERAGE(รายเดือน!EP14:ER14) -> 129.97948 | AY14: =AVERAGE(รายเดือน!ES14:EU14) -> 125.66347 | AZ14: =AVERAGE(รายเดือน!EV14:EX14) -> 121.37483 | BA14: =AVERAGE(รายเดือน!EY14:FA14) -> 129.65116 | BB14: =AVERAGE(รายเดือน!FB14:FD14) -> 168.28317 | BC14: =AVERAGE(รายเดือน!FE14:FG14) -> 175.07865 | BD14: =AVERAGE(รายเดือน!FH14:FJ14) -> 140.28727 | BE14: =AVERAGE(รายเดือน!FK14:FM14) -> 166.42726 | BF14: =AVERAGE(รายเดือน!FN14:FP14) -> 172.48632 | BG14: =AVERAGE(รายเดือน!FQ14:FS14) -> 158.21249 | BH14: =AVERAGE(รายเดือน!FT14:FV14) -> 153.56703 | BI14: =AVERAGE(รายเดือน!FW14:FY14) -> 156.70314 | BJ14: =AVERAGE(รายเดือน!FZ14:GB14) -> 155.22913 | BK14: =AVERAGE(รายเดือน!GC14:GE14) -> 158.19767 | BL14: =AVERAGE(รายเดือน!GF14:GH14) -> 158.79959 | BM14: =AVERAGE(รายเดือน!GI14:GK14) -> 157.47606 | BN14: =AVERAGE(รายเดือน!GL14:GN14) -> 166.61764 | BO14: =AVERAGE(รายเดือน!GO14:GQ14) -> 162.06338 | BP14: =AVERAGE(รายเดือน!GR14:GT14) -> 165.81737 | BQ14: =AVERAGE(รายเดือน!GU14:GW14) -> 178.76881 | BR14: =AVERAGE(รายเดือน!GX14:GZ14) -> 183.89192 | BS14: =AVERAGE(รายเดือน!HA14:HC14) -> 208.69926 | BT14: =AVERAGE(รายเดือน!HD14:HF14) -> 201.48426 | BU14: =AVERAGE(รายเดือน!HG14:HI14) -> 211.29274 | BV14: =AVERAGE(รายเดือน!HJ14:HL14) -> 231.63474 | BW14: =AVERAGE(รายเดือน!HM14:HO14) -> 220.13907 | BX14: =AVERAGE(รายเดือน!HP14:HR14) -> 199.42544 | BY14: =AVERAGE(รายเดือน!HS14:HU14) -> 184.28522 | BZ14: =AVERAGE(รายเดือน!HV14:HX14) -> 181.97674 | CA14: =AVERAGE(รายเดือน!HY14:IA14) -> 177.35978 | CB14: =AVERAGE(รายเดือน!IB14:ID14) -> 181.20041 | CC14: =AVERAGE(รายเดือน!IE14:IG14) -> 169.54514 | CD14: =AVERAGE(รายเดือน!IH14:IJ14) -> 177.60943 | CE14: =AVERAGE(รายเดือน!IK14:IM14) -> 177.63223 | CF14: =AVERAGE(รายเดือน!IN14:IP14) -> 160.56771 | CG14: =AVERAGE(รายเดือน!IQ14:IS14) -> 160.46511 | CH14: =AVERAGE(รายเดือน!IT14:IV14) -> 161.25855 | CI14: =AVERAGE(รายเดือน!IW14:IY14) -> 170.68741
A15: ถั่วเขียวผิวมันใหญ่ | B15: =AVERAGE(รายเดือน!B15:D15) -> 94.987153 | C15: =AVERAGE(รายเดือน!E15:G15) -> 109.93693 | D15: =AVERAGE(รายเดือน!H15:J15) -> 96.295258 | E15: =AVERAGE(รายเดือน!K15:M15) -> 98.780659 | F15: =AVERAGE(รายเดือน!N15:P15) -> 100.36907 | G15: =AVERAGE(รายเดือน!Q15:S15) -> 119.54216 | H15: =AVERAGE(รายเดือน!T15:V15) -> 102.91053 | I15: =AVERAGE(รายเดือน!W15:Y15) -> 95.248774 | J15: =AVERAGE(รายเดือน!Z15:AB15) -> 105.50806 | K15: =AVERAGE(รายเดือน!AC15:AE15) -> 123.18617 | L15: =AVERAGE(รายเดือน!AF15:AH15) -> 112.49708 | M15: =AVERAGE(รายเดือน!AI15:AK15) -> 104.66713 | N15: =AVERAGE(รายเดือน!AL15:AN15) -> 109.65662 | O15: =AVERAGE(รายเดือน!AO15:AQ15) -> 107.43284 | P15: =AVERAGE(รายเดือน!AR15:AT15) -> 99.023593 | Q15: =AVERAGE(รายเดือน!AU15:AW15) -> 84.111189 | R15: =AVERAGE(รายเดือน!AX15:AZ15) -> 68.993226 | S15: =AVERAGE(รายเดือน!BA15:BC15) -> 105.17169 | T15: =AVERAGE(รายเดือน!BD15:BF15) -> 136.37935 | U15: =AVERAGE(รายเดือน!BG15:BI15) -> 151.10488 | V15: =AVERAGE(รายเดือน!BJ15:BL15) -> 175.47302 | W15: =AVERAGE(รายเดือน!BM15:BO15) -> 193.99206 | X15: =AVERAGE(รายเดือน!BP15:BR15) -> 172.80075 | Y15: =AVERAGE(รายเดือน!BS15:BU15) -> 192.92689 | Z15: =AVERAGE(รายเดือน!BV15:BX15) -> 169.71736 | AA15: =AVERAGE(รายเดือน!BY15:CA15) -> 172.05326 | AB15: =AVERAGE(รายเดือน!CB15:CD15) -> 133.31465 | AC15: =AVERAGE(รายเดือน!CE15:CG15) -> 129.11625 | AD15: =AVERAGE(รายเดือน!CH15:CJ15) -> 131.83836 | AE15: =AVERAGE(รายเดือน!CK15:CM15) -> 103.93833 | AF15: =AVERAGE(รายเดือน!CN15:CP15) -> 110.03037 | AG15: =AVERAGE(รายเดือน!CQ15:CS15) -> 112.53445 | AH15: =AVERAGE(รายเดือน!CT15:CV15) -> 109.84349 | AI15: =AVERAGE(รายเดือน!CW15:CY15) -> 166.61528 | AJ15: =AVERAGE(รายเดือน!CZ15:DB15) -> 123.98972 | AK15: =AVERAGE(รายเดือน!DC15:DE15) -> 143.36837 | AL15: =AVERAGE(รายเดือน!DF15:DH15) -> 189.11469 | AM15: =AVERAGE(รายเดือน!DI15:DK15) -> 182.31254 | AN15: =AVERAGE(รายเดือน!DL15:DN15) -> 173.66036 | AO15: =AVERAGE(รายเดือน!DO15:DQ15) -> 186.62929 | AP15: =AVERAGE(รายเดือน!DR15:DT15) -> 188.53539 | AQ15: =AVERAGE(รายเดือน!DU15:DW15) -> 181.6398 | AR15: =AVERAGE(รายเดือน!DX15:DZ15) -> 206.75543 | AS15: =AVERAGE(รายเดือน!EA15:EC15) -> 176.07101 | AT15: =AVERAGE(รายเดือน!ED15:EF15) -> 180.53726 | AU15: =AVERAGE(รายเดือน!EG15:EI15) -> 194.42186 | AV15: =AVERAGE(รายเดือน!EJ15:EL15) -> 151.12357 | AW15: =AVERAGE(รายเดือน!EM15:EO15) -> 140.95118 | AX15: =AVERAGE(รายเดือน!EP15:ER15) -> 123.35903 | AY15: =AVERAGE(รายเดือน!ES15:EU15) -> 140.24013 | AZ15: =AVERAGE(รายเดือน!EV15:EX15) -> 173.12123 | BA15: =AVERAGE(รายเดือน!EY15:FA15) -> 121.73791 | BB15: =AVERAGE(รายเดือน!FB15:FD15) -> 105.09227 | BC15: =AVERAGE(รายเดือน!FE15:FG15) -> 139.43159 | BD15: =AVERAGE(รายเดือน!FH15:FJ15) -> 112.10464 | BE15: =AVERAGE(รายเดือน!FK15:FM15) -> 121.76345 | BF15: =AVERAGE(รายเดือน!FN15:FP15) -> 127.98785 | BG15: =AVERAGE(รายเดือน!FQ15:FS15) -> 115.06159 | BH15: =AVERAGE(รายเดือน!FT15:FV15) -> 116.43915 | BI15: =AVERAGE(รายเดือน!FW15:FY15) -> 127.31978 | BJ15: =AVERAGE(รายเดือน!FZ15:GB15) -> 141.01845 | BK15: =AVERAGE(รายเดือน!GC15:GE15) -> 133.26606 | BL15: =AVERAGE(รายเดือน!GF15:GH15) -> 131.24503 | BM15: =AVERAGE(รายเดือน!GI15:GK15) -> 126.49848 | BN15: =AVERAGE(รายเดือน!GL15:GN15) -> 156 | BO15: =AVERAGE(รายเดือน!GO15:GQ15) -> 130.40878 | BP15: =AVERAGE(รายเดือน!GR15:GT15) -> 139.01144 | BQ15: =AVERAGE(รายเดือน!GU15:GW15) -> 131.89909 | BR15: =AVERAGE(รายเดือน!GX15:GZ15) -> 128.9138 | BS15: =AVERAGE(รายเดือน!HA15:HC15) -> 134.08549 | BT15: =AVERAGE(รายเดือน!HD15:HF15) -> 120.22798 | BU15: =AVERAGE(รายเดือน!HG15:HI15) -> 176.22985 | BV15: =AVERAGE(รายเดือน!HJ15:HL15) -> 175.33286 | BW15: =AVERAGE(รายเดือน!HM15:HO15) -> 158.14996 | BX15: =AVERAGE(รายเดือน!HP15:HR15) -> 141.88554 | BY15: =AVERAGE(รายเดือน!HS15:HU15) -> 138.54239 | BZ15: =AVERAGE(รายเดือน!HV15:HX15) -> 142.87783 | CA15: =AVERAGE(รายเดือน!HY15:IA15) -> 141.31277 | CB15: =AVERAGE(รายเดือน!IB15:ID15) -> 156.03831 | CC15: =AVERAGE(รายเดือน!IE15:IG15) -> 144.41485 | CD15: =AVERAGE(รายเดือน!IH15:IJ15) -> 123.80285 | CE15: =AVERAGE(รายเดือน!IK15:IM15) -> 128.90446 | CF15: =AVERAGE(รายเดือน!IN15:IP15) -> 125.67157 | CG15: =AVERAGE(รายเดือน!IQ15:IS15) -> 124.57837 | CH15: =AVERAGE(รายเดือน!IT15:IV15) -> 124.94464 | CI15: =AVERAGE(รายเดือน!IW15:IY15) -> 153.09818
A16: 1.2 กลุ่มไม้ยืนต้น | B16: =AVERAGE(รายเดือน!B16:D16) -> 79.873967 | C16: =AVERAGE(รายเดือน!E16:G16) -> 91.744993 | D16: =AVERAGE(รายเดือน!H16:J16) -> 114.36204 | E16: =AVERAGE(รายเดือน!K16:M16) -> 114.019 | F16: =AVERAGE(รายเดือน!N16:P16) -> 132.31477 | G16: =AVERAGE(รายเดือน!Q16:S16) -> 158.03718 | H16: =AVERAGE(รายเดือน!T16:V16) -> 132.98906 | I16: =AVERAGE(รายเดือน!W16:Y16) -> 99.34649 | J16: =AVERAGE(รายเดือน!Z16:AB16) -> 130.27737 | K16: =AVERAGE(รายเดือน!AC16:AE16) -> 138.09442 | L16: =AVERAGE(รายเดือน!AF16:AH16) -> 123.07938 | M16: =AVERAGE(รายเดือน!AI16:AK16) -> 138.77215 | N16: =AVERAGE(รายเดือน!AL16:AN16) -> 153.0363 | O16: =AVERAGE(รายเดือน!AO16:AQ16) -> 168.25498 | P16: =AVERAGE(รายเดือน!AR16:AT16) -> 179.43198 | Q16: =AVERAGE(รายเดือน!AU16:AW16) -> 90.56861 | R16: =AVERAGE(รายเดือน!AX16:AZ16) -> 85.161095 | S16: =AVERAGE(รายเดือน!BA16:BC16) -> 97.339399 | T16: =AVERAGE(รายเดือน!BD16:BF16) -> 112.69119 | U16: =AVERAGE(รายเดือน!BG16:BI16) -> 142.3031 | V16: =AVERAGE(รายเดือน!BJ16:BL16) -> 180.5115 | W16: =AVERAGE(รายเดือน!BM16:BO16) -> 200.91394 | X16: =AVERAGE(รายเดือน!BP16:BR16) -> 189.52892 | Y16: =AVERAGE(รายเดือน!BS16:BU16) -> 218.04367 | Z16: =AVERAGE(รายเดือน!BV16:BX16) -> 290.62604 | AA16: =AVERAGE(รายเดือน!BY16:CA16) -> 273.58869 | AB16: =AVERAGE(รายเดือน!CB16:CD16) -> 238.18202 | AC16: =AVERAGE(รายเดือน!CE16:CG16) -> 180.18095 | AD16: =AVERAGE(รายเดือน!CH16:CJ16) -> 197.19854 | AE16: =AVERAGE(รายเดือน!CK16:CM16) -> 188.66304 | AF16: =AVERAGE(รายเดือน!CN16:CP16) -> 154.46915 | AG16: =AVERAGE(รายเดือน!CQ16:CS16) -> 152.33857 | AH16: =AVERAGE(รายเดือน!CT16:CV16) -> 156.20364 | AI16: =AVERAGE(รายเดือน!CW16:CY16) -> 145.86618 | AJ16: =AVERAGE(รายเดือน!CZ16:DB16) -> 137.66853 | AK16: =AVERAGE(รายเดือน!DC16:DE16) -> 137.49961 | AL16: =AVERAGE(รายเดือน!DF16:DH16) -> 120.90772 | AM16: =AVERAGE(รายเดือน!DI16:DK16) -> 117.72566 | AN16: =AVERAGE(รายเดือน!DL16:DN16) -> 102.7268 | AO16: =AVERAGE(รายเดือน!DO16:DQ16) -> 87.727864 | AP16: =AVERAGE(รายเดือน!DR16:DT16) -> 89.428377 | AQ16: =AVERAGE(รายเดือน!DU16:DW16) -> 97.735285 | AR16: =AVERAGE(รายเดือน!DX16:DZ16) -> 87.726099 | AS16: =AVERAGE(รายเดือน!EA16:EC16) -> 73.980641 | AT16: =AVERAGE(รายเดือน!ED16:EF16) -> 71.074518 | AU16: =AVERAGE(รายเดือน!EG16:EI16) -> 98.360118 | AV16: =AVERAGE(รายเดือน!EJ16:EL16) -> 95.648882 | AW16: =AVERAGE(รายเดือน!EM16:EO16) -> 110.23215 | AX16: =AVERAGE(รายเดือน!EP16:ER16) -> 144.81418 | AY16: =AVERAGE(รายเดือน!ES16:EU16) -> 118.39475 | AZ16: =AVERAGE(รายเดือน!EV16:EX16) -> 98.582843 | BA16: =AVERAGE(รายเดือน!EY16:FA16) -> 84.283629 | BB16: =AVERAGE(รายเดือน!FB16:FD16) -> 83.377051 | BC16: =AVERAGE(รายเดือน!FE16:FG16) -> 85.557783 | BD16: =AVERAGE(รายเดือน!FH16:FJ16) -> 79.59138 | BE16: =AVERAGE(รายเดือน!FK16:FM16) -> 73.400787 | BF16: =AVERAGE(รายเดือน!FN16:FP16) -> 81.22669 | BG16: =AVERAGE(รายเดือน!FQ16:FS16) -> 93.573799 | BH16: =AVERAGE(รายเดือน!FT16:FV16) -> 79.130755 | BI16: =AVERAGE(รายเดือน!FW16:FY16) -> 71.763257 | BJ16: =AVERAGE(รายเดือน!FZ16:GB16) -> 73.987038 | BK16: =AVERAGE(รายเดือน!GC16:GE16) -> 68.496355 | BL16: =AVERAGE(รายเดือน!GF16:GH16) -> 83.019593 | BM16: =AVERAGE(รายเดือน!GI16:GK16) -> 107.38275 | BN16: =AVERAGE(รายเดือน!GL16:GN16) -> 105.28063 | BO16: =AVERAGE(รายเดือน!GO16:GQ16) -> 108.49674 | BP16: =AVERAGE(รายเดือน!GR16:GT16) -> 94.3266 | BQ16: =AVERAGE(รายเดือน!GU16:GW16) -> 99.808035 | BR16: =AVERAGE(รายเดือน!GX16:GZ16) -> 110.54998 | BS16: =AVERAGE(รายเดือน!HA16:HC16) -> 118.60537 | BT16: =AVERAGE(รายเดือน!HD16:HF16) -> 98.642006 | BU16: =AVERAGE(รายเดือน!HG16:HI16) -> 86.254876 | BV16: =AVERAGE(รายเดือน!HJ16:HL16) -> 86.227829 | BW16: =AVERAGE(รายเดือน!HM16:HO16) -> 85.303948 | BX16: =AVERAGE(รายเดือน!HP16:HR16) -> 84.47456 | BY16: =AVERAGE(รายเดือน!HS16:HU16) -> 96.082684 | BZ16: =AVERAGE(รายเดือน!HV16:HX16) -> 129.24227 | CA16: =AVERAGE(รายเดือน!HY16:IA16) -> 143.80204 | CB16: =AVERAGE(รายเดือน!IB16:ID16) -> 132.18269 | CC16: =AVERAGE(รายเดือน!IE16:IG16) -> 137.32435 | CD16: =AVERAGE(รายเดือน!IH16:IJ16) -> 132.35488 | CE16: =AVERAGE(รายเดือน!IK16:IM16) -> 121.22998 | CF16: =AVERAGE(รายเดือน!IN16:IP16) -> 111.84967 | CG16: =AVERAGE(รายเดือน!IQ16:IS16) -> 104.93299 | CH16: =AVERAGE(รายเดือน!IT16:IV16) -> 115.90891 | CI16: =AVERAGE(รายเดือน!IW16:IY16) -> 148.89781
... A51: กุ้งขาวแวนนาไม (70 ตัว/กก.) | B51: =AVERAGE(รายเดือน!B51:D51) -> 103.14637 | C51: =AVERAGE(รายเดือน!E51:G51) -> 92.47606 | D51: =AVERAGE(รายเดือน!H51:J51) -> 97.674419 | E51: =AVERAGE(รายเดือน!K51:M51) -> 106.70315 | F51: =AVERAGE(รายเดือน!N51:P51) -> 109.98632 | G51: =AVERAGE(รายเดือน!Q51:S51) -> 95.212038 | H51: =AVERAGE(รายเดือน!T51:V51) -> 89.192886 | I51: =AVERAGE(รายเดือน!W51:Y51) -> 88.098495 | J51: =AVERAGE(รายเดือน!Z51:AB51) -> 89.466484 | K51: =AVERAGE(รายเดือน!AC51:AE51) -> 76.333789 | L51: =AVERAGE(รายเดือน!AF51:AH51) -> 72.50342 | M51: =AVERAGE(รายเดือน!AI51:AK51) -> 90.01368 | N51: =AVERAGE(รายเดือน!AL51:AN51) -> 87.5513 | O51: =AVERAGE(รายเดือน!AO51:AQ51) -> 85.909713 | P51: =AVERAGE(รายเดือน!AR51:AT51) -> 91.108071 | Q51: =AVERAGE(รายเดือน!AU51:AW51) -> 85.362517 | R51: =AVERAGE(รายเดือน!AX51:AZ51) -> 99.042408 | S51: =AVERAGE(รายเดือน!BA51:BC51) -> 86.730506 | T51: =AVERAGE(รายเดือน!BD51:BF51) -> 81.805746 | U51: =AVERAGE(รายเดือน!BG51:BI51) -> 82.900137 | V51: =AVERAGE(รายเดือน!BJ51:BL51) -> 87.004104 | W51: =AVERAGE(รายเดือน!BM51:BO51) -> 84.541724 | X51: =AVERAGE(รายเดือน!BP51:BR51) -> 92.749658 | Y51: =AVERAGE(รายเดือน!BS51:BU51) -> 98.221614 | Z51: =AVERAGE(รายเดือน!BV51:BX51) -> 106.70315 | AA51: =AVERAGE(รายเดือน!BY51:CA51) -> 108.89193 | AB51: =AVERAGE(รายเดือน!CB51:CD51) -> 103.14637 | AC51: =AVERAGE(รายเดือน!CE51:CG51) -> 104.24077 | AD51: =AVERAGE(รายเดือน!CH51:CJ51) -> 107.25034 | AE51: =AVERAGE(รายเดือน!CK51:CM51) -> 93.844049 | AF51: =AVERAGE(รายเดือน!CN51:CP51) -> 103.41997 | AG51: =AVERAGE(รายเดือน!CQ51:CS51) -> 111.62791 | AH51: =AVERAGE(รายเดือน!CT51:CV51) -> 126.67579 | AI51: =AVERAGE(รายเดือน!CW51:CY51) -> 149.658 | AJ51: =AVERAGE(รายเดือน!CZ51:DB51) -> 166.34747 | AK51: =AVERAGE(รายเดือน!DC51:DE51) -> 203.83037 | AL51: =AVERAGE(รายเดือน!DF51:DH51) -> 215.86867 | AM51: =AVERAGE(รายเดือน!DI51:DK51) -> 173.73461 | AN51: =AVERAGE(รายเดือน!DL51:DN51) -> 174.00821 | AO51: =AVERAGE(รายเดือน!DO51:DQ51) -> 167.16826 | AP51: =AVERAGE(รายเดือน!DR51:DT51) -> 163.61149 | AQ51: =AVERAGE(รายเดือน!DU51:DW51) -> 144.45964 | AR51: =AVERAGE(รายเดือน!DX51:DZ51) -> 146.37483 | AS51: =AVERAGE(รายเดือน!EA51:EC51) -> 134.33653 | AT51: =AVERAGE(รายเดือน!ED51:EF51) -> 149.3844 | AU51: =AVERAGE(รายเดือน!EG51:EI51) -> 145.82763 | AV51: =AVERAGE(รายเดือน!EJ51:EL51) -> 149.9316 | AW51: =AVERAGE(รายเดือน!EM51:EO51) -> 145.50807 | AX51: =AVERAGE(รายเดือน!EP51:ER51) -> 173.70273 | AY51: =AVERAGE(รายเดือน!ES51:EU51) -> 144.91231 | AZ51: =AVERAGE(รายเดือน!EV51:EX51) -> 144.23269 | BA51: =AVERAGE(รายเดือน!EY51:FA51) -> 144.99808 | BB51: =AVERAGE(รายเดือน!FB51:FD51) -> 148.8829 | BC51: =AVERAGE(รายเดือน!FE51:FG51) -> 112.36393 | BD51: =AVERAGE(รายเดือน!FH51:FJ51) -> 123.0528 | BE51: =AVERAGE(รายเดือน!FK51:FM51) -> 112.357 | BF51: =AVERAGE(รายเดือน!FN51:FP51) -> 132.21067 | BG51: =AVERAGE(รายเดือน!FQ51:FS51) -> 116.59968 | BH51: =AVERAGE(รายเดือน!FT51:FV51) -> 112.33816 | BI51: =AVERAGE(รายเดือน!FW51:FY51) -> 112.23014 | BJ51: =AVERAGE(รายเดือน!FZ51:GB51) -> 115.9186 | BK51: =AVERAGE(รายเดือน!GC51:GE51) -> 112.55294 | BL51: =AVERAGE(รายเดือน!GF51:GH51) -> 115.82407 | BM51: =AVERAGE(รายเดือน!GI51:GK51) -> 115.60602 | BN51: =AVERAGE(รายเดือน!GL51:GN51) -> 117.37537 | BO51: =AVERAGE(รายเดือน!GO51:GQ51) -> 117.55499 | BP51: =AVERAGE(รายเดือน!GR51:GT51) -> 105.2212 | BQ51: =AVERAGE(รายเดือน!GU51:GW51) -> 119.74774 | BR51: =AVERAGE(รายเดือน!GX51:GZ51) -> 143.01368 | BS51: =AVERAGE(รายเดือน!HA51:HC51) -> 122.51044 | BT51: =AVERAGE(รายเดือน!HD51:HF51) -> 117.7134 | BU51: =AVERAGE(รายเดือน!HG51:HI51) -> 116.72107 | BV51: =AVERAGE(รายเดือน!HJ51:HL51) -> 127.90355 | BW51: =AVERAGE(รายเดือน!HM51:HO51) -> 103.92982 | BX51: =AVERAGE(รายเดือน!HP51:HR51) -> 88.426127 | BY51: =AVERAGE(รายเดือน!HS51:HU51) -> 97.973869 | BZ51: =AVERAGE(รายเดือน!HV51:HX51) -> 104.59507 | CA51: =AVERAGE(รายเดือน!HY51:IA51) -> 101.38645 | CB51: =AVERAGE(รายเดือน!IB51:ID51) -> 105.9078 | CC51: =AVERAGE(รายเดือน!IE51:IG51) -> 117.89945 | CD51: =AVERAGE(รายเดือน!IH51:IJ51) -> 128.56662 | CE51: =AVERAGE(รายเดือน!IK51:IM51) -> 113.17478 | CF51: =AVERAGE(รายเดือน!IN51:IP51) -> 114.57619 | CG51: =AVERAGE(รายเดือน!IQ51:IS51) -> 121.0342 | CH51: =AVERAGE(รายเดือน!IT51:IV51) -> 120.41655 | CI51: =AVERAGE(รายเดือน!IW51:IY51) -> 101.57688
A52: ที่มา : สำนักงานเศรษฐกิจการเกษตร

Sheet รายเดือน
A1: ดัชนีราคาสินค้าเกษตร
A3: รายการสินค้า | B3: 2548 | N3: 2549 | Z3: 2550 | AL3: 2551 | AX3: 2552 | BJ3: 2553 | BV3: 2554 | CH3: 2555 | CT3: 2556 | DF3: 2557 | DR3: 2558 | ED3: 2559 | EP3: 2560 | FB3: 2561 | FN3: 2562 | FZ3: 2563 | GL3: 2564 | GX3: 2565 | HJ3: 2566 | HV3: 2567 | IH3: 2568 | IT3: 2569
B4: ม.ค. | C4: ก.พ. | D4: มี.ค. | E4: เม.ย. | F4: พ.ค. | G4: มิ.ย. | H4: ก.ค. | I4: ส.ค. | J4: ก.ย. | K4: ต.ค. | L4: พ.ย. | M4: ธ.ค. | N4: ม.ค. | O4: ก.พ. | P4: มี.ค. | Q4: เม.ย. | R4: พ.ค. | S4: มิ.ย. | T4: ก.ค. | U4: ส.ค. | V4: ก.ย. | W4: ต.ค. | X4: พ.ย. | Y4: ธ.ค. | Z4: ม.ค. | AA4: ก.พ. | AB4: มี.ค. | AC4: เม.ย. | AD4: พ.ค. | AE4: มิ.ย. | AF4: ก.ค. | AG4: ส.ค. | AH4: ก.ย. | AI4: ต.ค. | AJ4: พ.ย. | AK4: ธ.ค. | AL4: ม.ค. | AM4: ก.พ. | AN4: มี.ค. | AO4: เม.ย. | AP4: พ.ค. | AQ4: มิ.ย. | AR4: ก.ค. | AS4: ส.ค. | AT4: ก.ย. | AU4: ต.ค. | AV4: พ.ย. | AW4: ธ.ค. | AX4: ม.ค. | AY4: ก.พ. | AZ4: มี.ค. | BA4: เม.ย. | BB4: พ.ค. | BC4: มิ.ย. | BD4: ก.ค. | BE4: ส.ค. | BF4: ก.ย. | BG4: ต.ค. | BH4: พ.ย. | BI4: ธ.ค. | BJ4: ม.ค. | BK4: ก.พ. | BL4: มี.ค. | BM4: เม.ย. | BN4: พ.ค. | BO4: มิ.ย. | BP4: ก.ค. | BQ4: ส.ค. | BR4: ก.ย. | BS4: ต.ค. | BT4: พ.ย. | BU4: ธ.ค. | BV4: ม.ค. | BW4: ก.พ. | BX4: มี.ค. | BY4: เม.ย. | BZ4: พ.ค. | CA4: มิ.ย. | CB4: ก.ค. | CC4: ส.ค. | CD4: ก.ย. | CE4: ต.ค. | CF4: พ.ย. | CG4: ธ.ค. | CH4: ม.ค. | CI4: ก.พ. | CJ4: มี.ค. | CK4: เม.ย. | CL4: พ.ค. | CM4: มิ.ย. | CN4: ก.ค. | CO4: ส.ค. | CP4: ก.ย. | CQ4: ต.ค. | CR4: พ.ย. | CS4: ธ.ค. | CT4: ม.ค. | CU4: ก.พ. | CV4: มี.ค. | CW4: เม.ย. | CX4: พ.ค. | CY4: มิ.ย. | CZ4: ก.ค. | DA4: ส.ค. | DB4: ก.ย. | DC4: ต.ค. | DD4: พ.ย. | DE4: ธ.ค. | DF4: ม.ค. | DG4: ก.พ. | DH4: มี.ค. | DI4: เม.ย. | DJ4: พ.ค. | DK4: มิ.ย. | DL4: ก.ค. | DM4: ส.ค. | DN4: ก.ย. | DO4: ต.ค. | DP4: พ.ย. | DQ4: ธ.ค. | DR4: ม.ค. | DS4: ก.พ. | DT4: มี.ค. | DU4: เม.ย. | DV4: พ.ค. | DW4: มิ.ย. | DX4: ก.ค. | DY4: ส.ค. | DZ4: ก.ย. | EA4: ต.ค. | EB4: พ.ย. | EC4: ธ.ค. | ED4: ม.ค. | EE4: ก.พ. | EF4: มี.ค. | EG4: เม.ย. | EH4: พ.ค. | EI4: มิ.ย. | EJ4: ก.ค. | EK4: ส.ค. | EL4: ก.ย. | EM4: ต.ค. | EN4: พ.ย. | EO4: ธ.ค. | EP4: ม.ค. | EQ4: ก.พ. | ER4: มี.ค. | ES4: เม.ย. | ET4: พ.ค. | EU4: มิ.ย. | EV4: ก.ค. | EW4: ส.ค. | EX4: ก.ย. | EY4: ต.ค. | EZ4: พ.ย. | FA4: ธ.ค. | FB4: ม.ค. | FC4: ก.พ. | FD4: มี.ค. | FE4: เม.ย. | FF4: พ.ค. | FG4: มิ.ย. | FH4: ก.ค. | FI4: ส.ค. | FJ4: ก.ย. | FK4: ต.ค. | FL4: พ.ย. | FM4: ธ.ค. | FN4: ม.ค. | FO4: ก.พ. | FP4: มี.ค. | FQ4: เม.ย. | FR4: พ.ค. | FS4: มิ.ย. | FT4: ก.ค. | FU4: ส.ค. | FV4: ก.ย. | FW4: ต.ค. | FX4: พ.ย. | FY4: ธ.ค. | FZ4: ม.ค. | GA4: ก.พ. | GB4: มี.ค. | GC4: เม.ย. | GD4: พ.ค. | GE4: มิ.ย. | GF4: ก.ค. | GG4: ส.ค. | GH4: ก.ย. | GI4: ต.ค. | GJ4: พ.ย. | GK4: ธ.ค. | GL4: ม.ค. | GM4: ก.พ. | GN4: มี.ค. | GO4: เม.ย. | GP4: พ.ค. | GQ4: มิ.ย. | GR4: ก.ค. | GS4: ส.ค. | GT4: ก.ย. | GU4: ต.ค. | GV4: พ.ย. | GW4: ธ.ค. | GX4: ม.ค. | GY4: ก.พ. | GZ4: มี.ค. | HA4: เม.ย. | HB4: พ.ค. | HC4: มิ.ย. | HD4: ก.ค. | HE4: ส.ค. | HF4: ก.ย. | HG4: ต.ค. | HH4: พ.ย. | HI4: ธ.ค. | HJ4: ม.ค. | HK4: ก.พ. | HL4: มี.ค. | HM4: เม.ย. | HN4: พ.ค. | HO4: มิ.ย. | HP4: ก.ค. | HQ4: ส.ค. | HR4: ก.ย. | HS4: ต.ค. | HT4: พ.ย. | HU4: ธ.ค. | HV4: ม.ค. | HW4: ก.พ. | HX4: มี.ค. | HY4: เม.ย. | HZ4: พ.ค. | IA4: มิ.ย. | IB4: ก.ค. | IC4: ส.ค. | ID4: ก.ย. | IE4: ต.ค. | IF4: พ.ย. | IG4: ธ.ค. | IH4: ม.ค. | II4: ก.พ. | IJ4: มี.ค. | IK4: เม.ย. | IL4: พ.ค. | IM4: มิ.ย. | IN4: ก.ค. | IO4: ส.ค. | IP4: ก.ย. | IQ4: ต.ค. | IR4: พ.ย. | IS4: ธ.ค. | IT4: ม.ค. | IU4: ก.พ. | IV4: มี.ค. | IW4: เม.ย. | IX4: พ.ค. | IY4: มิ.ย. | IZ4: ก.ค. | JA4: ส.ค. | JB4: ก.ย. | JC4: ต.ค. | JD4: พ.ย. | JE4: ธ.ค.
A5: ภาคเกษตรกรรม | B5: 93.172998 | C5: 95.454094 | D5: 97.311288 | E5: 95.936262 | F5: 96.34471 | G5: 98.387403 | H5: 100.95713 | I5: 101.47677 | J5: 104.23396 | K5: 106.62903 | L5: 104.69357 | M5: 105.40278 | N5: 110.40226 | O5: 111.36313 | P5: 112.50713 | Q5: 115.59776 | R5: 113.40192 | S5: 115.68091 | T5: 110.09488 | U5: 105.73471 | V5: 103.03119 | W5: 103.8914 | X5: 99.926303 | Y5: 101.72695 | Z5: 107.90678 | AA5: 111.61759 | AB5: 109.65296 | AC5: 109.79427 | AD5: 110.60109 | AE5: 110.62078 | AF5: 108.41367 | AG5: 109.37761 | AH5: 111.92599 | AI5: 114.6668 | AJ5: 117.77292 | AK5: 116.18603 | AL5: 122.3509 | AM5: 126.7338 | AN5: 135.17585 | AO5: 148.06919 | AP5: 145.86901 | AQ5: 146.40605 | AR5: 148.2103 | AS5: 142.50891 | AT5: 140.92609 | AU5: 122.2241 | AV5: 116.36109 | AW5: 110.6653 | AX5: 115.54832 | AY5: 119.92254 | AZ5: 120.20833 | BA5: 123.00208 | BB5: 120.66061 | BC5: 118.92926 | BD5: 118.08506 | BE5: 119.89305 | BF5: 123.6963 | BG5: 123.88964 | BH5: 128.82232 | BI5: 138.73655 | BJ5: 141.71717 | BK5: 144.79502 | BL5: 146.72287 | BM5: 150.22408 | BN5: 147.20772 | BO5: 152.20116 | BP5: 154.42954 | BQ5: 154.98518 | BR5: 156.04643 | BS5: 157.93721 | BT5: 162.00821 | BU5: 168.68812 | BV5: 182.37166 | BW5: 194.1153 | BX5: 175.7088 | BY5: 185.54521 | BZ5: 177.24564 | CA5: 174.41505 | CB5: 167.39642 | CC5: 168.98786 | CD5: 170.22544 | CE5: 162.32513 | CF5: 155.03245 | CG5: 156.17884 | CH5: 157.3773 | CI5: 160.65566 | CJ5: 158.92507 | CK5: 159.8402 | CL5: 157.66301 | CM5: 153.34885 | CN5: 153.09865 | CO5: 148.36659 | CP5: 149.98129 | CQ5: 150.992 | CR5: 148.09093 | CS5: 146.67663 | CT5: 150.8482 | CU5: 152.77127 | CV5: 150.58475 | CW5: 152.34366 | CX5: 157.3052 | CY5: 154.33598 | CZ5: 150.16974 | DA5: 150.22841 | DB5: 151.88098 | DC5: 149.17889 | DD5: 146.92714 | DE5: 150.52813 | DF5: 148.6328 | DG5: 148.85272 | DH5: 147.14695 | DI5: 145.86685 | DJ5: 143.42995 | DK5: 142.46263 | DL5: 139.91363 | DM5: 138.8407 | DN5: 135.77649 | DO5: 135.32335 | DP5: 134.82675 | DQ5: 132.35396 | DR5: 134.54575 | DS5: 139.42264 | DT5: 136.40481 | DU5: 134.83703 | DV5: 134.67837 | DW5: 136.06779 | DX5: 132.87266 | DY5: 132.90225 | DZ5: 132.10189 | EA5: 130.87101 | EB5: 127.34947 | EC5: 126.91202 | ED5: 126.99662 | EE5: 128.29744 | EF5: 130.10868 | EG5: 137.45728 | EH5: 142.37442 | EI5: 140.36598 | EJ5: 144.46953 | EK5: 144.18307 | EL5: 133.50385 | EM5: 128.62675 | EN5: 131.32164 | EO5: 139.86808 | EP5: 144.44253 | EQ5: 144.79848 | ER5: 144.4919 | ES5: 141.37967 | ET5: 136.56728 | EU5: 131.57492 | EV5: 127.12816 | EW5: 127.79181 | EX5: 132.00853 | EY5: 124.32915 | EZ5: 124.04214 | FA5: 123.72424 | FB5: 125.44276 | FC5: 126.51631 | FD5: 131.7643 | FE5: 128.75721 | FF5: 131.1716 | FG5: 130.73277 | FH5: 128.20547 | FI5: 125.82541 | FJ5: 126.24226 | FK5: 125.79727 | FL5: 123.80942 | FM5: 123.28433 | FN5: 123.97767 | FO5: 126.77019 | FP5: 129.21427 | FQ5: 129.35656 | FR5: 133.22636 | FS5: 138.68932 | FT5: 132.53052 | FU5: 128.60028 | FV5: 127.83386 | FW5: 127.20408 | FX5: 126.74524 | FY5: 128.92334 | FZ5: 134.24152 | GA5: 137.00189 | GB5: 140.42192 | GC5: 133.24418 | GD5: 128.15316 | GE5: 130.50677 | GF5: 133.58129 | GG5: 137.5368 | GH5: 139.94115 | GI5: 141.73955 | GJ5: 140.22158 | GK5: 145.33378 | GL5: 144.67004 | GM5: 148.8581 | GN5: 156.70809 | GO5: 148.75494 | GP5: 145.9288 | GQ5: 144.29164 | GR5: 134.03837 | GS5: 127.93135 | GT5: 128.51264 | GU5: 130.53224 | GV5: 135.55219 | GW5: 141.18186 | GX5: 150.01451 | GY5: 148.44793 | GZ5: 170.0555 | HA5: 164.55007 | HB5: 159.61695 | HC5: 160.64835 | HD5: 158.33064 | HE5: 158.04331 | HF5: 153.07366 | HG5: 154.244 | HH5: 154.09003 | HI5: 152.23838 | HJ5: 152.76529 | HK5: 155.04012 | HL5: 155.63014 | HM5: 153.05799 | HN5: 155.77608 | HO5: 150.55352 | HP5: 152.80909 | HQ5: 153.41992 | HR5: 155.20037 | HS5: 155.38601 | HT5: 152.03436 | HU5: 152.34649 | HV5: 158.58424 | HW5: 163.2973 | HX5: 166.18911 | HY5: 174.27655 | HZ5: 164.9804 | IA5: 170.97677 | IB5: 164.80232 | IC5: 163.87657 | ID5: 166.76697 | IE5: 168.33096 | IF5: 164.25886 | IG5: 160.61904 | IH5: 160.59486 | II5: 162.01017 | IJ5: 160.76363 | IK5: 156.1165 | IL5: 149.46565 | IM5: 144.93213 | IN5: 145.07684 | IO5: 143.74918 | IP5: 142.86081 | IQ5: 141.7795 | IR5: 141.47965 | IS5: 142.57583 | IT5: 144.5211 | IU5: 145.32843 | IV5: 152.53206 | IW5: 161.09242 | IX5: 157.3685 | IY5: 159.58963 | IZ5: 161.98317
A6: 1. หมวดพืชผลสำคัญ | B6: 93.56961 | C6: 94.166525 | D6: 95.42652 | E6: 93.22225 | F6: 94.546341 | G6: 98.530754 | H6: 101.88611 | I6: 100.86816 | J6: 104.44302 | K6: 108.40587 | L6: 106.67633 | M6: 108.2585 | N6: 113.86443 | O6: 115.43649 | P6: 117.90357 | Q6: 121.89869 | R6: 119.7324 | S6: 124.18544 | T6: 117.40026 | U6: 111.66573 | V6: 108.16248 | W6: 110.023 | X6: 104.34634 | Y6: 107.27762 | Z6: 117.73737 | AA6: 123.45858 | AB6: 119.3992 | AC6: 119.49121 | AD6: 121.05304 | AE6: 122.07762 | AF6: 117.55716 | AG6: 118.06494 | AH6: 120.5531 | AI6: 124.1573 | AJ6: 127.80638 | AK6: 125.831 | AL6: 133.71934 | AM6: 137.50774 | AN6: 148.19667 | AO6: 164.6888 | AP6: 162.37769 | AQ6: 164.8143 | AR6: 166.78373 | AS6: 158.26208 | AT6: 155.69727 | AU6: 130.88049 | AV6: 123.77315 | AW6: 115.92254 | AX6: 122.19517 | AY6: 126.94505 | AZ6: 126.79601 | BA6: 130.56213 | BB6: 127.46885 | BC6: 125.3778 | BD6: 124.45096 | BE6: 126.98656 | BF6: 132.21142 | BG6: 132.76281 | BH6: 139.6166 | BI6: 152.48287 | BJ6: 156.16026 | BK6: 158.76307 | BL6: 161.21499 | BM6: 167.04516 | BN6: 162.52922 | BO6: 167.82444 | BP6: 170.2285 | BQ6: 171.4392 | BR6: 173.49105 | BS6: 175.90674 | BT6: 182.29088 | BU6: 190.82102 | BV6: 208.7577 | BW6: 222.98396 | BX6: 196.96292 | BY6: 208.45266 | BZ6: 196.05208 | CA6: 192.83066 | CB6: 183.51354 | CC6: 184.91479 | CD6: 187.12352 | CE6: 178.36916 | CF6: 168.99393 | CG6: 169.94842 | CH6: 172.3496 | CI6: 177.98459 | CJ6: 178.29715 | CK6: 178.7409 | CL6: 174.79309 | CM6: 169.26017 | CN6: 169.68764 | CO6: 161.90085 | CP6: 164.14758 | CQ6: 166.54981 | CR6: 161.46365 | CS6: 158.84775 | CT6: 163.10829 | CU6: 164.64584 | CV6: 161.0665 | CW6: 161.33178 | CX6: 167.27807 | CY6: 162.00438 | CZ6: 156.1767 | DA6: 154.84793 | DB6: 155.78773 | DC6: 151.08152 | DD6: 147.78945 | DE6: 152.22983 | DF6: 149.85289 | DG6: 149.54823 | DH6: 147.87372 | DI6: 146.37445 | DJ6: 143.37914 | DK6: 142.4904 | DL6: 139.09664 | DM6: 136.83496 | DN6: 133.44662 | DO6: 134.0189 | DP6: 134.39555 | DQ6: 132.082 | DR6: 135.94208 | DS6: 142.68256 | DT6: 139.72129 | DU6: 137.79587 | DV6: 136.7102 | DW6: 137.82899 | DX6: 133.02989 | DY6: 133.01896 | DZ6: 131.44814 | EA6: 132.21224 | EB6: 128.08654 | EC6: 127.29309 | ED6: 126.75728 | EE6: 127.6059 | EF6: 130.11484 | EG6: 139.99176 | EH6: 145.50446 | EI6: 142.41833 | EJ6: 148.21323 | EK6: 147.66855 | EL6: 133.69419 | EM6: 129.50432 | EN6: 133.428 | EO6: 145.19506 | EP6: 151.92732 | EQ6: 152.07045 | ER6: 152.07691 | ES6: 148.34169 | ET6: 140.43284 | EU6: 133.59968 | EV6: 128.17078 | EW6: 128.62671 | EX6: 134.83522 | EY6: 127.52883 | EZ6: 127.37391 | FA6: 127.35556 | FB6: 130.50315 | FC6: 131.8771 | FD6: 140.46492 | FE6: 135.2371 | FF6: 138.22994 | FG6: 137.2882 | FH6: 132.89342 | FI6: 129.29233 | FJ6: 130.29729 | FK6: 131.07531 | FL6: 127.6503 | FM6: 126.51665 | FN6: 125.05686 | FO6: 127.19938 | FP6: 131.55443 | FQ6: 131.23917 | FR6: 135.76862 | FS6: 143.03417 | FT6: 134.7084 | FU6: 129.94543 | FV6: 130.52172 | FW6: 130.91318 | FX6: 130.18946 | FY6: 131.78363 | FZ6: 136.8239 | GA6: 140.62654 | GB6: 145.95648 | GC6: 137.51021 | GD6: 131.50604 | GE6: 133.92103 | GF6: 136.02461 | GG6: 140.31757 | GH6: 143.96207 | GI6: 147.10124 | GJ6: 145.55979 | GK6: 152.63071 | GL6: 151.06547 | GM6: 156.86044 | GN6: 167.47275 | GO6: 156.14527 | GP6: 152.86796 | GQ6: 151.28681 | GR6: 137.46671 | GS6: 129.83645 | GT6: 131.90582 | GU6: 134.97251 | GV6: 138.49412 | GW6: 142.33043 | GX6: 148.01311 | GY6: 148.03199 | GZ6: 178.73033 | HA6: 170.39903 | HB6: 161.50406 | HC6: 161.53097 | HD6: 156.54355 | HE6: 155.3145 | HF6: 149.18947 | HG6: 151.80089 | HH6: 150.84014 | HI6: 148.98849 | HJ6: 149.80067 | HK6: 154.74398 | HL6: 157.35398 | HM6: 154.27975 | HN6: 159.09158 | HO6: 152.67635 | HP6: 157.37825 | HQ6: 159.0052 | HR6: 162.76545 | HS6: 164.22705 | HT6: 159.0966 | HU6: 159.08812 | HV6: 168.41037 | HW6: 175.13895 | HX6: 179.95076 | HY6: 190.62615 | HZ6: 176.40912 | IA6: 184.94237 | IB6: 176.39443 | IC6: 174.71009 | ID6: 178.4024 | IE6: 180.72781 | IF6: 175.07468 | IG6: 170.11056 | IH6: 169.24913 | II6: 170.52589 | IJ6: 168.19478 | IK6: 159.96714 | IL6: 150.21149 | IM6: 144.80169 | IN6: 146.38498 | IO6: 146.35315 | IP6: 147.3018 | IQ6: 147.10457 | IR6: 146.46006 | IS6: 146.84455 | IT6: 149.25598 | IU6: 153.02331 | IV6: 161.99741 | IW6: 172.03034 | IX6: 168.73886 | IY6: 172.03429 | IZ6: 174.42725
A7: 1.1 กลุ่มธัญพืชและพืชอาหาร | B7: 97.696026 | C7: 99.398518 | D7: 100.71658 | E7: 100.67016 | F7: 99.566445 | G7: 98.978062 | H7: 99.511054 | I7: 100.82685 | J7: 100.73211 | K7: 99.953543 | L7: 99.742236 | M7: 102.20843 | N7: 102.59355 | O7: 103.60329 | P7: 104.42876 | Q7: 104.78537 | R7: 103.94899 | S7: 105.00082 | T7: 107.75941 | U7: 109.39994 | V7: 110.90123 | W7: 110.02217 | X7: 108.20352 | Y7: 109.52072 | Z7: 113.48016 | AA7: 116.63447 | AB7: 116.04069 | AC7: 114.96968 | AD7: 116.32803 | AE7: 120.39271 | AF7: 121.41633 | AG7: 123.15478 | AH7: 123.95841 | AI7: 123.29753 | AJ7: 120.88753 | AK7: 119.76675 | AL7: 123.81941 | AM7: 131.74404 | AN7: 149.17258 | AO7: 180.32299 | AP7: 178.93605 | AQ7: 171.41277 | AR7: 166.80103 | AS7: 157.14712 | AT7: 152.25391 | AU7: 143.61683 | AV7: 135.03213 | AW7: 131.73684 | AX7: 137.40718 | AY7: 141.30326 | AZ7: 143.06508 | BA7: 141.10867 | BB7: 140.08519 | BC7: 140.99641 | BD7: 143.33627 | BE7: 135.05914 | BF7: 139.13688 | BG7: 136.1787 | BH7: 142.65852 | BI7: 158.56282 | BJ7: 158.69492 | BK7: 159.11757 | BL7: 155.11159 | BM7: 154.87523 | BN7: 155.82064 | BO7: 158.10701 | BP7: 167.42859 | BQ7: 174.59315 | BR7: 173.18963 | BS7: 170.904 | BT7: 164.18711 | BU7: 165.80936 | BV7: 165.36244 | BW7: 169.71308 | BX7: 166.82232 | BY7: 165.71699 | BZ7: 162.86561 | CA7: 164.44467 | CB7: 167.30161 | CC7: 170.15796 | CD7: 171.18538 | CE7: 173.40199 | CF7: 180.03624 | CG7: 179.85079 | CH7: 174.8023 | CI7: 171.92897 | CJ7: 171.30117 | CK7: 173.37198 | CL7: 174.82979 | CM7: 177.12871 | CN7: 176.66493 | CO7: 177.16163 | CP7: 181.89627 | CQ7: 177.11522 | CR7: 177.49459 | CS7: 173.1198 | CT7: 176.40041 | CU7: 179.21243 | CV7: 178.09974 | CW7: 177.4178 | CX7: 178.81112 | CY7: 178.53557 | CZ7: 175.52898 | DA7: 173.65923 | DB7: 167.41551 | DC7: 163.58352 | DD7: 156.70442 | DE7: 154.6923 | DF7: 151.97691 | DG7: 155.21558 | DH7: 153.82027 | DI7: 151.1925 | DJ7: 151.92765 | DK7: 152.59696 | DL7: 155.04728 | DM7: 158.90698 | DN7: 157.48695 | DO7: 154.89959 | DP7: 150.80877 | DQ7: 147.25127 | DR7: 148.38708 | DS7: 151.97829 | DT7: 152.65277 | DU7: 151.91967 | DV7: 149.79342 | DW7: 148.00588 | DX7: 150.54077 | DY7: 153.15243 | DZ7: 150.4719 | EA7: 148.47978 | EB7: 140.71951 | EC7: 140.04178 | ED7: 139.29098 | EE7: 139.41076 | EF7: 138.71549 | EG7: 137.98335 | EH7: 140.91575 | EI7: 141.22263 | EJ7: 141.95389 | EK7: 139.59097 | EL7: 133.05954 | EM7: 123.59318 | EN7: 122.40409 | EO7: 130.98041 | EP7: 131.94472 | EQ7: 132.88475 | ER7: 133.95547 | ES7: 130.11752 | ET7: 129.87124 | EU7: 133.32048 | EV7: 133.4166 | EW7: 134.24934 | EX7: 135.44865 | EY7: 133.34693 | EZ7: 138.44279 | FA7: 140.13248 | FB7: 142.47726 | FC7: 147.0357 | FD7: 151.17191 | FE7: 153.85075 | FF7: 154.69325 | FG7: 157.3508 | FH7: 152.25979 | FI7: 148.8413 | FJ7: 149.33619 | FK7: 150.59592 | FL7: 148.88712 | FM7: 149.52989 | FN7: 143.35 | FO7: 144.01293 | FP7: 144.60934 | FQ7: 146.30229 | FR7: 148.11672 | FS7: 147.69077 | FT7: 146.65585 | FU7: 150.67715 | FV7: 153.04946 | FW7: 154.36243 | FX7: 150.10135 | FY7: 144.81183 | FZ7: 147.74931 | GA7: 150.98031 | GB7: 154.07714 | GC7: 158.81816 | GD7: 159.76908 | GE7: 157.90862 | GF7: 157.23565 | GG7: 157.98392 | GH7: 155.56356 | GI7: 143.89019 | GJ7: 136.26231 | GK7: 144.95013 | GL7: 147.13519 | GM7: 149.32264 | GN7: 150.61367 | GO7: 149.18278 | GP7: 143.56998 | GQ7: 141.1462 | GR7: 139.18089 | GS7: 131.69808 | GT7: 131.32811 | GU7: 130.33287 | GV7: 130.94368 | GW7: 136.84649 | GX7: 143.70516 | GY7: 145.52337 | GZ7: 147.74044 | HA7: 150.82298 | HB7: 157.06564 | HC7: 163.09594 | HD7: 163.74164 | HE7: 162.50163 | HF7: 162.33512 | HG7: 163.6816 | HH7: 163.87175 | HI7: 164.70012 | HJ7: 169.09113 | HK7: 173.3741 | HL7: 175.29827 | HM7: 176.67431 | HN7: 176.84522 | HO7: 175.44637 | HP7: 177.14341 | HQ7: 186.51591 | HR7: 196.61136 | HS7: 193.21476 | HT7: 177.46753 | HU7: 181.22614 | HV7: 188.70484 | HW7: 193.38467 | HX7: 191.52836 | HY7: 184.20131 | HZ7: 185.80607 | IA7: 185.91943 | IB7: 184.80082 | IC7: 184.23963 | ID7: 184.87917 | IE7: 179.85799 | IF7: 177.91418 | IG7: 164.49923 | IH7: 164.12612 | II7: 163.51961 | IJ7: 160.97877 | IK7: 155.62266 | IL7: 154.46391 | IM7: 152.62128 | IN7: 151.99404 | IO7: 149.90518 | IP7: 148.96566 | IQ7: 146.89834 | IR7: 144.43267 | IS7: 147.41897 | IT7: 151.26447 | IU7: 151.84179 | IV7: 152.00066 | IW7: 153.82988 | IX7: 155.61633 | IY7: 160.46024 | IZ7: 165.07027
A8: ข้าวเปลือก | B8: 97.732988 | C8: 99.382526 | D8: 99.992138 | E8: 100.48254 | F8: 99.124867 | G8: 99.736672 | H8: 100.07931 | I8: 101.23626 | J8: 102.34114 | K8: 102.00026 | L8: 97.977544 | M8: 99.913754 | N8: 100.58112 | O8: 101.56315 | P8: 103.06376 | Q8: 104.9061 | R8: 104.68788 | S8: 105.70614 | T8: 110.15944 | U8: 112.99267 | V8: 115.41156 | W8: 114.38206 | X8: 110.88191 | Y8: 109.89808 | Z8: 113.79909 | AA8: 116.79128 | AB8: 115.6358 | AC8: 114.44979 | AD8: 117.56821 | AE8: 122.54571 | AF8: 122.84196 | AG8: 123.20901 | AH8: 122.32297 | AI8: 120.93465 | AJ8: 118.66418 | AK8: 116.856 | AL8: 118.80415 | AM8: 128.03317 | AN8: 150.93645 | AO8: 196.19148 | AP8: 192.26247 | AQ8: 183.46887 | AR8: 174.60737 | AS8: 165.29106 | AT8: 162.98674 | AU8: 154.03539 | AV8: 143.21238 | AW8: 141.11614 | AX8: 146.76962 | AY8: 151.91318 | AZ8: 153.86528 | BA8: 149.34911 | BB8: 149.50823 | BC8: 149.86174 | BD8: 152.5682 | BE8: 142.41561 | BF8: 148.96919 | BG8: 144.43395 | BH8: 146.4281 | BI8: 163.557 | BJ8: 161.36503 | BK8: 162.87788 | BL8: 151.6532 | BM8: 144.72449 | BN8: 144.97813 | BO8: 146.92874 | BP8: 155.62504 | BQ8: 162.10476 | BR8: 166.10071 | BS8: 164.8638 | BT8: 160.9464 | BU8: 156.92954 | BV8: 156.06611 | BW8: 159.51952 | BX8: 156.04393 | BY8: 154.56077 | BZ8: 154.17407 | CA8: 160.23171 | CB8: 165.97085 | CC8: 171.62064 | CD8: 173.24704 | CE8: 177.23865 | CF8: 177.41841 | CG8: 177.79326 | CH8: 172.09376 | CI8: 170.70314 | CJ8: 171.26832 | CK8: 172.45523 | CL8: 173.62363 | CM8: 175.96758 | CN8: 175.603 | CO8: 173.41844 | CP8: 180.36077 | CQ8: 175.05754 | CR8: 172.1337 | CS8: 173.36227 | CT8: 178.73886 | CU8: 181.20016 | CV8: 176.45869 | CW8: 172.13681 | CX8: 174.20904 | CY8: 174.89173 | CZ8: 171.15187 | DA8: 169.61404 | DB8: 162.38041 | DC8: 159.15349 | DD8: 154.40666 | DE8: 152.71963 | DF8: 147.27978 | DG8: 149.25737 | DH8: 146.31183 | DI8: 140.3595 | DJ8: 140.63097 | DK8: 143.52949 | DL8: 148.8898 | DM8: 153.75535 | DN8: 151.90977 | DO8: 147.59403 | DP8: 140.03986 | DQ8: 135.05314 | DR8: 137.12834 | DS8: 142.5933 | DT8: 143.72793 | DU8: 141.43261 | DV8: 141.49446 | DW8: 140.6286 | DX8: 144.94253 | DY8: 147.30045 | DZ8: 144.05121 | EA8: 144.21788 | EB8: 139.24761 | EC8: 135.92486 | ED8: 133.44967 | EE8: 134.99042 | EF8: 134.10572 | EG8: 134.1933 | EH8: 140.09744 | EI8: 144.36537 | EJ8: 146.55072 | EK8: 145.89403 | EL8: 138.99188 | EM8: 127.22448 | EN8: 114.6232 | EO8: 122.21297 | EP8: 123.60418 | EQ8: 122.73456 | ER8: 122.91941 | ES8: 122.013 | ET8: 122.85217 | EU8: 127.76522 | EV8: 129.50912 | EW8: 128.43137 | EX8: 129.45327 | EY8: 124.96051 | EZ8: 128.44472 | FA8: 136.2229 | FB8: 138.04085 | FC8: 142.22148 | FD8: 144.40258 | FE8: 145.35608 | FF8: 147.91942 | FG8: 150.37905 | FH8: 146.90887 | FI8: 142.71033 | FJ8: 142.22591 | FK8: 141.65682 | FL8: 148.15844 | FM8: 150.30711 | FN8: 145.84052 | FO8: 147.50126 | FP8: 148.46283 | FQ8: 150.95952 | FR8: 152.8683 | FS8: 153.83008 | FT8: 152.37749 | FU8: 158.68318 | FV8: 163.6029 | FW8: 164.72092 | FX8: 155.0233 | FY8: 149.69808 | FZ8: 152.20406 | GA8: 157.35786 | GB8: 161.72196 | GC8: 171.55218 | GD8: 173.47983 | GE8: 170.71479 | GF8: 168.90411 | GG8: 170.21684 | GH8: 165.71487 | GI8: 147.6066 | GJ8: 133.17859 | GK8: 138.03579 | GL8: 143.04195 | GM8: 144.3785 | GN8: 145.18642 | GO8: 144.22961 | GP8: 138.86379 | GQ8: 134.52346 | GR8: 130.37358 | GS8: 119.97385 | GT8: 116.72187 | GU8: 115.48051 | GV8: 114.34465 | GW8: 119.37202 | GX8: 127.60378 | GY8: 129.40438 | GZ8: 131.70316 | HA8: 133.73118 | HB8: 140.08091 | HC8: 147.64237 | HD8: 146.959 | HE8: 146.41895 | HF8: 147.53503 | HG8: 150.13392 | HH8: 148.55463 | HI8: 146.73847 | HJ8: 153.84534 | HK8: 154.61704 | HL8: 154.95479 | HM8: 156.379 | HN8: 157.49267 | HO8: 159.60444 | HP8: 164.57135 | HQ8: 179.39425 | HR8: 192.25523 | HS8: 189.79063 | HT8: 164.63442 | HU8: 162.46256 | HV8: 170.71508 | HW8: 175.67368 | HX8: 171.40814 | HY8: 165.61621 | HZ8: 171.08304 | IA8: 176.25954 | IB8: 175.16706 | IC8: 174.81763 | ID8: 174.69572 | IE8: 167.95188 | IF8: 164.41496 | IG8: 160.44105 | IH8: 161.3303 | II8: 158.4549 | IJ8: 154.79448 | IK8: 149.07765 | IL8: 148.80881 | IM8: 147.27274 | IN8: 144.87915 | IO8: 141.07122 | IP8: 138.97709 | IQ8: 134.88372 | IR8: 129.77763 | IS8: 140.23237 | IT8: 146.94213 | IU8: 147.56367 | IV8: 146.74211 | IW8: 147.62722 | IX8: 149.27743 | IY8: 154.44481 | IZ8: 158.6863
A9: ข้าวเปลือกเจ้าความชื้น 15% | B9: 96.528404 | C9: 98.707544 | D9: 98.707544 | E9: 98.527202 | F9: 97.249775 | G9: 99.398858 | H9: 100.96183 | I9: 101.50286 | J9: 102.79531 | K9: 103.69702 | L9: 100.57109 | M9: 101.35257 | N9: 100.6312 | O9: 99.6844 | P9: 99.924857 | Q9: 103.39645 | R9: 101.92365 | S9: 99.504058 | T9: 101.29246 | U9: 99.669372 | V9: 101.578 | W9: 100.01503 | X9: 95.882176 | Y9: 96.182747 | Z9: 97.685603 | AA9: 99.744515 | AB9: 97.144575 | AC9: 95.266005 | AD9: 96.633604 | AE9: 98.346859 | AF9: 97.159603 | AG9: 96.25789 | AH9: 95.716862 | AI9: 95.371205 | AJ9: 99.023144 | AK9: 102.75023 | AL9: 104.52359 | AM9: 111.79742 | AN9: 142.72618 | AO9: 194.40938 | AP9: 185.8431 | AQ9: 187.24076 | AR9: 182.82236 | AS9: 172.45266 | AT9: 178.19357 | AU9: 160.6853 | AV9: 147.92606 | AW9: 144.54463 | AX9: 150.36069 | AY9: 150.72137 | AZ9: 155.30508 | BA9: 148.13646 | BB9: 149.14337 | BC9: 150.8416 | BD9: 152.66005 | BE9: 135.33213 | BF9: 140.03607 | BG9: 127.14157 | BH9: 134.4755 | BI9: 147.65555 | BJ9: 140.1563 | BK9: 141.26841 | BL9: 130.62819 | BM9: 118.59032 | BN9: 117.34295 | BO9: 119.56718 | BP9: 123.06883 | BQ9: 123.53472 | BR9: 127.62248 | BS9: 122.99369 | BT9: 123.66997 | BU9: 126.46528 | BV9: 128.38894 | BW9: 133.79922 | BX9: 125.9994 | BY9: 120.61918 | BZ9: 119.95792 | CA9: 129.11031 | CB9: 135.15179 | CC9: 143.11692 | CD9: 149.51909 | CE9: 153.55299 | CF9: 154.86925 | CG9: 155.12474 | CH9: 144.89029 | CI9: 144.95041 | CJ9: 149.09829 | CK9: 150.28554 | CL9: 153.92245 | CM9: 157.30388 | CN9: 155.18485 | CO9: 148.99309 | CP9: 159.06222 | CQ9: 152.13405 | CR9: 152.69011 | CS9: 153.60685 | CT9: 158.19056 | CU9: 158.6865 | CV9: 152.66005 | CW9: 146.57349 | CX9: 147.2648 | CY9: 148.7376 | CZ9: 143.94349 | DA9: 140.20138 | DB9: 127.44214 | DC9: 124.43643 | DD9: 122.12203 | DE9: 122.24226 | DF9: 118.93598 | DG9: 117.62849 | DH9: 112.44364 | DI9: 104.92937 | DJ9: 105.71085 | DK9: 110.2645 | DL9: 118.27472 | DM9: 125.32311 | DN9: 121.055 | DO9: 119.92786 | DP9: 118.39495 | DQ9: 118.15449 | DR9: 118.65044 | DS9: 118.31981 | DT9: 116.06552 | DU9: 114.32221 | DV9: 115.32913 | DW9: 114.5777 | DX9: 120.66426 | DY9: 122.04689 | DZ9: 114.42741 | EA9: 115.35918 | EB9: 115.68981 | EC9: 113.36038 | ED9: 115.16381 | EE9: 118.72558 | EF9: 116.81695 | EG9: 116.12564 | EH9: 121.34055 | EI9: 127.02134 | EJ9: 130.29757 | EK9: 131.27442 | EL9: 120.21341 | EM9: 112.51379 | EN9: 106.05692 | EO9: 109.29054 | EP9: 112.97304 | EQ9: 110.57476 | ER9: 112.37744 | ES9: 113.48234 | ET9: 115.17616 | EU9: 123.16437 | EV9: 121.49621 | EW9: 116.86598 | EX9: 114.69747 | EY9: 110.57361 | EZ9: 120.65133 | FA9: 123.58032 | FB9: 117.28284 | FC9: 114.35854 | FD9: 114.75007 | FE9: 117.78764 | FF9: 120.49812 | FG9: 119.90802 | FH9: 113.32379 | FI9: 112.60285 | FJ9: 113.51277 | FK9: 114.83795 | FL9: 120.29504 | FM9: 120.86544 | FN9: 116.38905 | FO9: 114.52044 | FP9: 114.36062 | FQ9: 117.77637 | FR9: 117.7287 | FS9: 116.95664 | FT9: 115.62748 | FU9: 118.68037 | FV9: 117.63044 | FW9: 119.04133 | FX9: 118.43934 | FY9: 115.79816 | FZ9: 116.55551 | GA9: 122.72092 | GB9: 130.07187 | GC9: 142.06503 | GD9: 140.04397 | GE9: 136.03396 | GF9: 133.90556 | GG9: 139.7249 | GH9: 141.55293 | GI9: 132.30938 | GJ9: 124.44665 | GK9: 126.36192 | GL9: 135.27202 | GM9: 137.48121 | GN9: 139.95142 | GO9: 136.28228 | GP9: 131.37667 | GQ9: 127.34607 | GR9: 124.08573 | GS9: 112.82996 | GT9: 111.84257 | GU9: 114.0133 | GV9: 115.65599 | GW9: 117.04914 | GX9: 119.24019 | GY9: 117.98388 | GZ9: 123.10933 | HA9: 127.60424 | HB9: 131.36615 | HC9: 136.6714 | HD9: 136.29384 | HE9: 136.12621 | HF9: 138.56935 | HG9: 137.96219 | HH9: 138.53607 | HI9: 137.19958 | HJ9: 145.17177 | HK9: 146.52036 | HL9: 146.67459 | HM9: 148.76655 | HN9: 148.99831 | HO9: 149.66279 | HP9: 157.53998 | HQ9: 177.99241 | HR9: 198.06132 | HS9: 194.7388 | HT9: 161.36782 | HU9: 154.57578 | HV9: 170.17846 | HW9: 176.91554 | HX9: 169.71006 | HY9: 157.10851 | HZ9: 162.32781 | IA9: 167.20645 | IB9: 164.62588 | IC9: 161.73027 | ID9: 159.32762 | IE9: 144.52431 | IF9: 144.17572 | IG9: 139.56293 | IH9: 137.96772 | II9: 129.95968 | IJ9: 122.87779 | IK9: 109.82937 | IL9: 108.28084 | IM9: 105.40409 | IN9: 104.28979 | IO9: 100.86617 | IP9: 99.461795 | IQ9: 96.45123 | IR9: 95.414335 | IS9: 106.65708 | IT9: 110.66234 | IU9: 110.06973 | IV9: 107.75046 | IW9: 108.48281 | IX9: 109.54944 | IY9: 116.88169 | IZ9: 124.91621
A10: ข้าวเปลือกเจ้าหอมมะลิ | B10: 98.956729 | C10: 100.67455 | D10: 101.71565 | E10: 102.97799 | F10: 101.104 | G10: 99.295087 | H10: 97.421104 | I10: 99.138922 | J10: 101.71565 | K10: 102.15812 | L10: 96.210823 | M10: 98.631385 | N10: 99.26906 | O10: 102.45743 | P10: 103.58963 | Q10: 104.47457 | R10: 105.00813 | S10: 106.19239 | T10: 108.70405 | U10: 112.07461 | V10: 112.46503 | W10: 113.02462 | X10: 107.51979 | Y10: 102.57456 | Z10: 105.04717 | AA10: 107.67596 | AB10: 109.15953 | AC10: 110.95543 | AD10: 112.47804 | AE10: 114.2349 | AF10: 115.35408 | AG10: 117.33218 | AH10: 117.55341 | AI10: 117.48834 | AJ10: 116.17395 | AK10: 126.11647 | AL10: 132.0898 | AM10: 154.94198 | AN10: 169.11398 | AO10: 213.28272 | AP10: 225.03416 | AQ10: 202.62444 | AR10: 186.18805 | AS10: 177.2606 | AT10: 171.74276 | AU10: 174.69689 | AV10: 165.6393 | AW10: 157.3235 | AX10: 158.61186 | AY10: 165.99067 | AZ10: 171.54755 | BA10: 171.45646 | BB10: 170.90988 | BC10: 170.19412 | BD10: 176.34964 | BE10: 174.02017 | BF10: 193.34562 | BG10: 197.84839 | BH10: 175.71196 | BI10: 184.20996 | BJ10: 183.57228 | BK10: 186.57846 | BL10: 181.5161 | BM10: 177.07841 | BN10: 171.4955 | BO10: 166.61533 | BP10: 170.80577 | BQ10: 176.05032 | BR10: 180.82637 | BS10: 183.10378 | BT10: 171.57358 | BU10: 167.0578 | BV10: 162.81531 | BW10: 160.12146 | BX10: 153.83581 | BY10: 157.63583 | BZ10: 158.79406 | CA10: 159.90023 | CB10: 162.29476 | CC10: 168.42425 | CD10: 172.75784 | CE10: 185.64394 | CF10: 198.05661 | CG10: 195.25865 | CH10: 197.82236 | CI10: 195.51892 | CJ10: 192.21343 | CK10: 191.97918 | CL10: 190.36547 | CM10: 190.2093 | CN10: 193.02028 | CO10: 200.00868 | CP10: 202.208 | CQ10: 205.78679 | CR10: 199.13675 | CS10: 200.22991 | CT10: 204.34226 | CU10: 209.13133 | CV10: 206.42447 | CW10: 203.57445 | CX10: 205.73474 | CY10: 206.52858 | CZ10: 202.70253 | DA10: 203.99089 | DB10: 205.30528 | DC10: 204.42034 | DD10: 194.99837 | DE10: 186.26613 | DF10: 185.47229 | DG10: 185.09489 | DH10: 184.61338 | DI10: 180.91747 | DJ10: 180.1887 | DK10: 179.74623 | DL10: 180.70925 | DM10: 182.08871 | DN10: 183.41612 | DO10: 184.52229 | DP10: 173.9551 | DQ10: 151.59744 | DR10: 163.51806 | DS10: 170.51947 | DT10: 176.60991 | DU10: 175.29552 | DV10: 173.61674 | DW10: 170.92289 | DX10: 170.4544 | DY10: 170.12905 | DZ10: 172.84893 | EA10: 170.46741 | EB10: 156.39952 | EC10: 149.89264 | ED10: 142.08437 | EE10: 140.52272 | EF10: 139.57271 | EG10: 137.78983 | EH10: 141.86314 | EI10: 143.95836 | EJ10: 144.84329 | EK10: 143.26863 | EL10: 139.22134 | EM10: 123.84676 | EN10: 107.93281 | EO10: 119.48973 | EP10: 120.24846 | EQ10: 121.13138 | ER10: 120.50233 | ES10: 118.31628 | ET10: 118.90398 | EU10: 122.8262 | EV10: 131.37211 | EW10: 136.3412 | EX10: 147.59678 | EY10: 150.05853 | EZ10: 143.66964 | FA10: 160.10629 | FB10: 173.84969 | FC10: 188.37387 | FD10: 196.58902 | FE10: 198.27233 | FF10: 202.21636 | FG10: 206.74965 | FH10: 208.10031 | FI10: 199.75631 | FJ10: 197.00249 | FK10: 193.44973 | FL10: 198.84983 | FM10: 198.38255 | FN10: 197.09359 | FO10: 202.88553 | FP10: 204.58687 | FQ10: 203.61561 | FR10: 204.65391 | FS10: 205.23978 | FT10: 201.81885 | FU10: 208.67543 | FV10: 215.54032 | FW10: 212.00327 | FX10: 186.38539 | FY10: 176.06558 | FZ10: 179.02545 | GA10: 181.07379 | GB10: 181.53487 | GC10: 188.32803 | GD10: 193.5326 | GE10: 193.49121 | GF10: 190.39188 | GG10: 187.51037 | GH10: 172.27102 | GI10: 152.46265 | GJ10: 135.37977 | GK10: 145.56162 | GL10: 153.72246 | GM10: 154.37314 | GN10: 153.86152 | GO10: 154.02836 | GP10: 148.78162 | GQ10: 140.50726 | GR10: 134.30496 | GS10: 128.87229 | GT10: 127.69907 | GU10: 126.56385 | GV10: 121.96326 | GW10: 129.51056 | GX10: 143.73676 | GY10: 149.0253 | GZ10: 151.7102 | HA10: 153.18399 | HB10: 166.9957 | HC10: 181.33469 | HD10: 178.77315 | HE10: 177.41692 | HF10: 177.36702 | HG10: 184.02266 | HH10: 175.27622 | HI10: 167.85164 | HJ10: 173.15722 | HK10: 173.69483 | HL10: 174.72808 | HM10: 173.91319 | HN10: 176.10026 | HO10: 180.04278 | HP10: 182.12871 | HQ10: 191.10644 | HR10: 195.64906 | HS10: 191.38403 | HT10: 172.98626 | HU10: 176.72941 | HV10: 182.76747 | HW10: 184.95756 | HX10: 185.12996 | HY10: 182.12846 | HZ10: 187.71489 | IA10: 194.45475 | IB10: 195.31905 | IC10: 197.95627 | ID10: 201.83817 | IE10: 204.12825 | IF10: 194.99804 | IG10: 191.1406 | IH10: 195.24827 | II10: 198.10056 | IJ10: 198.54061 | IK10: 200.40633 | IL10: 201.72668 | IM10: 202.7026 | IN10: 199.38076 | IO10: 194.06974 | IP10: 192.73457 | IQ10: 189.9784 | IR10: 180.32723 | IS10: 193.27333 | IT10: 202.74898 | IU10: 205.48027 | IV10: 207.12468 | IW10: 207.5898 | IX10: 209.177 | IY10: 213.15029 | IZ10: 213.91389
A11: ข้าวเปลือกเหนียวเมล็ดยาว | B11: 99.342353 | C11: 99.526662 | D11: 101.18544 | E11: 102.45884 | F11: 101.5373 | G11: 101.16868 | H11: 101.10166 | I11: 103.16257 | J11: 101.93943 | K11: 97.38198 | L11: 93.427722 | M11: 97.767352 | N11: 102.09023 | O11: 105.34076 | P11: 110.58518 | Q11: 109.3788 | R11: 111.48997 | S11: 121.25833 | T11: 135.08147 | U11: 148.85435 | V11: 155.1376 | W11: 153.51234 | X11: 154.16579 | Y11: 154.78574 | Z11: 168.57538 | AA11: 174.62405 | AB11: 174.3057 | AC11: 171.39027 | AD11: 181.42672 | AE11: 199.62301 | AF11: 203.10811 | AG11: 205.06849 | AH11: 201.83471 | AI11: 195.85306 | AJ11: 175.57911 | AK11: 143.39212 | AL11: 141.24743 | AM11: 138.83467 | AN11: 150.27856 | AO11: 178.8464 | AP11: 168.20676 | AQ11: 148.2009 | AR11: 136.52243 | AS11: 129.68626 | AT11: 109.09396 | AU11: 109.04369 | AV11: 101.43677 | AW11: 110.68571 | AX11: 120.11896 | AY11: 137.39371 | AZ11: 126.60328 | BA11: 124.86072 | BB11: 123.25221 | BC11: 120.73891 | BD11: 121.89503 | BE11: 124.42508 | BF11: 120.75567 | BG11: 131.06019 | BH11: 146.54212 | BI11: 186.73816 | BJ11: 198.13178 | BK11: 199.00306 | BL11: 178.32698 | BM11: 183.94002 | BN11: 196.07088 | BO11: 205.70519 | BP11: 235.8983 | BQ11: 262.3047 | BR11: 265.03581 | BS11: 269.79433 | BT11: 261.33289 | BU11: 237.10468 | BV11: 232.9326 | BW11: 239.03154 | BX11: 250.57596 | BY11: 252.92171 | BZ11: 251.3132 | CA11: 255.60256 | CB11: 265.10284 | CC11: 264.24831 | CD11: 249.63767 | CE11: 242.60723 | CF11: 224.35387 | CG11: 229.06212 | CH11: 223.91823 | CI11: 219.02568 | CJ11: 212.89323 | CK11: 215.84216 | CL11: 212.52461 | CM11: 214.61903 | CN11: 215.92594 | CO11: 215.17195 | CP11: 217.8528 | CQ11: 206.72727 | CR11: 197.32752 | CS11: 199.70678 | CT11: 208.23524 | CU11: 214.76982 | CV11: 212.52461 | CW11: 213.1278 | CX11: 219.98073 | CY11: 217.58472 | CZ11: 218.08738 | DA11: 221.17036 | DB11: 223.93499 | DC11: 217.19935 | DD11: 209.79349 | DE11: 210.48046 | DF11: 191.31236 | DG11: 207.58179 | DH11: 209.55892 | DI11: 206.57647 | DJ11: 206.29163 | DK11: 207.39748 | DL11: 208.67088 | DM11: 209.9778 | DN11: 212.75918 | DO11: 190.8097 | DP11: 166.34692 | DQ11: 166.56474 | DR11: 162.5267 | DS11: 185.73284 | DT11: 192.25066 | DU11: 186.92246 | DV11: 185.91714 | DW11: 186.97273 | DX11: 191.02752 | DY11: 199.99162 | DZ11: 204.38152 | EA11: 205.102 | EB11: 193.50731 | EC11: 190.87672 | ED11: 192.70305 | EE11: 194.44561 | EF11: 196.33896 | EG11: 201.90173 | EH11: 214.01583 | EI11: 219.00892 | EJ11: 220.88552 | EK11: 217.23286 | EL11: 215.4903 | EM11: 196.76937 | EN11: 170.81816 | EO11: 184.76312 | EP11: 183.20288 | EQ11: 182.48984 | ER11: 180.54371 | ES11: 177.16793 | ET11: 176.7575 | EU11: 177.78729 | EV11: 175.83097 | EW11: 171.96435 | EX11: 162.73568 | EY11: 144.40105 | EZ11: 151.11154 | FA11: 156.66234 | FB11: 157.46856 | FC11: 164.07259 | FD11: 160.32384 | FE11: 153.5617 | FF11: 153.42701 | FG11: 161.70824 | FH11: 157.75068 | FI11: 150.16083 | FJ11: 149.73459 | FK11: 149.06534 | FL11: 162.17755 | FM11: 174.76351 | FN11: 163.60419 | FO11: 170.69187 | FP11: 174.41595 | FQ11: 179.85735 | FR11: 190.47459 | FS11: 198.42851 | FT11: 200.03635 | FU11: 217.29203 | FV11: 240.49591 | FW11: 248.93905 | FX11: 234.62546 | FY11: 228.42217 | FZ11: 238.89512 | GA11: 246.84375 | GB11: 248.51484 | GC11: 257.3467 | GD11: 267.0625 | GE11: 263.24873 | GF11: 264.86531 | GG11: 258.44606 | GH11: 251.80978 | GI11: 204.28621 | GJ11: 170.65303 | GK11: 176.09186 | GL11: 178.58442 | GM11: 179.26528 | GN11: 178.42617 | GO11: 181.98969 | GP11: 173.99519 | GQ11: 174.51589 | GR11: 170.65957 | GS11: 151.42442 | GT11: 138.30344 | GU11: 128.20768 | GV11: 125.8526 | GW11: 136.74209 | GX11: 151.61458 | GY11: 155.81623 | GZ11: 150.31801 | HA11: 147.15692 | HB11: 148.54625 | HC11: 151.77648 | HD11: 153.49558 | HE11: 153.29321 | HF11: 153.1918 | HG11: 157.7586 | HH11: 162.92447 | HI11: 169.50919 | HJ11: 178.63381 | HK11: 178.23646 | HL11: 177.94768 | HM11: 181.69776 | HN11: 183.79927 | HO11: 187.46831 | HP11: 189.84851 | HQ11: 201.28957 | HR11: 210.0072 | HS11: 212.88702 | HT11: 195.10966 | HU11: 195.85188 | HV11: 187.09651 | HW11: 192.4717 | HX11: 188.59284 | HY11: 197.81414 | HZ11: 204.99325 | IA11: 209.42189 | IB11: 209.26278 | IC11: 211.47103 | ID11: 211.32921 | IE11: 212.2339 | IF11: 207.93536 | IG11: 204.90294 | IH11: 207.62581 | II11: 209.79818 | IJ11: 208.62105 | IK11: 210.84594 | IL11: 211.6421 | IM11: 209.43013 | IN11: 204.21346 | IO11: 201.09525 | IP11: 195.04273 | IQ11: 184.30046 | IR11: 173.61513 | IS11: 179.38453 | IT11: 190.72257 | IU11: 191.70891 | IV11: 191.34667 | IW11: 193.6624 | IX11: 197.67666 | IY11: 198.42319 | IZ11: 196.7366
A12: อ้อยโรงงาน | B12: 95.121951 | C12: 94.573171 | D12: 96.768293 | E12: 95.121951 | F12: 95.121951 | G12: 95.121951 | H12: 95.121951 | I12: 95.121951 | J12: 95.121951 | K12: 95.121951 | L12: 122.56098 | M12: 125.12195 | N12: 123.47561 | O12: 128.78049 | P12: 130.79268 | Q12: 119.26829 | R12: 119.26829 | S12: 119.26829 | T12: 119.26829 | U12: 119.26829 | V12: 119.26829 | W12: 119.26829 | X12: 119.26829 | Y12: 124.39024 | Z12: 126.58537 | AA12: 126.95122 | AB12: 121.28049 | AC12: 121.28049 | AD12: 113.41463 | AE12: 113.41463 | AF12: 113.41463 | AG12: 113.41463 | AH12: 113.41463 | AI12: 113.41463 | AJ12: 113.41463 | AK12: 99.329268 | AL12: 106.28049 | AM12: 109.20732 | AN12: 107.19512 | AO12: 103.71951 | AP12: 123.47561 | AQ12: 123.47561 | AR12: 123.47561 | AS12: 123.47561 | AT12: 123.47561 | AU12: 123.47561 | AV12: 123.47561 | AW12: 125.30488 | AX12: 126.40244 | AY12: 129.32927 | AZ12: 132.43902 | BA12: 137.37805 | BB12: 137.37805 | BC12: 137.37805 | BD12: 137.37805 | BE12: 137.37805 | BF12: 137.37805 | BG12: 137.37805 | BH12: 152.19512 | BI12: 154.57317 | BJ12: 153.47561 | BK12: 155.67073 | BL12: 171.58537 | BM12: 184.57317 | BN12: 184.57317 | BO12: 184.57317 | BP12: 184.57317 | BQ12: 184.57317 | BR12: 184.57317 | BS12: 184.57317 | BT12: 141.71159 | BU12: 164.45122 | BV12: 166.64634 | BW12: 173.41463 | BX12: 171.76829 | BY12: 173.59756 | BZ12: 166.46341 | CA12: 166.46341 | CB12: 166.46341 | CC12: 166.46341 | CD12: 166.46341 | CE12: 166.46341 | CF12: 187.31707 | CG12: 169.7561 | CH12: 173.78049 | CI12: 175.2439 | CJ12: 175.2439 | CK12: 175.79268 | CL12: 178.17073 | CM12: 178.17073 | CN12: 178.17073 | CO12: 178.17073 | CP12: 178.17073 | CQ12: 178.17073 | CR12: 182.7439 | CS12: 162.43902 | CT12: 164.81707 | CU12: 167.0122 | CV12: 171.95122 | CW12: 183.65854 | CX12: 188.04878 | CY12: 188.04878 | CZ12: 188.04878 | DA12: 188.04878 | DB12: 188.04878 | DC12: 188.04878 | DD12: 154.57317 | DE12: 150 | DF12: 158.41463 | DG12: 158.23171 | DH12: 160.06098 | DI12: 169.7561 | DJ12: 175.2439 | DK12: 175.2439 | DL12: 175.2439 | DM12: 175.2439 | DN12: 175.2439 | DO12: 175.2439 | DP12: 163.35366 | DQ12: 153.84146 | DR12: 151.64634 | DS12: 156.21951 | DT12: 158.78049 | DU12: 165.36585 | DV12: 152.56098 | DW12: 142.13415 | DX12: 142.13415 | DY12: 142.13415 | DZ12: 142.13415 | EA12: 142.13415 | EB12: 121.46341 | EC12: 131.70732 | ED12: 137.0122 | EE12: 138.84146 | EF12: 139.93902 | EG12: 128.41463 | EH12: 130.2439 | EI12: 130.2439 | EJ12: 130.2439 | EK12: 130.2439 | EL12: 130.2439 | EM12: 130.2439 | EN12: 156.9695 | EO12: 164.84131 | EP12: 172.09683 | EQ12: 178.37149 | ER12: 184.9221 | ES12: 182.83856 | ET12: 182.83856 | EU12: 182.83856 | EV12: 182.83856 | EW12: 182.83856 | EX12: 182.83856 | EY12: 182.83856 | EZ12: 182.83856 | FA12: 136.81783 | FB12: 137.93186 | FC12: 141.43445 | FD12: 144.08634 | FE12: 146.55243 | FF12: 139.60061 | FG12: 148.56548 | FH12: 148.56548 | FI12: 148.56548 | FJ12: 148.56548 | FK12: 148.56548 | FL12: 112.74603 | FM12: 110.6189 | FN12: 105.25015 | FO12: 109.25488 | FP12: 110.6828 | FQ12: 114.45609 | FR12: 130.26805 | FS12: 130.26805 | FT12: 130.26805 | FU12: 130.26805 | FV12: 130.26805 | FW12: 130.26805 | FX12: 130.26805 | FY12: 115.14268 | FZ12: 123.74268 | GA12: 127.14741 | GB12: 130.516 | GC12: 130.516 | GD12: 130.516 | GE12: 130.516 | GF12: 130.516 | GG12: 130.516 | GH12: 130.516 | GI12: 130.516 | GJ12: 130.516 | GK12: 147.85701 | GL12: 160.12637 | GM12: 166.99344 | GN12: 170.06926 | GO12: 170.06926 | GP12: 170.06926 | GQ12: 170.06926 | GR12: 170.06926 | GS12: 170.06926 | GT12: 170.06926 | GU12: 170.06926 | GV12: 170.06926 | GW12: 180.92103 | GX12: 189.15548 | GY12: 194.24496 | GZ12: 196.2599 | HA12: 196.2599 | HB12: 196.2599 | HC12: 196.2599 | HD12: 196.2599 | HE12: 196.2599 | HF12: 196.2599 | HG12: 196.2599 | HH12: 196.2599 | HI12: 206.60762 | HJ12: 195.87713 | HK12: 207.9878 | HL12: 212.50975 | HM12: 212.50975 | HN12: 212.50975 | HO12: 212.50975 | HP12: 212.50975 | HQ12: 212.50975 | HR12: 212.50975 | HS12: 212.50975 | HT12: 212.50975 | HU12: 242.65792 | HV12: 257.09405 | HW12: 263.85685 | HX12: 273.36996 | HY12: 273.36996 | HZ12: 273.36996 | IA12: 273.36996 | IB12: 273.36996 | IC12: 273.36996 | ID12: 273.36996 | IE12: 273.36996 | IF12: 273.36996 | IG12: 202.68475 | IH12: 199.77027 | II12: 207.61509 | IJ12: 213.55792 | IK12: 213.55792 | IL12: 213.55792 | IM12: 213.55792 | IN12: 213.55792 | IO12: 213.55792 | IP12: 213.55792 | IQ12: 213.55792 | IR12: 213.55792 | IS12: 171.37774 | IT12: 161.28247 | IU12: 159.74542 | IV12: 161.21561 | IW12: 161.21561 | IX12: 161.21561 | IY12: 161.21561 | IZ12: 161.21561
A13: มันสำปะหลังสดคละ | B13: 96.118299 | C13: 102.77264 | D13: 109.42699 | E13: 108.68762 | F13: 104.25139 | G13: 96.118299 | H13: 96.118299 | I13: 103.51201 | J13: 96.118299 | K13: 89.463956 | L13: 93.900185 | M13: 103.51201 | N13: 102.03327 | O13: 100.55453 | P13: 96.118299 | Q13: 87.245841 | R13: 73.197782 | S13: 73.197782 | T13: 70.979667 | U13: 69.500924 | V13: 69.500924 | W13: 64.325323 | X13: 73.937153 | Y13: 83.548983 | Z13: 82.809612 | AA13: 85.767098 | AB13: 90.942699 | AC13: 89.463956 | AD13: 92.421442 | AE13: 99.815157 | AF13: 112.38447 | AG13: 127.1719 | AH13: 132.3475 | AI13: 127.1719 | AJ13: 120.51756 | AK13: 134.56562 | AL13: 147.13494 | AM13: 154.52865 | AN13: 162.66174 | AO13: 164.14048 | AP13: 157.48614 | AQ13: 147.87431 | AR13: 142.69871 | AS13: 130.12939 | AT13: 113.12384 | AU13: 103.51201 | AV13: 94.639556 | AW13: 84.288355 | AX13: 85.767098 | AY13: 85.767098 | AZ13: 87.985213 | BA13: 83.548983 | BB13: 82.07024 | BC13: 83.548983 | BD13: 89.463956 | BE13: 92.421442 | BF13: 88.724584 | BG13: 91.68207 | BH13: 107.20887 | BI13: 132.3475 | BJ13: 142.69871 | BK13: 131.60813 | BL13: 139.00185 | BM13: 155.26802 | BN13: 159.70425 | BO13: 168.57671 | BP13: 192.97597 | BQ13: 218.1146 | BR13: 188.53974 | BS13: 177.44917 | BT13: 190.01848 | BU13: 201.84843 | BV13: 208.50277 | BW13: 218.85397 | BX13: 216.63586 | BY13: 204.80591 | BZ13: 188.53974 | CA13: 162.66174 | CB13: 149.35305 | CC13: 147.87431 | CD13: 141.95933 | CE13: 127.91128 | CF13: 164.14048 | CG13: 181.14603 | CH13: 166.3586 | CI13: 139.00185 | CJ13: 129.39002 | CK13: 133.08688 | CL13: 139.74122 | CM13: 145.65619 | CN13: 140.48059 | CO13: 153.04991 | CP13: 163.40111 | CQ13: 155.26802 | CR13: 166.3586 | CS13: 156.74677 | CT13: 148.61368 | CU13: 150.83179 | CV13: 161.92237 | CW13: 166.3586 | CX13: 164.14048 | CY13: 162.66174 | CZ13: 158.22551 | DA13: 159.70425 | DB13: 157.48614 | DC13: 144.91682 | DD13: 154.52865 | DE13: 160.44362 | DF13: 157.48614 | DG13: 167.09797 | DH13: 163.40111 | DI13: 163.40111 | DJ13: 158.96488 | DK13: 146.39556 | DL13: 135.30499 | DM13: 138.26248 | DN13: 148.61368 | DO13: 150.83179 | DP13: 165.61922 | DQ13: 170.79482 | DR13: 168.57671 | DS13: 158.96488 | DT13: 161.18299 | DU13: 159.70425 | DV13: 156.74677 | DW13: 161.18299 | DX13: 161.18299 | DY13: 168.57671 | DZ13: 170.79482 | EA13: 154.52865 | EB13: 147.13494 | EC13: 144.17745 | ED13: 138.26248 | EE13: 130.12939 | EF13: 133.08688 | EG13: 141.95933 | EH13: 131.60813 | EI13: 110.16636 | EJ13: 104.25139 | EK13: 92.421442 | EL13: 83.548983 | EM13: 78.225507 | EN13: 94.454711 | EO13: 111.46026 | EP13: 109.72273 | EQ13: 113.12384 | ER13: 111.09057 | ES13: 94.269868 | ET13: 87.245839 | EU13: 85.212567 | EV13: 86.358593 | EW13: 89.094268 | EX13: 96.487983 | EY13: 104.25138 | EZ13: 123.2902 | FA13: 144.17745 | FB13: 148.79852 | FC13: 156.74676 | FD13: 174.49168 | FE13: 185.58225 | FF13: 188.35489 | FG13: 182.77264 | FH13: 176.15526 | FI13: 175.67467 | FJ13: 183.91866 | FK13: 190.20332 | FL13: 178.48428 | FM13: 170.3019 | FN13: 163.03142 | FO13: 160.62846 | FP13: 159.26063 | FQ13: 156.00739 | FR13: 135.00924 | FS13: 121.81146 | FT13: 122.18114 | FU13: 127.02403 | FV13: 119.96303 | FW13: 126.06284 | FX13: 138.41035 | FY13: 147.38139 | FZ13: 143.73382 | GA13: 141.95933 | GB13: 140.1109 | GC13: 127.91127 | GD13: 123.1793 | GE13: 120.14787 | GF13: 121.25693 | GG13: 127.91127 | GH13: 130.12939 | GI13: 128.65064 | GJ13: 136.96857 | GK13: 151.94085 | GL13: 149.90757 | GM13: 153.41959 | GN13: 157.63401 | GO13: 153.78927 | GP13: 141.95933 | GQ13: 141.58965 | GR13: 145.65619 | GS13: 149.20517 | GT13: 156.9316 | GU13: 153.60443 | GV13: 161.62661 | GW13: 168.76155 | GX13: 169.68576 | GY13: 168.94639 | GZ13: 170.79482 | HA13: 177.20271 | HB13: 185.43438 | HC13: 190.38817 | HD13: 200.73937 | HE13: 200.36968 | HF13: 197.96672 | HG13: 192.2366 | HH13: 191.12754 | HI13: 192.60628 | HJ13: 199.63031 | HK13: 211.46025 | HL13: 225.50832 | HM13: 232.65557 | HN13: 228.61367 | HO13: 206.28465 | HP13: 202.73567 | HQ13: 205.36044 | HR13: 218.29944 | HS13: 208.35489 | HT13: 217.56007 | HU13: 221.9963 | HV13: 222.92051 | HW13: 227.72643 | HX13: 223.84473 | HY13: 196.30314 | HZ13: 178.00369 | IA13: 147.31977 | IB13: 140.33271 | IC13: 136.04436 | ID13: 150.38817 | IE13: 148.42883 | IF13: 152.31053 | IG13: 145.65619 | IH13: 133.6414 | II13: 136.2292 | IJ13: 127.02403 | IK13: 113.3703 | IL13: 105.1756 | IM13: 100.25878 | IN13: 111.6451 | IO13: 124.5841 | IP13: 132.05175 | IQ13: 134.75046 | IR13: 144.36229 | IS13: 157.48613 | IT13: 167.46765 | IU13: 171.5342 | IV13: 177.15342 | IW13: 184.34996 | IX13: 188.90942 | IY13: 198.29944 | IZ13: 214.60258
A14: ข้าวโพดเลี้ยงสัตว์ ความชื้น 14.5% | B14: 102.80438 | C14: 101.77839 | D14: 101.98358 | E14: 99.110807 | F14: 103.00958 | G14: 98.70041 | H14: 103.62517 | I14: 100.342 | J14: 97.058824 | K14: 97.264022 | L14: 97.058824 | M14: 97.264022 | N14: 98.905609 | O14: 98.084815 | P14: 96.443228 | Q14: 106.29275 | R14: 113.47469 | S14: 117.37346 | T14: 113.47469 | U14: 109.57592 | V14: 105.67715 | W14: 110.60192 | X14: 109.37073 | Y14: 119.63064 | Z14: 133.99453 | AA14: 144.04925 | AB14: 145.69083 | AC14: 144.45964 | AD14: 139.74008 | AE14: 136.04651 | AF14: 126.40219 | AG14: 122.91382 | AH14: 136.66211 | AI14: 149.3844 | AJ14: 148.35841 | AK14: 148.97401 | AL14: 153.48837 | AM14: 157.79754 | AN14: 171.95622 | AO14: 176.06019 | AP14: 170.51984 | AQ14: 167.44186 | AR14: 202.12038 | AS14: 176.06019 | AT14: 157.38714 | AU14: 137.2777 | AV14: 137.2777 | AW14: 125.78659 | AX14: 133.58413 | AY14: 132.35294 | AZ14: 128.45417 | BA14: 142.40766 | BB14: 127.22298 | BC14: 133.58413 | BD14: 131.73735 | BE14: 106.49795 | BF14: 104.44596 | BG14: 106.29275 | BH14: 124.7606 | BI14: 140.15048 | BJ14: 142.20246 | BK14: 147.12722 | BL14: 156.15595 | BM14: 167.44186 | BN14: 170.72503 | BO14: 173.80301 | BP14: 179.34337 | BQ14: 171.13543 | BR14: 166.00547 | BS14: 161.9015 | BT14: 162.9275 | BU14: 164.15869 | BV14: 168.46785 | BW14: 171.95622 | BX14: 171.54583 | BY14: 182.01094 | BZ14: 176.88098 | CA14: 166.82627 | CB14: 164.56908 | CC14: 148.15321 | CD14: 152.46238 | CE14: 159.23393 | CF14: 172.16142 | CG14: 175.2394 | CH14: 176.67579 | CI14: 177.90698 | CJ14: 174.00821 | CK14: 188.37209 | CL14: 183.85773 | CM14: 186.52531 | CN14: 189.60328 | CO14: 204.17237 | CP14: 189.80848 | CQ14: 183.44733 | CR14: 194.11765 | CS14: 179.54856 | CT14: 173.18741 | CU14: 181.39535 | CV14: 184.47332 | CW14: 183.85773 | CX14: 176.88098 | CY14: 167.85226 | CZ14: 170.51984 | DA14: 155.74555 | DB14: 141.99726 | DC14: 138.71409 | DD14: 141.99726 | DE14: 127.83858 | DF14: 125.3762 | DG14: 137.0725 | DH14: 148.56361 | DI14: 147.33242 | DJ14: 151.02599 | DK14: 154.71956 | DL14: 158.00274 | DM14: 161.49111 | DN14: 138.50889 | DO14: 139.12449 | DP14: 156.15595 | DQ14: 165.59508 | DR14: 176.26539 | DS14: 179.54856 | DT14: 167.85226 | DU14: 166.41587 | DV14: 170.93023 | DW14: 170.93023 | DX14: 164.15869 | DY14: 167.23666 | DZ14: 155.74555 | EA14: 152.05198 | EB14: 150.4104 | EC14: 153.69357 | ED14: 167.44186 | EE14: 163.13269 | EF14: 155.12996 | EG14: 157.18194 | EH14: 156.15595 | EI14: 160.87551 | EJ14: 166.21067 | EK14: 158.00274 | EL14: 142.40766 | EM14: 123.89877 | EN14: 124.47332 | EO14: 126.65868 | EP14: 128.41313 | EQ14: 129.22366 | ER14: 132.30164 | ES14: 122.50342 | ET14: 123.16005 | EU14: 131.32694 | EV14: 113.67989 | EW14: 127.37688 | EX14: 123.06771 | EY14: 120.24624 | EZ14: 126.70999 | FA14: 141.99726 | FB14: 165.49247 | FC14: 169.08344 | FD14: 170.27359 | FE14: 174.0082 | FF14: 174.0595 | FG14: 177.16826 | FH14: 147.22982 | FI14: 138.91929 | FJ14: 134.71272 | FK14: 148.25581 | FL14: 170.93023 | FM14: 180.09575 | FN14: 184.11422 | FO14: 168.16005 | FP14: 165.18468 | FQ14: 160.39671 | FR14: 153.77565 | FS14: 160.46511 | FT14: 157.84883 | FU14: 150.49247 | FV14: 152.35978 | FW14: 151.64158 | FX14: 157.18194 | FY14: 161.2859 | FZ14: 160.30095 | GA14: 153.18057 | GB14: 152.20588 | GC14: 153.79617 | GD14: 158.33105 | GE14: 162.4658 | GF14: 166.70314 | GG14: 153.64227 | GH14: 156.05335 | GI14: 152.62654 | GJ14: 157.59234 | GK14: 162.2093 | GL14: 167.18536 | GM14: 167.23666 | GN14: 165.43091 | GO14: 162.65389 | GP14: 157.83857 | GQ14: 165.69767 | GR14: 170.05814 | GS14: 158.41313 | GT14: 168.98084 | GU14: 172.46922 | GV14: 179.67168 | GW14: 184.16552 | GX14: 181.60054 | GY14: 183.39603 | GZ14: 186.6792 | HA14: 198.9056 | HB14: 211.27223 | HC14: 215.91997 | HD14: 212.73939 | HE14: 200.31463 | HF14: 191.39876 | HG14: 195.67715 | HH14: 214.74008 | HI14: 223.46101 | HJ14: 229.46306 | HK14: 238.0301 | HL14: 227.41108 | HM14: 219.63064 | HN14: 219.27496 | HO14: 221.51162 | HP14: 204.91108 | HQ14: 196.22093 | HR14: 197.14432 | HS14: 189.19288 | HT14: 179.34336 | HU14: 184.31942 | HV14: 183.29343 | HW14: 180.88235 | HX14: 181.75444 | HY14: 176.67578 | HZ14: 176.88098 | IA14: 178.52257 | IB14: 184.71956 | IC14: 186.6792 | ID14: 172.20246 | IE14: 168.05745 | IF14: 168.98084 | IG14: 171.59712 | IH14: 176.72708 | II14: 176.88098 | IJ14: 179.22024 | IK14: 179.61696 | IL14: 178.57387 | IM14: 174.70588 | IN14: 171.18673 | IO14: 157.64363 | IP14: 152.87277 | IQ14: 159.59302 | IR14: 159.54172 | IS14: 162.2606 | IT14: 162.0554 | IU14: 161.33721 | IV14: 160.38303 | IW14: 166.41586 | IX14: 169.75034 | IY14: 175.89603 | IZ14: 176.52188
A15: ถั่วเขียวผิวมันใหญ่ | B15: 87.568325 | C15: 91.324457 | D15: 106.06868 | E15: 109.93693 | F15: 109.93693 | G15: 109.93693 | H15: 89.698669 | I15: 101.24737 | J15: 97.939734 | K15: 107.58234 | L15: 100.911 | M15: 87.848633 | N15: 96.650315 | O15: 97.15487 | P15: 107.30203 | Q15: 116.88858 | R15: 120.86896 | S15: 120.86896 | T15: 108.3672 | U15: 100.1822 | V15: 100.1822 | W15: 93.398739 | X15: 99.397337 | Y15: 92.950245 | Z15: 102.98528 | AA15: 92.277505 | AB15: 121.26139 | AC15: 126.97968 | AD15: 126.97968 | AE15: 115.59916 | AF15: 122.60687 | AG15: 123.78416 | AH15: 91.10021 | AI15: 97.995795 | AJ15: 106.9096 | AK15: 109.09601 | AL15: 109.09601 | AM15: 107.97477 | AN15: 111.89909 | AO15: 111.50666 | AP15: 112.12334 | AQ15: 98.668535 | AR15: 106.79748 | AS15: 95.13665 | AT15: 95.13665 | AU15: 89.586545 | AV15: 88.913805 | AW15: 73.833217 | AX15: 72.431675 | AY15: 67.274001 | AZ15: 67.274001 | BA15: 97.379117 | BB15: 95.304835 | BC15: 122.83111 | BD15: 109.5445 | BE15: 149.79678 | BF15: 149.79678 | BG15: 94.744219 | BH15: 179.39734 | BI15: 179.17309 | BJ15: 152.20743 | BK15: 170.25929 | BL15: 203.95235 | BM15: 228.39523 | BN15: 228.39523 | BO15: 125.1857 | BP15: 133.14646 | BQ15: 229.9089 | BR15: 155.34688 | BS15: 213.03434 | BT15: 190.32936 | BU15: 175.41696 | BV15: 183.37772 | BW15: 150.07708 | BX15: 175.69727 | BY15: 174.01542 | BZ15: 173.95936 | CA15: 168.185 | CB15: 133.65102 | CC15: 133.14646 | CD15: 133.14646 | CE15: 114.2163 | CF15: 141.33146 | CG15: 131.80098 | CH15: 122.94324 | CI15: 131.01612 | CJ15: 141.55571 | CK15: 103.93833 | CL15: 103.93833 | CM15: 103.93833 | CN15: 107.6384 | CO15: 110.32936 | CP15: 112.12334 | CQ15: 115.20673 | CR15: 123.44779 | CS15: 98.948844 | CT15: 105.50806 | CU15: 105.50806 | CV15: 118.51437 | CW15: 166.61528 | CX15: 166.61528 | CY15: 166.61528 | CZ15: 133.14646 | DA15: 133.14646 | DB15: 105.67624 | DC15: 104.05046 | DD15: 143.51787 | DE15: 182.53679 | DF15: 187.52628 | DG15: 187.52628 | DH15: 192.29152 | DI15: 182.31254 | DJ15: 182.31254 | DK15: 182.31254 | DL15: 170.03504 | DM15: 164.8213 | DN15: 186.12474 | DO15: 192.68395 | DP15: 176.03364 | DQ15: 191.17029 | DR15: 190.60967 | DS15: 190.60967 | DT15: 184.38683 | DU15: 177.71549 | DV15: 177.71549 | DW15: 189.48844 | DX15: 206.75543 | DY15: 206.75543 | DZ15: 206.75543 | EA15: 187.02172 | EB15: 173.00631 | EC15: 168.185 | ED15: 181.58374 | EE15: 212.52978 | EF15: 147.49825 | EG15: 157.19692 | EH15: 213.03434 | EI15: 213.03434 | EJ15: 134.37982 | EK15: 157.75753 | EL15: 161.23336 | EM15: 142.58724 | EN15: 146.75543 | EO15: 133.51086 | EP15: 123.55991 | EQ15: 126.20883 | ER15: 120.30834 | ES15: 125.66223 | ET15: 155.60476 | EU15: 139.4534 | EV15: 145.55851 | EW15: 210.83391 | EX15: 162.97126 | EY15: 159.83181 | EZ15: 105.5501 | FA15: 99.831813 | FB15: 91.072177 | FC15: 104.40084 | FD15: 119.80378 | FE15: 138.6405 | FF15: 138.6405 | FG15: 141.01378 | FH15: 117.50525 | FI15: 95.473018 | FJ15: 123.33566 | FK15: 122.10231 | FL15: 124.01962 | FM15: 119.16841 | FN15: 119.66363 | FO15: 128.56342 | FP15: 135.73651 | FQ15: 132.15603 | FR15: 104.63349 | FS15: 108.39523 | FT15: 104.87736 | FU15: 121.83321 | FV15: 122.60686 | FW15: 121.42957 | FX15: 120.37561 | FY15: 140.15416 | FZ15: 135.43097 | GA15: 145.70427 | GB15: 141.92011 | GC15: 135.86545 | GD15: 142.69937 | GE15: 121.23335 | GF15: 136.28591 | GG15: 138.17799 | GH15: 119.2712 | GI15: 113.30063 | GJ15: 118.93483 | GK15: 147.25998 | GL15: 141.77995 | GM15: 162.11632 | GN15: 164.10371 | GO15: 144.76991 | GP15: 124.27003 | GQ15: 122.1864 | GR15: 127.00771 | GS15: 136.65592 | GT15: 153.3707 | GU15: 156.15977 | GV15: 113.07638 | GW15: 126.4611 | GX15: 133.11843 | GY15: 131.04415 | GZ15: 122.57883 | HA15: 124.23265 | HB15: 136.51016 | HC15: 141.51366 | HD15: 110.03504 | HE15: 118.86195 | HF15: 131.78696 | HG15: 165.94253 | HH15: 184.42887 | HI15: 178.31815 | HJ15: 189.51646 | HK15: 180.63069 | HL15: 155.85143 | HM15: 161.73791 | HN15: 159.77575 | HO15: 152.93623 | HP15: 148.58584 | HQ15: 136.9166 | HR15: 140.15417 | HS15: 138.75263 | HT15: 145.50806 | HU15: 131.3665 | HV15: 140.78486 | HW15: 140.15416 | HX15: 147.69446 | HY15: 143.62999 | HZ15: 140.15416 | IA15: 140.15416 | IB15: 140.15417 | IC15: 154.16958 | ID15: 173.79117 | IE15: 168.185 | IF15: 134.548 | IG15: 130.51156 | IH15: 123.33567 | II15: 123.33567 | IJ15: 124.73721 | IK15: 137.23896 | IL15: 126.13875 | IM15: 123.33567 | IN15: 127.54029 | IO15: 126.13875 | IP15: 123.33567 | IQ15: 128.94183 | IR15: 125.3679 | IS15: 119.42536 | IT15: 120.89698 | IU15: 123.33567 | IV15: 130.60126 | IW15: 178.7059 | IX15: 159.07498 | IY15: 121.51366 | IZ15: 130.74982
A16: 1.2 กลุ่มไม้ยืนต้น | B16: 75.284578 | C16: 80.7178 | D16: 83.619522 | E16: 85.855418 | F16: 89.319481 | G16: 100.06008 | H16: 114.24898 | I16: 111.34713 | J16: 117.49 | K16: 118.35679 | L16: 107.74809 | M16: 115.95213 | N16: 125.19076 | O16: 133.85358 | P16: 137.89997 | Q16: 140.68518 | R16: 155.20971 | S16: 178.21666 | T16: 158.04068 | U16: 133.9125 | V16: 107.01399 | W16: 109.86298 | X16: 92.609095 | Y16: 95.567394 | Z16: 121.12806 | AA16: 138.67151 | AB16: 131.03254 | AC16: 137.29378 | AD16: 140.45652 | AE16: 136.53297 | AF16: 119.82935 | AG16: 123.00379 | AH16: 126.40498 | AI16: 134.64342 | AJ16: 145.74031 | AK16: 135.93273 | AL16: 149.46031 | AM16: 156.42235 | AN16: 153.22622 | AO16: 155.5524 | AP16: 164.30867 | AQ16: 184.90386 | AR16: 191.76893 | AS16: 173.55665 | AT16: 172.97037 | AU16: 105.42751 | AV16: 98.82164 | AW16: 67.456679 | AX16: 81.977709 | AY16: 87.207478 | AZ16: 86.298096 | BA16: 93.609717 | BB16: 99.821632 | BC16: 98.586848 | BD16: 97.883971 | BE16: 116.6374 | BF16: 123.55219 | BG16: 130.49276 | BH16: 140.601 | BI16: 155.81553 | BJ16: 171.3571 | BK16: 178.12387 | BL16: 192.05352 | BM16: 206.00685 | BN16: 194.66828 | BO16: 202.06671 | BP16: 191.52748 | BQ16: 186.10011 | BR16: 190.95917 | BS16: 196.11047 | BT16: 216.24419 | BU16: 241.77635 | BV16: 284.69448 | BW16: 327.09663 | BX16: 260.08701 | BY16: 294.42487 | BZ16: 267.30802 | CA16: 259.03319 | CB16: 238.3566 | CC16: 239.23097 | CD16: 236.95847 | CE16: 207.11106 | CF16: 165.56996 | CG16: 167.86183 | CH16: 181.70545 | CI16: 206.55128 | CJ16: 203.33891 | CK16: 202.52695 | CL16: 193.49708 | CM16: 169.96507 | CN16: 166.16581 | CO16: 147.81147 | CP16: 149.43016 | CQ16: 159.05 | CR16: 146.45292 | CS16: 151.51279 | CT16: 161.83542 | CU16: 158.58659 | CV16: 148.1889 | CW16: 138.33292 | CX16: 152.46336 | CY16: 146.80226 | CZ16: 135.33561 | DA16: 133.4858 | DB16: 144.18417 | DC16: 139.41662 | DD16: 136.02214 | DE16: 137.06008 | DF16: 125.85794 | DG16: 115.15641 | DH16: 121.70881 | DI16: 120.58104 | DJ16: 114.27341 | DK16: 118.32253 | DL16: 113.29948 | DM16: 103.52077 | DN16: 91.360144 | DO16: 87.431519 | DP16: 92.106853 | DQ16: 83.64522 | DR16: 88.016441 | DS16: 91.025515 | DT16: 89.243174 | DU16: 89.802916 | DV16: 97.619568 | DW16: 105.78337 | DX16: 93.54144 | DY16: 88.989854 | DZ16: 80.647003 | EA16: 78.421704 | EB16: 72.577447 | EC16: 70.942773 | ED16: 67.038296 | EE16: 68.908783 | EF16: 77.276477 | EG16: 96.242395 | EH16: 104.91813 | EI16: 93.919829 | EJ16: 94.726009 | EK16: 98.641741 | EL16: 93.578897 | EM16: 96.492646 | EN16: 107.79244 | EO16: 126.41136 | EP16: 147.54832 | EQ16: 152.13498 | ER16: 134.75924 | ES16: 127.10377 | ET16: 124.95431 | EU16: 103.12616 | EV16: 95.395371 | EW16: 99.512469 | EX16: 100.84069 | EY16: 89.184861 | EZ16: 82.555112 | FA16: 81.110913 | FB16: 83.1308 | FC16: 81.574683 | FD16: 85.425669 | FE16: 83.814165 | FF16: 88.534966 | FG16: 84.324218 | FH16: 80.431095 | FI16: 79.957627 | FJ16: 78.385417 | FK16: 77.12188 | FL16: 71.73985 | FM16: 71.340631 | FN16: 78.196073 | FO16: 80.421985 | FP16: 85.062012 | FQ16: 90.902693 | FR16: 91.824194 | FS16: 97.994509 | FT16: 88.886591 | FU16: 74.891625 | FV16: 73.614049 | FW16: 68.922308 | FX16: 71.264184 | FY16: 75.103277 | FZ16: 75.154246 | GA16: 75.376233 | GB16: 71.430637 | GC16: 65.29822 | GD16: 68.41693 | GE16: 71.773914 | GF16: 74.001015 | GG16: 81.766083 | GH16: 93.291682 | GI16: 106.06744 | GJ16: 106.92002 | GK16: 109.1608 | GL16: 102.31789 | GM16: 101.49092 | GN16: 112.03309 | GO16: 104.80214 | GP16: 112.83211 | GQ16: 107.85597 | GR16: 94.059532 | GS16: 95.222416 | GT16: 93.697852 | GU16: 95.815471 | GV16: 101.38391 | GW16: 102.22472 | GX16: 101.97034 | GY16: 112.63467 | GZ16: 117.04494 | HA16: 118.8632 | HB16: 118.51302 | HC16: 118.4399 | HD16: 108.60298 | HE16: 99.025809 | HF16: 88.297231 | HG16: 91.001803 | HH16: 84.13395 | HI16: 83.628875 | HJ16: 84.132808 | HK16: 87.667063 | HL16: 86.883616 | HM16: 84.290762 | HN16: 85.681595 | HO16: 85.939489 | HP16: 83.57995 | HQ16: 81.537004 | HR16: 88.306726 | HS16: 94.823366 | HT16: 97.333022 | HU16: 96.091666 | HV16: 109.72447 | HW16: 129.70562 | HX16: 148.29674 | HY16: 144.74373 | HZ16: 139.72516 | IA16: 146.93724 | IB16: 123.32635 | IC16: 131.49104 | ID16: 141.73066 | IE16: 146.05019 | IF16: 129.04684 | IG16: 136.876 | IH16: 132.44468 | II16: 133.58545 | IJ16: 131.03452 | IK16: 122.68961 | IL16: 124.30482 | IM16: 116.69551 | IN16: 116.06553 | IO16: 110.52076 | IP16: 108.96273 | IQ16: 104.31262 | IR16: 106.21712 | IS16: 104.26923 | IT16: 106.26213 | IU16: 112.30847 | IV16: 129.15614 | IW16: 140.78122 | IX16: 147.45918 | IY16: 158.45304 | IZ16: 157.76933
... A40: ถั่วลิสงเปลือกแห้ง | B40: 101.983 | C40: 101.983 | D40: 101.983 | E40: 101.50708 | F40: 106.13031 | G40: 110.27762 | H40: 101.983 | I40: 90.764873 | J40: 90.152975 | K40: 93.892351 | L40: 99.671388 | M40: 99.671388 | N40: 99.671388 | O40: 99.671388 | P40: 108.78187 | Q40: 110.4136 | R40: 111.22946 | S40: 112.1813 | T40: 96.883853 | U40: 88.453258 | V40: 77.507082 | W40: 80.906516 | X40: 79.478754 | Y40: 83.354108 | Z40: 91.172805 | AA40: 90.832861 | AB40: 91.512748 | AC40: 98.311615 | AD40: 108.30595 | AE40: 100.62323 | AF40: 92.668555 | AG40: 104.15864 | AH40: 101.77904 | AI40: 96.815864 | AJ40: 99.807365 | AK40: 99.603399 | AL40: 101.71105 | AM40: 103.75071 | AN40: 108.23796 | AO40: 104.90652 | AP40: 130.40227 | AQ40: 125.84703 | AR40: 127.41076 | AS40: 128.15864 | AT40: 125.3711 | AU40: 132.16997 | AV40: 126.32295 | AW40: 130.67422 | AX40: 124.41926 | AY40: 131.35411 | AZ40: 141.89235 | BA40: 143.45609 | BB40: 138.15297 | BC40: 138.69688 | BD40: 130.60623 | BE40: 133.46176 | BF40: 141.6204 | BG40: 145.90368 | BH40: 148.01133 | BI40: 151.41076 | BJ40: 141.34844 | BK40: 139.58074 | BL40: 139.64873 | BM40: 149.91501 | BN40: 137.88102 | BO40: 137.67705 | BP40: 143.25212 | BQ40: 141.41643 | BR40: 138.83286 | BS40: 139.7847 | BT40: 142.7762 | BU40: 137.81303 | BV40: 137.94901 | BW40: 138.83286 | BX40: 141.07649 | BY40: 149.84703 | BZ40: 152.43059 | CA40: 163.1728 | CB40: 171.46742 | CC40: 166.43626 | CD40: 162.83286 | CE40: 165.89235 | CF40: 169.97167 | CG40: 169.97167 | CH40: 171.33144 | CI40: 175.07082 | CJ40: 179.76204 | CK40: 182.54958 | CL40: 170.65156 | CM40: 169.97167 | CN40: 167.25212 | CO40: 163.7847 | CP40: 165.28045 | CQ40: 165.21246 | CR40: 268.48725 | CS40: 264.74788 | CT40: 268.55524 | CU40: 277.05382 | CV40: 271.95467 | CW40: 238.98017 | CX40: 271.27479 | CY40: 259.1728 | CZ40: 271.68272 | DA40: 271.95467 | DB40: 271.68272 | DC40: 287.59207 | DD40: 288.95184 | DE40: 339.94334 | DF40: 353.54108 | DG40: 251.55807 | DH40: 258.35694 | DI40: 262.91218 | DJ40: 251.55807 | DK40: 244.75921 | DL40: 244.75921 | DM40: 244.75921 | DN40: 289.69972 | DO40: 322.87819 | DP40: 307.03683 | DQ40: 305.94901 | DR40: 305.94901 | DS40: 237.96034 | DT40: 251.55807 | DU40: 271.95467 | DV40: 285.55241 | DW40: 285.55241 | DX40: 285.55241 | DY40: 289.42776 | DZ40: 339.80737 | EA40: 402.6289 | EB40: 345.04249 | EC40: 280.45326 | ED40: 271.95467 | EE40: 271.95467 | EF40: 271.95467 | EG40: 299.15014 | EH40: 316.07932 | EI40: 292.35127 | EJ40: 292.35127 | EK40: 292.35127 | EL40: 292.35127 | EM40: 286.40226 | EN40: 337.39376 | EO40: 351.84135 | EP40: 352.1813 | EQ40: 344.19263 | ER40: 322.94617 | ES40: 303.75637 | ET40: 305.18753 | EU40: 242.20963 | EV40: 204.21076 | EW40: 224.73654 | EX40: 233.79603 | EY40: 242.51558 | EZ40: 243.05948 | FA40: 288.95183 | FB40: 302.54957 | FC40: 260.05665 | FD40: 286.69461 | FE40: 303.66005 | FF40: 340.43625 | FG40: 344.21302 | FH40: 288.95181 | FI40: 288.95181 | FJ40: 288.95181 | FK40: 335.79602 | FL40: 318.75807 | FM40: 255.86401 | FN40: 412.52124 | FO40: 356.24362 | FP40: 419.37676 | FQ40: 367.5014 | FR40: 379.7847 | FS40: 540.74786 | FT40: 400.58924 | FU40: 399.48781 | FV40: 294.15297 | FW40: 349.1388 | FX40: 330.86005 | FY40: 325.77903 | FZ40: 349.01302 | GA40: 335.69404 | GB40: 369.99433 | GC40: 437.54107 | GD40: 358.06911 | GE40: 339.24645 | GF40: 305.20113 | GG40: 271.03682 | GH40: 296.73654 | GI40: 325.12181 | GJ40: 342.84985 | GK40: 341.30311 | GL40: 372.79886 | GM40: 322.09631 | GN40: 367.7779 | GO40: 343.11614 | GP40: 319.7915 | GQ40: 291.17846 | GR40: 307.49574 | GS40: 290.06685 | GT40: 270.71387 | GU40: 291.33144 | GV40: 297.69518 | GW40: 321.62039 | GX40: 336.27195 | GY40: 308.26062 | GZ40: 278.71954 | HA40: 287.04815 | HB40: 276.27875 | HC40: 274.35127 | HD40: 275.30311 | HE40: 324.68668 | HF40: 362.29461 | HG40: 306.56091 | HH40: 243.63739 | HI40: 260.05665 | HJ40: 265.1558 | HK40: 244.82719 | HL40: 283.24079 | HM40: 276.44192 | HN40: 323.59886 | HO40: 283.58073 | HP40: 266.43399 | HQ40: 313.01982 | HR40: 284.9575 | HS40: 308.43739 | HT40: 331.05382 | HU40: 291.73937 | HV40: 305.949 | HW40: 305.18413 | HX40: 324.49291 | HY40: 316.1303 | HZ40: 353.11614 | IA40: 345.96033 | IB40: 271.95467 | IC40: 271.95467 | ID40: 271.95467 | IE40: 271.95467 | IF40: 271.95467 | IG40: 271.95467 | IH40: 271.95467 | II40: 271.95467 | IJ40: 390.05099 | IK40: 422.73086 | IL40: 434.29461 | IM40: 433.71331 | IN40: 430.91217 | IO40: 418.1473 | IP40: 410.29801 | IQ40: 415.18979 | IR40: 433.97166 | IS40: 398.00566 | IT40: 517.80169 | IU40: 512.37959 | IV40: 517.1218 | IW40: 482.69687 | IX40: 428.07364 | IY40: 415.96826 | IZ40: 412.87818
A41: 1.6 กลุ่มพืชเส้นใย | B41: 0 | C41: 0 | D41: 0 | E41: 0 | F41: 0 | G41: 0 | H41: 0 | I41: 0 | J41: 0 | K41: 0 | L41: 0 | M41: 0 | N41: 0 | O41: 0 | P41: 0 | Q41: 0 | R41: 0 | S41: 0 | T41: 0 | U41: 0 | V41: 0 | W41: 0 | X41: 0 | Y41: 0 | Z41: 0 | AA41: 0 | AB41: 0 | AC41: 0 | AD41: 0 | AE41: 0 | AF41: 0 | AG41: 0 | AH41: 0 | AI41: 0 | AJ41: 0 | AK41: 0 | AL41: 0 | AM41: 0 | AN41: 0 | AO41: 0 | AP41: 0 | AQ41: 0 | AR41: 0 | AS41: 0 | AT41: 0 | AU41: 0 | AV41: 0 | AW41: 0 | AX41: 0 | AY41: 0 | AZ41: 0 | BA41: 0 | BB41: 0 | BC41: 0 | BD41: 0 | BE41: 0 | BF41: 0 | BG41: 0 | BH41: 0 | BI41: 0 | BJ41: 0 | BK41: 0 | BL41: 0 | BM41: 0 | BN41: 0 | BO41: 0 | BP41: 0 | BQ41: 0 | BR41: 0 | BS41: 0 | BT41: 0 | BU41: 0 | BV41: 0 | BW41: 0 | BX41: 0 | BY41: 0 | BZ41: 0 | CA41: 0 | CB41: 0 | CC41: 0 | CD41: 0 | CE41: 0 | CF41: 0 | CG41: 0 | CH41: 0 | CI41: 0 | CJ41: 0 | CK41: 0 | CL41: 0 | CM41: 0 | CN41: 0 | CO41: 0 | CP41: 0 | CQ41: 0 | CR41: 0 | CS41: 0 | CT41: 0 | CU41: 0 | CV41: 0 | CW41: 0 | CX41: 0 | CY41: 0 | CZ41: 0 | DA41: 0 | DB41: 0 | DC41: 0 | DD41: 0 | DE41: 0 | DF41: 0 | DG41: 0 | DH41: 0 | DI41: 0 | DJ41: 0 | DK41: 0 | DL41: 0 | DM41: 0 | DN41: 0 | DO41: 0 | DP41: 0 | DQ41: 0 | DR41: 0 | DS41: 0 | DT41: 0 | DU41: 0 | DV41: 0 | DW41: 0 | DX41: 0 | DY41: 0 | DZ41: 0 | EA41: 0 | EB41: 0 | EC41: 0 | ED41: 0 | EE41: 0 | EF41: 0 | EG41: 0 | EH41: 0 | EI41: 0 | EJ41: 0 | EK41: 0 | EL41: 0 | EM41: 0 | EN41: 0 | EO41: 0 | EP41: 0 | EQ41: 0 | ER41: 0 | ES41: 0 | ET41: 0 | EU41: 0 | EV41: 0 | EW41: 0 | EX41: 0 | EY41: 0 | EZ41: 0 | FA41: 0 | FB41: 0 | FC41: 0 | FD41: 0 | FE41: 0 | FF41: 0 | FG41: 0 | FH41: 0 | FI41: 0 | FJ41: 0 | FK41: 0 | FL41: 0 | FM41: 0 | FN41: 0 | FO41: 0 | FP41: 0 | FQ41: 0 | FR41: 0 | FS41: 0 | FT41: 0 | FU41: 0 | FV41: 0 | FW41: 0 | FX41: 0 | FY41: 0 | FZ41: 0 | GA41: 0 | GB41: 0 | GC41: 0 | GD41: 0 | GE41: 0 | GF41: 0 | GG41: 0 | GH41: 0 | GI41: 0 | GJ41: 0 | GK41: 0 | GL41: 0 | GM41: 0 | GN41: 0 | GO41: 0 | GP41: 0 | GQ41: 0 | GR41: 0 | GS41: 0 | GT41: 0 | GU41: 0 | GV41: 0 | GW41: 0 | GX41: 0 | GY41: 0 | GZ41: 0 | HA41: 0 | HB41: 0 | HC41: 0 | HD41: 0 | HE41: 0 | HF41: 0 | HG41: 0 | HH41: 0 | HI41: 0 | HJ41: 0 | HK41: 0 | HL41: 0 | HM41: 0 | HN41: 0 | HO41: 0 | HP41: 0 | HQ41: 0 | HR41: 0 | HS41: 0 | HT41: 0 | HU41: 0 | HV41: 0 | HW41: 0 | HX41: 0 | HY41: 0 | HZ41: 0 | IA41: 0 | IB41: 0 | IC41: 0 | ID41: 0 | IE41: 0 | IF41: 0 | IG41: 0 | IH41: 0 | II41: 0 | IJ41: 0 | IK41: 0 | IL41: 0 | IM41: 0 | IN41: 0 | IO41: 0 | IP41: 0 | IQ41: 0 | IR41: 0 | IS41: 0
A42: ฝ้ายรวมเมล็ดชนิดคละ | B42: 100 | C42: 100 | D42: 100 | E42: 100 | F42: 100 | G42: 100 | H42: 100 | I42: 100 | J42: 100 | K42: 100 | L42: 100 | M42: 100 | N42: 100 | O42: 100 | P42: 100 | Q42: 100 | R42: 100 | S42: 100 | T42: 100 | U42: 100 | V42: 100 | W42: 100 | X42: 100 | Y42: 100 | Z42: 100 | AA42: 100 | AB42: 100 | AC42: 100 | AD42: 100 | AE42: 100 | AF42: 100 | AG42: 100 | AH42: 100 | AI42: 100 | AJ42: 100 | AK42: 100 | AL42: 100 | AM42: 100 | AN42: 100 | AO42: 100 | AP42: 100 | AQ42: 100 | AR42: 100 | AS42: 100 | AT42: 100 | AU42: 100 | AV42: 100 | AW42: 100 | AX42: 100 | AY42: 100 | AZ42: 100 | BA42: 100 | BB42: 100 | BC42: 100 | BD42: 100 | BE42: 100 | BF42: 100 | BG42: 100 | BH42: 100 | BI42: 100 | BJ42: 100 | BK42: 100 | BL42: 100 | BM42: 100 | BN42: 100 | BO42: 100 | BP42: 100 | BQ42: 100 | BR42: 100 | BS42: 100 | BT42: 100 | BU42: 100 | BV42: 100 | BW42: 100 | BX42: 100 | BY42: 100 | BZ42: 100 | CA42: 100 | CB42: 100 | CC42: 100 | CD42: 100 | CE42: 100 | CF42: 100 | CG42: 100 | CH42: 100 | CI42: 100 | CJ42: 100 | CK42: 100 | CL42: 100 | CM42: 100 | CN42: 100 | CO42: 100 | CP42: 100 | CQ42: 100 | CR42: 100 | CS42: 100 | CT42: 100 | CU42: 100 | CV42: 100 | CW42: 100 | CX42: 100 | CY42: 100 | CZ42: 100 | DA42: 100 | DB42: 100 | DC42: 100 | DD42: 100 | DE42: 100 | DF42: 100 | DG42: 100 | DH42: 100 | DI42: 100 | DJ42: 100 | DK42: 100 | DL42: 100 | DM42: 100 | DN42: 100 | DO42: 100 | DP42: 100 | DQ42: 100 | DR42: 100 | DS42: 100 | DT42: 100 | DU42: 100 | DV42: 100 | DW42: 100 | DX42: 100 | DY42: 100 | DZ42: 100 | EA42: 100 | EB42: 100 | EC42: 100 | ED42: 100 | EE42: 100 | EF42: 100 | EG42: 100 | EH42: 100 | EI42: 100 | EJ42: 100 | EK42: 100 | EL42: 100 | EM42: 100 | EN42: 100 | EO42: 100 | EP42: 100 | EQ42: 100 | ER42: 100 | ES42: 100 | ET42: 100 | EU42: 100 | EV42: 100 | EW42: 100 | EX42: 100 | EY42: 100 | EZ42: 100 | FA42: 100 | FB42: 100 | FC42: 100 | FD42: 100 | FE42: 100 | FF42: 100 | FG42: 100 | FH42: 100 | FI42: 100 | FJ42: 100 | FK42: 100 | FL42: 100 | FM42: 100 | FN42: 100 | FO42: 100 | FP42: 100 | FQ42: 100 | FR42: 100 | FS42: 100 | FT42: 100 | FU42: 100 | FV42: 100 | FW42: 100 | FX42: 100 | FY42: 100 | FZ42: 100 | GA42: 100 | GB42: 100 | GC42: 100 | GD42: 100 | GE42: 100 | GF42: 100 | GG42: 100 | GH42: 100 | GI42: 100 | GJ42: 100 | GK42: 100 | GL42: 100 | GM42: 100 | GN42: 100 | GO42: 100 | GP42: 100 | GQ42: 100 | GR42: 100 | GS42: 100 | GT42: 100 | GU42: 100 | GV42: 100 | GW42: 100 | GX42: 100 | GY42: 100 | GZ42: 100 | HA42: 100 | HB42: 100 | HC42: 100 | HD42: 100 | HE42: 100 | HF42: 100 | HG42: 100 | HH42: 100 | HI42: 100 | HJ42: 100 | HK42: 100 | HL42: 100 | HM42: 100 | HN42: 100 | HO42: 100 | HP42: 100 | HQ42: 100 | HR42: 100 | HS42: 100 | HT42: 100 | HU42: 100 | HV42: 100 | HW42: 100 | HX42: 100 | HY42: 100 | HZ42: 100 | IA42: 100 | IB42: 100 | IC42: 100 | ID42: 100 | IE42: 100 | IF42: 100 | IG42: 100 | IH42: 100 | II42: 100 | IJ42: 100 | IK42: 100 | IL42: 100 | IM42: 100 | IN42: 100 | IO42: 100 | IP42: 100 | IQ42: 100 | IR42: 100 | IS42: 100
A43: 1.6 กลุ่มพืชไม้ดอก | B43: 35.495957 | C43: 85.426937 | D43: 79.747584 | E43: 74.304871 | F43: 150.02958 | G43: 155.47229 | H43: 140.80063 | I43: 122.34273 | J43: 114.29698 | K43: 97.732203 | L43: 72.648393 | M43: 71.701834 | N43: 123.99921 | O43: 118.08322 | P43: 109.32755 | Q43: 130.15184 | R43: 154.52573 | S43: 158.31197 | T43: 123.52593 | U43: 71.701834 | V43: 52.770657 | W43: 61.526326 | X43: 50.16762 | Y43: 103.41156 | Z43: 78.564386 | AA43: 115.48018 | AB43: 93.236048 | AC43: 90.159732 | AD43: 83.06054 | AE43: 80.220864 | AF43: 104.12148 | AG43: 76.197989 | AH43: 63.182804 | AI43: 64.839282 | AJ43: 64.839282 | AK43: 69.335437 | AL43: 63.182804 | AM43: 88.029974 | AN43: 104.59475 | AO43: 104.59475 | AP43: 110.74739 | AQ43: 59.396569 | AR43: 84.480379 | AS43: 75.961349 | AT43: 67.205679 | AU43: 71.938474 | AV43: 63.182804 | AW43: 54.663774 | AX43: 88.739894 | AY43: 92.05285 | AZ43: 63.892723 | BA43: 92.05285 | BB43: 106.48787 | BC43: 77.617827 | BD43: 65.312562 | BE43: 56.083613 | BF43: 56.556892 | BG43: 57.503451 | BH43: 55.373694 | BI43: 53.243936 | BJ43: 55.137054 | BK43: 57.266811 | BL43: 66.7324 | BM43: 64.366003 | BN43: 55.846973 | BO43: 78.801025 | BP43: 93.945967 | BQ43: 84.007099 | BR43: 63.419444 | BS43: 55.846973 | BT43: 50.640899 | BU43: 47.564583 | BV43: 77.381187 | BW43: 92.526129 | BX43: 76.671268 | BY43: 66.49576 | BZ43: 75.25143 | CA43: 77.854467 | CB43: 56.320252 | CC43: 57.030172 | CD43: 70.755275 | CE43: 58.923289 | CF43: 52.297377 | CG43: 84.007099 | CH43: 103.17492 | CI43: 72.648393 | CJ43: 146.24334 | CK43: 104.12148 | CL43: 141.98383 | CM43: 95.839085 | CN43: 84.480379 | CO43: 82.587261 | CP43: 52.534017 | CQ43: 67.915599 | CR43: 73.594952 | CS43: 76.907908 | CT43: 76.907908 | CU43: 78.801025 | CV43: 72.885033 | CW43: 44.014987 | CX43: 44.014987 | CY43: 44.961546 | CZ43: 44.961546 | DA43: 64.129363 | DB43: 93.709328 | DC43: 41.41195 | DD43: 42.121869 | DE43: 44.724906 | DF43: 70.755275 | DG43: 60.816407 | DH43: 36.679156 | DI43: 43.778347 | DJ43: 53.953855 | DK43: 62.236245 | DL43: 44.961546 | DM43: 43.068428 | DN43: 42.263852 | DO43: 37.152435 | DP43: 44.961546 | DQ43: 32.656281 | DR43: 44.251627 | DS43: 48.511142 | DT43: 43.305068 | DU43: 48.037862 | DV43: 51.114179 | DW43: 57.030172 | DX43: 45.908105 | DY43: 44.961546 | DZ43: 39.282193 | EA43: 40.938671 | EB43: 59.633208 | EC43: 47.327943 | ED43: 43.305068 | EE43: 44.724906 | EF43: 42.358509 | EG43: 51.114179 | EH43: 72.648393 | EI43: 74.541511 | EJ43: 99.62532 | EK43: 72.648393 | EL43: 39.045553 | EM43: 25.415105 | EN43: 37.566554 | EO43: 32.53796 | EP43: 38.868072 | EQ43: 36.146716 | ER43: 36.738315 | ES43: 29.994083 | ET43: 44.914217 | EU43: 80.457501 | EV43: 62.520212 | EW43: 41.293629 | EX43: 28.455925 | EY43: 30.147899 | EZ43: 27.391046 | FA43: 97.61388 | FB43: 76.907906 | FC43: 88.739891 | FD43: 57.361466 | FE43: 37.467954 | FF43: 61.408005 | FG43: 50.309603 | FH43: 20.765135 | FI43: 31.331098 | FJ43: 19.996056 | FK43: 20.824294 | FL43: 23.663971 | FM43: 30.526523 | FN43: 52.652336 | FO43: 54.131334 | FP43: 41.222638 | FQ43: 25.083809 | FR43: 40.70203 | FS43: 88.680731 | FT43: 80.930781 | FU43: 72.364424 | FV43: 34.253598 | FW43: 22.125813 | FX43: 35.259317 | FY43: 21.691973 | FZ43: 41.553933 | GA43: 31.591401 | GB43: 25.852888 | GC43: 12.896864 | GD43: 8.2823899 | GE43: 24.84717 | GF43: 35.211989 | GG43: 43.364227 | GH43: 31.828041 | GI43: 29.532636 | GJ43: 29.816603 | GK43: 26.621967 | GL43: 17.274699 | GM43: 19.286136 | GN43: 48.747781 | GO43: 41.175309 | GP43: 28.018142 | GQ43: 36.028396 | GR43: 25.793728 | GS43: 19.877736 | GT43: 16.722539 | GU43: 22.480772 | GV43: 18.694537 | GW43: 27.805166 | GX43: 51.173337 | GY43: 34.312758 | GZ43: 39.932951 | HA43: 70.991912 | HB43: 118.36718 | HC43: 130.62512 | HD43: 114.7111 | HE43: 77.617825 | HF43: 55.077893 | HG43: 50.972194 | HH43: 69.217115 | HI43: 68.033917 | HJ43: 76.316307 | HK43: 74.718988 | HL43: 88.444092 | HM43: 47.722341 | HN43: 88.31394 | HO43: 116.36758 | HP43: 184.57897 | HQ43: 109.44587 | HR43: 45.375664 | HS43: 24.84717 | HT43: 22.184973 | HU43: 21.770853 | HV43: 29.579964 | HW43: 14.789982 | HX43: 22.244133 | HY43: 24.61053 | HZ43: 53.243935 | IA43: 53.243935 | IB43: 56.793531 | IC43: 56.201931 | ID43: 29.627292 | IE43: 22.184973 | IF43: 19.286136 | IG43: 25.912048 | IH43: 50.285938 | II43: 45.848944 | IJ43: 29.579964 | IK43: 37.467954 | IL43: 66.554918 | IM43: 73.358311 | IN43: 70.991913 | IO43: 42.890947 | IP43: 24.894498 | IQ43: 19.996056 | IR43: 19.996056 | IS43: 19.996056 | IT43: 50.285938 | IU43: 65.07592 | IV43: 56.793531 | IW43: 51.271937 | IX43: 82.823899 | IY43: 92.289487 | IZ43: 121.27785
A44: กล้วยไม้ ก้านช่อดอกยาว 45-54 ซม. | B44: 35.495957 | C44: 85.426937 | D44: 79.747584 | E44: 74.304871 | F44: 150.02958 | G44: 155.47229 | H44: 140.80063 | I44: 122.34273 | J44: 114.29698 | K44: 97.732203 | L44: 72.648393 | M44: 71.701834 | N44: 123.99921 | O44: 118.08322 | P44: 109.32755 | Q44: 130.15184 | R44: 154.52573 | S44: 158.31197 | T44: 123.52593 | U44: 71.701834 | V44: 52.770657 | W44: 61.526326 | X44: 50.16762 | Y44: 103.41156 | Z44: 78.564386 | AA44: 115.48018 | AB44: 93.236048 | AC44: 90.159732 | AD44: 83.06054 | AE44: 80.220864 | AF44: 104.12148 | AG44: 76.197989 | AH44: 63.182804 | AI44: 64.839282 | AJ44: 64.839282 | AK44: 69.335437 | AL44: 63.182804 | AM44: 88.029974 | AN44: 104.59475 | AO44: 104.59475 | AP44: 110.74739 | AQ44: 59.396569 | AR44: 84.480379 | AS44: 75.961349 | AT44: 67.205679 | AU44: 71.938474 | AV44: 63.182804 | AW44: 54.663774 | AX44: 88.739894 | AY44: 92.05285 | AZ44: 63.892723 | BA44: 92.05285 | BB44: 106.48787 | BC44: 77.617827 | BD44: 65.312562 | BE44: 56.083613 | BF44: 56.556892 | BG44: 57.503451 | BH44: 55.373694 | BI44: 53.243936 | BJ44: 55.137054 | BK44: 57.266811 | BL44: 66.7324 | BM44: 64.366003 | BN44: 55.846973 | BO44: 78.801025 | BP44: 93.945967 | BQ44: 84.007099 | BR44: 63.419444 | BS44: 55.846973 | BT44: 50.640899 | BU44: 47.564583 | BV44: 77.381187 | BW44: 92.526129 | BX44: 76.671268 | BY44: 66.49576 | BZ44: 75.25143 | CA44: 77.854467 | CB44: 56.320252 | CC44: 57.030172 | CD44: 70.755275 | CE44: 58.923289 | CF44: 52.297377 | CG44: 84.007099 | CH44: 103.17492 | CI44: 72.648393 | CJ44: 146.24334 | CK44: 104.12148 | CL44: 141.98383 | CM44: 95.839085 | CN44: 84.480379 | CO44: 82.587261 | CP44: 52.534017 | CQ44: 67.915599 | CR44: 73.594952 | CS44: 76.907908 | CT44: 76.907908 | CU44: 78.801025 | CV44: 72.885033 | CW44: 44.014987 | CX44: 44.014987 | CY44: 44.961546 | CZ44: 44.961546 | DA44: 64.129363 | DB44: 93.709328 | DC44: 41.41195 | DD44: 42.121869 | DE44: 44.724906 | DF44: 70.755275 | DG44: 60.816407 | DH44: 36.679156 | DI44: 43.778347 | DJ44: 53.953855 | DK44: 62.236245 | DL44: 44.961546 | DM44: 43.068428 | DN44: 42.263852 | DO44: 37.152435 | DP44: 44.961546 | DQ44: 32.656281 | DR44: 44.251627 | DS44: 48.511142 | DT44: 43.305068 | DU44: 48.037862 | DV44: 51.114179 | DW44: 57.030172 | DX44: 45.908105 | DY44: 44.961546 | DZ44: 39.282193 | EA44: 40.938671 | EB44: 59.633208 | EC44: 47.327943 | ED44: 43.305068 | EE44: 44.724906 | EF44: 42.358509 | EG44: 51.114179 | EH44: 72.648393 | EI44: 74.541511 | EJ44: 99.62532 | EK44: 72.648393 | EL44: 39.045553 | EM44: 25.415105 | EN44: 37.566554 | EO44: 32.53796 | EP44: 38.868072 | EQ44: 36.146716 | ER44: 36.738315 | ES44: 29.994083 | ET44: 44.914217 | EU44: 80.457501 | EV44: 62.520212 | EW44: 41.293629 | EX44: 28.455925 | EY44: 30.147899 | EZ44: 27.391046 | FA44: 97.61388 | FB44: 76.907906 | FC44: 88.739891 | FD44: 57.361466 | FE44: 37.467954 | FF44: 61.408005 | FG44: 50.309603 | FH44: 20.765135 | FI44: 31.331098 | FJ44: 19.996056 | FK44: 20.824294 | FL44: 23.663971 | FM44: 30.526523 | FN44: 52.652336 | FO44: 54.131334 | FP44: 41.222638 | FQ44: 25.083809 | FR44: 40.70203 | FS44: 88.680731 | FT44: 80.930781 | FU44: 72.364424 | FV44: 34.253598 | FW44: 22.125813 | FX44: 35.259317 | FY44: 21.691973 | FZ44: 41.553933 | GA44: 31.591401 | GB44: 25.852888 | GC44: 12.896864 | GD44: 8.2823899 | GE44: 24.84717 | GF44: 35.211989 | GG44: 43.364227 | GH44: 31.828041 | GI44: 29.532636 | GJ44: 29.816603 | GK44: 26.621967 | GL44: 17.274699 | GM44: 19.286136 | GN44: 48.747781 | GO44: 41.175309 | GP44: 28.018142 | GQ44: 36.028396 | GR44: 25.793728 | GS44: 19.877736 | GT44: 16.722539 | GU44: 22.480772 | GV44: 18.694537 | GW44: 27.805166 | GX44: 51.173337 | GY44: 34.312758 | GZ44: 39.932951 | HA44: 70.991912 | HB44: 118.36718 | HC44: 130.62512 | HD44: 114.7111 | HE44: 77.617825 | HF44: 55.077893 | HG44: 50.972194 | HH44: 69.217115 | HI44: 68.033917 | HJ44: 76.316307 | HK44: 74.718988 | HL44: 88.444092 | HM44: 47.722341 | HN44: 88.31394 | HO44: 116.36758 | HP44: 184.57897 | HQ44: 109.44587 | HR44: 45.375664 | HS44: 24.84717 | HT44: 22.184973 | HU44: 21.770853 | HV44: 29.579964 | HW44: 14.789982 | HX44: 22.244133 | HY44: 24.61053 | HZ44: 53.243935 | IA44: 53.243935 | IB44: 56.793531 | IC44: 56.201931 | ID44: 29.627292 | IE44: 22.184973 | IF44: 19.286136 | IG44: 25.912048 | IH44: 50.285938 | II44: 45.848944 | IJ44: 29.579964 | IK44: 37.467954 | IL44: 66.554918 | IM44: 73.358311 | IN44: 70.991913 | IO44: 42.890947 | IP44: 24.894498 | IQ44: 19.996056 | IR44: 19.996056 | IS44: 19.996056 | IT44: 50.285938 | IU44: 65.07592 | IV44: 56.793531 | IW44: 51.271937 | IX44: 82.823899 | IY44: 92.289487 | IZ44: 121.27785
A45: 2. หมวดปศุสัตว์ | B45: 91.843605 | C45: 97.018875 | D45: 99.517299 | E45: 102.95215 | F45: 105.03801 | G45: 103.30489 | H45: 102.99696 | I45: 104.18157 | J45: 102.08508 | K45: 97.820763 | L45: 96.668966 | M45: 96.571827 | N45: 98.250185 | O45: 96.168478 | P45: 93.33659 | Q45: 95.476863 | R45: 96.277309 | S45: 94.272136 | T45: 90.169665 | U45: 89.449437 | V45: 88.259867 | W45: 85.972064 | X45: 87.303759 | Y45: 86.335811 | Z45: 79.192164 | AA45: 76.087618 | AB45: 80.034519 | AC45: 82.555409 | AD45: 84.314697 | AE45: 85.021618 | AF45: 89.425451 | AG45: 91.769559 | AH45: 91.77578 | AI45: 88.40921 | AJ45: 90.689303 | AK45: 90.23196 | AL45: 91.463828 | AM45: 101.90665 | AN45: 106.02719 | AO45: 108.16976 | AP45: 107.14281 | AQ45: 103.87263 | AR45: 102.23363 | AS45: 103.65131 | AT45: 104.07265 | AU45: 101.45434 | AV45: 101.41656 | AW45: 101.06753 | AX45: 99.300622 | AY45: 101.70678 | AZ45: 102.81621 | BA45: 106.58845 | BB45: 109.49994 | BC45: 110.10183 | BD45: 109.23273 | BE45: 108.62196 | BF45: 108.45291 | BG45: 106.34556 | BH45: 107.46922 | BI45: 108.64754 | BJ45: 111.22235 | BK45: 116.09315 | BL45: 114.11771 | BM45: 113.04088 | BN45: 116.54541 | BO45: 119.96052 | BP45: 120.20697 | BQ45: 117.62849 | BR45: 115.61184 | BS45: 112.41719 | BT45: 111.85312 | BU45: 112.71266 | BV45: 114.26752 | BW45: 118.56939 | BX45: 122.10779 | BY45: 128.02145 | BZ45: 133.944 | CA45: 132.49478 | CB45: 131.32664 | CC45: 136.2596 | CD45: 134.24498 | CE45: 126.1286 | CF45: 122.96466 | CG45: 123.50528 | CH45: 120.89306 | CI45: 115.33694 | CJ45: 105.16105 | CK45: 113.17408 | CL45: 119.97473 | CM45: 118.22215 | CN45: 114.9255 | CO45: 114.17447 | CP45: 110.99683 | CQ45: 105.71747 | CR45: 112.3627 | CS45: 114.54066 | CT45: 118.45421 | CU45: 121.53368 | CV45: 119.4776 | CW45: 124.83448 | CX45: 127.18277 | CY45: 129.82197 | CZ45: 129.62459 | DA45: 133.31301 | DB45: 134.3543 | DC45: 131.58866 | DD45: 130.47254 | DE45: 130.45752 | DF45: 135.66678 | DG45: 138.12114 | DH45: 137.37014 | DI45: 139.52472 | DJ45: 142.89205 | DK45: 143.55036 | DL45: 142.09236 | DM45: 143.6066 | DN45: 141.48085 | DO45: 137.64076 | DP45: 134.48455 | DQ45: 131.88871 | DR45: 128.14146 | DS45: 125.57965 | DT45: 122.91161 | DU45: 124.61913 | DV45: 128.34968 | DW45: 130.73631 | DX45: 131.97244 | DY45: 133.08017 | DZ45: 135.4844 | EA45: 127.66563 | EB45: 126.06807 | EC45: 126.54148 | ED45: 127.29272 | EE45: 128.62003 | EF45: 128.75178 | EG45: 129.70678 | EH45: 133.94179 | EI45: 134.16683 | EJ45: 132.93233 | EK45: 133.98697 | EL45: 132.47315 | EM45: 126.03323 | EN45: 124.3655 | EO45: 122.29191 | EP45: 120.91123 | EQ45: 120.10237 | ER45: 118.41704 | ES45: 120.69314 | ET45: 126.41126 | EU45: 125.31221 | EV45: 122.62684 | EW45: 123.59354 | EX45: 123.32329 | EY45: 113.77021 | EZ45: 111.55978 | FA45: 110.78817 | FB45: 108.69505 | FC45: 108.25004 | FD45: 104.43386 | FE45: 112.32189 | FF45: 115.81179 | FG45: 114.94279 | FH45: 115.40141 | FI45: 116.85238 | FJ45: 117.53672 | FK45: 114.23716 | FL45: 115.70066 | FM45: 115.69125 | FN45: 121.06716 | FO45: 125.80088 | FP45: 124.77297 | FQ45: 126.95603 | FR45: 130.22206 | FS45: 130.66473 | FT45: 129.79198 | FU45: 128.25537 | FV45: 125.26692 | FW45: 121.26612 | FX45: 120.07047 | FY45: 123.21871 | FZ45: 130.39697 | GA45: 131.11433 | GB45: 130.16203 | GC45: 126.57044 | GD45: 122.19052 | GE45: 123.57158 | GF45: 130.22029 | GG45: 134.38424 | GH45: 133.76537 | GI45: 132.52884 | GJ45: 130.45679 | GK45: 128.50824 | GL45: 131.9718 | GM45: 132.48023 | GN45: 132.19955 | GO45: 132.85223 | GP45: 132.06819 | GQ45: 129.79442 | GR45: 128.99529 | GS45: 127.34374 | GT45: 123.98358 | GU45: 122.87083 | GV45: 130.80835 | GW45: 140.6244 | GX45: 161.16913 | GY45: 154.22829 | GZ45: 150.89211 | HA45: 155.17814 | HB45: 162.7323 | HC45: 167.22604 | HD45: 172.94187 | HE45: 176.55854 | HF45: 174.89887 | HG45: 172.34084 | HH45: 173.23321 | HI45: 170.72258 | HJ45: 169.17786 | HK45: 163.42522 | HL45: 158.8749 | HM45: 158.71606 | HN45: 155.56462 | HO45: 154.13357 | HP45: 149.25305 | HQ45: 147.33865 | HR45: 143.04378 | HS45: 138.28925 | HT45: 139.08365 | HU45: 140.31527 | HV45: 138.79751 | HW45: 138.05896 | HX45: 135.55519 | HY45: 136.91877 | HZ45: 141.64461 | IA45: 141.0802 | IB45: 140.87856 | IC45: 141.6246 | ID45: 141.98208 | IE45: 141.19177 | IF45: 140.4864 | IG45: 140.26581 | IH45: 141.35837 | II45: 142.95188 | IJ45: 145.19048 | IK45: 150.62633 | IL45: 152.41294 | IM45: 150.09807 | IN45: 145.91074 | IO45: 140.59138 | IP45: 134.59297 | IQ45: 130.9594 | IR45: 131.06065 | IS45: 133.46205 | IT45: 134.15262 | IU45: 127.19521 | IV45: 131.61967 | IW45: 137.69219 | IX45: 132.00427 | IY45: 131.92338 | IZ45: 133.62823
A46: สุกร (เกิน 100 กก.) | B46: 93.755991 | C46: 96.197763 | D46: 100.35483 | E46: 104.26974 | F46: 105.98503 | G46: 103.82578 | H46: 103.42218 | I46: 102.95804 | J46: 100.27411 | K46: 93.029513 | L46: 95.753805 | M46: 100.17321 | N46: 100.91987 | O46: 99.164214 | P46: 98.619356 | Q46: 99.063315 | R46: 99.830152 | S46: 99.002775 | T46: 96.843521 | U46: 94.764988 | V46: 93.412932 | W46: 89.780543 | X46: 86.935172 | Y46: 81.446229 | Z46: 67.239553 | AA46: 65.181199 | AB46: 71.3159 | AC46: 74.827209 | AD46: 75.250988 | AE46: 74.50433 | AF46: 79.710754 | AG46: 84.2916 | AH46: 84.41268 | AI46: 80.800471 | AJ46: 85.098798 | AK46: 85.643656 | AL46: 89.296225 | AM46: 108.74968 | AN46: 113.85521 | AO46: 116.01446 | AP46: 113.18927 | AQ46: 109.29454 | AR46: 108.66896 | AS46: 107.76087 | AT46: 106.89313 | AU46: 105.90431 | AV46: 106.42899 | AW46: 105.50071 | AX46: 106.95367 | AY46: 111.17128 | AZ46: 113.81485 | BA46: 119.80829 | BB46: 123.09762 | BC46: 120.57513 | BD46: 116.9831 | BE46: 114.35971 | BF46: 114.80367 | BG46: 112.36189 | BH46: 111.57488 | BI46: 111.97847 | BJ46: 114.88439 | BK46: 120.91819 | BL46: 123.13798 | BM46: 124.16716 | BN46: 125.31741 | BO46: 125.98335 | BP46: 126.04389 | BQ46: 125.35777 | BR46: 122.39132 | BS46: 116.90238 | BT46: 114.88439 | BU46: 112.76549 | BV46: 112.01883 | BW46: 118.59749 | BX46: 122.3106 | BY46: 130.24132 | BZ46: 139.90751 | CA46: 141.1183 | CB46: 142.89414 | CC46: 154.25544 | CD46: 148.5647 | CE46: 129.2525 | CF46: 119.34415 | CG46: 125.39813 | CH46: 123.2187 | CI46: 112.92693 | CJ46: 106.73169 | CK46: 116.29698 | CL46: 125.21651 | CM46: 119.54595 | CN46: 116.25662 | CO46: 115.22744 | CP46: 112.13991 | CQ46: 103.98722 | CR46: 110.20264 | CS46: 110.10174 | CT46: 116.19608 | CU46: 127.27487 | CV46: 122.45186 | CW46: 131.33104 | CX46: 130.64492 | CY46: 133.02615 | CZ46: 135.00378 | DA46: 140.95687 | DB46: 139.12049 | DC46: 133.95443 | DD46: 135.95224 | DE46: 136.57782 | DF46: 142.43 | DG46: 147.9593 | DH46: 150.72396 | DI46: 156.83848 | DJ46: 160.43051 | DK46: 162.28706 | DL46: 161.37896 | DM46: 159.32061 | DN46: 152.98411 | DO46: 144.97267 | DP46: 139.84697 | DQ46: 138.21239 | DR46: 131.00816 | DS46: 127.11343 | DT46: 125.47885 | DU46: 131.47229 | DV46: 133.49029 | DW46: 137.62718 | DX46: 137.92987 | DY46: 137.68772 | DZ46: 139.96805 | EA46: 135.36702 | EB46: 132.38039 | EC46: 130.4633 | ED46: 130.64492 | EE46: 130.98798 | EF46: 130.38258 | EG46: 133.85353 | EH46: 142.14748 | EI46: 145.13411 | EJ46: 142.61162 | EK46: 141.421 | EL46: 138.07113 | EM46: 131.68216 | EN46: 129.18187 | EO46: 124.97435 | EP46: 123.70705 | EQ46: 122.54267 | ER46: 119.12217 | ES46: 121.78592 | ET46: 128.86504 | EU46: 127.22441 | EV46: 122.1532 | EW46: 122.08358 | EX46: 120.79206 | EY46: 110.77171 | EZ46: 107.16556 | FA46: 102.01967 | FB46: 97.317748 | FC46: 96.67199 | FD46: 93.929537 | FE46: 109.77886 | FF46: 115.76726 | FG46: 114.74716 | FH46: 116.11536 | FI46: 119.96569 | FJ46: 121.31674 | FK46: 120.03531 | FL46: 121.71327 | FM46: 121.30833 | FN46: 129.11124 | FO46: 135.29639 | FP46: 134.95535 | FQ46: 139.32901 | FR46: 144.52468 | FS46: 145.32582 | FT46: 143.00008 | FU46: 139.18103 | FV46: 131.87589 | FW46: 122.56789 | FX46: 120.66392 | FY46: 124.17388 | FZ46: 138.96712 | GA46: 141.43614 | GB46: 138.32338 | GC46: 134.26721 | GD46: 135.80694 | GE46: 136.97132 | GF46: 148.97637 | GG46: 156.91415 | GH46: 157.18153 | GI46: 156.87883 | GJ46: 151.18809 | GK46: 143.33305 | GL46: 151.57655 | GM46: 153.82158 | GN46: 153.46035 | GO46: 155.58732 | GP46: 152.06794 | GQ46: 145.44185 | GR46: 143.90818 | GS46: 139.72992 | GT46: 134.79189 | GU46: 136.53241 | GV46: 148.14092 | GW46: 156.33902 | GX46: 202.89918 | GY46: 187.13865 | GZ46: 177.29588 | HA46: 182.8975 | HB46: 196.42747 | HC46: 204.55898 | HD46: 208.09551 | HE46: 210.17808 | HF46: 211.21836 | HG46: 209.73413 | HH46: 211.55637 | HI46: 206.56184 | HJ46: 202.84368 | HK46: 189.4543 | HL46: 177.0739 | HM46: 175.00714 | HN46: 163.96603 | HO46: 159.60817 | HP46: 146.77676 | HQ46: 140.22534 | HR46: 138.64626 | HS46: 129.66013 | HT46: 130.51879 | HU46: 133.73749 | HV46: 136.35584 | HW46: 135.64449 | HX46: 129.27268 | HY46: 132.35012 | HZ46: 142.61666 | IA46: 139.40805 | IB46: 139.56848 | IC46: 141.56226 | ID46: 143.76591 | IE46: 142.36946 | IF46: 142.41486 | IG46: 143.46926 | IH46: 144.9424 | II46: 148.09047 | IJ46: 154.07382 | IK46: 166.20196 | IL46: 170.70209 | IM46: 168.7406 | IN46: 160.49104 | IO46: 148.54956 | IP46: 135.08046 | IQ46: 126.90658 | IR46: 127.47162 | IS46: 132.53174 | IT46: 133.56091 | IU46: 118.90019 | IV46: 127.34348 | IW46: 139.22139 | IX46: 131.61355 | IY46: 131.47633 | IZ46: 133.82325
A47: ไก่รุ่นพันธุ์เนื้อ | B47: 83.01326 | C47: 95.887421 | D47: 99.064162 | E47: 102.85396 | F47: 105.97497 | G47: 104.52593 | H47: 102.82609 | I47: 105.64057 | J47: 105.05538 | K47: 104.08007 | L47: 97.336461 | M47: 93.741727 | N47: 97.69872 | O47: 95.469429 | P47: 88.112765 | Q47: 93.853192 | R47: 94.382649 | S47: 88.279962 | T47: 81.313425 | U47: 81.619952 | V47: 80.895432 | W47: 79.892251 | X47: 84.295103 | Y47: 89.311009 | Z47: 86.580127 | AA47: 80.365975 | AB47: 85.493347 | AC47: 88.976616 | AD47: 90.17486 | AE47: 93.713861 | AF47: 100.346 | AG47: 101.43278 | AH47: 101.76718 | AI47: 98.005248 | AJ47: 99.314957 | AK47: 99.175626 | AL47: 98.06098 | AM47: 101.73931 | AN47: 102.82609 | AO47: 106.69949 | AP47: 107.70267 | AQ47: 104.55379 | AR47: 101.87864 | AS47: 104.80459 | AT47: 107.34041 | AU47: 103.04902 | AV47: 102.99329 | AW47: 103.32768 | AX47: 99.844414 | AY47: 102.85396 | AZ47: 91.512435 | BA47: 98.896965 | BB47: 103.43915 | BC47: 108.65012 | BD47: 109.54183 | BE47: 109.20744 | BF47: 109.4861 | BG47: 109.95983 | BH47: 111.96619 | BI47: 114.27908 | BJ47: 119.99164 | BK47: 123.22411 | BL47: 116.75917 | BM47: 113.16443 | BN47: 119.49005 | BO47: 126.26152 | BP47: 125.23048 | BQ47: 119.40645 | BR47: 117.40009 | BS47: 116.22971 | BT47: 115.11506 | BU47: 118.3754 | BV47: 124.28303 | BW47: 128.60228 | BX47: 131.27743 | BY47: 135.68028 | BZ47: 141.39284 | CA47: 138.41117 | CB47: 131.91835 | CC47: 130.32998 | CD47: 129.04814 | CE47: 125.92713 | CF47: 123.9765 | CG47: 124.31089 | CH47: 126.15006 | CI47: 120.66043 | CJ47: 99.064162 | CK47: 114.13975 | CL47: 121.21775 | CM47: 119.82444 | CN47: 117.23289 | CO47: 115.44946 | CP47: 110.18276 | CQ47: 107.28468 | CR47: 116.36904 | CS47: 121.27348 | CT47: 121.80294 | CU47: 117.59515 | CV47: 117.03783 | CW47: 122.38813 | CX47: 123.41918 | CY47: 122.44386 | CZ47: 122.75039 | DA47: 122.44386 | DB47: 121.58001 | DC47: 120.85549 | DD47: 117.17716 | DE47: 116.61984 | DF47: 120.85549 | DG47: 121.10629 | DH47: 117.42795 | DI47: 116.92636 | DJ47: 117.98528 | DK47: 118.93273 | DL47: 117.76235 | DM47: 121.05055 | DN47: 121.41281 | DO47: 118.23607 | DP47: 112.80217 | DQ47: 111.35313 | DR47: 109.93196 | DS47: 107.61907 | DT47: 105.80777 | DU47: 103.71781 | DV47: 108.73372 | DW47: 108.78945 | DX47: 109.90409 | DY47: 110.74008 | DZ47: 113.63816 | EA47: 100.346 | EB47: 99.649351 | EC47: 103.66208 | ED47: 104.86032 | EE47: 105.52911 | EF47: 106.28149 | EG47: 106.89455 | EH47: 108.95664 | EI47: 104.97179 | EJ47: 104.0522 | EK47: 106.97815 | EL47: 106.42083 | EM47: 97.375471 | EN47: 98.179409 | EO47: 98.834264 | EP47: 97.860342 | EQ47: 98.269974 | ER47: 100.35297 | ES47: 104.76279 | ET47: 109.92081 | EU47: 108.44808 | EV47: 107.40728 | EW47: 109.66723 | EX47: 109.81353 | EY47: 100.56893 | EZ47: 98.102777 | FA47: 101.62088 | FB47: 102.52653 | FC47: 100.89636 | FD47: 94.7672 | FE47: 96.454029 | FF47: 96.862734 | FG47: 95.759235 | FH47: 95.274363 | FI47: 94.616722 | FJ47: 94.814572 | FK47: 92.452916 | FL47: 93.14539 | FM47: 93.212267 | FN47: 97.336461 | FO47: 102.84699 | FP47: 102.31335 | FQ47: 102.51027 | FR47: 103.66207 | FS47: 103.00722 | FT47: 102.88182 | FU47: 102.95985 | FV47: 102.87486 | FW47: 102.17123 | FX47: 101.88979 | FY47: 107.48902 | FZ47: 109.6533 | GA47: 108.63618 | GB47: 108.90091 | GC47: 101.59301 | GD47: 90.849219 | GE47: 94.703107 | GF47: 96.723403 | GG47: 97.085663 | GH47: 95.866519 | GI47: 93.752872 | GJ47: 92.014024 | GK47: 96.618905 | GL47: 97.440956 | GM47: 96.848803 | GN47: 96.578499 | GO47: 96.676958 | GP47: 96.255252 | GQ47: 96.458674 | GR47: 96.34721 | GS47: 95.83726 | GT47: 92.174254 | GU47: 89.450338 | GV47: 98.579289 | GW47: 113.05297 | GX47: 113.42219 | GY47: 112.18912 | GZ47: 112.44688 | HA47: 115.15222 | HB47: 118.83798 | HC47: 121.53821 | HD47: 131.48642 | HE47: 136.18744 | HF47: 130.60167 | HG47: 126.17235 | HH47: 126.07342 | HI47: 125.94106 | HJ47: 125.80173 | HK47: 125.06328 | HL47: 124.56865 | HM47: 125.13758 | HN47: 126.03302 | HO47: 125.97589 | HP47: 124.87379 | HQ47: 124.29696 | HR47: 116.00678 | HS47: 112.57924 | HT47: 113.01117 | HU47: 113.01813 | HV47: 111.88955 | HW47: 111.94529 | HX47: 112.91364 | HY47: 114.18851 | HZ47: 114.04221 | IA47: 114.32784 | IB47: 114.38497 | IC47: 114.41841 | ID47: 114.07287 | IE47: 113.59636 | IF47: 113.20623 | IG47: 113.30376 | IH47: 114.32088 | II47: 116.17397 | IJ47: 117.60072 | IK47: 118.44971 | IL47: 117.79021 | IM47: 117.67317 | IN47: 117.59515 | IO47: 117.57425 | IP47: 117.2719 | IQ47: 116.59197 | IR47: 116.32724 | IS47: 116.75916 | IT47: 117.26075 | IU47: 117.19109 | IV47: 118.83241 | IW47: 117.97598 | IX47: 111.89652 | IY47: 111.49804 | IZ47: 112.11945
A48: ไข่ไก่สดคละ | B48: 98.41377 | C48: 98.008775 | D48: 97.198785 | E48: 100.03375 | F48: 102.86871 | G48: 103.6787 | H48: 106.51367 | I48: 108.94364 | J48: 103.6787 | K48: 98.008775 | L48: 95.17381 | M48: 87.478907 | N48: 85.858927 | O48: 80.998988 | P48: 83.023962 | Q48: 82.213972 | R48: 83.428957 | S48: 86.263922 | T48: 78.974013 | U48: 78.974013 | V48: 76.544043 | W48: 73.709079 | X48: 82.213972 | Y48: 81.403982 | Z48: 80.998988 | AA48: 79.379008 | AB48: 76.949038 | AC48: 74.924063 | AD48: 82.213972 | AE48: 84.643942 | AF48: 86.263922 | AG48: 89.098886 | AH48: 91.123861 | AI48: 87.073912 | AJ48: 87.073912 | AK48: 81.403982 | AL48: 80.998988 | AM48: 89.503881 | AN48: 100.43874 | AO48: 100.84374 | AP48: 100.43874 | AQ48: 96.79379 | AR48: 92.338846 | AS48: 98.41377 | AT48: 98.008775 | AU48: 92.743841 | AV48: 91.123861 | AW48: 92.743841 | AX48: 84.643942 | AY48: 82.618967 | AZ48: 87.883901 | BA48: 98.818765 | BB48: 99.22376 | BC48: 99.22376 | BD48: 101.24873 | BE48: 105.29868 | BF48: 102.46372 | BG48: 93.148836 | BH48: 97.60378 | BI48: 98.818765 | BJ48: 93.958826 | BK48: 104.48869 | BL48: 102.46372 | BM48: 100.84374 | BN48: 106.10867 | BO48: 111.37361 | BP48: 115.01856 | BQ48: 112.58859 | BR48: 110.15862 | BS48: 107.32366 | BT48: 110.15862 | BU48: 112.1836 | BV48: 112.99359 | BW48: 113.39858 | BX48: 118.25852 | BY48: 124.33345 | BZ48: 125.14344 | CA48: 117.85353 | CB48: 117.44853 | CC48: 123.11846 | CD48: 123.92845 | CE48: 127.57341 | CF48: 136.0783 | CG48: 121.90348 | CH48: 106.51367 | CI48: 108.13365 | CJ48: 107.72865 | CK48: 100.84374 | CL48: 105.29868 | CM48: 110.96861 | CN48: 103.27371 | CO48: 104.48869 | CP48: 102.46372 | CQ48: 94.36382 | CR48: 99.22376 | CS48: 100.43874 | CT48: 108.13365 | CU48: 111.7786 | CV48: 110.15862 | CW48: 110.15862 | CX48: 121.49848 | CY48: 133.24333 | CZ48: 124.33345 | DA48: 130.00337 | DB48: 139.72325 | DC48: 134.45832 | DD48: 132.02835 | DE48: 131.62335 | DF48: 132.02835 | DG48: 132.43334 | DH48: 125.95343 | DI48: 122.30847 | DJ48: 131.21836 | DK48: 129.19339 | DL48: 124.73844 | DM48: 130.40837 | DN48: 123.52346 | DO48: 117.85353 | DP48: 119.47351 | DQ48: 110.56362 | DR48: 107.32366 | DS48: 104.48869 | DT48: 96.388795 | DU48: 100.43874 | DV48: 105.29868 | DW48: 106.91866 | DX48: 110.96861 | DY48: 116.23355 | DZ48: 119.06851 | EA48: 115.01856 | EB48: 113.39858 | EC48: 110.15862 | ED48: 111.37361 | EE48: 116.23355 | EF48: 119.06851 | EG48: 115.82855 | EH48: 117.04354 | EI48: 122.71347 | EJ48: 123.92845 | EK48: 126.35842 | EL48: 125.14344 | EM48: 121.63618 | EN48: 118.01856 | EO48: 115.05805 | EP48: 113.19446 | EQ48: 110.66993 | ER48: 104.53729 | ES48: 102.19946 | ET48: 107.91738 | EU48: 109.91765 | EV48: 109.30732 | EW48: 111.08403 | EX48: 112.77489 | EY48: 100.59021 | EZ48: 102.63179 | FA48: 103.55214 | FB48: 102.88997 | FC48: 106.50253 | FD48: 103.93709 | FE48: 107.21971 | FF48: 112.54607 | FG48: 112.67283 | FH48: 113.12116 | FI48: 113.61161 | FJ48: 114.15795 | FK48: 103.06108 | FL48: 106.04144 | FM48: 107.00911 | FN48: 110.6274 | FO48: 111.12757 | FP48: 106.19291 | FQ48: 106.98076 | FR48: 111.02855 | FS48: 113.55957 | FT48: 115.02767 | FU48: 116.00756 | FV48: 117.36044 | FW48: 118.68376 | FX48: 115.79453 | FY48: 112.95848 | FZ48: 111.50239 | GA48: 111.22274 | GB48: 113.52312 | GC48: 121.03071 | GD48: 114.2029 | GE48: 108.94364 | GF48: 114.14701 | GG48: 117.35032 | GH48: 115.40229 | GI48: 112.26297 | GJ48: 116.45022 | GK48: 112.69288 | GL48: 112.33446 | GM48: 110.57374 | GN48: 110.94431 | GO48: 108.47654 | GP48: 114.58603 | GQ48: 117.99426 | GR48: 118.25852 | GS48: 119.8785 | GT48: 120.15896 | GU48: 115.02666 | GV48: 112.58859 | GW48: 116.09281 | GX48: 121.09349 | GY48: 121.04083 | GZ48: 124.33345 | HA48: 129.59838 | HB48: 132.40904 | HC48: 132.86871 | HD48: 133.25143 | HE48: 137.94856 | HF48: 139.83867 | HG48: 139.95248 | HH48: 141.15693 | HI48: 138.72899 | HJ48: 140.12825 | HK48: 135.72494 | HL48: 135.07695 | HM48: 138.89841 | HN48: 141.18204 | HO48: 143.72055 | HP48: 144.9566 | HQ48: 148.56429 | HR48: 149.03814 | HS48: 149.72663 | HT48: 151.25649 | HU48: 151.91157 | HV48: 146.43908 | HW48: 144.36044 | HX48: 141.85454 | HY48: 140.62335 | HZ48: 146.84711 | IA48: 151.34154 | IB48: 153.36348 | IC48: 153.54066 | ID48: 153.37968 | IE48: 152.97671 | IF48: 149.27202 | IG48: 146.69423 | IH48: 144.69963 | II48: 141.64596 | IJ48: 137.65373 | IK48: 136.71819 | IL48: 140.87445 | IM48: 141.01518 | IN48: 140.3682 | IO48: 140.6193 | IP48: 141.71664 | IQ48: 142.03476 | IR48: 140.17279 | IS48: 142.14816 | IT48: 140.42794 | IU48: 135.52953 | IV48: 136.96767 | IW48: 145.74552 | IX48: 145.75565 | IY48: 145.36807 | IZ48: 148.6058
A49: โคพันธุ์ลูกผสม (ขนาดกลาง) | B49: 102.23671 | C49: 102.24365 | D49: 100.44734 | E49: 101.74429 | F49: 101.32815 | G49: 97.31248 | H49: 97.603773 | I49: 98.838298 | J49: 98.436037 | K49: 97.70087 | L49: 100.03815 | M49: 102.07026 | N49: 104.68495 | O49: 105.15657 | P49: 100.8496 | Q49: 102.58349 | R49: 103.7972 | S49: 103.33252 | T49: 103.99834 | U49: 104.60866 | V49: 104.19253 | W49: 103.97059 | X49: 103.63075 | Y49: 102.34768 | Z49: 102.75687 | AA49: 102.56962 | AB49: 102.56962 | AC49: 104.16479 | AD49: 105.82238 | AE49: 101.97316 | AF49: 100.35718 | AG49: 96.903284 | AH49: 92.984707 | AI49: 92.568575 | AJ49: 92.568575 | AK49: 93.816971 | AL49: 94.84343 | AM49: 92.305025 | AN49: 92.603253 | AO49: 91.937441 | AP49: 91.243888 | AQ49: 90.515657 | AR49: 91.53518 | AS49: 91.666956 | AT49: 92.069217 | AU49: 91.327114 | AV49: 91.188404 | AW49: 88.587578 | AX49: 89.080001 | AY49: 89.295003 | AZ49: 117.24521 | BA49: 92.450671 | BB49: 92.4368 | BC49: 90.758401 | BD49: 90.141138 | BE49: 89.405971 | BF49: 89.357423 | BG49: 90.404688 | BH49: 90.980338 | BI49: 91.347921 | BJ49: 93.067934 | BK49: 90.88324 | BL49: 88.330964 | BM49: 88.504352 | BN49: 88.913549 | BO49: 88.830322 | BP49: 88.858064 | BQ49: 89.565489 | BR49: 91.424212 | BS49: 89.510005 | BT49: 90.890176 | BU49: 92.998578 | BV49: 89.711135 | BW49: 91.320179 | BX49: 95.134723 | BY49: 98.429102 | BZ49: 98.817491 | CA49: 101.41832 | CB49: 106.23851 | CC49: 108.36079 | CD49: 113.22953 | CE49: 112.09904 | CF49: 112.3834 | CG49: 115.15067 | CH49: 115.49745 | CI49: 116.15633 | CJ49: 116.55165 | CK49: 116.92617 | CL49: 118.4728 | CM49: 118.43118 | CN49: 119.51313 | CO49: 120.40087 | CP49: 122.54395 | CQ49: 123.9588 | CR49: 126.28221 | CS49: 128.75126 | CT49: 130.76256 | CU49: 131.81676 | CV49: 133.94597 | CW49: 134.70888 | CX49: 138.246 | CY49: 140.47925 | CZ49: 145.95832 | DA49: 154.3087 | DB49: 159.23293 | DC49: 162.43715 | DD49: 162.37473 | DE49: 162.88102 | DF49: 179.68582 | DG49: 181.62777 | DH49: 189.73541 | DI49: 197.23272 | DJ49: 198.70999 | DK49: 197.61418 | DL49: 198.46031 | DM49: 200.51323 | DN49: 218.15723 | DO49: 236.53639 | DP49: 244.39435 | DQ49: 244.99081 | DR49: 248.36148 | DS49: 252.47425 | DT49: 252.48119 | DU49: 247.68873 | DV49: 249.85262 | DW49: 257.91171 | DX49: 258.02961 | DY49: 257.97413 | DZ49: 256.79509 | EA49: 255.98363 | EB49: 256.8367 | EC49: 258.11284 | ED49: 258.63301 | EE49: 260.49866 | EF49: 254.30523 | EG49: 252.73087 | EH49: 252.43957 | EI49: 247.20325 | EJ49: 245.78146 | EK49: 245.36533 | EL49: 248.74987 | EM49: 251.47502 | EN49: 245.2864 | EO49: 242.37262 | EP49: 241.38953 | EQ49: 240.23109 | ER49: 239.50419 | ES49: 237.70515 | ET49: 236.39241 | EU49: 233.44552 | EV49: 232.36422 | EW49: 230.3651 | EX49: 229.58556 | EY49: 229.91061 | EZ49: 228.25685 | FA49: 227.44177 | FB49: 223.82085 | FC49: 221.35178 | FD49: 221.09717 | FE49: 220.77409 | FF49: 219.75042 | FG49: 218.88064 | FH49: 218.52576 | FI49: 217.95876 | FJ49: 217.11174 | FK49: 214.8496 | FL49: 215.22671 | FM49: 214.99975 | FN49: 214.00866 | FO49: 214.80582 | FP49: 215.79888 | FQ49: 217.33074 | FR49: 217.22187 | FS49: 216.25215 | FT49: 215.51381 | FU49: 214.5628 | FV49: 214.45535 | FW49: 215.48418 | FX49: 218.07239 | FY49: 219.68526 | FZ49: 221.24191 | GA49: 223.24215 | GB49: 221.54436 | GC49: 218.15903 | GD49: 219.71079 | GE49: 222.61852 | GF49: 225.47407 | GG49: 229.9287 | GH49: 230.28288 | GI49: 232.58355 | GJ49: 237.12875 | GK49: 237.93705 | GL49: 236.4967 | GM49: 238.06221 | GN49: 236.84098 | GO49: 238.75992 | GP49: 236.95449 | GQ49: 233.76377 | GR49: 231.13955 | GS49: 230.72272 | GT49: 230.77977 | GU49: 231.20327 | GV49: 232.48428 | GW49: 237.31431 | GX49: 241.13409 | GY49: 241.01517 | GZ49: 241.6802 | HA49: 242.29054 | HB49: 243.36375 | HC49: 242.85175 | HD49: 243.22653 | HE49: 244.02408 | HF49: 243.49375 | HG49: 241.3408 | HH49: 241.3775 | HI49: 240.57935 | HJ49: 238.6863 | HK49: 236.07342 | HL49: 235.06914 | HM49: 230.7822 | HN49: 227.70691 | HO49: 223.34075 | HP49: 219.87529 | HQ49: 219.23249 | HR49: 219.2417 | HS49: 215.92257 | HT49: 216.58929 | HU49: 217.1481 | HV49: 214.93548 | HW49: 212.52885 | HX49: 211.74234 | HY49: 208.93617 | HZ49: 206.81936 | IA49: 205.33101 | IB49: 197.12189 | IC49: 196.10217 | ID49: 191.5183 | IE49: 191.80062 | IF49: 191.7933 | IG49: 187.79323 | IH49: 188.35686 | II49: 187.07436 | IJ49: 181.94723 | IK49: 183.57068 | IL49: 176.71366 | IM49: 153.05977 | IN49: 143.56223 | IO49: 138.47968 | IP49: 132.79661 | IQ49: 133.64313 | IR49: 137.51799 | IS49: 134.38025 | IT49: 135.85659 | IU49: 133.30405 | IV49: 133.3016 | IW49: 138.04404 | IX49: 140.10556 | IY49: 143.69396 | IZ49: 143.71592
A50: 3. หมวดประมง | B50: 92.749658 | C50: 105.06156 | D50: 111.62791 | E50: 105.06156 | F50: 90.287278 | G50: 82.079343 | H50: 84.541724 | I50: 100.1368 | J50: 108.34473 | K50: 113.26949 | L50: 106.70315 | M50: 100.1368 | N50: 108.34473 | O50: 111.62791 | P50: 109.98632 | Q50: 105.88235 | R50: 94.391245 | S50: 85.362517 | T50: 88.645691 | U50: 88.645691 | V50: 90.287278 | W50: 89.466484 | X50: 88.645691 | Y50: 86.183311 | Z50: 87.004104 | AA50: 89.466484 | AB50: 91.928865 | AC50: 86.183311 | AD50: 77.154583 | AE50: 65.663475 | AF50: 68.125855 | AG50: 69.767442 | AH50: 79.616963 | AI50: 90.287278 | AJ50: 90.287278 | AK50: 89.466484 | AL50: 91.928865 | AM50: 86.183311 | AN50: 84.541724 | AO50: 91.108071 | AP50: 87.004104 | AQ50: 79.616963 | AR50: 88.645691 | AS50: 91.108071 | AT50: 93.570451 | AU50: 91.108071 | AV50: 82.079343 | AW50: 82.900137 | AX50: 94.391245 | AY50: 100.1368 | AZ50: 102.59918 | BA50: 93.570451 | BB50: 85.362517 | BC50: 81.25855 | BD50: 81.25855 | BE50: 82.079343 | BF50: 82.079343 | BG50: 84.541724 | BH50: 80.437756 | BI50: 83.72093 | BJ50: 82.900137 | BK50: 86.183311 | BL50: 91.928865 | BM50: 85.362517 | BN50: 81.25855 | BO50: 87.004104 | BP50: 91.928865 | BQ50: 93.570451 | BR50: 92.749658 | BS50: 100.95759 | BT50: 95.212038 | BU50: 98.495212 | BV50: 102.59918 | BW50: 109.16553 | BX50: 108.34473 | BY50: 112.4487 | BZ50: 108.34473 | CA50: 105.88235 | CB50: 105.88235 | CC50: 101.77839 | CD50: 101.77839 | CE50: 101.77839 | CF50: 103.41997 | CG50: 107.52394 | CH50: 107.52394 | CI50: 108.34473 | CJ50: 105.88235 | CK50: 96.853625 | CL50: 91.928865 | CM50: 92.749658 | CN50: 92.749658 | CO50: 105.88235 | CP50: 111.62791 | CQ50: 113.26949 | CR50: 109.98632 | CS50: 111.62791 | CT50: 119.83584 | CU50: 123.11902 | CV50: 137.0725 | CW50: 146.10123 | CX50: 147.74282 | CY50: 155.12996 | CZ50: 158.41313 | DA50: 164.15869 | DB50: 176.47059 | DC50: 197.81122 | DD50: 204.37756 | DE50: 209.30233 | DF50: 219.15185 | DG50: 218.33105 | DH50: 210.12312 | DI50: 193.70725 | DJ50: 169.90424 | DK50: 157.59234 | DL50: 167.44186 | DM50: 178.11218 | DN50: 176.47059 | DO50: 172.36662 | DP50: 167.44186 | DQ50: 161.69631 | DR50: 160.05472 | DS50: 169.08345 | DT50: 161.69631 | DU50: 146.10123 | DV50: 142.81806 | DW50: 144.45964 | DX50: 151.84679 | DY50: 145.28044 | DZ50: 141.99726 | EA50: 134.61012 | EB50: 132.96854 | EC50: 135.43092 | ED50: 141.99726 | EE50: 154.30917 | EF50: 151.84679 | EG50: 146.10123 | EH50: 141.99726 | EI50: 149.3844 | EJ50: 152.66758 | EK50: 148.56361 | EL50: 148.56361 | EM50: 138.19042 | EN50: 143.92202 | EO50: 154.41176 | EP50: 165.41942 | EQ50: 176.54446 | ER50: 179.14432 | ES50: 154.01368 | ET50: 138.83064 | EU50: 141.89261 | EV50: 143.55513 | EW50: 146.02325 | EX50: 143.1197 | EY50: 139.88618 | EZ50: 148.94528 | FA50: 146.16279 | FB50: 145.59234 | FC50: 150.84131 | FD50: 150.21504 | FE50: 118.91381 | FF50: 102.90903 | FG50: 115.26894 | FH50: 129.84747 | FI50: 126.15431 | FJ50: 113.15663 | FK50: 107.30027 | FL50: 110.83502 | FM50: 118.9357 | FN50: 134.5896 | FO50: 138.15184 | FP50: 123.89056 | FQ50: 119.66621 | FR50: 113.94747 | FS50: 116.18536 | FT50: 119.1792 | FU50: 116.06511 | FV50: 101.77018 | FW50: 102.58481 | FX50: 112.93461 | FY50: 121.17099 | FZ50: 120.22161 | GA50: 116.19767 | GB50: 111.33652 | GC50: 104.57318 | GD50: 112.56033 | GE50: 120.5253 | GF50: 119.00027 | GG50: 115.0855 | GH50: 113.38645 | GI50: 109.08345 | GJ50: 111.68946 | GK50: 126.04514 | GL50: 115.71135 | GM50: 113.22845 | GN50: 123.18632 | GO50: 122.74145 | GP50: 114.07879 | GQ50: 115.84473 | GR50: 110.67784 | GS50: 103.44952 | GT50: 101.53625 | GU50: 104.6409 | GV50: 120.57291 | GW50: 134.02941 | GX50: 146.29617 | GY50: 146.24281 | GZ50: 136.50205 | HA50: 124.74965 | HB50: 121.5792 | HC50: 121.20246 | HD50: 123.33857 | HE50: 116.19972 | HF50: 113.60191 | HG50: 107.49767 | HH50: 119.83584 | HI50: 122.82968 | HJ50: 134.82558 | HK50: 130.51436 | HL50: 118.37072 | HM50: 109.32968 | HN50: 103.65472 | HO50: 98.805059 | HP50: 93.274964 | HQ50: 87.065661 | HR50: 84.937754 | HS50: 90.592611 | HT50: 100.8673 | HU50: 102.46169 | HV50: 104.54651 | HW50: 104.64706 | HX50: 104.59165 | HY50: 104.75376 | HZ50: 100.92271 | IA50: 98.482898 | IB50: 101.53707 | IC50: 105.86183 | ID50: 110.32448 | IE50: 112.69083 | IF50: 120.14979 | IG50: 120.85773 | IH50: 128.31463 | II50: 131.79069 | IJ50: 125.59453 | IK50: 118.30369 | IL50: 112.12243 | IM50: 109.09822 | IN50: 112.89193 | IO50: 115.60875 | IP50: 115.2279 | IQ50: 115.24145 | IR50: 120.19699 | IS50: 127.66416 | IT50: 129.23803 | IU50: 123.27291 | IV50: 108.73871 | IW50: 101.24487 | IX50: 104.30437 | IY50: 99.181393 | IZ50: 108.66074
A51: กุ้งขาวแวนนาไม (70 ตัว/กก.) | B51: 92.749658 | C51: 105.06156 | D51: 111.62791 | E51: 105.06156 | F51: 90.287278 | G51: 82.079343 | H51: 84.541724 | I51: 100.1368 | J51: 108.34473 | K51: 113.26949 | L51: 106.70315 | M51: 100.1368 | N51: 108.34473 | O51: 111.62791 | P51: 109.98632 | Q51: 105.88235 | R51: 94.391245 | S51: 85.362517 | T51: 88.645691 | U51: 88.645691 | V51: 90.287278 | W51: 89.466484 | X51: 88.645691 | Y51: 86.183311 | Z51: 87.004104 | AA51: 89.466484 | AB51: 91.928865 | AC51: 86.183311 | AD51: 77.154583 | AE51: 65.663475 | AF51: 68.125855 | AG51: 69.767442 | AH51: 79.616963 | AI51: 90.287278 | AJ51: 90.287278 | AK51: 89.466484 | AL51: 91.928865 | AM51: 86.183311 | AN51: 84.541724 | AO51: 91.108071 | AP51: 87.004104 | AQ51: 79.616963 | AR51: 88.645691 | AS51: 91.108071 | AT51: 93.570451 | AU51: 91.108071 | AV51: 82.079343 | AW51: 82.900137 | AX51: 94.391245 | AY51: 100.1368 | AZ51: 102.59918 | BA51: 93.570451 | BB51: 85.362517 | BC51: 81.25855 | BD51: 81.25855 | BE51: 82.079343 | BF51: 82.079343 | BG51: 84.541724 | BH51: 80.437756 | BI51: 83.72093 | BJ51: 82.900137 | BK51: 86.183311 | BL51: 91.928865 | BM51: 85.362517 | BN51: 81.25855 | BO51: 87.004104 | BP51: 91.928865 | BQ51: 93.570451 | BR51: 92.749658 | BS51: 100.95759 | BT51: 95.212038 | BU51: 98.495212 | BV51: 102.59918 | BW51: 109.16553 | BX51: 108.34473 | BY51: 112.4487 | BZ51: 108.34473 | CA51: 105.88235 | CB51: 105.88235 | CC51: 101.77839 | CD51: 101.77839 | CE51: 101.77839 | CF51: 103.41997 | CG51: 107.52394 | CH51: 107.52394 | CI51: 108.34473 | CJ51: 105.88235 | CK51: 96.853625 | CL51: 91.928865 | CM51: 92.749658 | CN51: 92.749658 | CO51: 105.88235 | CP51: 111.62791 | CQ51: 113.26949 | CR51: 109.98632 | CS51: 111.62791 | CT51: 119.83584 | CU51: 123.11902 | CV51: 137.0725 | CW51: 146.10123 | CX51: 147.74282 | CY51: 155.12996 | CZ51: 158.41313 | DA51: 164.15869 | DB51: 176.47059 | DC51: 197.81122 | DD51: 204.37756 | DE51: 209.30233 | DF51: 219.15185 | DG51: 218.33105 | DH51: 210.12312 | DI51: 193.70725 | DJ51: 169.90424 | DK51: 157.59234 | DL51: 167.44186 | DM51: 178.11218 | DN51: 176.47059 | DO51: 172.36662 | DP51: 167.44186 | DQ51: 161.69631 | DR51: 160.05472 | DS51: 169.08345 | DT51: 161.69631 | DU51: 146.10123 | DV51: 142.81806 | DW51: 144.45964 | DX51: 151.84679 | DY51: 145.28044 | DZ51: 141.99726 | EA51: 134.61012 | EB51: 132.96854 | EC51: 135.43092 | ED51: 141.99726 | EE51: 154.30917 | EF51: 151.84679 | EG51: 146.10123 | EH51: 141.99726 | EI51: 149.3844 | EJ51: 152.66758 | EK51: 148.56361 | EL51: 148.56361 | EM51: 138.19042 | EN51: 143.92202 | EO51: 154.41176 | EP51: 165.41942 | EQ51: 176.54446 | ER51: 179.14432 | ES51: 154.01368 | ET51: 138.83064 | EU51: 141.89261 | EV51: 143.55513 | EW51: 146.02325 | EX51: 143.1197 | EY51: 139.88618 | EZ51: 148.94528 | FA51: 146.16279 | FB51: 145.59234 | FC51: 150.84131 | FD51: 150.21504 | FE51: 118.91381 | FF51: 102.90903 | FG51: 115.26894 | FH51: 129.84747 | FI51: 126.15431 | FJ51: 113.15663 | FK51: 107.30027 | FL51: 110.83502 | FM51: 118.9357 | FN51: 134.5896 | FO51: 138.15184 | FP51: 123.89056 | FQ51: 119.66621 | FR51: 113.94747 | FS51: 116.18536 | FT51: 119.1792 | FU51: 116.06511 | FV51: 101.77018 | FW51: 102.58481 | FX51: 112.93461 | FY51: 121.17099 | FZ51: 120.22161 | GA51: 116.19767 | GB51: 111.33652 | GC51: 104.57318 | GD51: 112.56033 | GE51: 120.5253 | GF51: 119.00027 | GG51: 115.0855 | GH51: 113.38645 | GI51: 109.08345 | GJ51: 111.68946 | GK51: 126.04514 | GL51: 115.71135 | GM51: 113.22845 | GN51: 123.18632 | GO51: 122.74145 | GP51: 114.07879 | GQ51: 115.84473 | GR51: 110.67784 | GS51: 103.44952 | GT51: 101.53625 | GU51: 104.6409 | GV51: 120.57291 | GW51: 134.02941 | GX51: 146.29617 | GY51: 146.24281 | GZ51: 136.50205 | HA51: 124.74965 | HB51: 121.5792 | HC51: 121.20246 | HD51: 123.33857 | HE51: 116.19972 | HF51: 113.60191 | HG51: 107.49767 | HH51: 119.83584 | HI51: 122.82968 | HJ51: 134.82558 | HK51: 130.51436 | HL51: 118.37072 | HM51: 109.32968 | HN51: 103.65472 | HO51: 98.805059 | HP51: 93.274964 | HQ51: 87.065661 | HR51: 84.937754 | HS51: 90.592611 | HT51: 100.8673 | HU51: 102.46169 | HV51: 104.54651 | HW51: 104.64706 | HX51: 104.59165 | HY51: 104.75376 | HZ51: 100.92271 | IA51: 98.482898 | IB51: 101.53707 | IC51: 105.86183 | ID51: 110.32448 | IE51: 112.69083 | IF51: 120.14979 | IG51: 120.85773 | IH51: 128.31463 | II51: 131.79069 | IJ51: 125.59453 | IK51: 118.30369 | IL51: 112.12243 | IM51: 109.09822 | IN51: 112.89193 | IO51: 115.60875 | IP51: 115.2279 | IQ51: 115.24145 | IR51: 120.19699 | IS51: 127.66416 | IT51: 129.23803 | IU51: 123.27291 | IV51: 108.73871 | IW51: 101.24487 | IX51: 104.30437 | IY51: 99.181393 | IZ51: 108.66074
A52: ที่มา : สำนักงานเศรษฐกิจการเกษตร
A53: ข้อมูล ณ วันที่ 7 สิงหาคม 2569
