Workbook

Sheet รายปี
A1: ดัชนีราคาสินค้าเกษตร
A3: รายการสินค้า | B3: 2548 | C3: 2549 | D3: 2550 | E3: 2551 | F3: 2552 | G3: 2553 | H3: 2554 | I3: 2555 | J3: 2556 | K3: 2557 | L3: 2558 | M3: 2559 | N3: 2560 | O3: 2561 | P3: 2562 | Q3: 2563 | R3: 2564 | S3: 2565 | T3: 2566 | U3: 2567 | V3: 2568
A5: ภาคเกษตรกรรม | B5: =AVERAGE(รายเดือน!B5:M5) -> 100 | C5: =AVERAGE(รายเดือน!N5:Y5) -> 108.61321 | D5: =AVERAGE(รายเดือน!Z5:AK5) -> 111.54471 | E5: =AVERAGE(รายเดือน!AL5:AW5) -> 133.79172 | F5: =AVERAGE(รายเดือน!AX5:BI5) -> 122.61617 | G5: =AVERAGE(รายเดือน!BJ5:BU5) -> 153.08023 | H5: =AVERAGE(รายเดือน!BV5:CG5) -> 172.46232 | I5: =AVERAGE(รายเดือน!CH5:CS5) -> 153.75135 | J5: =AVERAGE(รายเดือน!CT5:DE5) -> 151.4252 | K5: =AVERAGE(รายเดือน!DF5:DQ5) -> 141.1189 | L5: =AVERAGE(รายเดือน!DR5:EC5) -> 133.24714 | M5: =AVERAGE(รายเดือน!ED5:EO5) -> 135.63111 | N5: =AVERAGE(รายเดือน!EP5:FA5) -> 133.52324 | O5: =AVERAGE(รายเดือน!FB5:FM5) -> 127.29576 | P5: =AVERAGE(รายเดือน!FN5:FY5) -> 129.42264 | Q5: =AVERAGE(รายเดือน!FZ5:GK5) -> 136.82697 | R5: =AVERAGE(รายเดือน!GL5:GW5) -> 140.58002 | S5: =AVERAGE(รายเดือน!GX5:HI5) -> 156.94611 | T5: =AVERAGE(รายเดือน!HJ5:HU5) -> 153.66828 | U5: =AVERAGE(รายเดือน!HV5:IG5) -> 165.57993 | V5: =AVERAGE(รายเดือน!IH5:IS5) -> 149.28373
A6: 1. หมวดพืชผลสำคัญ | B6: =AVERAGE(รายเดือน!B6:M6) -> 100 | C6: =AVERAGE(รายเดือน!N6:Y6) -> 114.3247 | D6: =AVERAGE(รายเดือน!Z6:AK6) -> 121.43224 | E6: =AVERAGE(รายเดือน!AL6:AW6) -> 146.88532 | F6: =AVERAGE(รายเดือน!AX6:BI6) -> 130.65469 | G6: =AVERAGE(รายเดือน!BJ6:BU6) -> 169.80954 | H6: =AVERAGE(รายเดือน!BV6:CG6) -> 191.57528 | I6: =AVERAGE(รายเดือน!CH6:CS6) -> 169.5019 | J6: =AVERAGE(รายเดือน!CT6:DE6) -> 158.11233 | K6: =AVERAGE(รายเดือน!DF6:DQ6) -> 140.78279 | L6: =AVERAGE(รายเดือน!DR6:EC6) -> 134.64749 | M6: =AVERAGE(รายเดือน!ED6:EO6) -> 137.50799 | N6: =AVERAGE(รายเดือน!EP6:FA6) -> 137.69499 | O6: =AVERAGE(รายเดือน!FB6:FM6) -> 132.61048 | P6: =AVERAGE(รายเดือน!FN6:FY6) -> 131.8262 | Q6: =AVERAGE(รายเดือน!FZ6:GK6) -> 140.99502 | R6: =AVERAGE(รายเดือน!GL6:GW6) -> 145.89206 | S6: =AVERAGE(รายเดือน!GX6:HI6) -> 156.74054 | T6: =AVERAGE(รายเดือน!HJ6:HU6) -> 157.45892 | U6: =AVERAGE(รายเดือน!HV6:IG6) -> 177.57481 | V6: =AVERAGE(รายเดือน!IH6:IS6) -> 153.6166
A7: 1.1 กลุ่มธัญพืชและพืชอาหาร | B7: =AVERAGE(รายเดือน!B7:M7) -> 100 | C7: =AVERAGE(รายเดือน!N7:Y7) -> 106.68065 | D7: =AVERAGE(รายเดือน!Z7:AK7) -> 119.19392 | E7: =AVERAGE(รายเดือน!AL7:AW7) -> 151.83297 | F7: =AVERAGE(รายเดือน!AX7:BI7) -> 141.57484 | G7: =AVERAGE(รายเดือน!BJ7:BU7) -> 163.15323 | H7: =AVERAGE(รายเดือน!BV7:CG7) -> 169.73826 | I7: =AVERAGE(รายเดือน!CH7:CS7) -> 175.56795 | J7: =AVERAGE(รายเดือน!CT7:DE7) -> 171.67175 | K7: =AVERAGE(รายเดือน!DF7:DQ7) -> 153.42756 | L7: =AVERAGE(รายเดือน!DR7:EC7) -> 148.84527 | M7: =AVERAGE(รายเดือน!ED7:EO7) -> 135.76009 | N7: =AVERAGE(รายเดือน!EP7:FA7) -> 133.92758 | O7: =AVERAGE(รายเดือน!FB7:FM7) -> 150.50249 | P7: =AVERAGE(รายเดือน!FN7:FY7) -> 147.81168 | Q7: =AVERAGE(รายเดือน!FZ7:GK7) -> 152.09903 | R7: =AVERAGE(รายเดือน!GL7:GW7) -> 140.10838 | S7: =AVERAGE(รายเดือน!GX7:HI7) -> 157.39878 | T7: =AVERAGE(รายเดือน!HJ7:HU7) -> 179.90904 | U7: =AVERAGE(รายเดือน!HV7:IG7) -> 183.81131 | V7: =AVERAGE(รายเดือน!IH7:IS7) -> 153.41227
A8: ข้าวเปลือก | B8: =AVERAGE(รายเดือน!B8:M8) -> 100 | C8: =AVERAGE(รายเดือน!N8:Y8) -> 107.85282 | D8: =AVERAGE(รายเดือน!Z8:AK8) -> 118.80155 | E8: =AVERAGE(รายเดือน!AL8:AW8) -> 159.24547 | F8: =AVERAGE(รายเดือน!AX8:BI8) -> 149.96993 | G8: =AVERAGE(รายเดือน!BJ8:BU8) -> 156.59148 | H8: =AVERAGE(รายเดือน!BV8:CG8) -> 165.32375 | I8: =AVERAGE(รายเดือน!CH8:CS8) -> 173.83728 | J8: =AVERAGE(รายเดือน!CT8:DE8) -> 168.92178 | K8: =AVERAGE(รายเดือน!DF8:DQ8) -> 145.38424 | L8: =AVERAGE(รายเดือน!DR8:EC8) -> 141.89082 | M8: =AVERAGE(รายเดือน!ED8:EO8) -> 134.72493 | N8: =AVERAGE(รายเดือน!EP8:FA8) -> 126.57587 | O8: =AVERAGE(รายเดือน!FB8:FM8) -> 145.02391 | P8: =AVERAGE(รายเดือน!FN8:FY8) -> 153.6307 | Q8: =AVERAGE(รายเดือน!FZ8:GK8) -> 159.22396 | R8: =AVERAGE(รายเดือน!GL8:GW8) -> 130.54085 | S8: =AVERAGE(รายเดือน!GX8:HI8) -> 141.37548 | T8: =AVERAGE(รายเดือน!HJ8:HU8) -> 165.83348 | U8: =AVERAGE(รายเดือน!HV8:IG8) -> 170.687 | V8: =AVERAGE(รายเดือน!IH8:IS8) -> 145.79667
A9: ข้าวเปลือกเจ้าความชื้น 15% | B9: =AVERAGE(รายเดือน!B9:M9) -> 100 | C9: =AVERAGE(รายเดือน!N9:Y9) -> 99.9737 | D9: =AVERAGE(รายเดือน!Z9:AK9) -> 97.591674 | E9: =AVERAGE(รายเดือน!AL9:AW9) -> 159.43042 | F9: =AVERAGE(รายเดือน!AX9:BI9) -> 145.15079 | G9: =AVERAGE(รายเดือน!BJ9:BU9) -> 126.24236 | H9: =AVERAGE(รายเดือน!BV9:CG9) -> 137.43414 | I9: =AVERAGE(รายเดือน!CH9:CS9) -> 151.8435 | J9: =AVERAGE(รายเดือน!CT9:DE9) -> 141.04173 | K9: =AVERAGE(รายเดือน!DF9:DQ9) -> 115.92025 | L9: =AVERAGE(รายเดือน!DR9:EC9) -> 116.56773 | M9: =AVERAGE(รายเดือน!ED9:EO9) -> 118.73671 | N9: =AVERAGE(รายเดือน!EP9:FA9) -> 116.30109 | O9: =AVERAGE(รายเดือน!FB9:FM9) -> 116.66859 | P9: =AVERAGE(รายเดือน!FN9:FY9) -> 116.91241 | Q9: =AVERAGE(รายเดือน!FZ9:GK9) -> 132.14938 | R9: =AVERAGE(รายเดือน!GL9:GW9) -> 125.26553 | S9: =AVERAGE(รายเดือน!GX9:HI9) -> 131.72187 | T9: =AVERAGE(รายเดือน!HJ9:HU9) -> 160.83921 | U9: =AVERAGE(รายเดือน!HV9:IG9) -> 159.78279 | V9: =AVERAGE(รายเดือน!IH9:IS9) -> 109.78832
A10: ข้าวเปลือกเจ้าหอมมะลิ | B10: =AVERAGE(รายเดือน!B10:M10) -> 100 | C10: =AVERAGE(รายเดือน!N10:Y10) -> 106.44616 | D10: =AVERAGE(รายเดือน!Z10:AK10) -> 114.13079 | E10: =AVERAGE(รายเดือน!AL10:AW10) -> 177.49485 | F10: =AVERAGE(รายเดือน!AX10:BI10) -> 175.84969 | G10: =AVERAGE(รายเดือน!BJ10:BU10) -> 176.35614 | H10: =AVERAGE(รายเดือน!BV10:CG10) -> 169.62823 | I10: =AVERAGE(รายเดือน!CH10:CS10) -> 196.54159 | J10: =AVERAGE(รายเดือน!CT10:DE10) -> 202.78495 | K10: =AVERAGE(รายเดือน!DF10:DQ10) -> 179.36016 | L10: =AVERAGE(รายเดือน!DR10:EC10) -> 168.38955 | M10: =AVERAGE(รายเดือน!ED10:EO10) -> 135.36614 | N10: =AVERAGE(รายเดือน!EP10:FA10) -> 132.58943 | O10: =AVERAGE(รายเดือน!FB10:FM10) -> 196.79934 | P10: =AVERAGE(รายเดือน!FN10:FY10) -> 201.54701 | Q10: =AVERAGE(รายเดือน!FZ10:GK10) -> 175.04694 | R10: =AVERAGE(รายเดือน!GL10:GW10) -> 139.5157 | S10: =AVERAGE(รายเดือน!GX10:HI10) -> 167.22452 | T10: =AVERAGE(รายเดือน!HJ10:HU10) -> 180.13502 | U10: =AVERAGE(รายเดือน!HV10:IG10) -> 191.87779 | V10: =AVERAGE(รายเดือน!IH10:IS10) -> 195.54076
A11: ข้าวเปลือกเหนียวเมล็ดยาว | B11: =AVERAGE(รายเดือน!B11:M11) -> 100 | C11: =AVERAGE(รายเดือน!N11:Y11) -> 130.14005 | D11: =AVERAGE(รายเดือน!Z11:AK11) -> 182.89839 | E11: =AVERAGE(รายเดือน!AL11:AW11) -> 135.17363 | F11: =AVERAGE(รายเดือน!AX11:BI11) -> 132.032 | G11: =AVERAGE(รายเดือน!BJ11:BU11) -> 224.38738 | H11: =AVERAGE(รายเดือน!BV11:CG11) -> 246.44913 | I11: =AVERAGE(รายเดือน!CH11:CS11) -> 212.62793 | J11: =AVERAGE(รายเดือน!CT11:DE11) -> 215.57408 | K11: =AVERAGE(รายเดือน!DF11:DQ11) -> 198.65399 | L11: =AVERAGE(รายเดือน!DR11:EC11) -> 190.4341 | M11: =AVERAGE(รายเดือน!ED11:EO11) -> 202.03112 | N11: =AVERAGE(รายเดือน!EP11:FA11) -> 170.05459 | O11: =AVERAGE(รายเดือน!FB11:FM11) -> 157.8512 | P11: =AVERAGE(รายเดือน!FN11:FY11) -> 203.94029 | Q11: =AVERAGE(รายเดือน!FZ11:GK11) -> 237.33866 | R11: =AVERAGE(รายเดือน!GL11:GW11) -> 159.83054 | S11: =AVERAGE(รายเดือน!GX11:HI11) -> 154.61678 | T11: =AVERAGE(รายเดือน!HJ11:HU11) -> 191.06476 | U11: =AVERAGE(รายเดือน!HV11:IG11) -> 203.12713 | V11: =AVERAGE(รายเดือน!IH11:IS11) -> 199.63456
A12: อ้อยโรงงาน | B12: =AVERAGE(รายเดือน!B12:M12) -> 100 | C12: =AVERAGE(รายเดือน!N12:Y12) -> 121.79878 | D12: =AVERAGE(รายเดือน!Z12:AK12) -> 115.77744 | E12: =AVERAGE(รายเดือน!AL12:AW12) -> 118.00305 | F12: =AVERAGE(รายเดือน!AX12:BI12) -> 138.04878 | G12: =AVERAGE(รายเดือน!BJ12:BU12) -> 173.24223 | H12: =AVERAGE(รายเดือน!BV12:CG12) -> 170.10671 | I12: =AVERAGE(รายเดือน!CH12:CS12) -> 176.18902 | J12: =AVERAGE(รายเดือน!CT12:DE12) -> 176.69207 | K12: =AVERAGE(รายเดือน!DF12:DQ12) -> 167.92683 | L12: =AVERAGE(รายเดือน!DR12:EC12) -> 145.70122 | M12: =AVERAGE(รายเดือน!ED12:EO12) -> 137.29013 | N12: =AVERAGE(รายเดือน!EP12:FA12) -> 177.90973 | O12: =AVERAGE(รายเดือน!FB12:FM12) -> 139.64984 | P12: =AVERAGE(รายเดือน!FN12:FY12) -> 122.22191 | Q12: =AVERAGE(รายเดือน!FZ12:GK12) -> 131.11593 | R12: =AVERAGE(รายเดือน!GL12:GW12) -> 169.88869 | S12: =AVERAGE(รายเดือน!GX12:HI12) -> 196.36227 | T12: =AVERAGE(รายเดือน!HJ12:HU12) -> 213.25922 | U12: =AVERAGE(รายเดือน!HV12:IG12) -> 265.33044 | V12: =AVERAGE(รายเดือน!IH12:IS12) -> 208.3987
A13: มันสำปะหลังสดคละ | B13: =AVERAGE(รายเดือน!B13:M13) -> 100 | C13: =AVERAGE(รายเดือน!N13:Y13) -> 80.34504 | D13: =AVERAGE(รายเดือน!Z13:AK13) -> 107.94824 | E13: =AVERAGE(รายเดือน!AL13:AW13) -> 133.51818 | F13: =AVERAGE(รายเดือน!AX13:BI13) -> 92.54467 | G13: =AVERAGE(รายเดือน!BJ13:BU13) -> 172.15034 | H13: =AVERAGE(รายเดือน!BV13:CG13) -> 176.03204 | I13: =AVERAGE(รายเดือน!CH13:CS13) -> 149.04498 | J13: =AVERAGE(รายเดือน!CT13:DE13) -> 157.48614 | K13: =AVERAGE(รายเดือน!DF13:DQ13) -> 155.51448 | L13: =AVERAGE(รายเดือน!DR13:EC13) -> 159.39618 | M13: =AVERAGE(รายเดือน!ED13:EO13) -> 112.46457 | N13: =AVERAGE(รายเดือน!EP13:FA13) -> 103.69377 | O13: =AVERAGE(รายเดือน!FB13:FM13) -> 175.95707 | P13: =AVERAGE(รายเดือน!FN13:FY13) -> 139.73095 | Q13: =AVERAGE(รายเดือน!FZ13:GK13) -> 132.82501 | R13: =AVERAGE(รายเดือน!GL13:GW13) -> 152.84042 | S13: =AVERAGE(รายเดือน!GX13:HI13) -> 186.4582 | T13: =AVERAGE(รายเดือน!HJ13:HU13) -> 214.87163 | U13: =AVERAGE(รายเดือน!HV13:IG13) -> 172.43992 | V13: =AVERAGE(รายเดือน!IH13:IS13) -> 126.71493
A14: ข้าวโพดเลี้ยงสัตว์ ความชื้น 14.5% | B14: =AVERAGE(รายเดือน!B14:M14) -> 100 | C14: =AVERAGE(รายเดือน!N14:Y14) -> 108.24213 | D14: =AVERAGE(รายเดือน!Z14:AK14) -> 139.72298 | E14: =AVERAGE(รายเดือน!AL14:AW14) -> 161.09781 | F14: =AVERAGE(รายเดือน!AX14:BI14) -> 125.95759 | G14: =AVERAGE(รายเดือน!BJ14:BU14) -> 163.57729 | H14: =AVERAGE(รายเดือน!BV14:CG14) -> 167.45896 | I14: =AVERAGE(รายเดือน!CH14:CS14) -> 185.67031 | J14: =AVERAGE(รายเดือน!CT14:DE14) -> 162.0383 | K14: =AVERAGE(รายเดือน!DF14:DQ14) -> 148.58071 | L14: =AVERAGE(รายเดือน!DR14:EC14) -> 164.60328 | M14: =AVERAGE(รายเดือน!ED14:EO14) -> 150.13081 | N14: =AVERAGE(รายเดือน!EP14:FA14) -> 126.66723 | O14: =AVERAGE(รายเดือน!FB14:FM14) -> 162.51909 | P14: =AVERAGE(รายเดือน!FN14:FY14) -> 160.24224 | Q14: =AVERAGE(รายเดือน!FZ14:GK14) -> 157.42561 | R14: =AVERAGE(รายเดือน!GL14:GW14) -> 168.3168 | S14: =AVERAGE(รายเดือน!GX14:HI14) -> 201.34205 | T14: =AVERAGE(รายเดือน!HJ14:HU14) -> 208.87112 | U14: =AVERAGE(รายเดือน!HV14:IG14) -> 177.52052 | V14: =AVERAGE(รายเดือน!IH14:IS14) -> 169.06862
A15: ถั่วเขียวผิวมันใหญ่ | B15: =AVERAGE(รายเดือน!B15:M15) -> 100 | C15: =AVERAGE(รายเดือน!N15:Y15) -> 104.51764 | D15: =AVERAGE(รายเดือน!Z15:AK15) -> 111.46461 | E15: =AVERAGE(รายเดือน!AL15:AW15) -> 100.05606 | F15: =AVERAGE(รายเดือน!AX15:BI15) -> 115.41229 | G15: =AVERAGE(รายเดือน!BJ15:BU15) -> 183.79818 | H15: =AVERAGE(รายเดือน!BV15:CG15) -> 151.05038 | I15: =AVERAGE(รายเดือน!CH15:CS15) -> 114.58538 | J15: =AVERAGE(รายเดือน!CT15:DE15) -> 135.95422 | K15: =AVERAGE(รายเดือน!DF15:DQ15) -> 182.92922 | L15: =AVERAGE(รายเดือน!DR15:EC15) -> 188.25041 | M15: =AVERAGE(รายเดือน!ED15:EO15) -> 166.75847 | N15: =AVERAGE(รายเดือน!EP15:FA15) -> 139.61457 | O15: =AVERAGE(รายเดือน!FB15:FM15) -> 119.59799 | P15: =AVERAGE(รายเดือน!FN15:FY15) -> 121.70209 | Q15: =AVERAGE(รายเดือน!FZ15:GK15) -> 133.007 | R15: =AVERAGE(รายเดือน!GL15:GW15) -> 139.32983 | S15: =AVERAGE(รายเดือน!GX15:HI15) -> 139.86428 | T15: =AVERAGE(รายเดือน!HJ15:HU15) -> 153.47769 | U15: =AVERAGE(รายเดือน!HV15:IG15) -> 146.16094 | V15: =AVERAGE(รายเดือน!IH15:IS15) -> 125.73931
A16: 1.2 กลุ่มไม้ยืนต้น | B16: =AVERAGE(รายเดือน!B16:M16) -> 100 | C16: =AVERAGE(รายเดือน!N16:Y16) -> 130.67187 | D16: =AVERAGE(รายเดือน!Z16:AK16) -> 132.55583 | E16: =AVERAGE(รายเดือน!AL16:AW16) -> 147.82297 | F16: =AVERAGE(รายเดือน!AX16:BI16) -> 109.3737 | G16: =AVERAGE(รายเดือน!BJ16:BU16) -> 197.24951 | H16: =AVERAGE(รายเดือน!BV16:CG16) -> 245.64442 | I16: =AVERAGE(รายเดือน!CH16:CS16) -> 173.16732 | J16: =AVERAGE(รายเดือน!CT16:DE16) -> 144.30949 | K16: =AVERAGE(รายเดือน!DF16:DQ16) -> 107.27201 | L16: =AVERAGE(รายเดือน!DR16:EC16) -> 87.2176 | M16: =AVERAGE(รายเดือน!ED16:EO16) -> 93.828917 | N16: =AVERAGE(รายเดือน!EP16:FA16) -> 111.51885 | O16: =AVERAGE(รายเดือน!FB16:FM16) -> 80.48175 | P16: =AVERAGE(รายเดือน!FN16:FY16) -> 81.423625 | Q16: =AVERAGE(รายเดือน!FZ16:GK16) -> 83.221435 | R16: =AVERAGE(รายเดือน!GL16:GW16) -> 101.978 | S16: =AVERAGE(รายเดือน!GX16:HI16) -> 103.51306 | T16: =AVERAGE(รายเดือน!HJ16:HU16) -> 88.022255 | U16: =AVERAGE(รายเดือน!HV16:IG16) -> 135.63784 | V16: =AVERAGE(รายเดือน!IH16:IS16) -> 117.59188
... A51: กุ้งขาวแวนนาไม (70 ตัว/กก.) | B51: =AVERAGE(รายเดือน!B51:M51) -> 100 | C51: =AVERAGE(รายเดือน!N51:Y51) -> 95.622435 | D51: =AVERAGE(รายเดือน!Z51:AK51) -> 82.079343 | E51: =AVERAGE(รายเดือน!AL51:AW51) -> 87.4829 | F51: =AVERAGE(รายเดือน!AX51:BI51) -> 87.619699 | G51: =AVERAGE(รายเดือน!BJ51:BU51) -> 90.629275 | H51: =AVERAGE(รายเดือน!BV51:CG51) -> 105.74555 | I51: =AVERAGE(รายเดือน!CH51:CS51) -> 104.03557 | J51: =AVERAGE(รายเดือน!CT51:DE51) -> 161.62791 | K51: =AVERAGE(รายเดือน!DF51:DQ51) -> 182.69494 | L51: =AVERAGE(รายเดือน!DR51:EC51) -> 147.19562 | M51: =AVERAGE(รายเดือน!ED51:EO51) -> 147.66293 | N51: =AVERAGE(รายเดือน!EP51:FA51) -> 151.96145 | O51: =AVERAGE(รายเดือน!FB51:FM51) -> 124.16416 | P51: =AVERAGE(รายเดือน!FN51:FY51) -> 118.34466 | Q51: =AVERAGE(รายเดือน!FZ51:GK51) -> 114.97541 | R51: =AVERAGE(รายเดือน!GL51:GW51) -> 114.97483 | S51: =AVERAGE(รายเดือน!GX51:HI51) -> 124.98965 | T51: =AVERAGE(รายเดือน!HJ51:HU51) -> 104.55834 | U51: =AVERAGE(รายเดือน!HV51:IG51) -> 107.44719 | V51: =AVERAGE(รายเดือน!IH51:IS51) -> 119.33795
A52: ที่มา : สำนักงานเศรษฐกิจการเกษตร
A53: หมายเหตุ ดัชนีราคาสินค้าเกษตร คำนวณแบบปริมาณลูกโซ่ (Chained-base Laspeyres) และปีอ้างอิง (Reference Year) คือ พ.ศ. 2548 = 100)

Sheet รายไตรมาส
A1: ดัชนีราคาสินค้าเกษตร
A2: (2548 = 100)
A3: รายการสินค้า | B3: 2548 | F3: 2549 | J3: 2550 | N3: 2551 | R3: 2552 | V3: 2553 | Z3: 2554 | AD3: 2555 | AH3: 2556 | AL3: 2557 | AP3: 2558 | AT3: 2559 | AX3: 2560 | BB3: 2561 | BF3: 2562 | BJ3: 2563 | BN3: 2564 | BR3: 2565 | BV3: 2566 | BZ3: 2567 | CD3: 2568 | CH3: 2569
B4: ไตรมาส 1 | C4: ไตรมาส 2 | D4: ไตรมาส 3 | E4: ไตรมาส 4 | F4: ไตรมาส 1 | G4: ไตรมาส 2 | H4: ไตรมาส 3 | I4: ไตรมาส 4 | J4: ไตรมาส 1 | K4: ไตรมาส 2 | L4: ไตรมาส 3 | M4: ไตรมาส 4 | N4: ไตรมาส 1 | O4: ไตรมาส 2 | P4: ไตรมาส 3 | Q4: ไตรมาส 4 | R4: ไตรมาส 1 | S4: ไตรมาส 2 | T4: ไตรมาส 3 | U4: ไตรมาส 4 | V4: ไตรมาส 1 | W4: ไตรมาส 2 | X4: ไตรมาส 3 | Y4: ไตรมาส 4 | Z4: ไตรมาส 1 | AA4: ไตรมาส 2 | AB4: ไตรมาส 3 | AC4: ไตรมาส 4 | AD4: ไตรมาส 1 | AE4: ไตรมาส 2 | AF4: ไตรมาส 3 | AG4: ไตรมาส 4 | AH4: ไตรมาส 1 | AI4: ไตรมาส 2 | AJ4: ไตรมาส 3 | AK4: ไตรมาส 4 | AL4: ไตรมาส 1 | AM4: ไตรมาส 2 | AN4: ไตรมาส 3 | AO4: ไตรมาส 4 | AP4: ไตรมาส 1 | AQ4: ไตรมาส 2 | AR4: ไตรมาส 3 | AS4: ไตรมาส 4 | AT4: ไตรมาส 1 | AU4: ไตรมาส 2 | AV4: ไตรมาส 3 | AW4: ไตรมาส 4 | AX4: ไตรมาส 1 | AY4: ไตรมาส 2 | AZ4: ไตรมาส 3 | BA4: ไตรมาส 4 | BB4: ไตรมาส 1 | BC4: ไตรมาส 2 | BD4: ไตรมาส 3 | BE4: ไตรมาส 4 | BF4: ไตรมาส 1 | BG4: ไตรมาส 2 | BH4: ไตรมาส 3 | BI4: ไตรมาส 4 | BJ4: ไตรมาส 1 | BK4: ไตรมาส 2 | BL4: ไตรมาส 3 | BM4: ไตรมาส 4 | BN4: ไตรมาส 1 | BO4: ไตรมาส 2 | BP4: ไตรมาส 3 | BQ4: ไตรมาส 4 | BR4: ไตรมาส 1 | BS4: ไตรมาส 2 | BT4: ไตรมาส 3 | BU4: ไตรมาส 4 | BV4: ไตรมาส 1 | BW4: ไตรมาส 2 | BX4: ไตรมาส 3 | BY4: ไตรมาส 4 | BZ4: ไตรมาส 1 | CA4: ไตรมาส 2 | CB4: ไตรมาส 3 | CC4: ไตรมาส 4 | CD4: ไตรมาส 1 | CE4: ไตรมาส 2 | CF4: ไตรมาส 3 | CG4: ไตรมาส 4 | CH4: ไตรมาส 1 | CI4: ไตรมาส 2 | CJ4: ไตรมาส 3 | CK4: ไตรมาส 4
A5: ภาคเกษตรกรรม | B5: =AVERAGE(รายเดือน!B5:D5) -> 95.312793 | C5: =AVERAGE(รายเดือน!E5:G5) -> 96.889458 | D5: =AVERAGE(รายเดือน!H5:J5) -> 102.22262 | E5: =AVERAGE(รายเดือน!K5:M5) -> 105.57513 | F5: =AVERAGE(รายเดือน!N5:P5) -> 111.42417 | G5: =AVERAGE(รายเดือน!Q5:S5) -> 114.89353 | H5: =AVERAGE(รายเดือน!T5:V5) -> 106.28693 | I5: =AVERAGE(รายเดือน!W5:Y5) -> 101.84821 | J5: =AVERAGE(รายเดือน!Z5:AB5) -> 109.72578 | K5: =AVERAGE(รายเดือน!AC5:AE5) -> 110.33871 | L5: =AVERAGE(รายเดือน!AF5:AH5) -> 109.90575 | M5: =AVERAGE(รายเดือน!AI5:AK5) -> 116.20858 | N5: =AVERAGE(รายเดือน!AL5:AN5) -> 128.08685 | O5: =AVERAGE(รายเดือน!AO5:AQ5) -> 146.78142 | P5: =AVERAGE(รายเดือน!AR5:AT5) -> 143.88177 | Q5: =AVERAGE(รายเดือน!AU5:AW5) -> 116.41683 | R5: =AVERAGE(รายเดือน!AX5:AZ5) -> 118.55973 | S5: =AVERAGE(รายเดือน!BA5:BC5) -> 120.86398 | T5: =AVERAGE(รายเดือน!BD5:BF5) -> 120.55813 | U5: =AVERAGE(รายเดือน!BG5:BI5) -> 130.48283 | V5: =AVERAGE(รายเดือน!BJ5:BL5) -> 144.41169 | W5: =AVERAGE(รายเดือน!BM5:BO5) -> 149.87765 | X5: =AVERAGE(รายเดือน!BP5:BR5) -> 155.15371 | Y5: =AVERAGE(รายเดือน!BS5:BU5) -> 162.87785 | Z5: =AVERAGE(รายเดือน!BV5:BX5) -> 184.06525 | AA5: =AVERAGE(รายเดือน!BY5:CA5) -> 179.06863 | AB5: =AVERAGE(รายเดือน!CB5:CD5) -> 168.86991 | AC5: =AVERAGE(รายเดือน!CE5:CG5) -> 157.84548 | AD5: =AVERAGE(รายเดือน!CH5:CJ5) -> 158.98601 | AE5: =AVERAGE(รายเดือน!CK5:CM5) -> 156.95069 | AF5: =AVERAGE(รายเดือน!CN5:CP5) -> 150.48217 | AG5: =AVERAGE(รายเดือน!CQ5:CS5) -> 148.58652 | AH5: =AVERAGE(รายเดือน!CT5:CV5) -> 151.40141 | AI5: =AVERAGE(รายเดือน!CW5:CY5) -> 154.66161 | AJ5: =AVERAGE(รายเดือน!CZ5:DB5) -> 150.75971 | AK5: =AVERAGE(รายเดือน!DC5:DE5) -> 148.87805 | AL5: =AVERAGE(รายเดือน!DF5:DH5) -> 148.21082 | AM5: =AVERAGE(รายเดือน!DI5:DK5) -> 143.91981 | AN5: =AVERAGE(รายเดือน!DL5:DN5) -> 138.17694 | AO5: =AVERAGE(รายเดือน!DO5:DQ5) -> 134.16802 | AP5: =AVERAGE(รายเดือน!DR5:DT5) -> 136.79107 | AQ5: =AVERAGE(รายเดือน!DU5:DW5) -> 135.1944 | AR5: =AVERAGE(รายเดือน!DX5:DZ5) -> 132.6256 | AS5: =AVERAGE(รายเดือน!EA5:EC5) -> 128.3775 | AT5: =AVERAGE(รายเดือน!ED5:EF5) -> 128.46758 | AU5: =AVERAGE(รายเดือน!EG5:EI5) -> 140.06589 | AV5: =AVERAGE(รายเดือน!EJ5:EL5) -> 140.71882 | AW5: =AVERAGE(รายเดือน!EM5:EO5) -> 133.27216 | AX5: =AVERAGE(รายเดือน!EP5:ER5) -> 144.57764 | AY5: =AVERAGE(รายเดือน!ES5:EU5) -> 136.50729 | AZ5: =AVERAGE(รายเดือน!EV5:EX5) -> 128.97617 | BA5: =AVERAGE(รายเดือน!EY5:FA5) -> 124.03184 | BB5: =AVERAGE(รายเดือน!FB5:FD5) -> 127.90779 | BC5: =AVERAGE(รายเดือน!FE5:FG5) -> 130.22053 | BD5: =AVERAGE(รายเดือน!FH5:FJ5) -> 126.75771 | BE5: =AVERAGE(รายเดือน!FK5:FM5) -> 124.29701 | BF5: =AVERAGE(รายเดือน!FN5:FP5) -> 126.65405 | BG5: =AVERAGE(รายเดือน!FQ5:FS5) -> 133.75741 | BH5: =AVERAGE(รายเดือน!FT5:FV5) -> 129.65489 | BI5: =AVERAGE(รายเดือน!FW5:FY5) -> 127.62422 | BJ5: =AVERAGE(รายเดือน!FZ5:GB5) -> 137.22178 | BK5: =AVERAGE(รายเดือน!GC5:GE5) -> 130.6347 | BL5: =AVERAGE(รายเดือน!GF5:GH5) -> 137.01975 | BM5: =AVERAGE(รายเดือน!GI5:GK5) -> 142.43164 | BN5: =AVERAGE(รายเดือน!GL5:GN5) -> 150.07875 | BO5: =AVERAGE(รายเดือน!GO5:GQ5) -> 146.32513 | BP5: =AVERAGE(รายเดือน!GR5:GT5) -> 130.16079 | BQ5: =AVERAGE(รายเดือน!GU5:GW5) -> 135.75543 | BR5: =AVERAGE(รายเดือน!GX5:GZ5) -> 156.17265 | BS5: =AVERAGE(รายเดือน!HA5:HC5) -> 161.60512 | BT5: =AVERAGE(รายเดือน!HD5:HF5) -> 156.48254 | BU5: =AVERAGE(รายเดือน!HG5:HI5) -> 153.52414 | BV5: =AVERAGE(รายเดือน!HJ5:HL5) -> 154.47851 | BW5: =AVERAGE(รายเดือน!HM5:HO5) -> 153.1292 | BX5: =AVERAGE(รายเดือน!HP5:HR5) -> 153.80979 | BY5: =AVERAGE(รายเดือน!HS5:HU5) -> 153.25562 | BZ5: =AVERAGE(รายเดือน!HV5:HX5) -> 162.69022 | CA5: =AVERAGE(รายเดือน!HY5:IA5) -> 170.07791 | CB5: =AVERAGE(รายเดือน!IB5:ID5) -> 165.14862 | CC5: =AVERAGE(รายเดือน!IE5:IG5) -> 164.40296 | CD5: =AVERAGE(รายเดือน!IH5:IJ5) -> 161.12289 | CE5: =AVERAGE(รายเดือน!IK5:IM5) -> 150.17143 | CF5: =AVERAGE(รายเดือน!IN5:IP5) -> 143.89561 | CG5: =AVERAGE(รายเดือน!IQ5:IS5) -> 141.94499 | CH5: =AVERAGE(รายเดือน!IT5:IV5) -> 147.46053 | CI5: =AVERAGE(รายเดือน!IW5:IY5) -> 159.35018
A6: 1. หมวดพืชผลสำคัญ | B6: =AVERAGE(รายเดือน!B6:D6) -> 94.387552 | C6: =AVERAGE(รายเดือน!E6:G6) -> 95.433115 | D6: =AVERAGE(รายเดือน!H6:J6) -> 102.3991 | E6: =AVERAGE(รายเดือน!K6:M6) -> 107.78024 | F6: =AVERAGE(รายเดือน!N6:P6) -> 115.73483 | G6: =AVERAGE(รายเดือน!Q6:S6) -> 121.93884 | H6: =AVERAGE(รายเดือน!T6:V6) -> 112.40949 | I6: =AVERAGE(รายเดือน!W6:Y6) -> 107.21565 | J6: =AVERAGE(รายเดือน!Z6:AB6) -> 120.19838 | K6: =AVERAGE(รายเดือน!AC6:AE6) -> 120.87396 | L6: =AVERAGE(รายเดือน!AF6:AH6) -> 118.72507 | M6: =AVERAGE(รายเดือน!AI6:AK6) -> 125.93156 | N6: =AVERAGE(รายเดือน!AL6:AN6) -> 139.80792 | O6: =AVERAGE(รายเดือน!AO6:AQ6) -> 163.96027 | P6: =AVERAGE(รายเดือน!AR6:AT6) -> 160.24769 | Q6: =AVERAGE(รายเดือน!AU6:AW6) -> 123.52539 | R6: =AVERAGE(รายเดือน!AX6:AZ6) -> 125.31208 | S6: =AVERAGE(รายเดือน!BA6:BC6) -> 127.80292 | T6: =AVERAGE(รายเดือน!BD6:BF6) -> 127.88298 | U6: =AVERAGE(รายเดือน!BG6:BI6) -> 141.62076 | V6: =AVERAGE(รายเดือน!BJ6:BL6) -> 158.71277 | W6: =AVERAGE(รายเดือน!BM6:BO6) -> 165.79961 | X6: =AVERAGE(รายเดือน!BP6:BR6) -> 171.71959 | Y6: =AVERAGE(รายเดือน!BS6:BU6) -> 183.00622 | Z6: =AVERAGE(รายเดือน!BV6:BX6) -> 209.5682 | AA6: =AVERAGE(รายเดือน!BY6:CA6) -> 199.1118 | AB6: =AVERAGE(รายเดือน!CB6:CD6) -> 185.18395 | AC6: =AVERAGE(รายเดือน!CE6:CG6) -> 172.43717 | AD6: =AVERAGE(รายเดือน!CH6:CJ6) -> 176.21045 | AE6: =AVERAGE(รายเดือน!CK6:CM6) -> 174.26472 | AF6: =AVERAGE(รายเดือน!CN6:CP6) -> 165.24536 | AG6: =AVERAGE(รายเดือน!CQ6:CS6) -> 162.28707 | AH6: =AVERAGE(รายเดือน!CT6:CV6) -> 162.94021 | AI6: =AVERAGE(รายเดือน!CW6:CY6) -> 163.53808 | AJ6: =AVERAGE(รายเดือน!CZ6:DB6) -> 155.60412 | AK6: =AVERAGE(รายเดือน!DC6:DE6) -> 150.36693 | AL6: =AVERAGE(รายเดือน!DF6:DH6) -> 149.09161 | AM6: =AVERAGE(รายเดือน!DI6:DK6) -> 144.08133 | AN6: =AVERAGE(รายเดือน!DL6:DN6) -> 136.45941 | AO6: =AVERAGE(รายเดือน!DO6:DQ6) -> 133.49882 | AP6: =AVERAGE(รายเดือน!DR6:DT6) -> 139.44864 | AQ6: =AVERAGE(รายเดือน!DU6:DW6) -> 137.44502 | AR6: =AVERAGE(รายเดือน!DX6:DZ6) -> 132.499 | AS6: =AVERAGE(รายเดือน!EA6:EC6) -> 129.19729 | AT6: =AVERAGE(รายเดือน!ED6:EF6) -> 128.15934 | AU6: =AVERAGE(รายเดือน!EG6:EI6) -> 142.63818 | AV6: =AVERAGE(รายเดือน!EJ6:EL6) -> 143.19199 | AW6: =AVERAGE(รายเดือน!EM6:EO6) -> 136.04246 | AX6: =AVERAGE(รายเดือน!EP6:ER6) -> 152.02489 | AY6: =AVERAGE(รายเดือน!ES6:EU6) -> 140.79141 | AZ6: =AVERAGE(รายเดือน!EV6:EX6) -> 130.54423 | BA6: =AVERAGE(รายเดือน!EY6:FA6) -> 127.41943 | BB6: =AVERAGE(รายเดือน!FB6:FD6) -> 134.28172 | BC6: =AVERAGE(รายเดือน!FE6:FG6) -> 136.91841 | BD6: =AVERAGE(รายเดือน!FH6:FJ6) -> 130.82768 | BE6: =AVERAGE(รายเดือน!FK6:FM6) -> 128.41409 | BF6: =AVERAGE(รายเดือน!FN6:FP6) -> 127.93689 | BG6: =AVERAGE(รายเดือน!FQ6:FS6) -> 136.68066 | BH6: =AVERAGE(รายเดือน!FT6:FV6) -> 131.72518 | BI6: =AVERAGE(รายเดือน!FW6:FY6) -> 130.96209 | BJ6: =AVERAGE(รายเดือน!FZ6:GB6) -> 141.13564 | BK6: =AVERAGE(รายเดือน!GC6:GE6) -> 134.31243 | BL6: =AVERAGE(รายเดือน!GF6:GH6) -> 140.10142 | BM6: =AVERAGE(รายเดือน!GI6:GK6) -> 148.43058 | BN6: =AVERAGE(รายเดือน!GL6:GN6) -> 158.46622 | BO6: =AVERAGE(รายเดือน!GO6:GQ6) -> 153.43335 | BP6: =AVERAGE(รายเดือน!GR6:GT6) -> 133.06966 | BQ6: =AVERAGE(รายเดือน!GU6:GW6) -> 138.59902 | BR6: =AVERAGE(รายเดือน!GX6:GZ6) -> 158.25848 | BS6: =AVERAGE(รายเดือน!HA6:HC6) -> 164.47802 | BT6: =AVERAGE(รายเดือน!HD6:HF6) -> 153.68251 | BU6: =AVERAGE(รายเดือน!HG6:HI6) -> 150.54317 | BV6: =AVERAGE(รายเดือน!HJ6:HL6) -> 153.96621 | BW6: =AVERAGE(รายเดือน!HM6:HO6) -> 155.34923 | BX6: =AVERAGE(รายเดือน!HP6:HR6) -> 159.7163 | BY6: =AVERAGE(รายเดือน!HS6:HU6) -> 160.80392 | BZ6: =AVERAGE(รายเดือน!HV6:HX6) -> 174.50002 | CA6: =AVERAGE(รายเดือน!HY6:IA6) -> 183.99255 | CB6: =AVERAGE(รายเดือน!IB6:ID6) -> 176.50231 | CC6: =AVERAGE(รายเดือน!IE6:IG6) -> 175.30435 | CD6: =AVERAGE(รายเดือน!IH6:IJ6) -> 169.32327 | CE6: =AVERAGE(รายเดือน!IK6:IM6) -> 151.66011 | CF6: =AVERAGE(รายเดือน!IN6:IP6) -> 146.67998 | CG6: =AVERAGE(รายเดือน!IQ6:IS6) -> 146.80306 | CH6: =AVERAGE(รายเดือน!IT6:IV6) -> 154.7589 | CI6: =AVERAGE(รายเดือน!IW6:IY6) -> 170.9345
A7: 1.1 กลุ่มธัญพืชและพืชอาหาร | B7: =AVERAGE(รายเดือน!B7:D7) -> 99.270373 | C7: =AVERAGE(รายเดือน!E7:G7) -> 99.738221 | D7: =AVERAGE(รายเดือน!H7:J7) -> 100.35667 | E7: =AVERAGE(รายเดือน!K7:M7) -> 100.63474 | F7: =AVERAGE(รายเดือน!N7:P7) -> 103.54187 | G7: =AVERAGE(รายเดือน!Q7:S7) -> 104.57839 | H7: =AVERAGE(รายเดือน!T7:V7) -> 109.35352 | I7: =AVERAGE(รายเดือน!W7:Y7) -> 109.24881 | J7: =AVERAGE(รายเดือน!Z7:AB7) -> 115.38511 | K7: =AVERAGE(รายเดือน!AC7:AE7) -> 117.23014 | L7: =AVERAGE(รายเดือน!AF7:AH7) -> 122.84317 | M7: =AVERAGE(รายเดือน!AI7:AK7) -> 121.31727 | N7: =AVERAGE(รายเดือน!AL7:AN7) -> 134.91201 | O7: =AVERAGE(รายเดือน!AO7:AQ7) -> 176.8906 | P7: =AVERAGE(รายเดือน!AR7:AT7) -> 158.73402 | Q7: =AVERAGE(รายเดือน!AU7:AW7) -> 136.79527 | R7: =AVERAGE(รายเดือน!AX7:AZ7) -> 140.59184 | S7: =AVERAGE(รายเดือน!BA7:BC7) -> 140.73009 | T7: =AVERAGE(รายเดือน!BD7:BF7) -> 139.17743 | U7: =AVERAGE(รายเดือน!BG7:BI7) -> 145.80001 | V7: =AVERAGE(รายเดือน!BJ7:BL7) -> 157.64136 | W7: =AVERAGE(รายเดือน!BM7:BO7) -> 156.26763 | X7: =AVERAGE(รายเดือน!BP7:BR7) -> 171.73712 | Y7: =AVERAGE(รายเดือน!BS7:BU7) -> 166.96682 | Z7: =AVERAGE(รายเดือน!BV7:BX7) -> 167.29928 | AA7: =AVERAGE(รายเดือน!BY7:CA7) -> 164.34243 | AB7: =AVERAGE(รายเดือน!CB7:CD7) -> 169.54832 | AC7: =AVERAGE(รายเดือน!CE7:CG7) -> 177.76301 | AD7: =AVERAGE(รายเดือน!CH7:CJ7) -> 172.67748 | AE7: =AVERAGE(รายเดือน!CK7:CM7) -> 175.11016 | AF7: =AVERAGE(รายเดือน!CN7:CP7) -> 178.57427 | AG7: =AVERAGE(รายเดือน!CQ7:CS7) -> 175.90987 | AH7: =AVERAGE(รายเดือน!CT7:CV7) -> 177.90419 | AI7: =AVERAGE(รายเดือน!CW7:CY7) -> 178.25483 | AJ7: =AVERAGE(รายเดือน!CZ7:DB7) -> 172.20124 | AK7: =AVERAGE(รายเดือน!DC7:DE7) -> 158.32675 | AL7: =AVERAGE(รายเดือน!DF7:DH7) -> 153.67092 | AM7: =AVERAGE(รายเดือน!DI7:DK7) -> 151.9057 | AN7: =AVERAGE(รายเดือน!DL7:DN7) -> 157.14707 | AO7: =AVERAGE(รายเดือน!DO7:DQ7) -> 150.98654 | AP7: =AVERAGE(รายเดือน!DR7:DT7) -> 151.00605 | AQ7: =AVERAGE(รายเดือน!DU7:DW7) -> 149.90633 | AR7: =AVERAGE(รายเดือน!DX7:DZ7) -> 151.38837 | AS7: =AVERAGE(รายเดือน!EA7:EC7) -> 143.08036 | AT7: =AVERAGE(รายเดือน!ED7:EF7) -> 139.13908 | AU7: =AVERAGE(รายเดือน!EG7:EI7) -> 140.04058 | AV7: =AVERAGE(รายเดือน!EJ7:EL7) -> 138.20147 | AW7: =AVERAGE(รายเดือน!EM7:EO7) -> 125.65923 | AX7: =AVERAGE(รายเดือน!EP7:ER7) -> 132.92831 | AY7: =AVERAGE(รายเดือน!ES7:EU7) -> 131.10308 | AZ7: =AVERAGE(รายเดือน!EV7:EX7) -> 134.37153 | BA7: =AVERAGE(รายเดือน!EY7:FA7) -> 137.3074 | BB7: =AVERAGE(รายเดือน!FB7:FD7) -> 146.89496 | BC7: =AVERAGE(รายเดือน!FE7:FG7) -> 155.29827 | BD7: =AVERAGE(รายเดือน!FH7:FJ7) -> 150.14576 | BE7: =AVERAGE(รายเดือน!FK7:FM7) -> 149.67098 | BF7: =AVERAGE(รายเดือน!FN7:FP7) -> 143.99076 | BG7: =AVERAGE(รายเดือน!FQ7:FS7) -> 147.36993 | BH7: =AVERAGE(รายเดือน!FT7:FV7) -> 150.12749 | BI7: =AVERAGE(รายเดือน!FW7:FY7) -> 149.75854 | BJ7: =AVERAGE(รายเดือน!FZ7:GB7) -> 150.93559 | BK7: =AVERAGE(รายเดือน!GC7:GE7) -> 158.83195 | BL7: =AVERAGE(รายเดือน!GF7:GH7) -> 156.92771 | BM7: =AVERAGE(รายเดือน!GI7:GK7) -> 141.70088 | BN7: =AVERAGE(รายเดือน!GL7:GN7) -> 149.02383 | BO7: =AVERAGE(รายเดือน!GO7:GQ7) -> 144.63298 | BP7: =AVERAGE(รายเดือน!GR7:GT7) -> 134.06903 | BQ7: =AVERAGE(รายเดือน!GU7:GW7) -> 132.70768 | BR7: =AVERAGE(รายเดือน!GX7:GZ7) -> 145.65633 | BS7: =AVERAGE(รายเดือน!HA7:HC7) -> 156.99485 | BT7: =AVERAGE(รายเดือน!HD7:HF7) -> 162.85947 | BU7: =AVERAGE(รายเดือน!HG7:HI7) -> 164.08449 | BV7: =AVERAGE(รายเดือน!HJ7:HL7) -> 172.58784 | BW7: =AVERAGE(รายเดือน!HM7:HO7) -> 176.32197 | BX7: =AVERAGE(รายเดือน!HP7:HR7) -> 186.75689 | BY7: =AVERAGE(รายเดือน!HS7:HU7) -> 183.96948 | BZ7: =AVERAGE(รายเดือน!HV7:HX7) -> 191.20596 | CA7: =AVERAGE(รายเดือน!HY7:IA7) -> 185.30894 | CB7: =AVERAGE(รายเดือน!IB7:ID7) -> 184.63988 | CC7: =AVERAGE(รายเดือน!IE7:IG7) -> 174.09047 | CD7: =AVERAGE(รายเดือน!IH7:IJ7) -> 162.87483 | CE7: =AVERAGE(รายเดือน!IK7:IM7) -> 154.23595 | CF7: =AVERAGE(รายเดือน!IN7:IP7) -> 150.28829 | CG7: =AVERAGE(รายเดือน!IQ7:IS7) -> 146.24999 | CH7: =AVERAGE(รายเดือน!IT7:IV7) -> 151.70231 | CI7: =AVERAGE(รายเดือน!IW7:IY7) -> 156.63548
A8: ข้าวเปลือก | B8: =AVERAGE(รายเดือน!B8:D8) -> 99.035884 | C8: =AVERAGE(รายเดือน!E8:G8) -> 99.781359 | D8: =AVERAGE(รายเดือน!H8:J8) -> 101.21891 | E8: =AVERAGE(รายเดือน!K8:M8) -> 99.963851 | F8: =AVERAGE(รายเดือน!N8:P8) -> 101.73601 | G8: =AVERAGE(รายเดือน!Q8:S8) -> 105.10004 | H8: =AVERAGE(รายเดือน!T8:V8) -> 112.85455 | I8: =AVERAGE(รายเดือน!W8:Y8) -> 111.72068 | J8: =AVERAGE(รายเดือน!Z8:AB8) -> 115.40872 | K8: =AVERAGE(รายเดือน!AC8:AE8) -> 118.1879 | L8: =AVERAGE(รายเดือน!AF8:AH8) -> 122.79131 | M8: =AVERAGE(รายเดือน!AI8:AK8) -> 118.81828 | N8: =AVERAGE(รายเดือน!AL8:AN8) -> 132.59125 | O8: =AVERAGE(รายเดือน!AO8:AQ8) -> 190.64094 | P8: =AVERAGE(รายเดือน!AR8:AT8) -> 167.62839 | Q8: =AVERAGE(รายเดือน!AU8:AW8) -> 146.1213 | R8: =AVERAGE(รายเดือน!AX8:AZ8) -> 150.84936 | S8: =AVERAGE(รายเดือน!BA8:BC8) -> 149.57302 | T8: =AVERAGE(รายเดือน!BD8:BF8) -> 147.98434 | U8: =AVERAGE(รายเดือน!BG8:BI8) -> 151.47302 | V8: =AVERAGE(รายเดือน!BJ8:BL8) -> 158.63204 | W8: =AVERAGE(รายเดือน!BM8:BO8) -> 145.54379 | X8: =AVERAGE(รายเดือน!BP8:BR8) -> 161.27684 | Y8: =AVERAGE(รายเดือน!BS8:BU8) -> 160.91325 | Z8: =AVERAGE(รายเดือน!BV8:BX8) -> 157.20985 | AA8: =AVERAGE(รายเดือน!BY8:CA8) -> 156.32218 | AB8: =AVERAGE(รายเดือน!CB8:CD8) -> 170.27951 | AC8: =AVERAGE(รายเดือน!CE8:CG8) -> 177.48344 | AD8: =AVERAGE(รายเดือน!CH8:CJ8) -> 171.35508 | AE8: =AVERAGE(รายเดือน!CK8:CM8) -> 174.01548 | AF8: =AVERAGE(รายเดือน!CN8:CP8) -> 176.46074 | AG8: =AVERAGE(รายเดือน!CQ8:CS8) -> 173.51784 | AH8: =AVERAGE(รายเดือน!CT8:CV8) -> 178.79924 | AI8: =AVERAGE(รายเดือน!CW8:CY8) -> 173.74586 | AJ8: =AVERAGE(รายเดือน!CZ8:DB8) -> 167.71544 | AK8: =AVERAGE(รายเดือน!DC8:DE8) -> 155.42659 | AL8: =AVERAGE(รายเดือน!DF8:DH8) -> 147.61633 | AM8: =AVERAGE(รายเดือน!DI8:DK8) -> 141.50665 | AN8: =AVERAGE(รายเดือน!DL8:DN8) -> 151.51831 | AO8: =AVERAGE(รายเดือน!DO8:DQ8) -> 140.89568 | AP8: =AVERAGE(รายเดือน!DR8:DT8) -> 141.14986 | AQ8: =AVERAGE(รายเดือน!DU8:DW8) -> 141.18523 | AR8: =AVERAGE(รายเดือน!DX8:DZ8) -> 145.4314 | AS8: =AVERAGE(รายเดือน!EA8:EC8) -> 139.79678 | AT8: =AVERAGE(รายเดือน!ED8:EF8) -> 134.18194 | AU8: =AVERAGE(รายเดือน!EG8:EI8) -> 139.55204 | AV8: =AVERAGE(รายเดือน!EJ8:EL8) -> 143.81221 | AW8: =AVERAGE(รายเดือน!EM8:EO8) -> 121.35355 | AX8: =AVERAGE(รายเดือน!EP8:ER8) -> 123.08605 | AY8: =AVERAGE(รายเดือน!ES8:EU8) -> 124.21013 | AZ8: =AVERAGE(รายเดือน!EV8:EX8) -> 129.13125 | BA8: =AVERAGE(รายเดือน!EY8:FA8) -> 129.87604 | BB8: =AVERAGE(รายเดือน!FB8:FD8) -> 141.55497 | BC8: =AVERAGE(รายเดือน!FE8:FG8) -> 147.88485 | BD8: =AVERAGE(รายเดือน!FH8:FJ8) -> 143.94837 | BE8: =AVERAGE(รายเดือน!FK8:FM8) -> 146.70746 | BF8: =AVERAGE(รายเดือน!FN8:FP8) -> 147.2682 | BG8: =AVERAGE(รายเดือน!FQ8:FS8) -> 152.55263 | BH8: =AVERAGE(รายเดือน!FT8:FV8) -> 158.22119 | BI8: =AVERAGE(รายเดือน!FW8:FY8) -> 156.48077 | BJ8: =AVERAGE(รายเดือน!FZ8:GB8) -> 157.09462 | BK8: =AVERAGE(รายเดือน!GC8:GE8) -> 171.9156 | BL8: =AVERAGE(รายเดือน!GF8:GH8) -> 168.2786 | BM8: =AVERAGE(รายเดือน!GI8:GK8) -> 139.60699 | BN8: =AVERAGE(รายเดือน!GL8:GN8) -> 144.20229 | BO8: =AVERAGE(รายเดือน!GO8:GQ8) -> 139.20562 | BP8: =AVERAGE(รายเดือน!GR8:GT8) -> 122.35643 | BQ8: =AVERAGE(รายเดือน!GU8:GW8) -> 116.39906 | BR8: =AVERAGE(รายเดือน!GX8:GZ8) -> 129.57044 | BS8: =AVERAGE(รายเดือน!HA8:HC8) -> 140.48482 | BT8: =AVERAGE(รายเดือน!HD8:HF8) -> 146.97099 | BU8: =AVERAGE(รายเดือน!HG8:HI8) -> 148.47567 | BV8: =AVERAGE(รายเดือน!HJ8:HL8) -> 154.47239 | BW8: =AVERAGE(รายเดือน!HM8:HO8) -> 157.82537 | BX8: =AVERAGE(รายเดือน!HP8:HR8) -> 178.74028 | BY8: =AVERAGE(รายเดือน!HS8:HU8) -> 172.29587 | BZ8: =AVERAGE(รายเดือน!HV8:HX8) -> 172.59897 | CA8: =AVERAGE(รายเดือน!HY8:IA8) -> 170.98626 | CB8: =AVERAGE(รายเดือน!IB8:ID8) -> 174.89347 | CC8: =AVERAGE(รายเดือน!IE8:IG8) -> 164.2693 | CD8: =AVERAGE(รายเดือน!IH8:IJ8) -> 158.19323 | CE8: =AVERAGE(รายเดือน!IK8:IM8) -> 148.3864 | CF8: =AVERAGE(รายเดือน!IN8:IP8) -> 141.64249 | CG8: =AVERAGE(รายเดือน!IQ8:IS8) -> 134.96457 | CH8: =AVERAGE(รายเดือน!IT8:IV8) -> 147.08263 | CI8: =AVERAGE(รายเดือน!IW8:IY8) -> 150.44982
A9: ข้าวเปลือกเจ้าความชื้น 15% | B9: =AVERAGE(รายเดือน!B9:D9) -> 97.981164 | C9: =AVERAGE(รายเดือน!E9:G9) -> 98.391945 | D9: =AVERAGE(รายเดือน!H9:J9) -> 101.75333 | E9: =AVERAGE(รายเดือน!K9:M9) -> 101.87356 | F9: =AVERAGE(รายเดือน!N9:P9) -> 100.08015 | G9: =AVERAGE(รายเดือน!Q9:S9) -> 101.60806 | H9: =AVERAGE(รายเดือน!T9:V9) -> 100.84661 | I9: =AVERAGE(รายเดือน!W9:Y9) -> 97.359984 | J9: =AVERAGE(รายเดือน!Z9:AB9) -> 98.191564 | K9: =AVERAGE(รายเดือน!AC9:AE9) -> 96.748823 | L9: =AVERAGE(รายเดือน!AF9:AH9) -> 96.378118 | M9: =AVERAGE(รายเดือน!AI9:AK9) -> 99.048192 | N9: =AVERAGE(รายเดือน!AL9:AN9) -> 119.6824 | O9: =AVERAGE(รายเดือน!AO9:AQ9) -> 189.16441 | P9: =AVERAGE(รายเดือน!AR9:AT9) -> 177.82286 | Q9: =AVERAGE(รายเดือน!AU9:AW9) -> 151.052 | R9: =AVERAGE(รายเดือน!AX9:AZ9) -> 152.12905 | S9: =AVERAGE(รายเดือน!BA9:BC9) -> 149.37381 | T9: =AVERAGE(รายเดือน!BD9:BF9) -> 142.67608 | U9: =AVERAGE(รายเดือน!BG9:BI9) -> 136.42421 | V9: =AVERAGE(รายเดือน!BJ9:BL9) -> 137.35097 | W9: =AVERAGE(รายเดือน!BM9:BO9) -> 118.50015 | X9: =AVERAGE(รายเดือน!BP9:BR9) -> 124.74201 | Y9: =AVERAGE(รายเดือน!BS9:BU9) -> 124.37631 | Z9: =AVERAGE(รายเดือน!BV9:BX9) -> 129.39585 | AA9: =AVERAGE(รายเดือน!BY9:CA9) -> 123.22914 | AB9: =AVERAGE(รายเดือน!CB9:CD9) -> 142.59593 | AC9: =AVERAGE(รายเดือน!CE9:CG9) -> 154.51566 | AD9: =AVERAGE(รายเดือน!CH9:CJ9) -> 146.31299 | AE9: =AVERAGE(รายเดือน!CK9:CM9) -> 153.83729 | AF9: =AVERAGE(รายเดือน!CN9:CP9) -> 154.41339 | AG9: =AVERAGE(รายเดือน!CQ9:CS9) -> 152.81034 | AH9: =AVERAGE(รายเดือน!CT9:CV9) -> 156.51237 | AI9: =AVERAGE(รายเดือน!CW9:CY9) -> 147.5253 | AJ9: =AVERAGE(รายเดือน!CZ9:DB9) -> 137.19567 | AK9: =AVERAGE(รายเดือน!DC9:DE9) -> 122.93357 | AL9: =AVERAGE(รายเดือน!DF9:DH9) -> 116.33604 | AM9: =AVERAGE(รายเดือน!DI9:DK9) -> 106.96824 | AN9: =AVERAGE(รายเดือน!DL9:DN9) -> 121.55095 | AO9: =AVERAGE(รายเดือน!DO9:DQ9) -> 118.82577 | AP9: =AVERAGE(รายเดือน!DR9:DT9) -> 117.67859 | AQ9: =AVERAGE(รายเดือน!DU9:DW9) -> 114.74301 | AR9: =AVERAGE(รายเดือน!DX9:DZ9) -> 119.04619 | AS9: =AVERAGE(รายเดือน!EA9:EC9) -> 114.80313 | AT9: =AVERAGE(รายเดือน!ED9:EF9) -> 116.90211 | AU9: =AVERAGE(รายเดือน!EG9:EI9) -> 121.49584 | AV9: =AVERAGE(รายเดือน!EJ9:EL9) -> 127.2618 | AW9: =AVERAGE(รายเดือน!EM9:EO9) -> 109.28708 | AX9: =AVERAGE(รายเดือน!EP9:ER9) -> 111.97508 | AY9: =AVERAGE(รายเดือน!ES9:EU9) -> 117.27429 | AZ9: =AVERAGE(รายเดือน!EV9:EX9) -> 117.68655 | BA9: =AVERAGE(รายเดือน!EY9:FA9) -> 118.26842 | BB9: =AVERAGE(รายเดือน!FB9:FD9) -> 115.46382 | BC9: =AVERAGE(รายเดือน!FE9:FG9) -> 119.39793 | BD9: =AVERAGE(รายเดือน!FH9:FJ9) -> 113.14647 | BE9: =AVERAGE(รายเดือน!FK9:FM9) -> 118.66614 | BF9: =AVERAGE(รายเดือน!FN9:FP9) -> 115.09004 | BG9: =AVERAGE(รายเดือน!FQ9:FS9) -> 117.48724 | BH9: =AVERAGE(รายเดือน!FT9:FV9) -> 117.31276 | BI9: =AVERAGE(รายเดือน!FW9:FY9) -> 117.75961 | BJ9: =AVERAGE(รายเดือน!FZ9:GB9) -> 123.1161 | BK9: =AVERAGE(รายเดือน!GC9:GE9) -> 139.38099 | BL9: =AVERAGE(รายเดือน!GF9:GH9) -> 138.39446 | BM9: =AVERAGE(รายเดือน!GI9:GK9) -> 127.70598 | BN9: =AVERAGE(รายเดือน!GL9:GN9) -> 137.56822 | BO9: =AVERAGE(รายเดือน!GO9:GQ9) -> 131.66834 | BP9: =AVERAGE(รายเดือน!GR9:GT9) -> 116.25276 | BQ9: =AVERAGE(รายเดือน!GU9:GW9) -> 115.57281 | BR9: =AVERAGE(รายเดือน!GX9:GZ9) -> 120.11113 | BS9: =AVERAGE(รายเดือน!HA9:HC9) -> 131.8806 | BT9: =AVERAGE(รายเดือน!HD9:HF9) -> 136.99647 | BU9: =AVERAGE(รายเดือน!HG9:HI9) -> 137.89928 | BV9: =AVERAGE(รายเดือน!HJ9:HL9) -> 146.12224 | BW9: =AVERAGE(รายเดือน!HM9:HO9) -> 149.14255 | BX9: =AVERAGE(รายเดือน!HP9:HR9) -> 177.86457 | BY9: =AVERAGE(รายเดือน!HS9:HU9) -> 170.22747 | BZ9: =AVERAGE(รายเดือน!HV9:HX9) -> 172.26802 | CA9: =AVERAGE(รายเดือน!HY9:IA9) -> 162.21425 | CB9: =AVERAGE(รายเดือน!IB9:ID9) -> 161.89459 | CC9: =AVERAGE(รายเดือน!IE9:IG9) -> 142.75432 | CD9: =AVERAGE(รายเดือน!IH9:IJ9) -> 130.2684 | CE9: =AVERAGE(รายเดือน!IK9:IM9) -> 107.8381 | CF9: =AVERAGE(รายเดือน!IN9:IP9) -> 101.53925 | CG9: =AVERAGE(รายเดือน!IQ9:IS9) -> 99.507549 | CH9: =AVERAGE(รายเดือน!IT9:IV9) -> 109.49418 | CI9: =AVERAGE(รายเดือน!IW9:IY9) -> 111.63798
A10: ข้าวเปลือกเจ้าหอมมะลิ | B10: =AVERAGE(รายเดือน!B10:D10) -> 100.44898 | C10: =AVERAGE(รายเดือน!E10:G10) -> 101.12569 | D10: =AVERAGE(รายเดือน!H10:J10) -> 99.425225 | E10: =AVERAGE(รายเดือน!K10:M10) -> 99.000108 | F10: =AVERAGE(รายเดือน!N10:P10) -> 101.77204 | G10: =AVERAGE(รายเดือน!Q10:S10) -> 105.22503 | H10: =AVERAGE(รายเดือน!T10:V10) -> 111.08123 | I10: =AVERAGE(รายเดือน!W10:Y10) -> 107.70632 | J10: =AVERAGE(รายเดือน!Z10:AB10) -> 107.29422 | K10: =AVERAGE(รายเดือน!AC10:AE10) -> 112.55612 | L10: =AVERAGE(รายเดือน!AF10:AH10) -> 116.74656 | M10: =AVERAGE(รายเดือน!AI10:AK10) -> 119.92626 | N10: =AVERAGE(รายเดือน!AL10:AN10) -> 152.04858 | O10: =AVERAGE(รายเดือน!AO10:AQ10) -> 213.64711 | P10: =AVERAGE(รายเดือน!AR10:AT10) -> 178.39714 | Q10: =AVERAGE(รายเดือน!AU10:AW10) -> 165.88656 | R10: =AVERAGE(รายเดือน!AX10:AZ10) -> 165.38336 | S10: =AVERAGE(รายเดือน!BA10:BC10) -> 170.85349 | T10: =AVERAGE(รายเดือน!BD10:BF10) -> 181.23848 | U10: =AVERAGE(รายเดือน!BG10:BI10) -> 185.92344 | V10: =AVERAGE(รายเดือน!BJ10:BL10) -> 183.88895 | W10: =AVERAGE(รายเดือน!BM10:BO10) -> 171.72975 | X10: =AVERAGE(รายเดือน!BP10:BR10) -> 175.89415 | Y10: =AVERAGE(รายเดือน!BS10:BU10) -> 173.91172 | Z10: =AVERAGE(รายเดือน!BV10:BX10) -> 158.92419 | AA10: =AVERAGE(รายเดือน!BY10:CA10) -> 158.77671 | AB10: =AVERAGE(รายเดือน!CB10:CD10) -> 167.82562 | AC10: =AVERAGE(รายเดือน!CE10:CG10) -> 192.9864 | AD10: =AVERAGE(รายเดือน!CH10:CJ10) -> 195.1849 | AE10: =AVERAGE(รายเดือน!CK10:CM10) -> 190.85132 | AF10: =AVERAGE(รายเดือน!CN10:CP10) -> 198.41232 | AG10: =AVERAGE(รายเดือน!CQ10:CS10) -> 201.71782 | AH10: =AVERAGE(รายเดือน!CT10:CV10) -> 206.63269 | AI10: =AVERAGE(รายเดือน!CW10:CY10) -> 205.27925 | AJ10: =AVERAGE(รายเดือน!CZ10:DB10) -> 203.99957 | AK10: =AVERAGE(รายเดือน!DC10:DE10) -> 195.22828 | AL10: =AVERAGE(รายเดือน!DF10:DH10) -> 185.06019 | AM10: =AVERAGE(รายเดือน!DI10:DK10) -> 180.28413 | AN10: =AVERAGE(รายเดือน!DL10:DN10) -> 182.07136 | AO10: =AVERAGE(รายเดือน!DO10:DQ10) -> 170.02494 | AP10: =AVERAGE(รายเดือน!DR10:DT10) -> 170.21581 | AQ10: =AVERAGE(รายเดือน!DU10:DW10) -> 173.27839 | AR10: =AVERAGE(รายเดือน!DX10:DZ10) -> 171.14413 | AS10: =AVERAGE(รายเดือน!EA10:EC10) -> 158.91986 | AT10: =AVERAGE(รายเดือน!ED10:EF10) -> 140.7266 | AU10: =AVERAGE(รายเดือน!EG10:EI10) -> 141.20377 | AV10: =AVERAGE(รายเดือน!EJ10:EL10) -> 142.44442 | AW10: =AVERAGE(รายเดือน!EM10:EO10) -> 117.08977 | AX10: =AVERAGE(รายเดือน!EP10:ER10) -> 120.62739 | AY10: =AVERAGE(รายเดือน!ES10:EU10) -> 120.01548 | AZ10: =AVERAGE(รายเดือน!EV10:EX10) -> 138.43669 | BA10: =AVERAGE(รายเดือน!EY10:FA10) -> 151.27816 | BB10: =AVERAGE(รายเดือน!FB10:FD10) -> 186.27086 | BC10: =AVERAGE(รายเดือน!FE10:FG10) -> 202.41278 | BD10: =AVERAGE(รายเดือน!FH10:FJ10) -> 201.6197 | BE10: =AVERAGE(รายเดือน!FK10:FM10) -> 196.89404 | BF10: =AVERAGE(รายเดือน!FN10:FP10) -> 201.522 | BG10: =AVERAGE(รายเดือน!FQ10:FS10) -> 204.5031 | BH10: =AVERAGE(รายเดือน!FT10:FV10) -> 208.6782 | BI10: =AVERAGE(รายเดือน!FW10:FY10) -> 191.48475 | BJ10: =AVERAGE(รายเดือน!FZ10:GB10) -> 180.5447 | BK10: =AVERAGE(รายเดือน!GC10:GE10) -> 191.78395 | BL10: =AVERAGE(รายเดือน!GF10:GH10) -> 183.39109 | BM10: =AVERAGE(รายเดือน!GI10:GK10) -> 144.46801 | BN10: =AVERAGE(รายเดือน!GL10:GN10) -> 153.98571 | BO10: =AVERAGE(รายเดือน!GO10:GQ10) -> 147.77242 | BP10: =AVERAGE(รายเดือน!GR10:GT10) -> 130.29211 | BQ10: =AVERAGE(รายเดือน!GU10:GW10) -> 126.01256 | BR10: =AVERAGE(รายเดือน!GX10:GZ10) -> 148.15742 | BS10: =AVERAGE(รายเดือน!HA10:HC10) -> 167.17146 | BT10: =AVERAGE(รายเดือน!HD10:HF10) -> 177.85236 | BU10: =AVERAGE(รายเดือน!HG10:HI10) -> 175.71684 | BV10: =AVERAGE(รายเดือน!HJ10:HL10) -> 173.86004 | BW10: =AVERAGE(รายเดือน!HM10:HO10) -> 176.68541 | BX10: =AVERAGE(รายเดือน!HP10:HR10) -> 189.62807 | BY10: =AVERAGE(รายเดือน!HS10:HU10) -> 180.36656 | BZ10: =AVERAGE(รายเดือน!HV10:HX10) -> 184.285 | CA10: =AVERAGE(รายเดือน!HY10:IA10) -> 188.09937 | CB10: =AVERAGE(รายเดือน!IB10:ID10) -> 198.37117 | CC10: =AVERAGE(รายเดือน!IE10:IG10) -> 196.75563 | CD10: =AVERAGE(รายเดือน!IH10:IJ10) -> 197.29648 | CE10: =AVERAGE(รายเดือน!IK10:IM10) -> 201.61187 | CF10: =AVERAGE(รายเดือน!IN10:IP10) -> 195.39502 | CG10: =AVERAGE(รายเดือน!IQ10:IS10) -> 187.85965 | CH10: =AVERAGE(รายเดือน!IT10:IV10) -> 205.11798 | CI10: =AVERAGE(รายเดือน!IW10:IY10) -> 209.97236
A11: ข้าวเปลือกเหนียวเมล็ดยาว | B11: =AVERAGE(รายเดือน!B11:D11) -> 100.01815 | C11: =AVERAGE(รายเดือน!E11:G11) -> 101.72161 | D11: =AVERAGE(รายเดือน!H11:J11) -> 102.06789 | E11: =AVERAGE(รายเดือน!K11:M11) -> 96.192351 | F11: =AVERAGE(รายเดือน!N11:P11) -> 106.00539 | G11: =AVERAGE(รายเดือน!Q11:S11) -> 114.04236 | H11: =AVERAGE(รายเดือน!T11:V11) -> 146.35781 | I11: =AVERAGE(รายเดือน!W11:Y11) -> 154.15462 | J11: =AVERAGE(รายเดือน!Z11:AB11) -> 172.50171 | K11: =AVERAGE(รายเดือน!AC11:AE11) -> 184.14666 | L11: =AVERAGE(รายเดือน!AF11:AH11) -> 203.3371 | M11: =AVERAGE(รายเดือน!AI11:AK11) -> 171.60809 | N11: =AVERAGE(รายเดือน!AL11:AN11) -> 143.45355 | O11: =AVERAGE(รายเดือน!AO11:AQ11) -> 165.08468 | P11: =AVERAGE(รายเดือน!AR11:AT11) -> 125.10088 | Q11: =AVERAGE(รายเดือน!AU11:AW11) -> 107.05539 | R11: =AVERAGE(รายเดือน!AX11:AZ11) -> 128.03865 | S11: =AVERAGE(รายเดือน!BA11:BC11) -> 122.95061 | T11: =AVERAGE(รายเดือน!BD11:BF11) -> 122.35859 | U11: =AVERAGE(รายเดือน!BG11:BI11) -> 154.78016 | V11: =AVERAGE(รายเดือน!BJ11:BL11) -> 191.82061 | W11: =AVERAGE(รายเดือน!BM11:BO11) -> 195.23869 | X11: =AVERAGE(รายเดือน!BP11:BR11) -> 254.41294 | Y11: =AVERAGE(รายเดือน!BS11:BU11) -> 256.0773 | Z11: =AVERAGE(รายเดือน!BV11:BX11) -> 240.8467 | AA11: =AVERAGE(รายเดือน!BY11:CA11) -> 253.27916 | AB11: =AVERAGE(รายเดือน!CB11:CD11) -> 259.66294 | AC11: =AVERAGE(รายเดือน!CE11:CG11) -> 232.00774 | AD11: =AVERAGE(รายเดือน!CH11:CJ11) -> 218.61238 | AE11: =AVERAGE(รายเดือน!CK11:CM11) -> 214.3286 | AF11: =AVERAGE(รายเดือน!CN11:CP11) -> 216.3169 | AG11: =AVERAGE(รายเดือน!CQ11:CS11) -> 201.25386 | AH11: =AVERAGE(รายเดือน!CT11:CV11) -> 211.84323 | AI11: =AVERAGE(รายเดือน!CW11:CY11) -> 216.89775 | AJ11: =AVERAGE(รายเดือน!CZ11:DB11) -> 221.06424 | AK11: =AVERAGE(รายเดือน!DC11:DE11) -> 212.4911 | AL11: =AVERAGE(รายเดือน!DF11:DH11) -> 202.81769 | AM11: =AVERAGE(รายเดือน!DI11:DK11) -> 206.75519 | AN11: =AVERAGE(รายเดือน!DL11:DN11) -> 210.46929 | AO11: =AVERAGE(รายเดือน!DO11:DQ11) -> 174.57379 | AP11: =AVERAGE(รายเดือน!DR11:DT11) -> 180.17007 | AQ11: =AVERAGE(รายเดือน!DU11:DW11) -> 186.60411 | AR11: =AVERAGE(รายเดือน!DX11:DZ11) -> 198.46689 | AS11: =AVERAGE(รายเดือน!EA11:EC11) -> 196.49534 | AT11: =AVERAGE(รายเดือน!ED11:EF11) -> 194.49587 | AU11: =AVERAGE(รายเดือน!EG11:EI11) -> 211.64216 | AV11: =AVERAGE(รายเดือน!EJ11:EL11) -> 217.86956 | AW11: =AVERAGE(รายเดือน!EM11:EO11) -> 184.11688 | AX11: =AVERAGE(รายเดือน!EP11:ER11) -> 182.07881 | AY11: =AVERAGE(รายเดือน!ES11:EU11) -> 177.23757 | AZ11: =AVERAGE(รายเดือน!EV11:EX11) -> 170.177 | BA11: =AVERAGE(รายเดือน!EY11:FA11) -> 150.72498 | BB11: =AVERAGE(รายเดือน!FB11:FD11) -> 160.62166 | BC11: =AVERAGE(รายเดือน!FE11:FG11) -> 156.23232 | BD11: =AVERAGE(รายเดือน!FH11:FJ11) -> 152.5487 | BE11: =AVERAGE(รายเดือน!FK11:FM11) -> 162.00213 | BF11: =AVERAGE(รายเดือน!FN11:FP11) -> 169.57067 | BG11: =AVERAGE(รายเดือน!FQ11:FS11) -> 189.58682 | BH11: =AVERAGE(รายเดือน!FT11:FV11) -> 219.27477 | BI11: =AVERAGE(รายเดือน!FW11:FY11) -> 237.32889 | BJ11: =AVERAGE(รายเดือน!FZ11:GB11) -> 244.75124 | BK11: =AVERAGE(รายเดือน!GC11:GE11) -> 262.55264 | BL11: =AVERAGE(รายเดือน!GF11:GH11) -> 258.37372 | BM11: =AVERAGE(รายเดือน!GI11:GK11) -> 183.67703 | BN11: =AVERAGE(รายเดือน!GL11:GN11) -> 178.75862 | BO11: =AVERAGE(รายเดือน!GO11:GQ11) -> 176.83359 | BP11: =AVERAGE(รายเดือน!GR11:GT11) -> 153.46247 | BQ11: =AVERAGE(รายเดือน!GU11:GW11) -> 130.26746 | BR11: =AVERAGE(รายเดือน!GX11:GZ11) -> 152.58294 | BS11: =AVERAGE(รายเดือน!HA11:HC11) -> 149.15989 | BT11: =AVERAGE(รายเดือน!HD11:HF11) -> 153.32686 | BU11: =AVERAGE(รายเดือน!HG11:HI11) -> 163.39742 | BV11: =AVERAGE(รายเดือน!HJ11:HL11) -> 178.27265 | BW11: =AVERAGE(รายเดือน!HM11:HO11) -> 184.32178 | BX11: =AVERAGE(รายเดือน!HP11:HR11) -> 200.38176 | BY11: =AVERAGE(รายเดือน!HS11:HU11) -> 201.28285 | BZ11: =AVERAGE(รายเดือน!HV11:HX11) -> 189.38702 | CA11: =AVERAGE(รายเดือน!HY11:IA11) -> 204.07643 | CB11: =AVERAGE(รายเดือน!IB11:ID11) -> 210.68767 | CC11: =AVERAGE(รายเดือน!IE11:IG11) -> 208.3574 | CD11: =AVERAGE(รายเดือน!IH11:IJ11) -> 208.68168 | CE11: =AVERAGE(รายเดือน!IK11:IM11) -> 210.63939 | CF11: =AVERAGE(รายเดือน!IN11:IP11) -> 200.11715 | CG11: =AVERAGE(รายเดือน!IQ11:IS11) -> 179.10004 | CH11: =AVERAGE(รายเดือน!IT11:IV11) -> 191.25938 | CI11: =AVERAGE(รายเดือน!IW11:IY11) -> 196.58742
A12: อ้อยโรงงาน | B12: =AVERAGE(รายเดือน!B12:D12) -> 95.487805 | C12: =AVERAGE(รายเดือน!E12:G12) -> 95.121951 | D12: =AVERAGE(รายเดือน!H12:J12) -> 95.121951 | E12: =AVERAGE(รายเดือน!K12:M12) -> 114.26829 | F12: =AVERAGE(รายเดือน!N12:P12) -> 127.68293 | G12: =AVERAGE(รายเดือน!Q12:S12) -> 119.26829 | H12: =AVERAGE(รายเดือน!T12:V12) -> 119.26829 | I12: =AVERAGE(รายเดือน!W12:Y12) -> 120.97561 | J12: =AVERAGE(รายเดือน!Z12:AB12) -> 124.93902 | K12: =AVERAGE(รายเดือน!AC12:AE12) -> 116.03659 | L12: =AVERAGE(รายเดือน!AF12:AH12) -> 113.41463 | M12: =AVERAGE(รายเดือน!AI12:AK12) -> 108.71951 | N12: =AVERAGE(รายเดือน!AL12:AN12) -> 107.56098 | O12: =AVERAGE(รายเดือน!AO12:AQ12) -> 116.89024 | P12: =AVERAGE(รายเดือน!AR12:AT12) -> 123.47561 | Q12: =AVERAGE(รายเดือน!AU12:AW12) -> 124.08537 | R12: =AVERAGE(รายเดือน!AX12:AZ12) -> 129.39024 | S12: =AVERAGE(รายเดือน!BA12:BC12) -> 137.37805 | T12: =AVERAGE(รายเดือน!BD12:BF12) -> 137.37805 | U12: =AVERAGE(รายเดือน!BG12:BI12) -> 148.04878 | V12: =AVERAGE(รายเดือน!BJ12:BL12) -> 160.2439 | W12: =AVERAGE(รายเดือน!BM12:BO12) -> 184.57317 | X12: =AVERAGE(รายเดือน!BP12:BR12) -> 184.57317 | Y12: =AVERAGE(รายเดือน!BS12:BU12) -> 163.57866 | Z12: =AVERAGE(รายเดือน!BV12:BX12) -> 170.60976 | AA12: =AVERAGE(รายเดือน!BY12:CA12) -> 168.84146 | AB12: =AVERAGE(รายเดือน!CB12:CD12) -> 166.46341 | AC12: =AVERAGE(รายเดือน!CE12:CG12) -> 174.5122 | AD12: =AVERAGE(รายเดือน!CH12:CJ12) -> 174.7561 | AE12: =AVERAGE(รายเดือน!CK12:CM12) -> 177.37805 | AF12: =AVERAGE(รายเดือน!CN12:CP12) -> 178.17073 | AG12: =AVERAGE(รายเดือน!CQ12:CS12) -> 174.45122 | AH12: =AVERAGE(รายเดือน!CT12:CV12) -> 167.92683 | AI12: =AVERAGE(รายเดือน!CW12:CY12) -> 186.58537 | AJ12: =AVERAGE(รายเดือน!CZ12:DB12) -> 188.04878 | AK12: =AVERAGE(รายเดือน!DC12:DE12) -> 164.20732 | AL12: =AVERAGE(รายเดือน!DF12:DH12) -> 158.90244 | AM12: =AVERAGE(รายเดือน!DI12:DK12) -> 173.41463 | AN12: =AVERAGE(รายเดือน!DL12:DN12) -> 175.2439 | AO12: =AVERAGE(รายเดือน!DO12:DQ12) -> 164.14634 | AP12: =AVERAGE(รายเดือน!DR12:DT12) -> 155.54878 | AQ12: =AVERAGE(รายเดือน!DU12:DW12) -> 153.35366 | AR12: =AVERAGE(รายเดือน!DX12:DZ12) -> 142.13415 | AS12: =AVERAGE(รายเดือน!EA12:EC12) -> 131.76829 | AT12: =AVERAGE(รายเดือน!ED12:EF12) -> 138.59756 | AU12: =AVERAGE(รายเดือน!EG12:EI12) -> 129.63415 | AV12: =AVERAGE(รายเดือน!EJ12:EL12) -> 130.2439 | AW12: =AVERAGE(รายเดือน!EM12:EO12) -> 150.6849 | AX12: =AVERAGE(รายเดือน!EP12:ER12) -> 178.46347 | AY12: =AVERAGE(รายเดือน!ES12:EU12) -> 182.83856 | AZ12: =AVERAGE(รายเดือน!EV12:EX12) -> 182.83856 | BA12: =AVERAGE(รายเดือน!EY12:FA12) -> 167.49832 | BB12: =AVERAGE(รายเดือน!FB12:FD12) -> 141.15088 | BC12: =AVERAGE(รายเดือน!FE12:FG12) -> 144.90618 | BD12: =AVERAGE(รายเดือน!FH12:FJ12) -> 148.56548 | BE12: =AVERAGE(รายเดือน!FK12:FM12) -> 123.9768 | BF12: =AVERAGE(รายเดือน!FN12:FP12) -> 108.39594 | BG12: =AVERAGE(รายเดือน!FQ12:FS12) -> 124.9974 | BH12: =AVERAGE(รายเดือน!FT12:FV12) -> 130.26805 | BI12: =AVERAGE(รายเดือน!FW12:FY12) -> 125.22626 | BJ12: =AVERAGE(รายเดือน!FZ12:GB12) -> 127.13536 | BK12: =AVERAGE(รายเดือน!GC12:GE12) -> 130.516 | BL12: =AVERAGE(รายเดือน!GF12:GH12) -> 130.516 | BM12: =AVERAGE(รายเดือน!GI12:GK12) -> 136.29634 | BN12: =AVERAGE(รายเดือน!GL12:GN12) -> 165.72969 | BO12: =AVERAGE(รายเดือน!GO12:GQ12) -> 170.06926 | BP12: =AVERAGE(รายเดือน!GR12:GT12) -> 170.06926 | BQ12: =AVERAGE(รายเดือน!GU12:GW12) -> 173.68652 | BR12: =AVERAGE(รายเดือน!GX12:GZ12) -> 193.22012 | BS12: =AVERAGE(รายเดือน!HA12:HC12) -> 196.2599 | BT12: =AVERAGE(รายเดือน!HD12:HF12) -> 196.2599 | BU12: =AVERAGE(รายเดือน!HG12:HI12) -> 199.70914 | BV12: =AVERAGE(รายเดือน!HJ12:HL12) -> 205.45823 | BW12: =AVERAGE(รายเดือน!HM12:HO12) -> 212.50975 | BX12: =AVERAGE(รายเดือน!HP12:HR12) -> 212.50975 | BY12: =AVERAGE(รายเดือน!HS12:HU12) -> 222.55914 | BZ12: =AVERAGE(รายเดือน!HV12:HX12) -> 264.77362 | CA12: =AVERAGE(รายเดือน!HY12:IA12) -> 273.36996 | CB12: =AVERAGE(รายเดือน!IB12:ID12) -> 273.36996 | CC12: =AVERAGE(รายเดือน!IE12:IG12) -> 249.80822 | CD12: =AVERAGE(รายเดือน!IH12:IJ12) -> 206.98109 | CE12: =AVERAGE(รายเดือน!IK12:IM12) -> 213.55792 | CF12: =AVERAGE(รายเดือน!IN12:IP12) -> 213.55792 | CG12: =AVERAGE(รายเดือน!IQ12:IS12) -> 199.49786 | CH12: =AVERAGE(รายเดือน!IT12:IV12) -> 160.74783 | CI12: =AVERAGE(รายเดือน!IW12:IY12) -> 161.21561
A13: มันสำปะหลังสดคละ | B13: =AVERAGE(รายเดือน!B13:D13) -> 102.77264 | C13: =AVERAGE(รายเดือน!E13:G13) -> 103.0191 | D13: =AVERAGE(รายเดือน!H13:J13) -> 98.582871 | E13: =AVERAGE(รายเดือน!K13:M13) -> 95.625385 | F13: =AVERAGE(รายเดือน!N13:P13) -> 99.5687 | G13: =AVERAGE(รายเดือน!Q13:S13) -> 77.880468 | H13: =AVERAGE(รายเดือน!T13:V13) -> 69.993839 | I13: =AVERAGE(รายเดือน!W13:Y13) -> 73.937153 | J13: =AVERAGE(รายเดือน!Z13:AB13) -> 86.50647 | K13: =AVERAGE(รายเดือน!AC13:AE13) -> 93.900185 | L13: =AVERAGE(รายเดือน!AF13:AH13) -> 123.96796 | M13: =AVERAGE(รายเดือน!AI13:AK13) -> 127.41836 | N13: =AVERAGE(รายเดือน!AL13:AN13) -> 154.77511 | O13: =AVERAGE(รายเดือน!AO13:AQ13) -> 156.50031 | P13: =AVERAGE(รายเดือน!AR13:AT13) -> 128.65065 | Q13: =AVERAGE(รายเดือน!AU13:AW13) -> 94.146642 | R13: =AVERAGE(รายเดือน!AX13:AZ13) -> 86.50647 | S13: =AVERAGE(รายเดือน!BA13:BC13) -> 83.056069 | T13: =AVERAGE(รายเดือน!BD13:BF13) -> 90.203327 | U13: =AVERAGE(รายเดือน!BG13:BI13) -> 110.41282 | V13: =AVERAGE(รายเดือน!BJ13:BL13) -> 137.76956 | W13: =AVERAGE(รายเดือน!BM13:BO13) -> 161.18299 | X13: =AVERAGE(รายเดือน!BP13:BR13) -> 199.87677 | Y13: =AVERAGE(รายเดือน!BS13:BU13) -> 189.77203 | Z13: =AVERAGE(รายเดือน!BV13:BX13) -> 214.6642 | AA13: =AVERAGE(รายเดือน!BY13:CA13) -> 185.3358 | AB13: =AVERAGE(รายเดือน!CB13:CD13) -> 146.39556 | AC13: =AVERAGE(รายเดือน!CE13:CG13) -> 157.73259 | AD13: =AVERAGE(รายเดือน!CH13:CJ13) -> 144.91682 | AE13: =AVERAGE(รายเดือน!CK13:CM13) -> 139.49476 | AF13: =AVERAGE(รายเดือน!CN13:CP13) -> 152.31054 | AG13: =AVERAGE(รายเดือน!CQ13:CS13) -> 159.45779 | AH13: =AVERAGE(รายเดือน!CT13:CV13) -> 153.78928 | AI13: =AVERAGE(รายเดือน!CW13:CY13) -> 164.38694 | AJ13: =AVERAGE(รายเดือน!CZ13:DB13) -> 158.47197 | AK13: =AVERAGE(รายเดือน!DC13:DE13) -> 153.29636 | AL13: =AVERAGE(รายเดือน!DF13:DH13) -> 162.66174 | AM13: =AVERAGE(รายเดือน!DI13:DK13) -> 156.25385 | AN13: =AVERAGE(รายเดือน!DL13:DN13) -> 140.72705 | AO13: =AVERAGE(รายเดือน!DO13:DQ13) -> 162.41528 | AP13: =AVERAGE(รายเดือน!DR13:DT13) -> 162.90819 | AQ13: =AVERAGE(รายเดือน!DU13:DW13) -> 159.21134 | AR13: =AVERAGE(รายเดือน!DX13:DZ13) -> 166.85151 | AS13: =AVERAGE(รายเดือน!EA13:EC13) -> 148.61368 | AT13: =AVERAGE(รายเดือน!ED13:EF13) -> 133.82625 | AU13: =AVERAGE(รายเดือน!EG13:EI13) -> 127.91128 | AV13: =AVERAGE(รายเดือน!EJ13:EL13) -> 93.40727 | AW13: =AVERAGE(รายเดือน!EM13:EO13) -> 94.713491 | AX13: =AVERAGE(รายเดือน!EP13:ER13) -> 111.31238 | AY13: =AVERAGE(รายเดือน!ES13:EU13) -> 88.909425 | AZ13: =AVERAGE(รายเดือน!EV13:EX13) -> 90.646948 | BA13: =AVERAGE(รายเดือน!EY13:FA13) -> 123.90634 | BB13: =AVERAGE(รายเดือน!FB13:FD13) -> 160.01232 | BC13: =AVERAGE(รายเดือน!FE13:FG13) -> 185.56993 | BD13: =AVERAGE(รายเดือน!FH13:FJ13) -> 178.58287 | BE13: =AVERAGE(รายเดือน!FK13:FM13) -> 179.66317 | BF13: =AVERAGE(รายเดือน!FN13:FP13) -> 160.9735 | BG13: =AVERAGE(รายเดือน!FQ13:FS13) -> 137.60936 | BH13: =AVERAGE(รายเดือน!FT13:FV13) -> 123.05607 | BI13: =AVERAGE(รายเดือน!FW13:FY13) -> 137.28486 | BJ13: =AVERAGE(รายเดือน!FZ13:GB13) -> 141.93469 | BK13: =AVERAGE(รายเดือน!GC13:GE13) -> 123.74615 | BL13: =AVERAGE(รายเดือน!GF13:GH13) -> 126.43253 | BM13: =AVERAGE(รายเดือน!GI13:GK13) -> 139.18669 | BN13: =AVERAGE(รายเดือน!GL13:GN13) -> 153.65372 | BO13: =AVERAGE(รายเดือน!GO13:GQ13) -> 145.77942 | BP13: =AVERAGE(รายเดือน!GR13:GT13) -> 150.59766 | BQ13: =AVERAGE(รายเดือน!GU13:GW13) -> 161.33086 | BR13: =AVERAGE(รายเดือน!GX13:GZ13) -> 169.80899 | BS13: =AVERAGE(รายเดือน!HA13:HC13) -> 184.34175 | BT13: =AVERAGE(รายเดือน!HD13:HF13) -> 199.69192 | BU13: =AVERAGE(รายเดือน!HG13:HI13) -> 191.99014 | BV13: =AVERAGE(รายเดือน!HJ13:HL13) -> 212.19963 | BW13: =AVERAGE(รายเดือน!HM13:HO13) -> 222.51797 | BX13: =AVERAGE(รายเดือน!HP13:HR13) -> 208.79852 | BY13: =AVERAGE(รายเดือน!HS13:HU13) -> 215.97042 | BZ13: =AVERAGE(รายเดือน!HV13:HX13) -> 224.83056 | CA13: =AVERAGE(รายเดือน!HY13:IA13) -> 173.87553 | CB13: =AVERAGE(รายเดือน!IB13:ID13) -> 142.25508 | CC13: =AVERAGE(รายเดือน!IE13:IG13) -> 148.79852 | CD13: =AVERAGE(รายเดือน!IH13:IJ13) -> 132.29821 | CE13: =AVERAGE(รายเดือน!IK13:IM13) -> 106.26822 | CF13: =AVERAGE(รายเดือน!IN13:IP13) -> 122.76032 | CG13: =AVERAGE(รายเดือน!IQ13:IS13) -> 145.53296 | CH13: =AVERAGE(รายเดือน!IT13:IV13) -> 172.05175 | CI13: =AVERAGE(รายเดือน!IW13:IY13) -> 190.51961
A14: ข้าวโพดเลี้ยงสัตว์ ความชื้น 14.5% | B14: =AVERAGE(รายเดือน!B14:D14) -> 102.18878 | C14: =AVERAGE(รายเดือน!E14:G14) -> 100.2736 | D14: =AVERAGE(รายเดือน!H14:J14) -> 100.342 | E14: =AVERAGE(รายเดือน!K14:M14) -> 97.195622 | F14: =AVERAGE(รายเดือน!N14:P14) -> 97.811218 | G14: =AVERAGE(รายเดือน!Q14:S14) -> 112.3803 | H14: =AVERAGE(รายเดือน!T14:V14) -> 109.57592 | I14: =AVERAGE(รายเดือน!W14:Y14) -> 113.20109 | J14: =AVERAGE(รายเดือน!Z14:AB14) -> 141.24487 | K14: =AVERAGE(รายเดือน!AC14:AE14) -> 140.08208 | L14: =AVERAGE(รายเดือน!AF14:AH14) -> 128.65937 | M14: =AVERAGE(รายเดือน!AI14:AK14) -> 148.90561 | N14: =AVERAGE(รายเดือน!AL14:AN14) -> 161.08071 | O14: =AVERAGE(รายเดือน!AO14:AQ14) -> 171.34063 | P14: =AVERAGE(รายเดือน!AR14:AT14) -> 178.52257 | Q14: =AVERAGE(รายเดือน!AU14:AW14) -> 133.44733 | R14: =AVERAGE(รายเดือน!AX14:AZ14) -> 131.46375 | S14: =AVERAGE(รายเดือน!BA14:BC14) -> 134.40492 | T14: =AVERAGE(รายเดือน!BD14:BF14) -> 114.22709 | U14: =AVERAGE(รายเดือน!BG14:BI14) -> 123.73461 | V14: =AVERAGE(รายเดือน!BJ14:BL14) -> 148.49521 | W14: =AVERAGE(รายเดือน!BM14:BO14) -> 170.65663 | X14: =AVERAGE(รายเดือน!BP14:BR14) -> 172.16142 | Y14: =AVERAGE(รายเดือน!BS14:BU14) -> 162.9959 | Z14: =AVERAGE(รายเดือน!BV14:BX14) -> 170.65663 | AA14: =AVERAGE(รายเดือน!BY14:CA14) -> 175.2394 | AB14: =AVERAGE(รายเดือน!CB14:CD14) -> 155.06156 | AC14: =AVERAGE(รายเดือน!CE14:CG14) -> 168.87825 | AD14: =AVERAGE(รายเดือน!CH14:CJ14) -> 176.19699 | AE14: =AVERAGE(รายเดือน!CK14:CM14) -> 186.25171 | AF14: =AVERAGE(รายเดือน!CN14:CP14) -> 194.52804 | AG14: =AVERAGE(รายเดือน!CQ14:CS14) -> 185.70451 | AH14: =AVERAGE(รายเดือน!CT14:CV14) -> 179.68536 | AI14: =AVERAGE(รายเดือน!CW14:CY14) -> 176.19699 | AJ14: =AVERAGE(รายเดือน!CZ14:DB14) -> 156.08755 | AK14: =AVERAGE(รายเดือน!DC14:DE14) -> 136.18331 | AL14: =AVERAGE(รายเดือน!DF14:DH14) -> 137.0041 | AM14: =AVERAGE(รายเดือน!DI14:DK14) -> 151.02599 | AN14: =AVERAGE(รายเดือน!DL14:DN14) -> 152.66758 | AO14: =AVERAGE(รายเดือน!DO14:DQ14) -> 153.62517 | AP14: =AVERAGE(รายเดือน!DR14:DT14) -> 174.5554 | AQ14: =AVERAGE(รายเดือน!DU14:DW14) -> 169.42544 | AR14: =AVERAGE(รายเดือน!DX14:DZ14) -> 162.3803 | AS14: =AVERAGE(รายเดือน!EA14:EC14) -> 152.05198 | AT14: =AVERAGE(รายเดือน!ED14:EF14) -> 161.9015 | AU14: =AVERAGE(รายเดือน!EG14:EI14) -> 158.07114 | AV14: =AVERAGE(รายเดือน!EJ14:EL14) -> 155.54036 | AW14: =AVERAGE(รายเดือน!EM14:EO14) -> 125.01026 | AX14: =AVERAGE(รายเดือน!EP14:ER14) -> 129.97948 | AY14: =AVERAGE(รายเดือน!ES14:EU14) -> 125.66347 | AZ14: =AVERAGE(รายเดือน!EV14:EX14) -> 121.37483 | BA14: =AVERAGE(รายเดือน!EY14:FA14) -> 129.65116 | BB14: =AVERAGE(รายเดือน!FB14:FD14) -> 168.28317 | BC14: =AVERAGE(รายเดือน!FE14:FG14) -> 175.07865 | BD14: =AVERAGE(รายเดือน!FH14:FJ14) -> 140.28727 | BE14: =AVERAGE(รายเดือน!FK14:FM14) -> 166.42726 | BF14: =AVERAGE(รายเดือน!FN14:FP14) -> 172.48632 | BG14: =AVERAGE(รายเดือน!FQ14:FS14) -> 158.21249 | BH14: =AVERAGE(รายเดือน!FT14:FV14) -> 153.56703 | BI14: =AVERAGE(รายเดือน!FW14:FY14) -> 156.70314 | BJ14: =AVERAGE(รายเดือน!FZ14:GB14) -> 155.22913 | BK14: =AVERAGE(รายเดือน!GC14:GE14) -> 158.19767 | BL14: =AVERAGE(รายเดือน!GF14:GH14) -> 158.79959 | BM14: =AVERAGE(รายเดือน!GI14:GK14) -> 157.47606 | BN14: =AVERAGE(รายเดือน!GL14:GN14) -> 166.61764 | BO14: =AVERAGE(รายเดือน!GO14:GQ14) -> 162.06338 | BP14: =AVERAGE(รายเดือน!GR14:GT14) -> 165.81737 | BQ14: =AVERAGE(รายเดือน!GU14:GW14) -> 178.76881 | BR14: =AVERAGE(รายเดือน!GX14:GZ14) -> 183.89192 | BS14: =AVERAGE(รายเดือน!HA14:HC14) -> 208.69926 | BT14: =AVERAGE(รายเดือน!HD14:HF14) -> 201.48426 | BU14: =AVERAGE(รายเดือน!HG14:HI14) -> 211.29274 | BV14: =AVERAGE(รายเดือน!HJ14:HL14) -> 231.63474 | BW14: =AVERAGE(รายเดือน!HM14:HO14) -> 220.13907 | BX14: =AVERAGE(รายเดือน!HP14:HR14) -> 199.42544 | BY14: =AVERAGE(รายเดือน!HS14:HU14) -> 184.28522 | BZ14: =AVERAGE(รายเดือน!HV14:HX14) -> 181.97674 | CA14: =AVERAGE(รายเดือน!HY14:IA14) -> 177.35978 | CB14: =AVERAGE(รายเดือน!IB14:ID14) -> 181.20041 | CC14: =AVERAGE(รายเดือน!IE14:IG14) -> 169.54514 | CD14: =AVERAGE(รายเดือน!IH14:IJ14) -> 177.60943 | CE14: =AVERAGE(รายเดือน!IK14:IM14) -> 177.63223 | CF14: =AVERAGE(รายเดือน!IN14:IP14) -> 160.56771 | CG14: =AVERAGE(รายเดือน!IQ14:IS14) -> 160.46511 | CH14: =AVERAGE(รายเดือน!IT14:IV14) -> 161.25855 | CI14: =AVERAGE(รายเดือน!IW14:IY14) -> 170.68741
