Workbook

Sheet รายปี
A1: ดัชนีผลผลิตสินค้าเกษตร
A2: (2548 = 100)
A3: รายการสินค้า | B3: 2548 | C3: 2549 | D3: 2550 | E3: 2551 | F3: 2552 | G3: 2553 | H3: 2554 | I3: 2555 | J3: 2556 | K3: 2557 | L3: 2558 | M3: 2559 | N3: 2560 | O3: 2561 | P3: 2562 | Q3: 2563 | R3: 2564 | S3: 2565 | T3: 2566 | U3: 2567 | V3: 2568
A5: ภาคเกษตรกรรม | B5: =AVERAGE(รายเดือน!B5:M5) -> 100 | C5: =AVERAGE(รายเดือน!N5:Y5) -> 106.24393 | D5: =AVERAGE(รายเดือน!Z5:AK5) -> 110.81169 | E5: =AVERAGE(รายเดือน!AL5:AW5) -> 112.91785 | F5: =AVERAGE(รายเดือน!AX5:BI5) -> 116.06759 | G5: =AVERAGE(รายเดือน!BJ5:BU5) -> 117.06299 | H5: =AVERAGE(รายเดือน!BV5:CG5) -> 127.07441 | I5: =AVERAGE(รายเดือน!CH5:CS5) -> 131.06275 | J5: =AVERAGE(รายเดือน!CT5:DE5) -> 129.84355 | K5: =AVERAGE(รายเดือน!DF5:DQ5) -> 130.52999 | L5: =AVERAGE(รายเดือน!DR5:EC5) -> 127.31155 | M5: =AVERAGE(รายเดือน!ED5:EO5) -> 127.52192 | N5: =AVERAGE(รายเดือน!EP5:FA5) -> 136.23041 | O5: =AVERAGE(รายเดือน!FB5:FM5) -> 145.70921 | P5: =AVERAGE(รายเดือน!FN5:FY5) -> 145.10558 | Q5: =AVERAGE(รายเดือน!FZ5:GK5) -> 139.79009 | R5: =AVERAGE(รายเดือน!GL5:GW5) -> 141.88912 | S5: =AVERAGE(รายเดือน!GX5:HI5) -> 144.0641 | T5: =AVERAGE(รายเดือน!HJ5:HU5) -> 147.06866 | U5: =AVERAGE(รายเดือน!HV5:IG5) -> 147.25225 | V5: =AVERAGE(รายเดือน!IH5:IS5) -> 152.20636
A6: 1. หมวดพืชผลสำคัญ | B6: =AVERAGE(รายเดือน!B6:M6) -> 100 | C6: =AVERAGE(รายเดือน!N6:Y6) -> 104.84347 | D6: =AVERAGE(รายเดือน!Z6:AK6) -> 109.42691 | E6: =AVERAGE(รายเดือน!AL6:AW6) -> 113.08175 | F6: =AVERAGE(รายเดือน!AX6:BI6) -> 115.74297 | G6: =AVERAGE(รายเดือน!BJ6:BU6) -> 116.24912 | H6: =AVERAGE(รายเดือน!BV6:CG6) -> 128.25989 | I6: =AVERAGE(รายเดือน!CH6:CS6) -> 133.93352 | J6: =AVERAGE(รายเดือน!CT6:DE6) -> 136.38427 | K6: =AVERAGE(รายเดือน!DF6:DQ6) -> 136.32153 | L6: =AVERAGE(รายเดือน!DR6:EC6) -> 128.63284 | M6: =AVERAGE(รายเดือน!ED6:EO6) -> 123.66912 | N6: =AVERAGE(รายเดือน!EP6:FA6) -> 134.13699 | O6: =AVERAGE(รายเดือน!FB6:FM6) -> 145.33841 | P6: =AVERAGE(รายเดือน!FN6:FY6) -> 141.92983 | Q6: =AVERAGE(รายเดือน!FZ6:GK6) -> 135.23116 | R6: =AVERAGE(รายเดือน!GL6:GW6) -> 141.18044 | S6: =AVERAGE(รายเดือน!GX6:HI6) -> 143.69869 | T6: =AVERAGE(รายเดือน!HJ6:HU6) -> 143.03983 | U6: =AVERAGE(รายเดือน!HV6:IG6) -> 140.08482 | V6: =AVERAGE(รายเดือน!IH6:IS6) -> 145.7954
A7: 1.1 กลุ่มธัญพืชและพืชอาหาร | B7: =AVERAGE(รายเดือน!B7:M7) -> 100 | C7: =AVERAGE(รายเดือน!N7:Y7) -> 107.06663 | D7: =AVERAGE(รายเดือน!Z7:AK7) -> 110.97939 | E7: =AVERAGE(รายเดือน!AL7:AW7) -> 116.34918 | F7: =AVERAGE(รายเดือน!AX7:BI7) -> 119.29378 | G7: =AVERAGE(รายเดือน!BJ7:BU7) -> 118.54428 | H7: =AVERAGE(รายเดือน!BV7:CG7) -> 133.35038 | I7: =AVERAGE(รายเดือน!CH7:CS7) -> 143.2701 | J7: =AVERAGE(รายเดือน!CT7:DE7) -> 140.58056 | K7: =AVERAGE(รายเดือน!DF7:DQ7) -> 134.15787 | L7: =AVERAGE(รายเดือน!DR7:EC7) -> 122.11337 | M7: =AVERAGE(รายเดือน!ED7:EO7) -> 115.38214 | N7: =AVERAGE(รายเดือน!EP7:FA7) -> 124.23346 | O7: =AVERAGE(รายเดือน!FB7:FM7) -> 137.84219 | P7: =AVERAGE(รายเดือน!FN7:FY7) -> 129.52231 | Q7: =AVERAGE(รายเดือน!FZ7:GK7) -> 116.75837 | R7: =AVERAGE(รายเดือน!GL7:GW7) -> 123.62734 | S7: =AVERAGE(รายเดือน!GX7:HI7) -> 128.80411 | T7: =AVERAGE(รายเดือน!HJ7:HU7) -> 127.94615 | U7: =AVERAGE(รายเดือน!HV7:IG7) -> 124.78185 | V7: =AVERAGE(รายเดือน!IH7:IS7) -> 129.32751
A8: ข้าวเปลือก | B8: =AVERAGE(รายเดือน!B8:M8) -> 100 | C8: =AVERAGE(รายเดือน!N8:Y8) -> 101.32155 | D8: =AVERAGE(รายเดือน!Z8:AK8) -> 102.09563 | E8: =AVERAGE(รายเดือน!AL8:AW8) -> 109.18542 | F8: =AVERAGE(รายเดือน!AX8:BI8) -> 109.04231 | G8: =AVERAGE(รายเดือน!BJ8:BU8) -> 115.67086 | H8: =AVERAGE(รายเดือน!BV8:CG8) -> 123.24705 | I8: =AVERAGE(รายเดือน!CH8:CS8) -> 131.88119 | J8: =AVERAGE(รายเดือน!CT8:DE8) -> 125.70154 | K8: =AVERAGE(รายเดือน!DF8:DQ8) -> 119.91992 | L8: =AVERAGE(รายเดือน!DR8:EC8) -> 102.96656 | M8: =AVERAGE(รายเดือน!ED8:EO8) -> 98.033821 | N8: =AVERAGE(รายเดือน!EP8:FA8) -> 107.03458 | O8: =AVERAGE(รายเดือน!FB8:FM8) -> 112.46447 | P8: =AVERAGE(รายเดือน!FN8:FY8) -> 106.56603 | Q8: =AVERAGE(รายเดือน!FZ8:GK8) -> 106.0003 | R8: =AVERAGE(รายเดือน!GL8:GW8) -> 109.3503 | S8: =AVERAGE(รายเดือน!GX8:HI8) -> 112.39297 | T8: =AVERAGE(รายเดือน!HJ8:HU8) -> 114.81839 | U8: =AVERAGE(รายเดือน!HV8:IG8) -> 114.14775 | V8: =AVERAGE(รายเดือน!IH8:IS8) -> 118.76559
A9: ข้าวเปลือกเจ้า | B9: =AVERAGE(รายเดือน!B9:M9) -> 100 | C9: =AVERAGE(รายเดือน!N9:Y9) -> 105.47582 | D9: =AVERAGE(รายเดือน!Z9:AK9) -> 105.04915 | E9: =AVERAGE(รายเดือน!AL9:AW9) -> 118.27598 | F9: =AVERAGE(รายเดือน!AX9:BI9) -> 117.13071 | G9: =AVERAGE(รายเดือน!BJ9:BU9) -> 117.63192 | H9: =AVERAGE(รายเดือน!BV9:CG9) -> 135.08734 | I9: =AVERAGE(รายเดือน!CH9:CS9) -> 151.94003 | J9: =AVERAGE(รายเดือน!CT9:DE9) -> 142.74046 | K9: =AVERAGE(รายเดือน!DF9:DQ9) -> 134.91982 | L9: =AVERAGE(รายเดือน!DR9:EC9) -> 95.684037 | M9: =AVERAGE(รายเดือน!ED9:EO9) -> 81.936281 | N9: =AVERAGE(รายเดือน!EP9:FA9) -> 101.84849 | O9: =AVERAGE(รายเดือน!FB9:FM9) -> 118.3878 | P9: =AVERAGE(รายเดือน!FN9:FY9) -> 108.67518 | Q9: =AVERAGE(รายเดือน!FZ9:GK9) -> 94.133497 | R9: =AVERAGE(รายเดือน!GL9:GW9) -> 100.02077 | S9: =AVERAGE(รายเดือน!GX9:HI9) -> 109.00421 | T9: =AVERAGE(รายเดือน!HJ9:HU9) -> 113.15685 | U9: =AVERAGE(รายเดือน!HV9:IG9) -> 111.9701 | V9: =AVERAGE(รายเดือน!IH9:IS9) -> 120.90924
A10: ข้าวเปลือกเจ้านาปีหอมมะลิ | B10: =AVERAGE(รายเดือน!B10:M10) -> 100 | C10: =AVERAGE(รายเดือน!N10:Y10) -> 96.444212 | D10: =AVERAGE(รายเดือน!Z10:AK10) -> 98.666285 | E10: =AVERAGE(รายเดือน!AL10:AW10) -> 98.701742 | F10: =AVERAGE(รายเดือน!AX10:BI10) -> 99.621916 | G10: =AVERAGE(รายเดือน!BJ10:BU10) -> 113.65562 | H10: =AVERAGE(รายเดือน!BV10:CG10) -> 109.85255 | I10: =AVERAGE(รายเดือน!CH10:CS10) -> 108.9145 | J10: =AVERAGE(รายเดือน!CT10:DE10) -> 105.57201 | K10: =AVERAGE(รายเดือน!DF10:DQ10) -> 102.50368 | L10: =AVERAGE(รายเดือน!DR10:EC10) -> 128.17073 | M10: =AVERAGE(รายเดือน!ED10:EO10) -> 132.66722 | N10: =AVERAGE(รายเดือน!EP10:FA10) -> 134.94765 | O10: =AVERAGE(รายเดือน!FB10:FM10) -> 122.14878 | P10: =AVERAGE(รายเดือน!FN10:FY10) -> 122.9988 | Q10: =AVERAGE(รายเดือน!FZ10:GK10) -> 135.59754 | R10: =AVERAGE(รายเดือน!GL10:GW10) -> 139.24287 | S10: =AVERAGE(รายเดือน!GX10:HI10) -> 134.90415 | T10: =AVERAGE(รายเดือน!HJ10:HU10) -> 134.28924 | U10: =AVERAGE(รายเดือน!HV10:IG10) -> 134.95378 | V10: =AVERAGE(รายเดือน!IH10:IS10) -> 135.64814
A11: ข้าวเปลือกเหนียวนาปีเมล็ดยาว | B11: =AVERAGE(รายเดือน!B11:M11) -> 100 | C11: =AVERAGE(รายเดือน!N11:Y11) -> 96.592336 | D11: =AVERAGE(รายเดือน!Z11:AK11) -> 98.685558 | E11: =AVERAGE(รายเดือน!AL11:AW11) -> 98.600396 | F11: =AVERAGE(รายเดือน!AX11:BI11) -> 99.739711 | G11: =AVERAGE(รายเดือน!BJ11:BU11) -> 113.07953 | H11: =AVERAGE(รายเดือน!BV11:CG11) -> 109.1349 | I11: =AVERAGE(รายเดือน!CH11:CS11) -> 108.31707 | J11: =AVERAGE(รายเดือน!CT11:DE11) -> 106.46049 | K11: =AVERAGE(รายเดือน!DF11:DQ11) -> 102.60103 | L11: =AVERAGE(รายเดือน!DR11:EC11) -> 90.445413 | M11: =AVERAGE(รายเดือน!ED11:EO11) -> 96.697443 | N11: =AVERAGE(รายเดือน!EP11:FA11) -> 85.665919 | O11: =AVERAGE(รายเดือน!FB11:FM11) -> 84.929051 | P11: =AVERAGE(รายเดือน!FN11:FY11) -> 80.535504 | Q11: =AVERAGE(รายเดือน!FZ11:GK11) -> 99.933936 | R11: =AVERAGE(รายเดือน!GL11:GW11) -> 96.303863 | S11: =AVERAGE(รายเดือน!GX11:HI11) -> 93.091683 | T11: =AVERAGE(รายเดือน!HJ11:HU11) -> 94.816057 | U11: =AVERAGE(รายเดือน!HV11:IG11) -> 93.821695 | V11: =AVERAGE(รายเดือน!IH11:IS11) -> 92.083113
A12: อ้อย | B12: =AVERAGE(รายเดือน!B12:M12) -> 100 | C12: =AVERAGE(รายเดือน!N12:Y12) -> 130.29345 | D12: =AVERAGE(รายเดือน!Z12:AK12) -> 157.17433 | E12: =AVERAGE(รายเดือน!AL12:AW12) -> 174.07103 | F12: =AVERAGE(รายเดือน!AX12:BI12) -> 171.21216 | G12: =AVERAGE(รายเดือน!BJ12:BU12) -> 156.16065 | H12: =AVERAGE(รายเดือน!BV12:CG12) -> 246.56092 | I12: =AVERAGE(รายเดือน!CH12:CS12) -> 232.69533 | J12: =AVERAGE(รายเดือน!CT12:DE12) -> 239.5551 | K12: =AVERAGE(รายเดือน!DF12:DQ12) -> 245.4155 | L12: =AVERAGE(รายเดือน!DR12:EC12) -> 249.04705 | M12: =AVERAGE(รายเดือน!ED12:EO12) -> 207.38477 | N12: =AVERAGE(รายเดือน!EP12:FA12) -> 237.96071 | O12: =AVERAGE(รายเดือน!FB12:FM12) -> 338.94302 | P12: =AVERAGE(รายเดือน!FN12:FY12) -> 293.72086 | Q12: =AVERAGE(รายเดือน!FZ12:GK12) -> 147.11124 | R12: =AVERAGE(รายเดือน!GL12:GW12) -> 173.37267 | S12: =AVERAGE(รายเดือน!GX12:HI12) -> 215.89069 | T12: =AVERAGE(รายเดือน!HJ12:HU12) -> 213.76738 | U12: =AVERAGE(รายเดือน!HV12:IG12) -> 197.86153 | V12: =AVERAGE(รายเดือน!IH12:IS12) -> 207.78086
A13: มันสำปะหลัง | B13: =AVERAGE(รายเดือน!B13:M13) -> 100 | C13: =AVERAGE(รายเดือน!N13:Y13) -> 140.33838 | D13: =AVERAGE(รายเดือน!Z13:AK13) -> 159.35651 | E13: =AVERAGE(รายเดือน!AL13:AW13) -> 135.7976 | F13: =AVERAGE(รายเดือน!AX13:BI13) -> 159.48467 | G13: =AVERAGE(รายเดือน!BJ13:BU13) -> 110.91828 | H13: =AVERAGE(รายเดือน!BV13:CG13) -> 122.56456 | I13: =AVERAGE(รายเดือน!CH13:CS13) -> 172.51857 | J13: =AVERAGE(รายเดือน!CT13:DE13) -> 189.20397 | K13: =AVERAGE(รายเดือน!DF13:DQ13) -> 165.51535 | L13: =AVERAGE(รายเดือน!DR13:EC13) -> 177.43822 | M13: =AVERAGE(รายเดือน!ED13:EO13) -> 178.23554 | N13: =AVERAGE(รายเดือน!EP13:FA13) -> 171.0363 | O13: =AVERAGE(รายเดือน!FB13:FM13) -> 170.79581 | P13: =AVERAGE(รายเดือน!FN13:FY13) -> 175.12375 | Q13: =AVERAGE(รายเดือน!FZ13:GK13) -> 174.43695 | R13: =AVERAGE(รายเดือน!GL13:GW13) -> 200.84954 | S13: =AVERAGE(รายเดือน!GX13:HI13) -> 195.78581 | T13: =AVERAGE(รายเดือน!HJ13:HU13) -> 168.90682 | U13: =AVERAGE(รายเดือน!HV13:IG13) -> 157.99903 | V13: =AVERAGE(รายเดือน!IH13:IS13) -> 151.96918
A14: ข้าวโพดเลี้ยงสัตว์ | B14: =AVERAGE(รายเดือน!B14:M14) -> 100 | C14: =AVERAGE(รายเดือน!N14:Y14) -> 98.301306 | D14: =AVERAGE(รายเดือน!Z14:AK14) -> 88.544948 | E14: =AVERAGE(รายเดือน!AL14:AW14) -> 97.936697 | F14: =AVERAGE(รายเดือน!AX14:BI14) -> 114.58477 | G14: =AVERAGE(รายเดือน!BJ14:BU14) -> 113.48542 | H14: =AVERAGE(รายเดือน!BV14:CG14) -> 115.51343 | I14: =AVERAGE(รายเดือน!CH14:CS14) -> 119.73284 | J14: =AVERAGE(รายเดือน!CT14:DE14) -> 117.5149 | K14: =AVERAGE(รายเดือน!DF14:DQ14) -> 110.17198 | L14: =AVERAGE(รายเดือน!DR14:EC14) -> 99.357545 | M14: =AVERAGE(รายเดือน!ED14:EO14) -> 106.57764 | N14: =AVERAGE(รายเดือน!EP14:FA14) -> 107.46453 | O14: =AVERAGE(รายเดือน!FB14:FM14) -> 114.23996 | P14: =AVERAGE(รายเดือน!FN14:FY14) -> 113.11677 | Q14: =AVERAGE(รายเดือน!FZ14:GK14) -> 120.30062 | R14: =AVERAGE(รายเดือน!GL14:GW14) -> 117.2899 | S14: =AVERAGE(รายเดือน!GX14:HI14) -> 111.69373 | T14: =AVERAGE(รายเดือน!HJ14:HU14) -> 112.82107 | U14: =AVERAGE(รายเดือน!HV14:IG14) -> 110.0231 | V14: =AVERAGE(รายเดือน!IH14:IS14) -> 119.81891
A15: ถั่วเขียวผิวมัน | B15: =AVERAGE(รายเดือน!B15:M15) -> 100 | C15: =AVERAGE(รายเดือน!N15:Y15) -> 94.704949 | D15: =AVERAGE(รายเดือน!Z15:AK15) -> 98.736283 | E15: =AVERAGE(รายเดือน!AL15:AW15) -> 91.987405 | F15: =AVERAGE(รายเดือน!AX15:BI15) -> 82.725521 | G15: =AVERAGE(รายเดือน!BJ15:BU15) -> 87.386592 | H15: =AVERAGE(รายเดือน!BV15:CG15) -> 83.937468 | I15: =AVERAGE(รายเดือน!CH15:CS15) -> 87.458732 | J15: =AVERAGE(รายเดือน!CT15:DE15) -> 85.566127 | K15: =AVERAGE(รายเดือน!DF15:DQ15) -> 84.497611 | L15: =AVERAGE(รายเดือน!DR15:EC15) -> 83.648909 | M15: =AVERAGE(รายเดือน!ED15:EO15) -> 85.657786 | N15: =AVERAGE(รายเดือน!EP15:FA15) -> 90.219559 | O15: =AVERAGE(รายเดือน!FB15:FM15) -> 117.90358 | P15: =AVERAGE(รายเดือน!FN15:FY15) -> 69.848165 | Q15: =AVERAGE(รายเดือน!FZ15:GK15) -> 106.45844 | R15: =AVERAGE(รายเดือน!GL15:GW15) -> 96.669824 | S15: =AVERAGE(รายเดือน!GX15:HI15) -> 100.27851 | T15: =AVERAGE(รายเดือน!HJ15:HU15) -> 59.786367 | U15: =AVERAGE(รายเดือน!HV15:IG15) -> 42.013797 | V15: =AVERAGE(รายเดือน!IH15:IS15) -> 47.292479
A16: 1.2 กลุ่มไม้ยืนต้น | B16: =AVERAGE(รายเดือน!B16:M16) -> 100 | C16: =AVERAGE(รายเดือน!N16:Y16) -> 104.55181 | D16: =AVERAGE(รายเดือน!Z16:AK16) -> 108.93529 | E16: =AVERAGE(รายเดือน!AL16:AW16) -> 114.23579 | F16: =AVERAGE(รายเดือน!AX16:BI16) -> 118.46948 | G16: =AVERAGE(รายเดือน!BJ16:BU16) -> 127.35141 | H16: =AVERAGE(รายเดือน!BV16:CG16) -> 138.95677 | I16: =AVERAGE(รายเดือน!CH16:CS16) -> 138.00548 | J16: =AVERAGE(รายเดือน!CT16:DE16) -> 148.36648 | K16: =AVERAGE(รายเดือน!DF16:DQ16) -> 155.03545 | L16: =AVERAGE(รายเดือน!DR16:EC16) -> 156.14879 | M16: =AVERAGE(รายเดือน!ED16:EO16) -> 156.99559 | N16: =AVERAGE(รายเดือน!EP16:FA16) -> 164.64989 | O16: =AVERAGE(รายเดือน!FB16:FM16) -> 173.73825 | P16: =AVERAGE(รายเดือน!FN16:FY16) -> 171.11937 | Q16: =AVERAGE(รายเดือน!FZ16:GK16) -> 171.43447 | R16: =AVERAGE(รายเดือน!GL16:GW16) -> 172.56876 | S16: =AVERAGE(รายเดือน!GX16:HI16) -> 168.78964 | T16: =AVERAGE(รายเดือน!HJ16:HU16) -> 169.69681 | U16: =AVERAGE(รายเดือน!HV16:IG16) -> 169.56774 | V16: =AVERAGE(รายเดือน!IH16:IS16) -> 169.7468
... A51: กุ้งขาวแวนนาไม | B51: =AVERAGE(รายเดือน!B51:M51) -> 100 | C51: =AVERAGE(รายเดือน!N51:Y51) -> 119.77499 | D51: =AVERAGE(รายเดือน!Z51:AK51) -> 128.64043 | E51: =AVERAGE(รายเดือน!AL51:AW51) -> 128.2472 | F51: =AVERAGE(รายเดือน!AX51:BI51) -> 149.39349 | G51: =AVERAGE(รายเดือน!BJ51:BU51) -> 149.40221 | H51: =AVERAGE(รายเดือน!BV51:CG51) -> 166.52157 | I51: =AVERAGE(รายเดือน!CH51:CS51) -> 121.29788 | J51: =AVERAGE(รายเดือน!CT51:DE51) -> 65.565562 | K51: =AVERAGE(รายเดือน!DF51:DQ51) -> 55.774642 | L51: =AVERAGE(รายเดือน!DR51:EC51) -> 57.075677 | M51: =AVERAGE(รายเดือน!ED51:EO51) -> 77.494825 | N51: =AVERAGE(รายเดือน!EP51:FA51) -> 73.814362 | O51: =AVERAGE(รายเดือน!FB51:FM51) -> 73.234502 | P51: =AVERAGE(รายเดือน!FN51:FY51) -> 77.986877 | Q51: =AVERAGE(รายเดือน!FZ51:GK51) -> 71.090458 | R51: =AVERAGE(รายเดือน!GL51:GW51) -> 61.996848 | S51: =AVERAGE(รายเดือน!GX51:HI51) -> 61.788878 | T51: =AVERAGE(รายเดือน!HJ51:HU51) -> 62.211817 | U51: =AVERAGE(รายเดือน!HV51:IG51) -> 60.137327 | V51: =AVERAGE(รายเดือน!IH51:IS51) -> 59.716835
A52: ที่มา : สำนักงานเศรษฐกิจการเกษตร

Sheet รายไตรมาส
A1: ดัชนีผลผลิตสินค้าเกษตร
A2: (2548 = 100)
A3: รายการสินค้า | B3: 2548 | F3: 2549 | J3: 2550 | N3: 2551 | R3: 2552 | V3: 2553 | Z3: 2554 | AD3: 2555 | AH3: 2556 | AL3: 2557 | AP3: 2558 | AT3: 2559 | AX3: 2560 | BB3: 2561 | BF3: 2562 | BJ3: 2563 | BN3: 2564 | BR3: 2565 | BV3: 2566 | BZ3: 2567 | CD3: 2568 | CH3: 2569
B4: ไตรมาส 1 | C4: ไตรมาส 2 | D4: ไตรมาส 3 | E4: ไตรมาส 4 | F4: ไตรมาส 1 | G4: ไตรมาส 2 | H4: ไตรมาส 3 | I4: ไตรมาส 4 | J4: ไตรมาส 1 | K4: ไตรมาส 2 | L4: ไตรมาส 3 | M4: ไตรมาส 4 | N4: ไตรมาส 1 | O4: ไตรมาส 2 | P4: ไตรมาส 3 | Q4: ไตรมาส 4 | R4: ไตรมาส 1 | S4: ไตรมาส 2 | T4: ไตรมาส 3 | U4: ไตรมาส 4 | V4: ไตรมาส 1 | W4: ไตรมาส 2 | X4: ไตรมาส 3 | Y4: ไตรมาส 4 | Z4: ไตรมาส 1 | AA4: ไตรมาส 2 | AB4: ไตรมาส 3 | AC4: ไตรมาส 4 | AD4: ไตรมาส 1 | AE4: ไตรมาส 2 | AF4: ไตรมาส 3 | AG4: ไตรมาส 4 | AH4: ไตรมาส 1 | AI4: ไตรมาส 2 | AJ4: ไตรมาส 3 | AK4: ไตรมาส 4 | AL4: ไตรมาส 1 | AM4: ไตรมาส 2 | AN4: ไตรมาส 3 | AO4: ไตรมาส 4 | AP4: ไตรมาส 1 | AQ4: ไตรมาส 2 | AR4: ไตรมาส 3 | AS4: ไตรมาส 4 | AT4: ไตรมาส 1 | AU4: ไตรมาส 2 | AV4: ไตรมาส 3 | AW4: ไตรมาส 4 | AX4: ไตรมาส 1 | AY4: ไตรมาส 2 | AZ4: ไตรมาส 3 | BA4: ไตรมาส 4 | BB4: ไตรมาส 1 | BC4: ไตรมาส 2 | BD4: ไตรมาส 3 | BE4: ไตรมาส 4 | BF4: ไตรมาส 1 | BG4: ไตรมาส 2 | BH4: ไตรมาส 3 | BI4: ไตรมาส 4 | BJ4: ไตรมาส 1 | BK4: ไตรมาส 2 | BL4: ไตรมาส 3 | BM4: ไตรมาส 4 | BN4: ไตรมาส 1 | BO4: ไตรมาส 2 | BP4: ไตรมาส 3 | BQ4: ไตรมาส 4 | BR4: ไตรมาส 1 | BS4: ไตรมาส 2 | BT4: ไตรมาส 3 | BU4: ไตรมาส 4 | BV4: ไตรมาส 1 | BW4: ไตรมาส 2 | BX4: ไตรมาส 3 | BY4: ไตรมาส 4 | BZ4: ไตรมาส 1 | CA4: ไตรมาส 2 | CB4: ไตรมาส 3 | CC4: ไตรมาส 4 | CD4: ไตรมาส 1 | CE4: ไตรมาส 2 | CF4: ไตรมาส 3 | CG4: ไตรมาส 4 | CH4: ไตรมาส 1 | CI4: ไตรมาส 2 | CJ4: ไตรมาส 3 | CK4: ไตรมาส 4
A5: ภาคเกษตรกรรม | B5: =AVERAGE(รายเดือน!B5:D5) -> 102.44303 | C5: =AVERAGE(รายเดือน!E5:G5) -> 72.463116 | D5: =AVERAGE(รายเดือน!H5:J5) -> 83.833228 | E5: =AVERAGE(รายเดือน!K5:M5) -> 141.26063 | F5: =AVERAGE(รายเดือน!N5:P5) -> 98.855732 | G5: =AVERAGE(รายเดือน!Q5:S5) -> 79.838216 | H5: =AVERAGE(รายเดือน!T5:V5) -> 92.1294 | I5: =AVERAGE(รายเดือน!W5:Y5) -> 154.15237 | J5: =AVERAGE(รายเดือน!Z5:AB5) -> 101.38601 | K5: =AVERAGE(รายเดือน!AC5:AE5) -> 87.548674 | L5: =AVERAGE(รายเดือน!AF5:AH5) -> 94.361011 | M5: =AVERAGE(รายเดือน!AI5:AK5) -> 159.95106 | N5: =AVERAGE(รายเดือน!AL5:AN5) -> 98.802625 | O5: =AVERAGE(รายเดือน!AO5:AQ5) -> 90.87767 | P5: =AVERAGE(รายเดือน!AR5:AT5) -> 98.137781 | Q5: =AVERAGE(รายเดือน!AU5:AW5) -> 163.85332 | R5: =AVERAGE(รายเดือน!AX5:AZ5) -> 106.97457 | S5: =AVERAGE(รายเดือน!BA5:BC5) -> 90.240361 | T5: =AVERAGE(รายเดือน!BD5:BF5) -> 104.00759 | U5: =AVERAGE(รายเดือน!BG5:BI5) -> 163.04786 | V5: =AVERAGE(รายเดือน!BJ5:BL5) -> 103.22014 | W5: =AVERAGE(รายเดือน!BM5:BO5) -> 95.828014 | X5: =AVERAGE(รายเดือน!BP5:BR5) -> 102.6695 | Y5: =AVERAGE(รายเดือน!BS5:BU5) -> 166.53431 | Z5: =AVERAGE(รายเดือน!BV5:BX5) -> 110.82881 | AA5: =AVERAGE(รายเดือน!BY5:CA5) -> 105.48647 | AB5: =AVERAGE(รายเดือน!CB5:CD5) -> 110.58473 | AC5: =AVERAGE(รายเดือน!CE5:CG5) -> 181.39763 | AD5: =AVERAGE(รายเดือน!CH5:CJ5) -> 122.59061 | AE5: =AVERAGE(รายเดือน!CK5:CM5) -> 108.39718 | AF5: =AVERAGE(รายเดือน!CN5:CP5) -> 112.09661 | AG5: =AVERAGE(รายเดือน!CQ5:CS5) -> 181.16661 | AH5: =AVERAGE(รายเดือน!CT5:CV5) -> 130.29337 | AI5: =AVERAGE(รายเดือน!CW5:CY5) -> 96.208003 | AJ5: =AVERAGE(รายเดือน!CZ5:DB5) -> 105.13019 | AK5: =AVERAGE(รายเดือน!DC5:DE5) -> 187.74265 | AL5: =AVERAGE(รายเดือน!DF5:DH5) -> 125.61749 | AM5: =AVERAGE(รายเดือน!DI5:DK5) -> 98.166583 | AN5: =AVERAGE(รายเดือน!DL5:DN5) -> 111.39545 | AO5: =AVERAGE(รายเดือน!DO5:DQ5) -> 186.94045 | AP5: =AVERAGE(รายเดือน!DR5:DT5) -> 131.11506 | AQ5: =AVERAGE(รายเดือน!DU5:DW5) -> 88.063984 | AR5: =AVERAGE(รายเดือน!DX5:DZ5) -> 99.73034 | AS5: =AVERAGE(รายเดือน!EA5:EC5) -> 190.33684 | AT5: =AVERAGE(รายเดือน!ED5:EF5) -> 123.36512 | AU5: =AVERAGE(รายเดือน!EG5:EI5) -> 83.70369 | AV5: =AVERAGE(รายเดือน!EJ5:EL5) -> 99.535868 | AW5: =AVERAGE(รายเดือน!EM5:EO5) -> 203.48299 | AX5: =AVERAGE(รายเดือน!EP5:ER5) -> 134.56274 | AY5: =AVERAGE(รายเดือน!ES5:EU5) -> 97.241378 | AZ5: =AVERAGE(รายเดือน!EV5:EX5) -> 114.85433 | BA5: =AVERAGE(รายเดือน!EY5:FA5) -> 198.2632 | BB5: =AVERAGE(รายเดือน!FB5:FD5) -> 148.64339 | BC5: =AVERAGE(รายเดือน!FE5:FG5) -> 110.81569 | BD5: =AVERAGE(รายเดือน!FH5:FJ5) -> 123.37706 | BE5: =AVERAGE(รายเดือน!FK5:FM5) -> 200.00069 | BF5: =AVERAGE(รายเดือน!FN5:FP5) -> 149.48796 | BG5: =AVERAGE(รายเดือน!FQ5:FS5) -> 108.78601 | BH5: =AVERAGE(รายเดือน!FT5:FV5) -> 124.44953 | BI5: =AVERAGE(รายเดือน!FW5:FY5) -> 197.6988 | BJ5: =AVERAGE(รายเดือน!FZ5:GB5) -> 130.46704 | BK5: =AVERAGE(รายเดือน!GC5:GE5) -> 101.61724 | BL5: =AVERAGE(รายเดือน!GF5:GH5) -> 116.65726 | BM5: =AVERAGE(รายเดือน!GI5:GK5) -> 210.41883 | BN5: =AVERAGE(รายเดือน!GL5:GN5) -> 133.49311 | BO5: =AVERAGE(รายเดือน!GO5:GQ5) -> 104.33694 | BP5: =AVERAGE(รายเดือน!GR5:GT5) -> 125.685 | BQ5: =AVERAGE(รายเดือน!GU5:GW5) -> 204.04143 | BR5: =AVERAGE(รายเดือน!GX5:GZ5) -> 136.2485 | BS5: =AVERAGE(รายเดือน!HA5:HC5) -> 111.22733 | BT5: =AVERAGE(รายเดือน!HD5:HF5) -> 124.51054 | BU5: =AVERAGE(รายเดือน!HG5:HI5) -> 204.27003 | BV5: =AVERAGE(รายเดือน!HJ5:HL5) -> 138.13159 | BW5: =AVERAGE(รายเดือน!HM5:HO5) -> 114.34757 | BX5: =AVERAGE(รายเดือน!HP5:HR5) -> 127.48137 | BY5: =AVERAGE(รายเดือน!HS5:HU5) -> 208.3141 | BZ5: =AVERAGE(รายเดือน!HV5:HX5) -> 135.0948 | CA5: =AVERAGE(รายเดือน!HY5:IA5) -> 115.45073 | CB5: =AVERAGE(รายเดือน!IB5:ID5) -> 131.76477 | CC5: =AVERAGE(รายเดือน!IE5:IG5) -> 206.69871 | CD5: =AVERAGE(รายเดือน!IH5:IJ5) -> 138.91026 | CE5: =AVERAGE(รายเดือน!IK5:IM5) -> 125.43764 | CF5: =AVERAGE(รายเดือน!IN5:IP5) -> 137.08646 | CG5: =AVERAGE(รายเดือน!IQ5:IS5) -> 207.3911 | CH5: =AVERAGE(รายเดือน!IT5:IV5) -> 145.79979 | CI5: =AVERAGE(รายเดือน!IW5:IY5) -> 125.95106
A6: 1. หมวดพืชผลสำคัญ | B6: =AVERAGE(รายเดือน!B6:D6) -> 105.98188 | C6: =AVERAGE(รายเดือน!E6:G6) -> 63.02508 | D6: =AVERAGE(รายเดือน!H6:J6) -> 76.926318 | E6: =AVERAGE(รายเดือน!K6:M6) -> 154.06673 | F6: =AVERAGE(รายเดือน!N6:P6) -> 98.321109 | G6: =AVERAGE(รายเดือน!Q6:S6) -> 71.274525 | H6: =AVERAGE(รายเดือน!T6:V6) -> 82.922042 | I6: =AVERAGE(รายเดือน!W6:Y6) -> 166.85622 | J6: =AVERAGE(รายเดือน!Z6:AB6) -> 99.237477 | K6: =AVERAGE(รายเดือน!AC6:AE6) -> 79.595627 | L6: =AVERAGE(รายเดือน!AF6:AH6) -> 84.470639 | M6: =AVERAGE(รายเดือน!AI6:AK6) -> 174.40389 | N6: =AVERAGE(รายเดือน!AL6:AN6) -> 96.941443 | O6: =AVERAGE(รายเดือน!AO6:AQ6) -> 85.071067 | P6: =AVERAGE(รายเดือน!AR6:AT6) -> 90.693406 | Q6: =AVERAGE(รายเดือน!AU6:AW6) -> 179.62108 | R6: =AVERAGE(รายเดือน!AX6:AZ6) -> 108.27172 | S6: =AVERAGE(รายเดือน!BA6:BC6) -> 82.492193 | T6: =AVERAGE(รายเดือน!BD6:BF6) -> 95.352925 | U6: =AVERAGE(รายเดือน!BG6:BI6) -> 176.85505 | V6: =AVERAGE(รายเดือน!BJ6:BL6) -> 100.38643 | W6: =AVERAGE(รายเดือน!BM6:BO6) -> 89.063649 | X6: =AVERAGE(รายเดือน!BP6:BR6) -> 93.814813 | Y6: =AVERAGE(รายเดือน!BS6:BU6) -> 181.73161 | Z6: =AVERAGE(รายเดือน!BV6:BX6) -> 110.55894 | AA6: =AVERAGE(รายเดือน!BY6:CA6) -> 100.25357 | AB6: =AVERAGE(รายเดือน!CB6:CD6) -> 102.63804 | AC6: =AVERAGE(รายเดือน!CE6:CG6) -> 199.58899 | AD6: =AVERAGE(รายเดือน!CH6:CJ6) -> 124.78904 | AE6: =AVERAGE(รายเดือน!CK6:CM6) -> 101.01085 | AF6: =AVERAGE(รายเดือน!CN6:CP6) -> 108.32266 | AG6: =AVERAGE(รายเดือน!CQ6:CS6) -> 201.61154 | AH6: =AVERAGE(รายเดือน!CT6:CV6) -> 135.93405 | AI6: =AVERAGE(รายเดือน!CW6:CY6) -> 91.312607 | AJ6: =AVERAGE(รายเดือน!CZ6:DB6) -> 102.74221 | AK6: =AVERAGE(รายเดือน!DC6:DE6) -> 215.54819 | AL6: =AVERAGE(รายเดือน!DF6:DH6) -> 132.3501 | AM6: =AVERAGE(รายเดือน!DI6:DK6) -> 94.087213 | AN6: =AVERAGE(รายเดือน!DL6:DN6) -> 110.29483 | AO6: =AVERAGE(รายเดือน!DO6:DQ6) -> 208.55398 | AP6: =AVERAGE(รายเดือน!DR6:DT6) -> 137.80855 | AQ6: =AVERAGE(รายเดือน!DU6:DW6) -> 74.806072 | AR6: =AVERAGE(รายเดือน!DX6:DZ6) -> 89.974943 | AS6: =AVERAGE(รายเดือน!EA6:EC6) -> 211.94179 | AT6: =AVERAGE(รายเดือน!ED6:EF6) -> 122.50189 | AU6: =AVERAGE(รายเดือน!EG6:EI6) -> 64.228981 | AV6: =AVERAGE(รายเดือน!EJ6:EL6) -> 84.817754 | AW6: =AVERAGE(รายเดือน!EM6:EO6) -> 223.12784 | AX6: =AVERAGE(รายเดือน!EP6:ER6) -> 133.64637 | AY6: =AVERAGE(รายเดือน!ES6:EU6) -> 81.691604 | AZ6: =AVERAGE(รายเดือน!EV6:EX6) -> 104.23639 | BA6: =AVERAGE(รายเดือน!EY6:FA6) -> 216.97362 | BB6: =AVERAGE(รายเดือน!FB6:FD6) -> 151.26957 | BC6: =AVERAGE(รายเดือน!FE6:FG6) -> 97.733602 | BD6: =AVERAGE(รายเดือน!FH6:FJ6) -> 114.27365 | BE6: =AVERAGE(รายเดือน!FK6:FM6) -> 218.07684 | BF6: =AVERAGE(รายเดือน!FN6:FP6) -> 150.68726 | BG6: =AVERAGE(รายเดือน!FQ6:FS6) -> 92.251772 | BH6: =AVERAGE(รายเดือน!FT6:FV6) -> 113.14919 | BI6: =AVERAGE(รายเดือน!FW6:FY6) -> 211.63108 | BJ6: =AVERAGE(รายเดือน!FZ6:GB6) -> 125.36383 | BK6: =AVERAGE(รายเดือน!GC6:GE6) -> 83.282736 | BL6: =AVERAGE(รายเดือน!GF6:GH6) -> 102.52905 | BM6: =AVERAGE(รายเดือน!GI6:GK6) -> 229.74901 | BN6: =AVERAGE(รายเดือน!GL6:GN6) -> 130.31307 | BO6: =AVERAGE(รายเดือน!GO6:GQ6) -> 88.499276 | BP6: =AVERAGE(รายเดือน!GR6:GT6) -> 117.57932 | BQ6: =AVERAGE(รายเดือน!GU6:GW6) -> 228.33008 | BR6: =AVERAGE(รายเดือน!GX6:GZ6) -> 134.76245 | BS6: =AVERAGE(รายเดือน!HA6:HC6) -> 99.488706 | BT6: =AVERAGE(รายเดือน!HD6:HF6) -> 116.10052 | BU6: =AVERAGE(รายเดือน!HG6:HI6) -> 224.44309 | BV6: =AVERAGE(รายเดือน!HJ6:HL6) -> 134.89843 | BW6: =AVERAGE(รายเดือน!HM6:HO6) -> 98.102894 | BX6: =AVERAGE(รายเดือน!HP6:HR6) -> 115.30259 | BY6: =AVERAGE(รายเดือน!HS6:HU6) -> 223.85541 | BZ6: =AVERAGE(รายเดือน!HV6:HX6) -> 126.02403 | CA6: =AVERAGE(รายเดือน!HY6:IA6) -> 97.800665 | CB6: =AVERAGE(รายเดือน!IB6:ID6) -> 117.01158 | CC6: =AVERAGE(รายเดือน!IE6:IG6) -> 219.50302 | CD6: =AVERAGE(รายเดือน!IH6:IJ6) -> 130.49208 | CE6: =AVERAGE(รายเดือน!IK6:IM6) -> 110.70438 | CF6: =AVERAGE(รายเดือน!IN6:IP6) -> 123.90645 | CG6: =AVERAGE(รายเดือน!IQ6:IS6) -> 218.07869 | CH6: =AVERAGE(รายเดือน!IT6:IV6) -> 139.1015 | CI6: =AVERAGE(รายเดือน!IW6:IY6) -> 109.95893
A7: 1.1 กลุ่มธัญพืชและพืชอาหาร | B7: =AVERAGE(รายเดือน!B7:D7) -> 86.186346 | C7: =AVERAGE(รายเดือน!E7:G7) -> 32.354547 | D7: =AVERAGE(รายเดือน!H7:J7) -> 43.295957 | E7: =AVERAGE(รายเดือน!K7:M7) -> 238.16315 | F7: =AVERAGE(รายเดือน!N7:P7) -> 100.58003 | G7: =AVERAGE(รายเดือน!Q7:S7) -> 40.589947 | H7: =AVERAGE(รายเดือน!T7:V7) -> 53.974167 | I7: =AVERAGE(รายเดือน!W7:Y7) -> 233.12237 | J7: =AVERAGE(รายเดือน!Z7:AB7) -> 100.2682 | K7: =AVERAGE(รายเดือน!AC7:AE7) -> 49.522525 | L7: =AVERAGE(รายเดือน!AF7:AH7) -> 47.58183 | M7: =AVERAGE(รายเดือน!AI7:AK7) -> 246.54501 | N7: =AVERAGE(รายเดือน!AL7:AN7) -> 91.093124 | O7: =AVERAGE(รายเดือน!AO7:AQ7) -> 67.365241 | P7: =AVERAGE(รายเดือน!AR7:AT7) -> 64.516489 | Q7: =AVERAGE(รายเดือน!AU7:AW7) -> 242.42188 | R7: =AVERAGE(รายเดือน!AX7:AZ7) -> 106.15993 | S7: =AVERAGE(รายเดือน!BA7:BC7) -> 64.424557 | T7: =AVERAGE(รายเดือน!BD7:BF7) -> 57.498536 | U7: =AVERAGE(รายเดือน!BG7:BI7) -> 249.0921 | V7: =AVERAGE(รายเดือน!BJ7:BL7) -> 89.606939 | W7: =AVERAGE(รายเดือน!BM7:BO7) -> 67.874928 | X7: =AVERAGE(รายเดือน!BP7:BR7) -> 53.814803 | Y7: =AVERAGE(รายเดือน!BS7:BU7) -> 262.88046 | Z7: =AVERAGE(รายเดือน!BV7:BX7) -> 119.13014 | AA7: =AVERAGE(รายเดือน!BY7:CA7) -> 87.139526 | AB7: =AVERAGE(รายเดือน!CB7:CD7) -> 69.730221 | AC7: =AVERAGE(รายเดือน!CE7:CG7) -> 257.40164 | AD7: =AVERAGE(รายเดือน!CH7:CJ7) -> 141.74752 | AE7: =AVERAGE(รายเดือน!CK7:CM7) -> 87.073086 | AF7: =AVERAGE(รายเดือน!CN7:CP7) -> 82.620773 | AG7: =AVERAGE(รายเดือน!CQ7:CS7) -> 261.639 | AH7: =AVERAGE(รายเดือน!CT7:CV7) -> 154.96191 | AI7: =AVERAGE(รายเดือน!CW7:CY7) -> 68.688821 | AJ7: =AVERAGE(รายเดือน!CZ7:DB7) -> 59.259604 | AK7: =AVERAGE(รายเดือน!DC7:DE7) -> 279.41192 | AL7: =AVERAGE(รายเดือน!DF7:DH7) -> 147.62459 | AM7: =AVERAGE(รายเดือน!DI7:DK7) -> 65.506356 | AN7: =AVERAGE(รายเดือน!DL7:DN7) -> 61.285108 | AO7: =AVERAGE(รายเดือน!DO7:DQ7) -> 262.21545 | AP7: =AVERAGE(รายเดือน!DR7:DT7) -> 155.90998 | AQ7: =AVERAGE(รายเดือน!DU7:DW7) -> 36.192059 | AR7: =AVERAGE(รายเดือน!DX7:DZ7) -> 32.890721 | AS7: =AVERAGE(รายเดือน!EA7:EC7) -> 263.46071 | AT7: =AVERAGE(รายเดือน!ED7:EF7) -> 128.1339 | AU7: =AVERAGE(รายเดือน!EG7:EI7) -> 26.214702 | AV7: =AVERAGE(รายเดือน!EJ7:EL7) -> 28.641349 | AW7: =AVERAGE(รายเดือน!EM7:EO7) -> 278.53863 | AX7: =AVERAGE(รายเดือน!EP7:ER7) -> 140.39725 | AY7: =AVERAGE(รายเดือน!ES7:EU7) -> 46.021839 | AZ7: =AVERAGE(รายเดือน!EV7:EX7) -> 55.030112 | BA7: =AVERAGE(รายเดือน!EY7:FA7) -> 255.48464 | BB7: =AVERAGE(รายเดือน!FB7:FD7) -> 162.69072 | BC7: =AVERAGE(รายเดือน!FE7:FG7) -> 66.563981 | BD7: =AVERAGE(รายเดือน!FH7:FJ7) -> 63.197587 | BE7: =AVERAGE(รายเดือน!FK7:FM7) -> 258.91647 | BF7: =AVERAGE(รายเดือน!FN7:FP7) -> 163.00536 | BG7: =AVERAGE(รายเดือน!FQ7:FS7) -> 52.826526 | BH7: =AVERAGE(รายเดือน!FT7:FV7) -> 54.901493 | BI7: =AVERAGE(รายเดือน!FW7:FY7) -> 247.35588 | BJ7: =AVERAGE(รายเดือน!FZ7:GB7) -> 114.41904 | BK7: =AVERAGE(รายเดือน!GC7:GE7) -> 32.851459 | BL7: =AVERAGE(รายเดือน!GF7:GH7) -> 37.568436 | BM7: =AVERAGE(รายเดือน!GI7:GK7) -> 282.19453 | BN7: =AVERAGE(รายเดือน!GL7:GN7) -> 122.34155 | BO7: =AVERAGE(รายเดือน!GO7:GQ7) -> 41.367288 | BP7: =AVERAGE(รายเดือน!GR7:GT7) -> 48.418494 | BQ7: =AVERAGE(รายเดือน!GU7:GW7) -> 282.38202 | BR7: =AVERAGE(รายเดือน!GX7:GZ7) -> 136.58675 | BS7: =AVERAGE(รายเดือน!HA7:HC7) -> 47.484974 | BT7: =AVERAGE(รายเดือน!HD7:HF7) -> 58.370295 | BU7: =AVERAGE(รายเดือน!HG7:HI7) -> 272.77442 | BV7: =AVERAGE(รายเดือน!HJ7:HL7) -> 131.9095 | BW7: =AVERAGE(รายเดือน!HM7:HO7) -> 51.757548 | BX7: =AVERAGE(รายเดือน!HP7:HR7) -> 55.71857 | BY7: =AVERAGE(รายเดือน!HS7:HU7) -> 272.39899 | BZ7: =AVERAGE(รายเดือน!HV7:HX7) -> 123.47429 | CA7: =AVERAGE(รายเดือน!HY7:IA7) -> 47.250011 | CB7: =AVERAGE(รายเดือน!IB7:ID7) -> 59.67419 | CC7: =AVERAGE(รายเดือน!IE7:IG7) -> 268.72893 | CD7: =AVERAGE(รายเดือน!IH7:IJ7) -> 132.11701 | CE7: =AVERAGE(รายเดือน!IK7:IM7) -> 58.927428 | CF7: =AVERAGE(รายเดือน!IN7:IP7) -> 65.602646 | CG7: =AVERAGE(รายเดือน!IQ7:IS7) -> 260.66297 | CH7: =AVERAGE(รายเดือน!IT7:IV7) -> 138.38068 | CI7: =AVERAGE(รายเดือน!IW7:IY7) -> 58.756617
A8: ข้าวเปลือก | B8: =AVERAGE(รายเดือน!B8:D8) -> 51.924318 | C8: =AVERAGE(รายเดือน!E8:G8) -> 37.875019 | D8: =AVERAGE(รายเดือน!H8:J8) -> 39.566683 | E8: =AVERAGE(รายเดือน!K8:M8) -> 270.63398 | F8: =AVERAGE(รายเดือน!N8:P8) -> 54.7198 | G8: =AVERAGE(รายเดือน!Q8:S8) -> 46.694062 | H8: =AVERAGE(รายเดือน!T8:V8) -> 40.935372 | I8: =AVERAGE(รายเดือน!W8:Y8) -> 262.93698 | J8: =AVERAGE(รายเดือน!Z8:AB8) -> 43.023634 | K8: =AVERAGE(รายเดือน!AC8:AE8) -> 54.944947 | L8: =AVERAGE(รายเดือน!AF8:AH8) -> 42.443909 | M8: =AVERAGE(รายเดือน!AI8:AK8) -> 267.97005 | N8: =AVERAGE(รายเดือน!AL8:AN8) -> 34.331415 | O8: =AVERAGE(รายเดือน!AO8:AQ8) -> 80.410091 | P8: =AVERAGE(รายเดือน!AR8:AT8) -> 55.918013 | Q8: =AVERAGE(รายเดือน!AU8:AW8) -> 266.08217 | R8: =AVERAGE(รายเดือน!AX8:AZ8) -> 39.585498 | S8: =AVERAGE(รายเดือน!BA8:BC8) -> 72.653402 | T8: =AVERAGE(รายเดือน!BD8:BF8) -> 51.769003 | U8: =AVERAGE(รายเดือน!BG8:BI8) -> 272.16134 | V8: =AVERAGE(รายเดือน!BJ8:BL8) -> 31.415583 | W8: =AVERAGE(รายเดือน!BM8:BO8) -> 79.942417 | X8: =AVERAGE(รายเดือน!BP8:BR8) -> 48.952462 | Y8: =AVERAGE(รายเดือน!BS8:BU8) -> 302.37297 | Z8: =AVERAGE(รายเดือน!BV8:BX8) -> 49.654175 | AA8: =AVERAGE(รายเดือน!BY8:CA8) -> 87.873566 | AB8: =AVERAGE(รายเดือน!CB8:CD8) -> 67.895388 | AC8: =AVERAGE(รายเดือน!CE8:CG8) -> 287.56505 | AD8: =AVERAGE(รายเดือน!CH8:CJ8) -> 53.953972 | AE8: =AVERAGE(รายเดือน!CK8:CM8) -> 98.572527 | AF8: =AVERAGE(รายเดือน!CN8:CP8) -> 85.150589 | AG8: =AVERAGE(รายเดือน!CQ8:CS8) -> 289.84768 | AH8: =AVERAGE(รายเดือน!CT8:CV8) -> 64.889679 | AI8: =AVERAGE(รายเดือน!CW8:CY8) -> 77.027639 | AJ8: =AVERAGE(รายเดือน!CZ8:DB8) -> 59.841546 | AK8: =AVERAGE(รายเดือน!DC8:DE8) -> 301.04728 | AL8: =AVERAGE(รายเดือน!DF8:DH8) -> 63.072054 | AM8: =AVERAGE(รายเดือน!DI8:DK8) -> 71.427954 | AN8: =AVERAGE(รายเดือน!DL8:DN8) -> 63.934052 | AO8: =AVERAGE(รายเดือน!DO8:DQ8) -> 281.24562 | AP8: =AVERAGE(รายเดือน!DR8:DT8) -> 58.858769 | AQ8: =AVERAGE(รายเดือน!DU8:DW8) -> 32.592675 | AR8: =AVERAGE(รายเดือน!DX8:DZ8) -> 34.177329 | AS8: =AVERAGE(รายเดือน!EA8:EC8) -> 286.23748 | AT8: =AVERAGE(รายเดือน!ED8:EF8) -> 35.025544 | AU8: =AVERAGE(รายเดือน!EG8:EI8) -> 21.146386 | AV8: =AVERAGE(รายเดือน!EJ8:EL8) -> 23.282215 | AW8: =AVERAGE(รายเดือน!EM8:EO8) -> 312.68114 | AX8: =AVERAGE(รายเดือน!EP8:ER8) -> 47.210603 | AY8: =AVERAGE(รายเดือน!ES8:EU8) -> 45.270667 | AZ8: =AVERAGE(รายเดือน!EV8:EX8) -> 54.803957 | BA8: =AVERAGE(รายเดือน!EY8:FA8) -> 280.85309 | BB8: =AVERAGE(รายเดือน!FB8:FD8) -> 52.392729 | BC8: =AVERAGE(รายเดือน!FE8:FG8) -> 57.410509 | BD8: =AVERAGE(รายเดือน!FH8:FJ8) -> 67.506147 | BE8: =AVERAGE(รายเดือน!FK8:FM8) -> 272.54848 | BF8: =AVERAGE(รายเดือน!FN8:FP8) -> 52.103972 | BG8: =AVERAGE(รายเดือน!FQ8:FS8) -> 49.485095 | BH8: =AVERAGE(รายเดือน!FT8:FV8) -> 60.613596 | BI8: =AVERAGE(รายเดือน!FW8:FY8) -> 264.06144 | BJ8: =AVERAGE(รายเดือน!FZ8:GB8) -> 42.340609 | BK8: =AVERAGE(รายเดือน!GC8:GE8) -> 28.431928 | BL8: =AVERAGE(รายเดือน!GF8:GH8) -> 38.770962 | BM8: =AVERAGE(รายเดือน!GI8:GK8) -> 314.45771 | BN8: =AVERAGE(รายเดือน!GL8:GN8) -> 40.568623 | BO8: =AVERAGE(รายเดือน!GO8:GQ8) -> 37.787803 | BP8: =AVERAGE(รายเดือน!GR8:GT8) -> 51.065134 | BQ8: =AVERAGE(รายเดือน!GU8:GW8) -> 307.97962 | BR8: =AVERAGE(รายเดือน!GX8:GZ8) -> 41.766565 | BS8: =AVERAGE(รายเดือน!HA8:HC8) -> 47.234235 | BT8: =AVERAGE(รายเดือน!HD8:HF8) -> 64.723453 | BU8: =AVERAGE(รายเดือน!HG8:HI8) -> 295.84762 | BV8: =AVERAGE(รายเดือน!HJ8:HL8) -> 42.047615 | BW8: =AVERAGE(รายเดือน!HM8:HO8) -> 54.641146 | BX8: =AVERAGE(รายเดือน!HP8:HR8) -> 61.10758 | BY8: =AVERAGE(รายเดือน!HS8:HU8) -> 301.4772 | BZ8: =AVERAGE(รายเดือน!HV8:HX8) -> 44.658652 | CA8: =AVERAGE(รายเดือน!HY8:IA8) -> 48.743117 | CB8: =AVERAGE(รายเดือน!IB8:ID8) -> 64.480222 | CC8: =AVERAGE(รายเดือน!IE8:IG8) -> 298.70902 | CD8: =AVERAGE(รายเดือน!IH8:IJ8) -> 51.337222 | CE8: =AVERAGE(รายเดือน!IK8:IM8) -> 63.25835 | CF8: =AVERAGE(รายเดือน!IN8:IP8) -> 70.896826 | CG8: =AVERAGE(รายเดือน!IQ8:IS8) -> 289.56995 | CH8: =AVERAGE(รายเดือน!IT8:IV8) -> 47.716648 | CI8: =AVERAGE(รายเดือน!IW8:IY8) -> 61.366455
A9: ข้าวเปลือกเจ้า | B9: =AVERAGE(รายเดือน!B9:D9) -> 93.911269 | C9: =AVERAGE(รายเดือน!E9:G9) -> 70.576479 | D9: =AVERAGE(รายเดือน!H9:J9) -> 73.681111 | E9: =AVERAGE(รายเดือน!K9:M9) -> 161.83114 | F9: =AVERAGE(รายเดือน!N9:P9) -> 99.112214 | G9: =AVERAGE(รายเดือน!Q9:S9) -> 87.009922 | H9: =AVERAGE(รายเดือน!T9:V9) -> 76.228726 | I9: =AVERAGE(รายเดือน!W9:Y9) -> 159.55243 | J9: =AVERAGE(รายเดือน!Z9:AB9) -> 77.639816 | K9: =AVERAGE(รายเดือน!AC9:AE9) -> 102.38466 | L9: =AVERAGE(รายเดือน!AF9:AH9) -> 79.039547 | M9: =AVERAGE(รายเดือน!AI9:AK9) -> 161.13259 | N9: =AVERAGE(รายเดือน!AL9:AN9) -> 61.300021 | O9: =AVERAGE(รายเดือน!AO9:AQ9) -> 149.83652 | P9: =AVERAGE(รายเดือน!AR9:AT9) -> 104.14141 | Q9: =AVERAGE(รายเดือน!AU9:AW9) -> 157.82596 | R9: =AVERAGE(รายเดือน!AX9:AZ9) -> 71.272706 | S9: =AVERAGE(รายเดือน!BA9:BC9) -> 135.38267 | T9: =AVERAGE(รายเดือน!BD9:BF9) -> 96.415077 | U9: =AVERAGE(รายเดือน!BG9:BI9) -> 165.45239 | V9: =AVERAGE(รายเดือน!BJ9:BL9) -> 56.482401 | W9: =AVERAGE(รายเดือน!BM9:BO9) -> 148.96505 | X9: =AVERAGE(รายเดือน!BP9:BR9) -> 91.160721 | Y9: =AVERAGE(รายเดือน!BS9:BU9) -> 173.91952 | Z9: =AVERAGE(รายเดือน!BV9:BX9) -> 89.725959 | AA9: =AVERAGE(รายเดือน!BY9:CA9) -> 163.74399 | AB9: =AVERAGE(รายเดือน!CB9:CD9) -> 126.40619 | AC9: =AVERAGE(รายเดือน!CE9:CG9) -> 160.47323 | AD9: =AVERAGE(รายเดือน!CH9:CJ9) -> 99.166144 | AE9: =AVERAGE(รายเดือน!CK9:CM9) -> 183.68048 | AF9: =AVERAGE(รายเดือน!CN9:CP9) -> 158.53017 | AG9: =AVERAGE(รายเดือน!CQ9:CS9) -> 166.38333 | AH9: =AVERAGE(รายเดือน!CT9:CV9) -> 119.15714 | AI9: =AVERAGE(รายเดือน!CW9:CY9) -> 143.53364 | AJ9: =AVERAGE(รายเดือน!CZ9:DB9) -> 111.40273 | AK9: =AVERAGE(รายเดือน!DC9:DE9) -> 196.86834 | AL9: =AVERAGE(รายเดือน!DF9:DH9) -> 115.87254 | AM9: =AVERAGE(รายเดือน!DI9:DK9) -> 133.09916 | AN9: =AVERAGE(รายเดือน!DL9:DN9) -> 119.01405 | AO9: =AVERAGE(รายเดือน!DO9:DQ9) -> 171.69352 | AP9: =AVERAGE(รายเดือน!DR9:DT9) -> 106.77365 | AQ9: =AVERAGE(รายเดือน!DU9:DW9) -> 60.733334 | AR9: =AVERAGE(รายเดือน!DX9:DZ9) -> 63.627276 | AS9: =AVERAGE(รายเดือน!EA9:EC9) -> 151.60188 | AT9: =AVERAGE(รายเดือน!ED9:EF9) -> 63.091276 | AU9: =AVERAGE(รายเดือน!EG9:EI9) -> 39.404269 | AV9: =AVERAGE(รายเดือน!EJ9:EL9) -> 43.322641 | AW9: =AVERAGE(รายเดือน!EM9:EO9) -> 181.92694 | AX9: =AVERAGE(รายเดือน!EP9:ER9) -> 85.982788 | AY9: =AVERAGE(รายเดือน!ES9:EU9) -> 84.35756 | AZ9: =AVERAGE(รายเดือน!EV9:EX9) -> 100.95873 | BA9: =AVERAGE(รายเดือน!EY9:FA9) -> 136.09487 | BB9: =AVERAGE(รายเดือน!FB9:FD9) -> 96.344308 | BC9: =AVERAGE(รายเดือน!FE9:FG9) -> 106.979 | BD9: =AVERAGE(รายเดือน!FH9:FJ9) -> 124.54879 | BE9: =AVERAGE(รายเดือน!FK9:FM9) -> 145.67912 | BF9: =AVERAGE(รายเดือน!FN9:FP9) -> 96.066253 | BG9: =AVERAGE(รายเดือน!FQ9:FS9) -> 92.210746 | BH9: =AVERAGE(รายเดือน!FT9:FV9) -> 110.65328 | BI9: =AVERAGE(รายเดือน!FW9:FY9) -> 135.77044 | BJ9: =AVERAGE(รายเดือน!FZ9:GB9) -> 77.710145 | BK9: =AVERAGE(รายเดือน!GC9:GE9) -> 52.98018 | BL9: =AVERAGE(รายเดือน!GF9:GH9) -> 71.35957 | BM9: =AVERAGE(รายเดือน!GI9:GK9) -> 174.48409 | BN9: =AVERAGE(รายเดือน!GL9:GN9) -> 74.695144 | BO9: =AVERAGE(รายเดือน!GO9:GQ9) -> 70.413959 | BP9: =AVERAGE(รายเดือน!GR9:GT9) -> 93.758082 | BQ9: =AVERAGE(รายเดือน!GU9:GW9) -> 161.21591 | BR9: =AVERAGE(รายเดือน!GX9:GZ9) -> 76.920202 | BS9: =AVERAGE(รายเดือน!HA9:HC9) -> 88.016482 | BT9: =AVERAGE(รายเดือน!HD9:HF9) -> 118.9445 | BU9: =AVERAGE(รายเดือน!HG9:HI9) -> 152.13565 | BV9: =AVERAGE(รายเดือน!HJ9:HL9) -> 77.635127 | BW9: =AVERAGE(รายเดือน!HM9:HO9) -> 101.81855 | BX9: =AVERAGE(รายเดือน!HP9:HR9) -> 112.43716 | BY9: =AVERAGE(รายเดือน!HS9:HU9) -> 160.73657 | BZ9: =AVERAGE(รายเดือน!HV9:HX9) -> 82.446666 | CA9: =AVERAGE(รายเดือน!HY9:IA9) -> 90.828139 | CB9: =AVERAGE(รายเดือน!IB9:ID9) -> 118.63132 | CC9: =AVERAGE(รายเดือน!IE9:IG9) -> 155.97429 | CD9: =AVERAGE(รายเดือน!IH9:IJ9) -> 94.765519 | CE9: =AVERAGE(รายเดือน!IK9:IM9) -> 117.87589 | CF9: =AVERAGE(รายเดือน!IN9:IP9) -> 130.5091 | CG9: =AVERAGE(รายเดือน!IQ9:IS9) -> 140.48645 | CH9: =AVERAGE(รายเดือน!IT9:IV9) -> 88.381347 | CI9: =AVERAGE(รายเดือน!IW9:IY9) -> 114.35052
A10: ข้าวเปลือกเจ้านาปีหอมมะลิ | B10: =AVERAGE(รายเดือน!B10:D10) -> 2.6848113 | C10: =AVERAGE(รายเดือน!E10:G10) -> 0 | D10: =AVERAGE(รายเดือน!H10:J10) -> 0 | E10: =AVERAGE(รายเดือน!K10:M10) -> 397.31519 | F10: =AVERAGE(รายเดือน!N10:P10) -> 2.6925198 | G10: =AVERAGE(รายเดือน!Q10:S10) -> 0 | H10: =AVERAGE(รายเดือน!T10:V10) -> 0 | I10: =AVERAGE(รายเดือน!W10:Y10) -> 383.08433 | J10: =AVERAGE(รายเดือน!Z10:AB10) -> 2.3883498 | K10: =AVERAGE(รายเดือน!AC10:AE10) -> 0 | L10: =AVERAGE(รายเดือน!AF10:AH10) -> 0 | M10: =AVERAGE(รายเดือน!AI10:AK10) -> 392.27679 | N10: =AVERAGE(รายเดือน!AL10:AN10) -> 2.5230033 | O10: =AVERAGE(รายเดือน!AO10:AQ10) -> 0 | P10: =AVERAGE(รายเดือน!AR10:AT10) -> 0 | Q10: =AVERAGE(รายเดือน!AU10:AW10) -> 392.28396 | R10: =AVERAGE(รายเดือน!AX10:AZ10) -> 2.351043 | S10: =AVERAGE(รายเดือน!BA10:BC10) -> 0 | T10: =AVERAGE(รายเดือน!BD10:BF10) -> 0 | U10: =AVERAGE(รายเดือน!BG10:BI10) -> 396.13662 | V10: =AVERAGE(รายเดือน!BJ10:BL10) -> 1.9418647 | W10: =AVERAGE(รายเดือน!BM10:BO10) -> 0 | X10: =AVERAGE(รายเดือน!BP10:BR10) -> 0 | Y10: =AVERAGE(รายเดือน!BS10:BU10) -> 452.68061 | Z10: =AVERAGE(รายเดือน!BV10:BX10) -> 2.6424495 | AA10: =AVERAGE(รายเดือน!BY10:CA10) -> 0 | AB10: =AVERAGE(รายเดือน!CB10:CD10) -> 0 | AC10: =AVERAGE(รายเดือน!CE10:CG10) -> 436.76776 | AD10: =AVERAGE(รายเดือน!CH10:CJ10) -> 1.2948 | AE10: =AVERAGE(รายเดือน!CK10:CM10) -> 0 | AF10: =AVERAGE(รายเดือน!CN10:CP10) -> 0 | AG10: =AVERAGE(รายเดือน!CQ10:CS10) -> 434.36319 | AH10: =AVERAGE(รายเดือน!CT10:CV10) -> 1.6597153 | AI10: =AVERAGE(รายเดือน!CW10:CY10) -> 0 | AJ10: =AVERAGE(รายเดือน!CZ10:DB10) -> 0 | AK10: =AVERAGE(รายเดือน!DC10:DE10) -> 420.62832 | AL10: =AVERAGE(รายเดือน!DF10:DH10) -> 1.563096 | AM10: =AVERAGE(รายเดือน!DI10:DK10) -> 0 | AN10: =AVERAGE(รายเดือน!DL10:DN10) -> 0 | AO10: =AVERAGE(รายเดือน!DO10:DQ10) -> 408.45163 | AP10: =AVERAGE(รายเดือน!DR10:DT10) -> 2.7407776 | AQ10: =AVERAGE(รายเดือน!DU10:DW10) -> 0 | AR10: =AVERAGE(รายเดือน!DX10:DZ10) -> 0 | AS10: =AVERAGE(รายเดือน!EA10:EC10) -> 509.94213 | AT10: =AVERAGE(รายเดือน!ED10:EF10) -> 2.0531783 | AU10: =AVERAGE(รายเดือน!EG10:EI10) -> 0 | AV10: =AVERAGE(รายเดือน!EJ10:EL10) -> 0 | AW10: =AVERAGE(รายเดือน!EM10:EO10) -> 528.6157 | AX10: =AVERAGE(รายเดือน!EP10:ER10) -> 1.4828709 | AY10: =AVERAGE(รายเดือน!ES10:EU10) -> 0 | AZ10: =AVERAGE(รายเดือน!EV10:EX10) -> 1.0998128 | BA10: =AVERAGE(รายเดือน!EY10:FA10) -> 537.20791 | BB10: =AVERAGE(รายเดือน!FB10:FD10) -> 1.310438 | BC10: =AVERAGE(รายเดือน!FE10:FG10) -> 0 | BD10: =AVERAGE(รายเดือน!FH10:FJ10) -> 0.94586104 | BE10: =AVERAGE(รายเดือน!FK10:FM10) -> 486.33883 | BF10: =AVERAGE(รายเดือน!FN10:FP10) -> 1.2801388 | BG10: =AVERAGE(รายเดือน!FQ10:FS10) -> 0 | BH10: =AVERAGE(รายเดือน!FT10:FV10) -> 1.5946196 | BI10: =AVERAGE(รายเดือน!FW10:FY10) -> 489.12045 | BJ10: =AVERAGE(รายเดือน!FZ10:GB10) -> 1.2729282 | BK10: =AVERAGE(รายเดือน!GC10:GE10) -> 0 | BL10: =AVERAGE(รายเดือน!GF10:GH10) -> 0.71171103 | BM10: =AVERAGE(รายเดือน!GI10:GK10) -> 540.40551 | BN10: =AVERAGE(รายเดือน!GL10:GN10) -> 0.99403693 | BO10: =AVERAGE(รายเดือน!GO10:GQ10) -> 0 | BP10: =AVERAGE(รายเดือน!GR10:GT10) -> 1.0323191 | BQ10: =AVERAGE(รายเดือน!GU10:GW10) -> 554.94512 | BR10: =AVERAGE(รายเดือน!GX10:GZ10) -> 1.0294071 | BS10: =AVERAGE(รายเดือน!HA10:HC10) -> 0 | BT10: =AVERAGE(รายเดือน!HD10:HF10) -> 1.2191808 | BU10: =AVERAGE(รายเดือน!HG10:HI10) -> 537.36801 | BV10: =AVERAGE(รายเดือน!HJ10:HL10) -> 0.78972828 | BW10: =AVERAGE(รายเดือน!HM10:HO10) -> 0 | BX10: =AVERAGE(รายเดือน!HP10:HR10) -> 1.0790776 | BY10: =AVERAGE(รายเดือน!HS10:HU10) -> 535.28814 | BZ10: =AVERAGE(รายเดือน!HV10:HX10) -> 0.85754691 | CA10: =AVERAGE(รายเดือน!HY10:IA10) -> 0 | CB10: =AVERAGE(รายเดือน!IB10:ID10) -> 1.1286696 | CC10: =AVERAGE(รายเดือน!IE10:IG10) -> 537.82891 | CD10: =AVERAGE(รายเดือน!IH10:IJ10) -> 0.91760937 | CE10: =AVERAGE(รายเดือน!IK10:IM10) -> 0 | CF10: =AVERAGE(รายเดือน!IN10:IP10) -> 1.2184309 | CG10: =AVERAGE(รายเดือน!IQ10:IS10) -> 540.45653 | CH10: =AVERAGE(รายเดือน!IT10:IV10) -> 0.58589275 | CI10: =AVERAGE(รายเดือน!IW10:IY10) -> 0
A11: ข้าวเปลือกเหนียวนาปีเมล็ดยาว | B11: =AVERAGE(รายเดือน!B11:D11) -> 4.0570408 | C11: =AVERAGE(รายเดือน!E11:G11) -> 0 | D11: =AVERAGE(รายเดือน!H11:J11) -> 0.12407729 | E11: =AVERAGE(รายเดือน!K11:M11) -> 395.81888 | F11: =AVERAGE(รายเดือน!N11:P11) -> 4.0686891 | G11: =AVERAGE(รายเดือน!Q11:S11) -> 0 | H11: =AVERAGE(รายเดือน!T11:V11) -> 0.13138771 | I11: =AVERAGE(รายเดือน!W11:Y11) -> 382.16927 | J11: =AVERAGE(รายเดือน!Z11:AB11) -> 3.6090552 | K11: =AVERAGE(รายเดือน!AC11:AE11) -> 0 | L11: =AVERAGE(รายเดือน!AF11:AH11) -> 0.13189432 | M11: =AVERAGE(รายเดือน!AI11:AK11) -> 391.00128 | N11: =AVERAGE(รายเดือน!AL11:AN11) -> 3.8125312 | O11: =AVERAGE(รายเดือน!AO11:AQ11) -> 0 | P11: =AVERAGE(รายเดือน!AR11:AT11) -> 0.14712654 | Q11: =AVERAGE(รายเดือน!AU11:AW11) -> 390.44192 | R11: =AVERAGE(รายเดือน!AX11:AZ11) -> 3.5526807 | S11: =AVERAGE(รายเดือน!BA11:BC11) -> 0 | T11: =AVERAGE(รายเดือน!BD11:BF11) -> 0.1342141 | U11: =AVERAGE(รายเดือน!BG11:BI11) -> 395.27195 | V11: =AVERAGE(รายเดือน!BJ11:BL11) -> 2.9343679 | W11: =AVERAGE(รายเดือน!BM11:BO11) -> 0 | X11: =AVERAGE(รายเดือน!BP11:BR11) -> 0.1498514 | Y11: =AVERAGE(รายเดือน!BS11:BU11) -> 449.2339 | Z11: =AVERAGE(รายเดือน!BV11:BX11) -> 3.9930274 | AA11: =AVERAGE(รายเดือน!BY11:CA11) -> 0 | AB11: =AVERAGE(รายเดือน!CB11:CD11) -> 0.2875952 | AC11: =AVERAGE(รายเดือน!CE11:CG11) -> 432.25899 | AD11: =AVERAGE(รายเดือน!CH11:CJ11) -> 1.9565831 | AE11: =AVERAGE(รายเดือน!CK11:CM11) -> 0 | AF11: =AVERAGE(รายเดือน!CN11:CP11) -> 0.36428922 | AG11: =AVERAGE(รายเดือน!CQ11:CS11) -> 430.94739 | AH11: =AVERAGE(รายเดือน!CT11:CV11) -> 2.5080096 | AI11: =AVERAGE(รายเดือน!CW11:CY11) -> 0 | AJ11: =AVERAGE(รายเดือน!CZ11:DB11) -> 0.27689012 | AK11: =AVERAGE(รายเดือน!DC11:DE11) -> 423.05705 | AL11: =AVERAGE(รายเดือน!DF11:DH11) -> 2.3620074 | AM11: =AVERAGE(รายเดือน!DI11:DK11) -> 0 | AN11: =AVERAGE(รายเดือน!DL11:DN11) -> 0.31513589 | AO11: =AVERAGE(รายเดือน!DO11:DQ11) -> 407.72697 | AP11: =AVERAGE(รายเดือน!DR11:DT11) -> 4.1416119 | AQ11: =AVERAGE(รายเดือน!DU11:DW11) -> 0 | AR11: =AVERAGE(รายเดือน!DX11:DZ11) -> 0.15349514 | AS11: =AVERAGE(รายเดือน!EA11:EC11) -> 357.48654 | AT11: =AVERAGE(รายเดือน!ED11:EF11) -> 3.1025749 | AU11: =AVERAGE(รายเดือน!EG11:EI11) -> 0 | AV11: =AVERAGE(รายเดือน!EJ11:EL11) -> 0.16035076 | AW11: =AVERAGE(รายเดือน!EM11:EO11) -> 383.52685 | AX11: =AVERAGE(รายเดือน!EP11:ER11) -> 3.3310903 | AY11: =AVERAGE(รายเดือน!ES11:EU11) -> 0 | AZ11: =AVERAGE(รายเดือน!EV11:EX11) -> 1.6564105 | BA11: =AVERAGE(รายเดือน!EY11:FA11) -> 337.67617 | BB11: =AVERAGE(รายเดือน!FB11:FD11) -> 1.7093382 | BC11: =AVERAGE(รายเดือน!FE11:FG11) -> 0 | BD11: =AVERAGE(รายเดือน!FH11:FJ11) -> 2.0553154 | BE11: =AVERAGE(รายเดือน!FK11:FM11) -> 335.95155 | BF11: =AVERAGE(รายเดือน!FN11:FP11) -> 1.0697149 | BG11: =AVERAGE(รายเดือน!FQ11:FS11) -> 0 | BH11: =AVERAGE(รายเดือน!FT11:FV11) -> 3.9853733 | BI11: =AVERAGE(รายเดือน!FW11:FY11) -> 317.08693 | BJ11: =AVERAGE(รายเดือน!FZ11:GB11) -> 1.5034704 | BK11: =AVERAGE(รายเดือน!GC11:GE11) -> 0 | BL11: =AVERAGE(รายเดือน!GF11:GH11) -> 1.4202025 | BM11: =AVERAGE(รายเดือน!GI11:GK11) -> 396.81207 | BN11: =AVERAGE(รายเดือน!GL11:GN11) -> 1.1043851 | BO11: =AVERAGE(รายเดือน!GO11:GQ11) -> 0 | BP11: =AVERAGE(รายเดือน!GR11:GT11) -> 2.3496973 | BQ11: =AVERAGE(รายเดือน!GU11:GW11) -> 381.76137 | BR11: =AVERAGE(รายเดือน!GX11:GZ11) -> 1.0789249 | BS11: =AVERAGE(รายเดือน!HA11:HC11) -> 0 | BT11: =AVERAGE(รายเดือน!HD11:HF11) -> 2.8054794 | BU11: =AVERAGE(รายเดือน!HG11:HI11) -> 368.48233 | BV11: =AVERAGE(รายเดือน!HJ11:HL11) -> 0.88021964 | BW11: =AVERAGE(รายเดือน!HM11:HO11) -> 0 | BX11: =AVERAGE(รายเดือน!HP11:HR11) -> 2.3800125 | BY11: =AVERAGE(รายเดือน!HS11:HU11) -> 376.004 | BZ11: =AVERAGE(รายเดือน!HV11:HX11) -> 0.93585301 | CA11: =AVERAGE(รายเดือน!HY11:IA11) -> 0 | CB11: =AVERAGE(รายเดือน!IB11:ID11) -> 2.5536669 | CC11: =AVERAGE(รายเดือน!IE11:IG11) -> 371.79726 | CD11: =AVERAGE(รายเดือน!IH11:IJ11) -> 1.1891574 | CE11: =AVERAGE(รายเดือน!IK11:IM11) -> 0 | CF11: =AVERAGE(รายเดือน!IN11:IP11) -> 2.6471949 | CG11: =AVERAGE(รายเดือน!IQ11:IS11) -> 364.4961 | CH11: =AVERAGE(รายเดือน!IT11:IV11) -> 0.65937779 | CI11: =AVERAGE(รายเดือน!IW11:IY11) -> 0
A12: อ้อย | B12: =AVERAGE(รายเดือน!B12:D12) -> 331.46293 | C12: =AVERAGE(รายเดือน!E12:G12) -> 13.981348 | D12: =AVERAGE(รายเดือน!H12:J12) -> 0 | E12: =AVERAGE(รายเดือน!K12:M12) -> 54.55572 | F12: =AVERAGE(รายเดือน!N12:P12) -> 392.843 | G12: =AVERAGE(รายเดือน!Q12:S12) -> 14.296681 | H12: =AVERAGE(รายเดือน!T12:V12) -> 0 | I12: =AVERAGE(รายเดือน!W12:Y12) -> 114.0341 | J12: =AVERAGE(รายเดือน!Z12:AB12) -> 472.44456 | K12: =AVERAGE(รายเดือน!AC12:AE12) -> 28.923926 | L12: =AVERAGE(รายเดือน!AF12:AH12) -> 0 | M12: =AVERAGE(รายเดือน!AI12:AK12) -> 127.32883 | N12: =AVERAGE(รายเดือน!AL12:AN12) -> 535.03999 | O12: =AVERAGE(รายเดือน!AO12:AQ12) -> 40.457116 | P12: =AVERAGE(รายเดือน!AR12:AT12) -> 0 | Q12: =AVERAGE(รายเดือน!AU12:AW12) -> 120.78703 | R12: =AVERAGE(รายเดือน!AX12:AZ12) -> 492.54269 | S12: =AVERAGE(รายเดือน!BA12:BC12) -> 25.755123 | T12: =AVERAGE(รายเดือน!BD12:BF12) -> 0 | U12: =AVERAGE(รายเดือน!BG12:BI12) -> 166.55085 | V12: =AVERAGE(รายเดือน!BJ12:BL12) -> 477.19349 | W12: =AVERAGE(รายเดือน!BM12:BO12) -> 13.472959 | X12: =AVERAGE(รายเดือน!BP12:BR12) -> 0 | Y12: =AVERAGE(รายเดือน!BS12:BU12) -> 133.97617 | Z12: =AVERAGE(รายเดือน!BV12:BX12) -> 602.51479 | AA12: =AVERAGE(รายเดือน!BY12:CA12) -> 175.02241 | AB12: =AVERAGE(รายเดือน!CB12:CD12) -> 0 | AC12: =AVERAGE(รายเดือน!CE12:CG12) -> 208.70649 | AD12: =AVERAGE(รายเดือน!CH12:CJ12) -> 652.95583 | AE12: =AVERAGE(รายเดือน!CK12:CM12) -> 73.402601 | AF12: =AVERAGE(รายเดือน!CN12:CP12) -> 0 | AG12: =AVERAGE(รายเดือน!CQ12:CS12) -> 204.4229 | AH12: =AVERAGE(รายเดือน!CT12:CV12) -> 695.91383 | AI12: =AVERAGE(รายเดือน!CW12:CY12) -> 51.796021 | AJ12: =AVERAGE(รายเดือน!CZ12:DB12) -> 0 | AK12: =AVERAGE(รายเดือน!DC12:DE12) -> 210.51053 | AL12: =AVERAGE(รายเดือน!DF12:DH12) -> 726.87756 | AM12: =AVERAGE(รายเดือน!DI12:DK12) -> 48.609687 | AN12: =AVERAGE(รายเดือน!DL12:DN12) -> 0 | AO12: =AVERAGE(รายเดือน!DO12:DQ12) -> 206.17477 | AP12: =AVERAGE(รายเดือน!DR12:DT12) -> 751.39023 | AQ12: =AVERAGE(รายเดือน!DU12:DW12) -> 53.591285 | AR12: =AVERAGE(รายเดือน!DX12:DZ12) -> 0 | AS12: =AVERAGE(รายเดือน!EA12:EC12) -> 191.20668 | AT12: =AVERAGE(รายเดือน!ED12:EF12) -> 702.25488 | AU12: =AVERAGE(รายเดือน!EG12:EI12) -> 1.7008147 | AV12: =AVERAGE(รายเดือน!EJ12:EL12) -> 0 | AW12: =AVERAGE(รายเดือน!EM12:EO12) -> 125.58337 | AX12: =AVERAGE(รายเดือน!EP12:ER12) -> 730.66689 | AY12: =AVERAGE(รายเดือน!ES12:EU12) -> 28.762926 | AZ12: =AVERAGE(รายเดือน!EV12:EX12) -> 0 | BA12: =AVERAGE(รายเดือน!EY12:FA12) -> 192.41304 | BB12: =AVERAGE(รายเดือน!FB12:FD12) -> 903.50104 | BC12: =AVERAGE(รายเดือน!FE12:FG12) -> 178.33581 | BD12: =AVERAGE(รายเดือน!FH12:FJ12) -> 0 | BE12: =AVERAGE(รายเดือน!FK12:FM12) -> 273.93523 | BF12: =AVERAGE(รายเดือน!FN12:FP12) -> 899.36676 | BG12: =AVERAGE(รายเดือน!FQ12:FS12) -> 61.970996 | BH12: =AVERAGE(รายเดือน!FT12:FV12) -> 0 | BI12: =AVERAGE(รายเดือน!FW12:FY12) -> 213.54568 | BJ12: =AVERAGE(รายเดือน!FZ12:GB12) -> 483.49902 | BK12: =AVERAGE(รายเดือน!GC12:GE12) -> 9.0633243 | BL12: =AVERAGE(รายเดือน!GF12:GH12) -> 0 | BM12: =AVERAGE(รายเดือน!GI12:GK12) -> 95.882628 | BN12: =AVERAGE(รายเดือน!GL12:GN12) -> 525.43548 | BO12: =AVERAGE(รายเดือน!GO12:GQ12) -> 3.6610359 | BP12: =AVERAGE(รายเดือน!GR12:GT12) -> 0 | BQ12: =AVERAGE(รายเดือน!GU12:GW12) -> 164.39418 | BR12: =AVERAGE(รายเดือน!GX12:GZ12) -> 693.48914 | BS12: =AVERAGE(รายเดือน!HA12:HC12) -> 5.5844646 | BT12: =AVERAGE(รายเดือน!HD12:HF12) -> 0 | BU12: =AVERAGE(รายเดือน!HG12:HI12) -> 164.48915 | BV12: =AVERAGE(รายเดือน!HJ12:HL12) -> 707.60121 | BW12: =AVERAGE(รายเดือน!HM12:HO12) -> 5.6219348 | BX12: =AVERAGE(รายเดือน!HP12:HR12) -> 0 | BY12: =AVERAGE(รายเดือน!HS12:HU12) -> 141.84638 | BZ12: =AVERAGE(รายเดือน!HV12:HX12) -> 623.06392 | CA12: =AVERAGE(รายเดือน!HY12:IA12) -> 4.9665586 | CB12: =AVERAGE(รายเดือน!IB12:ID12) -> 0 | CC12: =AVERAGE(รายเดือน!IE12:IG12) -> 163.41566 | CD12: =AVERAGE(รายเดือน!IH12:IJ12) -> 692.82919 | CE12: =AVERAGE(รายเดือน!IK12:IM12) -> 5.0871117 | CF12: =AVERAGE(รายเดือน!IN12:IP12) -> 0 | CG12: =AVERAGE(รายเดือน!IQ12:IS12) -> 133.20716 | CH12: =AVERAGE(รายเดือน!IT12:IV12) -> 820.92107 | CI12: =AVERAGE(รายเดือน!IW12:IY12) -> 33.837709
A13: มันสำปะหลัง | B13: =AVERAGE(รายเดือน!B13:D13) -> 162.34932 | C13: =AVERAGE(รายเดือน!E13:G13) -> 27.998781 | D13: =AVERAGE(รายเดือน!H13:J13) -> 31.794094 | E13: =AVERAGE(รายเดือน!K13:M13) -> 177.85781 | F13: =AVERAGE(รายเดือน!N13:P13) -> 249.03649 | G13: =AVERAGE(รายเดือน!Q13:S13) -> 46.722545 | H13: =AVERAGE(รายเดือน!T13:V13) -> 41.620409 | I13: =AVERAGE(รายเดือน!W13:Y13) -> 223.9741 | J13: =AVERAGE(รายเดือน!Z13:AB13) -> 279.44516 | K13: =AVERAGE(รายเดือน!AC13:AE13) -> 64.007279 | L13: =AVERAGE(รายเดือน!AF13:AH13) -> 46.620681 | M13: =AVERAGE(รายเดือน!AI13:AK13) -> 247.35294 | N13: =AVERAGE(รายเดือน!AL13:AN13) -> 172.00745 | O13: =AVERAGE(รายเดือน!AO13:AQ13) -> 39.826304 | P13: =AVERAGE(รายเดือน!AR13:AT13) -> 114.71399 | Q13: =AVERAGE(รายเดือน!AU13:AW13) -> 216.64265 | R13: =AVERAGE(รายเดือน!AX13:AZ13) -> 330.82319 | S13: =AVERAGE(รายเดือน!BA13:BC13) -> 86.659802 | T13: =AVERAGE(รายเดือน!BD13:BF13) -> 52.298141 | U13: =AVERAGE(รายเดือน!BG13:BI13) -> 168.15754 | V13: =AVERAGE(รายเดือน!BJ13:BL13) -> 241.99768 | W13: =AVERAGE(รายเดือน!BM13:BO13) -> 66.740971 | X13: =AVERAGE(รายเดือน!BP13:BR13) -> 25.106076 | Y13: =AVERAGE(รายเดือน!BS13:BU13) -> 109.82838 | Z13: =AVERAGE(รายเดือน!BV13:BX13) -> 288.74721 | AA13: =AVERAGE(รายเดือน!BY13:CA13) -> 56.660214 | AB13: =AVERAGE(รายเดือน!CB13:CD13) -> 44.670849 | AC13: =AVERAGE(รายเดือน!CE13:CG13) -> 100.17994 | AD13: =AVERAGE(รายเดือน!CH13:CJ13) -> 451.77627 | AE13: =AVERAGE(รายเดือน!CK13:CM13) -> 70.132068 | AF13: =AVERAGE(รายเดือน!CN13:CP13) -> 58.870831 | AG13: =AVERAGE(รายเดือน!CQ13:CS13) -> 109.29511 | AH13: =AVERAGE(รายเดือน!CT13:CV13) -> 476.35922 | AI13: =AVERAGE(รายเดือน!CW13:CY13) -> 58.865378 | AJ13: =AVERAGE(รายเดือน!CZ13:DB13) -> 45.087019 | AK13: =AVERAGE(รายเดือน!DC13:DE13) -> 176.50424 | AL13: =AVERAGE(รายเดือน!DF13:DH13) -> 381.26164 | AM13: =AVERAGE(รายเดือน!DI13:DK13) -> 74.689866 | AN13: =AVERAGE(รายเดือน!DL13:DN13) -> 52.462967 | AO13: =AVERAGE(รายเดือน!DO13:DQ13) -> 153.64693 | AP13: =AVERAGE(รายเดือน!DR13:DT13) -> 480.98549 | AQ13: =AVERAGE(รายเดือน!DU13:DW13) -> 61.692243 | AR13: =AVERAGE(รายเดือน!DX13:DZ13) -> 41.880122 | AS13: =AVERAGE(รายเดือน!EA13:EC13) -> 125.19504 | AT13: =AVERAGE(รายเดือน!ED13:EF13) -> 423.74528 | AU13: =AVERAGE(รายเดือน!EG13:EI13) -> 99.978064 | AV13: =AVERAGE(รายเดือน!EJ13:EL13) -> 61.986473 | AW13: =AVERAGE(รายเดือน!EM13:EO13) -> 127.23236 | AX13: =AVERAGE(รายเดือน!EP13:ER13) -> 436.99743 | AY13: =AVERAGE(รายเดือน!ES13:EU13) -> 93.677859 | AZ13: =AVERAGE(รายเดือน!EV13:EX13) -> 37.805157 | BA13: =AVERAGE(รายเดือน!EY13:FA13) -> 115.66476 | BB13: =AVERAGE(รายเดือน!FB13:FD13) -> 456.88584 | BC13: =AVERAGE(รายเดือน!FE13:FG13) -> 57.429771 | BD13: =AVERAGE(รายเดือน!FH13:FJ13) -> 40.021112 | BE13: =AVERAGE(รายเดือน!FK13:FM13) -> 128.84653 | BF13: =AVERAGE(รายเดือน!FN13:FP13) -> 458.72147 | BG13: =AVERAGE(รายเดือน!FQ13:FS13) -> 80.560988 | BH13: =AVERAGE(รายเดือน!FT13:FV13) -> 40.924814 | BI13: =AVERAGE(รายเดือน!FW13:FY13) -> 120.28771 | BJ13: =AVERAGE(รายเดือน!FZ13:GB13) -> 407.89384 | BK13: =AVERAGE(รายเดือน!GC13:GE13) -> 95.042629 | BL13: =AVERAGE(รายเดือน!GF13:GH13) -> 38.357549 | BM13: =AVERAGE(รายเดือน!GI13:GK13) -> 156.45376 | BN13: =AVERAGE(รายเดือน!GL13:GN13) -> 474.88157 | BO13: =AVERAGE(รายเดือน!GO13:GQ13) -> 117.33567 | BP13: =AVERAGE(รายเดือน!GR13:GT13) -> 51.969457 | BQ13: =AVERAGE(รายเดือน!GU13:GW13) -> 159.21145 | BR13: =AVERAGE(รายเดือน!GX13:GZ13) -> 457.57432 | BS13: =AVERAGE(รายเดือน!HA13:HC13) -> 109.9422 | BT13: =AVERAGE(รายเดือน!HD13:HF13) -> 50.494519 | BU13: =AVERAGE(รายเดือน!HG13:HI13) -> 165.1322 | BV13: =AVERAGE(รายเดือน!HJ13:HL13) -> 393.70938 | BW13: =AVERAGE(รายเดือน!HM13:HO13) -> 94.599721 | BX13: =AVERAGE(รายเดือน!HP13:HR13) -> 45.041027 | BY13: =AVERAGE(รายเดือน!HS13:HU13) -> 142.27716 | BZ13: =AVERAGE(รายเดือน!HV13:HX13) -> 373.85361 | CA13: =AVERAGE(รายเดือน!HY13:IA13) -> 92.094714 | CB13: =AVERAGE(รายเดือน!IB13:ID13) -> 44.805382 | CC13: =AVERAGE(รายเดือน!IE13:IG13) -> 121.2424 | CD13: =AVERAGE(รายเดือน!IH13:IJ13) -> 340.82079 | CE13: =AVERAGE(รายเดือน!IK13:IM13) -> 101.93447 | CF13: =AVERAGE(รายเดือน!IN13:IP13) -> 50.629029 | CG13: =AVERAGE(รายเดือน!IQ13:IS13) -> 114.49242 | CH13: =AVERAGE(รายเดือน!IT13:IV13) -> 309.48813 | CI13: =AVERAGE(รายเดือน!IW13:IY13) -> 84.200208
A14: ข้าวโพดเลี้ยงสัตว์ | B14: =AVERAGE(รายเดือน!B14:D14) -> 38.197199 | C14: =AVERAGE(รายเดือน!E14:G14) -> 1.9492656 | D14: =AVERAGE(รายเดือน!H14:J14) -> 144.77049 | E14: =AVERAGE(รายเดือน!K14:M14) -> 215.08305 | F14: =AVERAGE(รายเดือน!N14:P14) -> 28.899283 | G14: =AVERAGE(รายเดือน!Q14:S14) -> 2.3072121 | H14: =AVERAGE(รายเดือน!T14:V14) -> 260.93401 | I14: =AVERAGE(รายเดือน!W14:Y14) -> 101.06472 | J14: =AVERAGE(รายเดือน!Z14:AB14) -> 10.405955 | K14: =AVERAGE(รายเดือน!AC14:AE14) -> 1.9089524 | L14: =AVERAGE(รายเดือน!AF14:AH14) -> 155.91546 | M14: =AVERAGE(รายเดือน!AI14:AK14) -> 185.94943 | N14: =AVERAGE(รายเดือน!AL14:AN14) -> 27.076116 | O14: =AVERAGE(รายเดือน!AO14:AQ14) -> 2.6869392 | P14: =AVERAGE(รายเดือน!AR14:AT14) -> 168.29609 | Q14: =AVERAGE(รายเดือน!AU14:AW14) -> 193.68765 | R14: =AVERAGE(รายเดือน!AX14:AZ14) -> 40.815931 | S14: =AVERAGE(รายเดือน!BA14:BC14) -> 3.1361157 | T14: =AVERAGE(รายเดือน!BD14:BF14) -> 189.05622 | U14: =AVERAGE(รายเดือน!BG14:BI14) -> 225.3308 | V14: =AVERAGE(รายเดือน!BJ14:BL14) -> 23.015955 | W14: =AVERAGE(รายเดือน!BM14:BO14) -> 14.512547 | X14: =AVERAGE(รายเดือน!BP14:BR14) -> 199.57174 | Y14: =AVERAGE(รายเดือน!BS14:BU14) -> 216.84144 | Z14: =AVERAGE(รายเดือน!BV14:BX14) -> 33.342138 | AA14: =AVERAGE(รายเดือน!BY14:CA14) -> 13.85464 | AB14: =AVERAGE(รายเดือน!CB14:CD14) -> 201.23643 | AC14: =AVERAGE(รายเดือน!CE14:CG14) -> 213.6205 | AD14: =AVERAGE(รายเดือน!CH14:CJ14) -> 40.691457 | AE14: =AVERAGE(รายเดือน!CK14:CM14) -> 11.175821 | AF14: =AVERAGE(รายเดือน!CN14:CP14) -> 185.63982 | AG14: =AVERAGE(รายเดือน!CQ14:CS14) -> 241.42426 | AH14: =AVERAGE(รายเดือน!CT14:CV14) -> 29.304803 | AI14: =AVERAGE(รายเดือน!CW14:CY14) -> 18.225753 | AJ14: =AVERAGE(รายเดือน!CZ14:DB14) -> 141.49987 | AK14: =AVERAGE(รายเดือน!DC14:DE14) -> 281.02917 | AL14: =AVERAGE(รายเดือน!DF14:DH14) -> 24.734131 | AM14: =AVERAGE(รายเดือน!DI14:DK14) -> 16.507667 | AN14: =AVERAGE(รายเดือน!DL14:DN14) -> 119.56139 | AO14: =AVERAGE(รายเดือน!DO14:DQ14) -> 279.88473 | AP14: =AVERAGE(รายเดือน!DR14:DT14) -> 30.907968 | AQ14: =AVERAGE(รายเดือน!DU14:DW14) -> 19.658303 | AR14: =AVERAGE(รายเดือน!DX14:DZ14) -> 48.861846 | AS14: =AVERAGE(รายเดือน!EA14:EC14) -> 298.00206 | AT14: =AVERAGE(รายเดือน!ED14:EF14) -> 21.725547 | AU14: =AVERAGE(รายเดือน!EG14:EI14) -> 16.315081 | AV14: =AVERAGE(รายเดือน!EJ14:EL14) -> 76.17793 | AW14: =AVERAGE(รายเดือน!EM14:EO14) -> 312.09199 | AX14: =AVERAGE(รายเดือน!EP14:ER14) -> 14.848045 | AY14: =AVERAGE(รายเดือน!ES14:EU14) -> 16.660704 | AZ14: =AVERAGE(รายเดือน!EV14:EX14) -> 143.44608 | BA14: =AVERAGE(รายเดือน!EY14:FA14) -> 254.90328 | BB14: =AVERAGE(รายเดือน!FB14:FD14) -> 29.770793 | BC14: =AVERAGE(รายเดือน!FE14:FG14) -> 33.648785 | BD14: =AVERAGE(รายเดือน!FH14:FJ14) -> 124.91062 | BE14: =AVERAGE(รายเดือน!FK14:FM14) -> 268.62962 | BF14: =AVERAGE(รายเดือน!FN14:FP14) -> 45.617305 | BG14: =AVERAGE(รายเดือน!FQ14:FS14) -> 43.905551 | BH14: =AVERAGE(รายเดือน!FT14:FV14) -> 80.958401 | BI14: =AVERAGE(รายเดือน!FW14:FY14) -> 281.98582 | BJ14: =AVERAGE(รายเดือน!FZ14:GB14) -> 39.748328 | BK14: =AVERAGE(รายเดือน!GC14:GE14) -> 30.176313 | BL14: =AVERAGE(รายเดือน!GF14:GH14) -> 67.813331 | BM14: =AVERAGE(รายเดือน!GI14:GK14) -> 343.46452 | BN14: =AVERAGE(รายเดือน!GL14:GN14) -> 36.261499 | BO14: =AVERAGE(รายเดือน!GO14:GQ14) -> 29.147276 | BP14: =AVERAGE(รายเดือน!GR14:GT14) -> 76.636946 | BQ14: =AVERAGE(รายเดือน!GU14:GW14) -> 327.1139 | BR14: =AVERAGE(รายเดือน!GX14:GZ14) -> 36.679151 | BS14: =AVERAGE(รายเดือน!HA14:HC14) -> 22.733471 | BT14: =AVERAGE(รายเดือน!HD14:HF14) -> 76.03349 | BU14: =AVERAGE(รายเดือน!HG14:HI14) -> 311.32881 | BV14: =AVERAGE(รายเดือน!HJ14:HL14) -> 35.587447 | BW14: =AVERAGE(รายเดือน!HM14:HO14) -> 27.218454 | BX14: =AVERAGE(รายเดือน!HP14:HR14) -> 82.805051 | BY14: =AVERAGE(รายเดือน!HS14:HU14) -> 305.67331 | BZ14: =AVERAGE(รายเดือน!HV14:HX14) -> 23.419559 | CA14: =AVERAGE(รายเดือน!HY14:IA14) -> 30.464523 | CB14: =AVERAGE(รายเดือน!IB14:ID14) -> 102.70877 | CC14: =AVERAGE(รายเดือน!IE14:IG14) -> 283.49955 | CD14: =AVERAGE(รายเดือน!IH14:IJ14) -> 27.753415 | CE14: =AVERAGE(รายเดือน!IK14:IM14) -> 31.080875 | CF14: =AVERAGE(รายเดือน!IN14:IP14) -> 111.80665 | CG14: =AVERAGE(รายเดือน!IQ14:IS14) -> 308.63471 | CH14: =AVERAGE(รายเดือน!IT14:IV14) -> 29.628837 | CI14: =AVERAGE(รายเดือน!IW14:IY14) -> 32.698942
