Workbook

Sheet รายปี
A1: ดัชนีผลผลิตสินค้าเกษตร
A2: (2548 = 100)
A3: รายการสินค้า | B3: 2548 | C3: 2549 | D3: 2550 | E3: 2551 | F3: 2552 | G3: 2553 | H3: 2554 | I3: 2555 | J3: 2556 | K3: 2557 | L3: 2558 | M3: 2559 | N3: 2560 | O3: 2561 | P3: 2562 | Q3: 2563 | R3: 2564 | S3: 2565 | T3: 2566 | U3: 2567 | V3: 2568
A5: ภาคเกษตรกรรม | B5: =AVERAGE(รายเดือน!B5:M5) -> 100 | C5: =AVERAGE(รายเดือน!N5:Y5) -> 106.24393 | D5: =AVERAGE(รายเดือน!Z5:AK5) -> 110.81169 | E5: =AVERAGE(รายเดือน!AL5:AW5) -> 112.91785 | F5: =AVERAGE(รายเดือน!AX5:BI5) -> 116.06759 | G5: =AVERAGE(รายเดือน!BJ5:BU5) -> 117.06299 | H5: =AVERAGE(รายเดือน!BV5:CG5) -> 127.07441 | I5: =AVERAGE(รายเดือน!CH5:CS5) -> 131.06275 | J5: =AVERAGE(รายเดือน!CT5:DE5) -> 129.84355 | K5: =AVERAGE(รายเดือน!DF5:DQ5) -> 130.52999 | L5: =AVERAGE(รายเดือน!DR5:EC5) -> 127.31155 | M5: =AVERAGE(รายเดือน!ED5:EO5) -> 127.52192 | N5: =AVERAGE(รายเดือน!EP5:FA5) -> 136.23041 | O5: =AVERAGE(รายเดือน!FB5:FM5) -> 145.70921 | P5: =AVERAGE(รายเดือน!FN5:FY5) -> 145.10558 | Q5: =AVERAGE(รายเดือน!FZ5:GK5) -> 139.79009 | R5: =AVERAGE(รายเดือน!GL5:GW5) -> 141.88912 | S5: =AVERAGE(รายเดือน!GX5:HI5) -> 144.0641 | T5: =AVERAGE(รายเดือน!HJ5:HU5) -> 147.06866 | U5: =AVERAGE(รายเดือน!HV5:IG5) -> 147.25225 | V5: =AVERAGE(รายเดือน!IH5:IS5) -> 152.20636
A6: 1. หมวดพืชผลสำคัญ | B6: =AVERAGE(รายเดือน!B6:M6) -> 100 | C6: =AVERAGE(รายเดือน!N6:Y6) -> 104.84347 | D6: =AVERAGE(รายเดือน!Z6:AK6) -> 109.42691 | E6: =AVERAGE(รายเดือน!AL6:AW6) -> 113.08175 | F6: =AVERAGE(รายเดือน!AX6:BI6) -> 115.74297 | G6: =AVERAGE(รายเดือน!BJ6:BU6) -> 116.24912 | H6: =AVERAGE(รายเดือน!BV6:CG6) -> 128.25989 | I6: =AVERAGE(รายเดือน!CH6:CS6) -> 133.93352 | J6: =AVERAGE(รายเดือน!CT6:DE6) -> 136.38427 | K6: =AVERAGE(รายเดือน!DF6:DQ6) -> 136.32153 | L6: =AVERAGE(รายเดือน!DR6:EC6) -> 128.63284 | M6: =AVERAGE(รายเดือน!ED6:EO6) -> 123.66912 | N6: =AVERAGE(รายเดือน!EP6:FA6) -> 134.13699 | O6: =AVERAGE(รายเดือน!FB6:FM6) -> 145.33841 | P6: =AVERAGE(รายเดือน!FN6:FY6) -> 141.92983 | Q6: =AVERAGE(รายเดือน!FZ6:GK6) -> 135.23116 | R6: =AVERAGE(รายเดือน!GL6:GW6) -> 141.18044 | S6: =AVERAGE(รายเดือน!GX6:HI6) -> 143.69869 | T6: =AVERAGE(รายเดือน!HJ6:HU6) -> 143.03983 | U6: =AVERAGE(รายเดือน!HV6:IG6) -> 140.08482 | V6: =AVERAGE(รายเดือน!IH6:IS6) -> 145.7954
A7: 1.1 กลุ่มธัญพืชและพืชอาหาร | B7: =AVERAGE(รายเดือน!B7:M7) -> 100 | C7: =AVERAGE(รายเดือน!N7:Y7) -> 107.06663 | D7: =AVERAGE(รายเดือน!Z7:AK7) -> 110.97939 | E7: =AVERAGE(รายเดือน!AL7:AW7) -> 116.34918 | F7: =AVERAGE(รายเดือน!AX7:BI7) -> 119.29378 | G7: =AVERAGE(รายเดือน!BJ7:BU7) -> 118.54428 | H7: =AVERAGE(รายเดือน!BV7:CG7) -> 133.35038 | I7: =AVERAGE(รายเดือน!CH7:CS7) -> 143.2701 | J7: =AVERAGE(รายเดือน!CT7:DE7) -> 140.58056 | K7: =AVERAGE(รายเดือน!DF7:DQ7) -> 134.15787 | L7: =AVERAGE(รายเดือน!DR7:EC7) -> 122.11337 | M7: =AVERAGE(รายเดือน!ED7:EO7) -> 115.38214 | N7: =AVERAGE(รายเดือน!EP7:FA7) -> 124.23346 | O7: =AVERAGE(รายเดือน!FB7:FM7) -> 137.84219 | P7: =AVERAGE(รายเดือน!FN7:FY7) -> 129.52231 | Q7: =AVERAGE(รายเดือน!FZ7:GK7) -> 116.75837 | R7: =AVERAGE(รายเดือน!GL7:GW7) -> 123.62734 | S7: =AVERAGE(รายเดือน!GX7:HI7) -> 128.80411 | T7: =AVERAGE(รายเดือน!HJ7:HU7) -> 127.94615 | U7: =AVERAGE(รายเดือน!HV7:IG7) -> 124.78185 | V7: =AVERAGE(รายเดือน!IH7:IS7) -> 129.32751
A8: ข้าวเปลือก | B8: =AVERAGE(รายเดือน!B8:M8) -> 100 | C8: =AVERAGE(รายเดือน!N8:Y8) -> 101.32155 | D8: =AVERAGE(รายเดือน!Z8:AK8) -> 102.09563 | E8: =AVERAGE(รายเดือน!AL8:AW8) -> 109.18542 | F8: =AVERAGE(รายเดือน!AX8:BI8) -> 109.04231 | G8: =AVERAGE(รายเดือน!BJ8:BU8) -> 115.67086 | H8: =AVERAGE(รายเดือน!BV8:CG8) -> 123.24705 | I8: =AVERAGE(รายเดือน!CH8:CS8) -> 131.88119 | J8: =AVERAGE(รายเดือน!CT8:DE8) -> 125.70154 | K8: =AVERAGE(รายเดือน!DF8:DQ8) -> 119.91992 | L8: =AVERAGE(รายเดือน!DR8:EC8) -> 102.96656 | M8: =AVERAGE(รายเดือน!ED8:EO8) -> 98.033821 | N8: =AVERAGE(รายเดือน!EP8:FA8) -> 107.03458 | O8: =AVERAGE(รายเดือน!FB8:FM8) -> 112.46447 | P8: =AVERAGE(รายเดือน!FN8:FY8) -> 106.56603 | Q8: =AVERAGE(รายเดือน!FZ8:GK8) -> 106.0003 | R8: =AVERAGE(รายเดือน!GL8:GW8) -> 109.3503 | S8: =AVERAGE(รายเดือน!GX8:HI8) -> 112.39297 | T8: =AVERAGE(รายเดือน!HJ8:HU8) -> 114.81839 | U8: =AVERAGE(รายเดือน!HV8:IG8) -> 114.14775 | V8: =AVERAGE(รายเดือน!IH8:IS8) -> 118.76559
A9: ข้าวเปลือกเจ้า | B9: =AVERAGE(รายเดือน!B9:M9) -> 100 | C9: =AVERAGE(รายเดือน!N9:Y9) -> 105.47582 | D9: =AVERAGE(รายเดือน!Z9:AK9) -> 105.04915 | E9: =AVERAGE(รายเดือน!AL9:AW9) -> 118.27598 | F9: =AVERAGE(รายเดือน!AX9:BI9) -> 117.13071 | G9: =AVERAGE(รายเดือน!BJ9:BU9) -> 117.63192 | H9: =AVERAGE(รายเดือน!BV9:CG9) -> 135.08734 | I9: =AVERAGE(รายเดือน!CH9:CS9) -> 151.94003 | J9: =AVERAGE(รายเดือน!CT9:DE9) -> 142.74046 | K9: =AVERAGE(รายเดือน!DF9:DQ9) -> 134.91982 | L9: =AVERAGE(รายเดือน!DR9:EC9) -> 95.684037 | M9: =AVERAGE(รายเดือน!ED9:EO9) -> 81.936281 | N9: =AVERAGE(รายเดือน!EP9:FA9) -> 101.84849 | O9: =AVERAGE(รายเดือน!FB9:FM9) -> 118.3878 | P9: =AVERAGE(รายเดือน!FN9:FY9) -> 108.67518 | Q9: =AVERAGE(รายเดือน!FZ9:GK9) -> 94.133497 | R9: =AVERAGE(รายเดือน!GL9:GW9) -> 100.02077 | S9: =AVERAGE(รายเดือน!GX9:HI9) -> 109.00421 | T9: =AVERAGE(รายเดือน!HJ9:HU9) -> 113.15685 | U9: =AVERAGE(รายเดือน!HV9:IG9) -> 111.9701 | V9: =AVERAGE(รายเดือน!IH9:IS9) -> 120.90924
A10: ข้าวเปลือกเจ้านาปีหอมมะลิ | B10: =AVERAGE(รายเดือน!B10:M10) -> 100 | C10: =AVERAGE(รายเดือน!N10:Y10) -> 96.444212 | D10: =AVERAGE(รายเดือน!Z10:AK10) -> 98.666285 | E10: =AVERAGE(รายเดือน!AL10:AW10) -> 98.701742 | F10: =AVERAGE(รายเดือน!AX10:BI10) -> 99.621916 | G10: =AVERAGE(รายเดือน!BJ10:BU10) -> 113.65562 | H10: =AVERAGE(รายเดือน!BV10:CG10) -> 109.85255 | I10: =AVERAGE(รายเดือน!CH10:CS10) -> 108.9145 | J10: =AVERAGE(รายเดือน!CT10:DE10) -> 105.57201 | K10: =AVERAGE(รายเดือน!DF10:DQ10) -> 102.50368 | L10: =AVERAGE(รายเดือน!DR10:EC10) -> 128.17073 | M10: =AVERAGE(รายเดือน!ED10:EO10) -> 132.66722 | N10: =AVERAGE(รายเดือน!EP10:FA10) -> 134.94765 | O10: =AVERAGE(รายเดือน!FB10:FM10) -> 122.14878 | P10: =AVERAGE(รายเดือน!FN10:FY10) -> 122.9988 | Q10: =AVERAGE(รายเดือน!FZ10:GK10) -> 135.59754 | R10: =AVERAGE(รายเดือน!GL10:GW10) -> 139.24287 | S10: =AVERAGE(รายเดือน!GX10:HI10) -> 134.90415 | T10: =AVERAGE(รายเดือน!HJ10:HU10) -> 134.28924 | U10: =AVERAGE(รายเดือน!HV10:IG10) -> 134.95378 | V10: =AVERAGE(รายเดือน!IH10:IS10) -> 135.64814
A11: ข้าวเปลือกเหนียวนาปีเมล็ดยาว | B11: =AVERAGE(รายเดือน!B11:M11) -> 100 | C11: =AVERAGE(รายเดือน!N11:Y11) -> 96.592336 | D11: =AVERAGE(รายเดือน!Z11:AK11) -> 98.685558 | E11: =AVERAGE(รายเดือน!AL11:AW11) -> 98.600396 | F11: =AVERAGE(รายเดือน!AX11:BI11) -> 99.739711 | G11: =AVERAGE(รายเดือน!BJ11:BU11) -> 113.07953 | H11: =AVERAGE(รายเดือน!BV11:CG11) -> 109.1349 | I11: =AVERAGE(รายเดือน!CH11:CS11) -> 108.31707 | J11: =AVERAGE(รายเดือน!CT11:DE11) -> 106.46049 | K11: =AVERAGE(รายเดือน!DF11:DQ11) -> 102.60103 | L11: =AVERAGE(รายเดือน!DR11:EC11) -> 90.445413 | M11: =AVERAGE(รายเดือน!ED11:EO11) -> 96.697443 | N11: =AVERAGE(รายเดือน!EP11:FA11) -> 85.665919 | O11: =AVERAGE(รายเดือน!FB11:FM11) -> 84.929051 | P11: =AVERAGE(รายเดือน!FN11:FY11) -> 80.535504 | Q11: =AVERAGE(รายเดือน!FZ11:GK11) -> 99.933936 | R11: =AVERAGE(รายเดือน!GL11:GW11) -> 96.303863 | S11: =AVERAGE(รายเดือน!GX11:HI11) -> 93.091683 | T11: =AVERAGE(รายเดือน!HJ11:HU11) -> 94.816057 | U11: =AVERAGE(รายเดือน!HV11:IG11) -> 93.821695 | V11: =AVERAGE(รายเดือน!IH11:IS11) -> 92.083113
A12: อ้อย | B12: =AVERAGE(รายเดือน!B12:M12) -> 100 | C12: =AVERAGE(รายเดือน!N12:Y12) -> 130.29345 | D12: =AVERAGE(รายเดือน!Z12:AK12) -> 157.17433 | E12: =AVERAGE(รายเดือน!AL12:AW12) -> 174.07103 | F12: =AVERAGE(รายเดือน!AX12:BI12) -> 171.21216 | G12: =AVERAGE(รายเดือน!BJ12:BU12) -> 156.16065 | H12: =AVERAGE(รายเดือน!BV12:CG12) -> 246.56092 | I12: =AVERAGE(รายเดือน!CH12:CS12) -> 232.69533 | J12: =AVERAGE(รายเดือน!CT12:DE12) -> 239.5551 | K12: =AVERAGE(รายเดือน!DF12:DQ12) -> 245.4155 | L12: =AVERAGE(รายเดือน!DR12:EC12) -> 249.04705 | M12: =AVERAGE(รายเดือน!ED12:EO12) -> 207.38477 | N12: =AVERAGE(รายเดือน!EP12:FA12) -> 237.96071 | O12: =AVERAGE(รายเดือน!FB12:FM12) -> 338.94302 | P12: =AVERAGE(รายเดือน!FN12:FY12) -> 293.72086 | Q12: =AVERAGE(รายเดือน!FZ12:GK12) -> 147.11124 | R12: =AVERAGE(รายเดือน!GL12:GW12) -> 173.37267 | S12: =AVERAGE(รายเดือน!GX12:HI12) -> 215.89069 | T12: =AVERAGE(รายเดือน!HJ12:HU12) -> 213.76738 | U12: =AVERAGE(รายเดือน!HV12:IG12) -> 197.86153 | V12: =AVERAGE(รายเดือน!IH12:IS12) -> 207.78086
A13: มันสำปะหลัง | B13: =AVERAGE(รายเดือน!B13:M13) -> 100 | C13: =AVERAGE(รายเดือน!N13:Y13) -> 140.33838 | D13: =AVERAGE(รายเดือน!Z13:AK13) -> 159.35651 | E13: =AVERAGE(รายเดือน!AL13:AW13) -> 135.7976 | F13: =AVERAGE(รายเดือน!AX13:BI13) -> 159.48467 | G13: =AVERAGE(รายเดือน!BJ13:BU13) -> 110.91828 | H13: =AVERAGE(รายเดือน!BV13:CG13) -> 122.56456 | I13: =AVERAGE(รายเดือน!CH13:CS13) -> 172.51857 | J13: =AVERAGE(รายเดือน!CT13:DE13) -> 189.20397 | K13: =AVERAGE(รายเดือน!DF13:DQ13) -> 165.51535 | L13: =AVERAGE(รายเดือน!DR13:EC13) -> 177.43822 | M13: =AVERAGE(รายเดือน!ED13:EO13) -> 178.23554 | N13: =AVERAGE(รายเดือน!EP13:FA13) -> 171.0363 | O13: =AVERAGE(รายเดือน!FB13:FM13) -> 170.79581 | P13: =AVERAGE(รายเดือน!FN13:FY13) -> 175.12375 | Q13: =AVERAGE(รายเดือน!FZ13:GK13) -> 174.43695 | R13: =AVERAGE(รายเดือน!GL13:GW13) -> 200.84954 | S13: =AVERAGE(รายเดือน!GX13:HI13) -> 195.78581 | T13: =AVERAGE(รายเดือน!HJ13:HU13) -> 168.90682 | U13: =AVERAGE(รายเดือน!HV13:IG13) -> 157.99903 | V13: =AVERAGE(รายเดือน!IH13:IS13) -> 151.96918
A14: ข้าวโพดเลี้ยงสัตว์ | B14: =AVERAGE(รายเดือน!B14:M14) -> 100 | C14: =AVERAGE(รายเดือน!N14:Y14) -> 98.301306 | D14: =AVERAGE(รายเดือน!Z14:AK14) -> 88.544948 | E14: =AVERAGE(รายเดือน!AL14:AW14) -> 97.936697 | F14: =AVERAGE(รายเดือน!AX14:BI14) -> 114.58477 | G14: =AVERAGE(รายเดือน!BJ14:BU14) -> 113.48542 | H14: =AVERAGE(รายเดือน!BV14:CG14) -> 115.51343 | I14: =AVERAGE(รายเดือน!CH14:CS14) -> 119.73284 | J14: =AVERAGE(รายเดือน!CT14:DE14) -> 117.5149 | K14: =AVERAGE(รายเดือน!DF14:DQ14) -> 110.17198 | L14: =AVERAGE(รายเดือน!DR14:EC14) -> 99.357545 | M14: =AVERAGE(รายเดือน!ED14:EO14) -> 106.57764 | N14: =AVERAGE(รายเดือน!EP14:FA14) -> 107.46453 | O14: =AVERAGE(รายเดือน!FB14:FM14) -> 114.23996 | P14: =AVERAGE(รายเดือน!FN14:FY14) -> 113.11677 | Q14: =AVERAGE(รายเดือน!FZ14:GK14) -> 120.30062 | R14: =AVERAGE(รายเดือน!GL14:GW14) -> 117.2899 | S14: =AVERAGE(รายเดือน!GX14:HI14) -> 111.69373 | T14: =AVERAGE(รายเดือน!HJ14:HU14) -> 112.82107 | U14: =AVERAGE(รายเดือน!HV14:IG14) -> 110.0231 | V14: =AVERAGE(รายเดือน!IH14:IS14) -> 119.81891
A15: ถั่วเขียวผิวมัน | B15: =AVERAGE(รายเดือน!B15:M15) -> 100 | C15: =AVERAGE(รายเดือน!N15:Y15) -> 94.704949 | D15: =AVERAGE(รายเดือน!Z15:AK15) -> 98.736283 | E15: =AVERAGE(รายเดือน!AL15:AW15) -> 91.987405 | F15: =AVERAGE(รายเดือน!AX15:BI15) -> 82.725521 | G15: =AVERAGE(รายเดือน!BJ15:BU15) -> 87.386592 | H15: =AVERAGE(รายเดือน!BV15:CG15) -> 83.937468 | I15: =AVERAGE(รายเดือน!CH15:CS15) -> 87.458732 | J15: =AVERAGE(รายเดือน!CT15:DE15) -> 85.566127 | K15: =AVERAGE(รายเดือน!DF15:DQ15) -> 84.497611 | L15: =AVERAGE(รายเดือน!DR15:EC15) -> 83.648909 | M15: =AVERAGE(รายเดือน!ED15:EO15) -> 85.657786 | N15: =AVERAGE(รายเดือน!EP15:FA15) -> 90.219559 | O15: =AVERAGE(รายเดือน!FB15:FM15) -> 117.90358 | P15: =AVERAGE(รายเดือน!FN15:FY15) -> 69.848165 | Q15: =AVERAGE(รายเดือน!FZ15:GK15) -> 106.45844 | R15: =AVERAGE(รายเดือน!GL15:GW15) -> 96.669824 | S15: =AVERAGE(รายเดือน!GX15:HI15) -> 100.27851 | T15: =AVERAGE(รายเดือน!HJ15:HU15) -> 59.786367 | U15: =AVERAGE(รายเดือน!HV15:IG15) -> 42.013797 | V15: =AVERAGE(รายเดือน!IH15:IS15) -> 47.292479
A16: 1.2 กลุ่มไม้ยืนต้น | B16: =AVERAGE(รายเดือน!B16:M16) -> 100 | C16: =AVERAGE(รายเดือน!N16:Y16) -> 104.55181 | D16: =AVERAGE(รายเดือน!Z16:AK16) -> 108.93529 | E16: =AVERAGE(รายเดือน!AL16:AW16) -> 114.23579 | F16: =AVERAGE(รายเดือน!AX16:BI16) -> 118.46948 | G16: =AVERAGE(รายเดือน!BJ16:BU16) -> 127.35141 | H16: =AVERAGE(รายเดือน!BV16:CG16) -> 138.95677 | I16: =AVERAGE(รายเดือน!CH16:CS16) -> 138.00548 | J16: =AVERAGE(รายเดือน!CT16:DE16) -> 148.36648 | K16: =AVERAGE(รายเดือน!DF16:DQ16) -> 155.03545 | L16: =AVERAGE(รายเดือน!DR16:EC16) -> 156.14879 | M16: =AVERAGE(รายเดือน!ED16:EO16) -> 156.99559 | N16: =AVERAGE(รายเดือน!EP16:FA16) -> 164.64989 | O16: =AVERAGE(รายเดือน!FB16:FM16) -> 173.73825 | P16: =AVERAGE(รายเดือน!FN16:FY16) -> 171.11937 | Q16: =AVERAGE(รายเดือน!FZ16:GK16) -> 171.43447 | R16: =AVERAGE(รายเดือน!GL16:GW16) -> 172.56876 | S16: =AVERAGE(รายเดือน!GX16:HI16) -> 168.78964 | T16: =AVERAGE(รายเดือน!HJ16:HU16) -> 169.69681 | U16: =AVERAGE(รายเดือน!HV16:IG16) -> 169.56774 | V16: =AVERAGE(รายเดือน!IH16:IS16) -> 169.7468
... A51: กุ้งขาวแวนนาไม | B51: =AVERAGE(รายเดือน!B51:M51) -> 100 | C51: =AVERAGE(รายเดือน!N51:Y51) -> 119.77499 | D51: =AVERAGE(รายเดือน!Z51:AK51) -> 128.64043 | E51: =AVERAGE(รายเดือน!AL51:AW51) -> 128.2472 | F51: =AVERAGE(รายเดือน!AX51:BI51) -> 149.39349 | G51: =AVERAGE(รายเดือน!BJ51:BU51) -> 149.40221 | H51: =AVERAGE(รายเดือน!BV51:CG51) -> 166.52157 | I51: =AVERAGE(รายเดือน!CH51:CS51) -> 121.29788 | J51: =AVERAGE(รายเดือน!CT51:DE51) -> 65.565562 | K51: =AVERAGE(รายเดือน!DF51:DQ51) -> 55.774642 | L51: =AVERAGE(รายเดือน!DR51:EC51) -> 57.075677 | M51: =AVERAGE(รายเดือน!ED51:EO51) -> 77.494825 | N51: =AVERAGE(รายเดือน!EP51:FA51) -> 73.814362 | O51: =AVERAGE(รายเดือน!FB51:FM51) -> 73.234502 | P51: =AVERAGE(รายเดือน!FN51:FY51) -> 77.986877 | Q51: =AVERAGE(รายเดือน!FZ51:GK51) -> 71.090458 | R51: =AVERAGE(รายเดือน!GL51:GW51) -> 61.996848 | S51: =AVERAGE(รายเดือน!GX51:HI51) -> 61.788878 | T51: =AVERAGE(รายเดือน!HJ51:HU51) -> 62.211817 | U51: =AVERAGE(รายเดือน!HV51:IG51) -> 60.137327 | V51: =AVERAGE(รายเดือน!IH51:IS51) -> 59.716835
A52: ที่มา : สำนักงานเศรษฐกิจการเกษตร

Sheet รายไตรมาส
A1: ดัชนีผลผลิตสินค้าเกษตร
A2: (2548 = 100)
A3: รายการสินค้า | B3: 2548 | F3: 2549 | J3: 2550 | N3: 2551 | R3: 2552 | V3: 2553 | Z3: 2554 | AD3: 2555 | AH3: 2556 | AL3: 2557 | AP3: 2558 | AT3: 2559 | AX3: 2560 | BB3: 2561 | BF3: 2562 | BJ3: 2563 | BN3: 2564 | BR3: 2565 | BV3: 2566 | BZ3: 2567 | CD3: 2568 | CH3: 2569
B4: ไตรมาส 1 | C4: ไตรมาส 2 | D4: ไตรมาส 3 | E4: ไตรมาส 4 | F4: ไตรมาส 1 | G4: ไตรมาส 2 | H4: ไตรมาส 3 | I4: ไตรมาส 4 | J4: ไตรมาส 1 | K4: ไตรมาส 2 | L4: ไตรมาส 3 | M4: ไตรมาส 4 | N4: ไตรมาส 1 | O4: ไตรมาส 2 | P4: ไตรมาส 3 | Q4: ไตรมาส 4 | R4: ไตรมาส 1 | S4: ไตรมาส 2 | T4: ไตรมาส 3 | U4: ไตรมาส 4 | V4: ไตรมาส 1 | W4: ไตรมาส 2 | X4: ไตรมาส 3 | Y4: ไตรมาส 4 | Z4: ไตรมาส 1 | AA4: ไตรมาส 2 | AB4: ไตรมาส 3 | AC4: ไตรมาส 4 | AD4: ไตรมาส 1 | AE4: ไตรมาส 2 | AF4: ไตรมาส 3 | AG4: ไตรมาส 4 | AH4: ไตรมาส 1 | AI4: ไตรมาส 2 | AJ4: ไตรมาส 3 | AK4: ไตรมาส 4 | AL4: ไตรมาส 1 | AM4: ไตรมาส 2 | AN4: ไตรมาส 3 | AO4: ไตรมาส 4 | AP4: ไตรมาส 1 | AQ4: ไตรมาส 2 | AR4: ไตรมาส 3 | AS4: ไตรมาส 4 | AT4: ไตรมาส 1 | AU4: ไตรมาส 2 | AV4: ไตรมาส 3 | AW4: ไตรมาส 4 | AX4: ไตรมาส 1 | AY4: ไตรมาส 2 | AZ4: ไตรมาส 3 | BA4: ไตรมาส 4 | BB4: ไตรมาส 1 | BC4: ไตรมาส 2 | BD4: ไตรมาส 3 | BE4: ไตรมาส 4 | BF4: ไตรมาส 1 | BG4: ไตรมาส 2 | BH4: ไตรมาส 3 | BI4: ไตรมาส 4 | BJ4: ไตรมาส 1 | BK4: ไตรมาส 2 | BL4: ไตรมาส 3 | BM4: ไตรมาส 4 | BN4: ไตรมาส 1 | BO4: ไตรมาส 2 | BP4: ไตรมาส 3 | BQ4: ไตรมาส 4 | BR4: ไตรมาส 1 | BS4: ไตรมาส 2 | BT4: ไตรมาส 3 | BU4: ไตรมาส 4 | BV4: ไตรมาส 1 | BW4: ไตรมาส 2 | BX4: ไตรมาส 3 | BY4: ไตรมาส 4 | BZ4: ไตรมาส 1 | CA4: ไตรมาส 2 | CB4: ไตรมาส 3 | CC4: ไตรมาส 4 | CD4: ไตรมาส 1 | CE4: ไตรมาส 2 | CF4: ไตรมาส 3 | CG4: ไตรมาส 4 | CH4: ไตรมาส 1 | CI4: ไตรมาส 2 | CJ4: ไตรมาส 3 | CK4: ไตรมาส 4
A5: ภาคเกษตรกรรม | B5: =AVERAGE(รายเดือน!B5:D5) -> 102.44303 | C5: =AVERAGE(รายเดือน!E5:G5) -> 72.463116 | D5: =AVERAGE(รายเดือน!H5:J5) -> 83.833228 | E5: =AVERAGE(รายเดือน!K5:M5) -> 141.26063 | F5: =AVERAGE(รายเดือน!N5:P5) -> 98.855732 | G5: =AVERAGE(รายเดือน!Q5:S5) -> 79.838216 | H5: =AVERAGE(รายเดือน!T5:V5) -> 92.1294 | I5: =AVERAGE(รายเดือน!W5:Y5) -> 154.15237 | J5: =AVERAGE(รายเดือน!Z5:AB5) -> 101.38601 | K5: =AVERAGE(รายเดือน!AC5:AE5) -> 87.548674 | L5: =AVERAGE(รายเดือน!AF5:AH5) -> 94.361011 | M5: =AVERAGE(รายเดือน!AI5:AK5) -> 159.95106 | N5: =AVERAGE(รายเดือน!AL5:AN5) -> 98.802625 | O5: =AVERAGE(รายเดือน!AO5:AQ5) -> 90.87767 | P5: =AVERAGE(รายเดือน!AR5:AT5) -> 98.137781 | Q5: =AVERAGE(รายเดือน!AU5:AW5) -> 163.85332 | R5: =AVERAGE(รายเดือน!AX5:AZ5) -> 106.97457 | S5: =AVERAGE(รายเดือน!BA5:BC5) -> 90.240361 | T5: =AVERAGE(รายเดือน!BD5:BF5) -> 104.00759 | U5: =AVERAGE(รายเดือน!BG5:BI5) -> 163.04786 | V5: =AVERAGE(รายเดือน!BJ5:BL5) -> 103.22014 | W5: =AVERAGE(รายเดือน!BM5:BO5) -> 95.828014 | X5: =AVERAGE(รายเดือน!BP5:BR5) -> 102.6695 | Y5: =AVERAGE(รายเดือน!BS5:BU5) -> 166.53431 | Z5: =AVERAGE(รายเดือน!BV5:BX5) -> 110.82881 | AA5: =AVERAGE(รายเดือน!BY5:CA5) -> 105.48647 | AB5: =AVERAGE(รายเดือน!CB5:CD5) -> 110.58473 | AC5: =AVERAGE(รายเดือน!CE5:CG5) -> 181.39763 | AD5: =AVERAGE(รายเดือน!CH5:CJ5) -> 122.59061 | AE5: =AVERAGE(รายเดือน!CK5:CM5) -> 108.39718 | AF5: =AVERAGE(รายเดือน!CN5:CP5) -> 112.09661 | AG5: =AVERAGE(รายเดือน!CQ5:CS5) -> 181.16661 | AH5: =AVERAGE(รายเดือน!CT5:CV5) -> 130.29337 | AI5: =AVERAGE(รายเดือน!CW5:CY5) -> 96.208003 | AJ5: =AVERAGE(รายเดือน!CZ5:DB5) -> 105.13019 | AK5: =AVERAGE(รายเดือน!DC5:DE5) -> 187.74265 | AL5: =AVERAGE(รายเดือน!DF5:DH5) -> 125.61749 | AM5: =AVERAGE(รายเดือน!DI5:DK5) -> 98.166583 | AN5: =AVERAGE(รายเดือน!DL5:DN5) -> 111.39545 | AO5: =AVERAGE(รายเดือน!DO5:DQ5) -> 186.94045 | AP5: =AVERAGE(รายเดือน!DR5:DT5) -> 131.11506 | AQ5: =AVERAGE(รายเดือน!DU5:DW5) -> 88.063984 | AR5: =AVERAGE(รายเดือน!DX5:DZ5) -> 99.73034 | AS5: =AVERAGE(รายเดือน!EA5:EC5) -> 190.33684 | AT5: =AVERAGE(รายเดือน!ED5:EF5) -> 123.36512 | AU5: =AVERAGE(รายเดือน!EG5:EI5) -> 83.70369 | AV5: =AVERAGE(รายเดือน!EJ5:EL5) -> 99.535868 | AW5: =AVERAGE(รายเดือน!EM5:EO5) -> 203.48299 | AX5: =AVERAGE(รายเดือน!EP5:ER5) -> 134.56274 | AY5: =AVERAGE(รายเดือน!ES5:EU5) -> 97.241378 | AZ5: =AVERAGE(รายเดือน!EV5:EX5) -> 114.85433 | BA5: =AVERAGE(รายเดือน!EY5:FA5) -> 198.2632 | BB5: =AVERAGE(รายเดือน!FB5:FD5) -> 148.64339 | BC5: =AVERAGE(รายเดือน!FE5:FG5) -> 110.81569 | BD5: =AVERAGE(รายเดือน!FH5:FJ5) -> 123.37706 | BE5: =AVERAGE(รายเดือน!FK5:FM5) -> 200.00069 | BF5: =AVERAGE(รายเดือน!FN5:FP5) -> 149.48796 | BG5: =AVERAGE(รายเดือน!FQ5:FS5) -> 108.78601 | BH5: =AVERAGE(รายเดือน!FT5:FV5) -> 124.44953 | BI5: =AVERAGE(รายเดือน!FW5:FY5) -> 197.6988 | BJ5: =AVERAGE(รายเดือน!FZ5:GB5) -> 130.46704 | BK5: =AVERAGE(รายเดือน!GC5:GE5) -> 101.61724 | BL5: =AVERAGE(รายเดือน!GF5:GH5) -> 116.65726 | BM5: =AVERAGE(รายเดือน!GI5:GK5) -> 210.41883 | BN5: =AVERAGE(รายเดือน!GL5:GN5) -> 133.49311 | BO5: =AVERAGE(รายเดือน!GO5:GQ5) -> 104.33694 | BP5: =AVERAGE(รายเดือน!GR5:GT5) -> 125.685 | BQ5: =AVERAGE(รายเดือน!GU5:GW5) -> 204.04143 | BR5: =AVERAGE(รายเดือน!GX5:GZ5) -> 136.2485 | BS5: =AVERAGE(รายเดือน!HA5:HC5) -> 111.22733 | BT5: =AVERAGE(รายเดือน!HD5:HF5) -> 124.51054 | BU5: =AVERAGE(รายเดือน!HG5:HI5) -> 204.27003 | BV5: =AVERAGE(รายเดือน!HJ5:HL5) -> 138.13159 | BW5: =AVERAGE(รายเดือน!HM5:HO5) -> 114.34757 | BX5: =AVERAGE(รายเดือน!HP5:HR5) -> 127.48137 | BY5: =AVERAGE(รายเดือน!HS5:HU5) -> 208.3141 | BZ5: =AVERAGE(รายเดือน!HV5:HX5) -> 135.0948 | CA5: =AVERAGE(รายเดือน!HY5:IA5) -> 115.45073 | CB5: =AVERAGE(รายเดือน!IB5:ID5) -> 131.76477 | CC5: =AVERAGE(รายเดือน!IE5:IG5) -> 206.69871 | CD5: =AVERAGE(รายเดือน!IH5:IJ5) -> 138.91026 | CE5: =AVERAGE(รายเดือน!IK5:IM5) -> 125.43764 | CF5: =AVERAGE(รายเดือน!IN5:IP5) -> 137.08646 | CG5: =AVERAGE(รายเดือน!IQ5:IS5) -> 207.3911 | CH5: =AVERAGE(รายเดือน!IT5:IV5) -> 145.79979 | CI5: =AVERAGE(รายเดือน!IW5:IY5) -> 125.95106
A6: 1. หมวดพืชผลสำคัญ | B6: =AVERAGE(รายเดือน!B6:D6) -> 105.98188 | C6: =AVERAGE(รายเดือน!E6:G6) -> 63.02508 | D6: =AVERAGE(รายเดือน!H6:J6) -> 76.926318 | E6: =AVERAGE(รายเดือน!K6:M6) -> 154.06673 | F6: =AVERAGE(รายเดือน!N6:P6) -> 98.321109 | G6: =AVERAGE(รายเดือน!Q6:S6) -> 71.274525 | H6: =AVERAGE(รายเดือน!T6:V6) -> 82.922042 | I6: =AVERAGE(รายเดือน!W6:Y6) -> 166.85622 | J6: =AVERAGE(รายเดือน!Z6:AB6) -> 99.237477 | K6: =AVERAGE(รายเดือน!AC6:AE6) -> 79.595627 | L6: =AVERAGE(รายเดือน!AF6:AH6) -> 84.470639 | M6: =AVERAGE(รายเดือน!AI6:AK6) -> 174.40389 | N6: =AVERAGE(รายเดือน!AL6:AN6) -> 96.941443 | O6: =AVERAGE(รายเดือน!AO6:AQ6) -> 85.071067 | P6: =AVERAGE(รายเดือน!AR6:AT6) -> 90.693406 | Q6: =AVERAGE(รายเดือน!AU6:AW6) -> 179.62108 | R6: =AVERAGE(รายเดือน!AX6:AZ6) -> 108.27172 | S6: =AVERAGE(รายเดือน!BA6:BC6) -> 82.492193 | T6: =AVERAGE(รายเดือน!BD6:BF6) -> 95.352925 | U6: =AVERAGE(รายเดือน!BG6:BI6) -> 176.85505 | V6: =AVERAGE(รายเดือน!BJ6:BL6) -> 100.38643 | W6: =AVERAGE(รายเดือน!BM6:BO6) -> 89.063649 | X6: =AVERAGE(รายเดือน!BP6:BR6) -> 93.814813 | Y6: =AVERAGE(รายเดือน!BS6:BU6) -> 181.73161 | Z6: =AVERAGE(รายเดือน!BV6:BX6) -> 110.55894 | AA6: =AVERAGE(รายเดือน!BY6:CA6) -> 100.25357 | AB6: =AVERAGE(รายเดือน!CB6:CD6) -> 102.63804 | AC6: =AVERAGE(รายเดือน!CE6:CG6) -> 199.58899 | AD6: =AVERAGE(รายเดือน!CH6:CJ6) -> 124.78904 | AE6: =AVERAGE(รายเดือน!CK6:CM6) -> 101.01085 | AF6: =AVERAGE(รายเดือน!CN6:CP6) -> 108.32266 | AG6: =AVERAGE(รายเดือน!CQ6:CS6) -> 201.61154 | AH6: =AVERAGE(รายเดือน!CT6:CV6) -> 135.93405 | AI6: =AVERAGE(รายเดือน!CW6:CY6) -> 91.312607 | AJ6: =AVERAGE(รายเดือน!CZ6:DB6) -> 102.74221 | AK6: =AVERAGE(รายเดือน!DC6:DE6) -> 215.54819 | AL6: =AVERAGE(รายเดือน!DF6:DH6) -> 132.3501 | AM6: =AVERAGE(รายเดือน!DI6:DK6) -> 94.087213 | AN6: =AVERAGE(รายเดือน!DL6:DN6) -> 110.29483 | AO6: =AVERAGE(รายเดือน!DO6:DQ6) -> 208.55398 | AP6: =AVERAGE(รายเดือน!DR6:DT6) -> 137.80855 | AQ6: =AVERAGE(รายเดือน!DU6:DW6) -> 74.806072 | AR6: =AVERAGE(รายเดือน!DX6:DZ6) -> 89.974943 | AS6: =AVERAGE(รายเดือน!EA6:EC6) -> 211.94179 | AT6: =AVERAGE(รายเดือน!ED6:EF6) -> 122.50189 | AU6: =AVERAGE(รายเดือน!EG6:EI6) -> 64.228981 | AV6: =AVERAGE(รายเดือน!EJ6:EL6) -> 84.817754 | AW6: =AVERAGE(รายเดือน!EM6:EO6) -> 223.12784 | AX6: =AVERAGE(รายเดือน!EP6:ER6) -> 133.64637 | AY6: =AVERAGE(รายเดือน!ES6:EU6) -> 81.691604 | AZ6: =AVERAGE(รายเดือน!EV6:EX6) -> 104.23639 | BA6: =AVERAGE(รายเดือน!EY6:FA6) -> 216.97362 | BB6: =AVERAGE(รายเดือน!FB6:FD6) -> 151.26957 | BC6: =AVERAGE(รายเดือน!FE6:FG6) -> 97.733602 | BD6: =AVERAGE(รายเดือน!FH6:FJ6) -> 114.27365 | BE6: =AVERAGE(รายเดือน!FK6:FM6) -> 218.07684 | BF6: =AVERAGE(รายเดือน!FN6:FP6) -> 150.68726 | BG6: =AVERAGE(รายเดือน!FQ6:FS6) -> 92.251772 | BH6: =AVERAGE(รายเดือน!FT6:FV6) -> 113.14919 | BI6: =AVERAGE(รายเดือน!FW6:FY6) -> 211.63108 | BJ6: =AVERAGE(รายเดือน!FZ6:GB6) -> 125.36383 | BK6: =AVERAGE(รายเดือน!GC6:GE6) -> 83.282736 | BL6: =AVERAGE(รายเดือน!GF6:GH6) -> 102.52905 | BM6: =AVERAGE(รายเดือน!GI6:GK6) -> 229.74901 | BN6: =AVERAGE(รายเดือน!GL6:GN6) -> 130.31307 | BO6: =AVERAGE(รายเดือน!GO6:GQ6) -> 88.499276 | BP6: =AVERAGE(รายเดือน!GR6:GT6) -> 117.57932 | BQ6: =AVERAGE(รายเดือน!GU6:GW6) -> 228.33008 | BR6: =AVERAGE(รายเดือน!GX6:GZ6) -> 134.76245 | BS6: =AVERAGE(รายเดือน!HA6:HC6) -> 99.488706 | BT6: =AVERAGE(รายเดือน!HD6:HF6) -> 116.10052 | BU6: =AVERAGE(รายเดือน!HG6:HI6) -> 224.44309 | BV6: =AVERAGE(รายเดือน!HJ6:HL6) -> 134.89843 | BW6: =AVERAGE(รายเดือน!HM6:HO6) -> 98.102894 | BX6: =AVERAGE(รายเดือน!HP6:HR6) -> 115.30259 | BY6: =AVERAGE(รายเดือน!HS6:HU6) -> 223.85541 | BZ6: =AVERAGE(รายเดือน!HV6:HX6) -> 126.02403 | CA6: =AVERAGE(รายเดือน!HY6:IA6) -> 97.800665 | CB6: =AVERAGE(รายเดือน!IB6:ID6) -> 117.01158 | CC6: =AVERAGE(รายเดือน!IE6:IG6) -> 219.50302 | CD6: =AVERAGE(รายเดือน!IH6:IJ6) -> 130.49208 | CE6: =AVERAGE(รายเดือน!IK6:IM6) -> 110.70438 | CF6: =AVERAGE(รายเดือน!IN6:IP6) -> 123.90645 | CG6: =AVERAGE(รายเดือน!IQ6:IS6) -> 218.07869 | CH6: =AVERAGE(รายเดือน!IT6:IV6) -> 139.1015 | CI6: =AVERAGE(รายเดือน!IW6:IY6) -> 109.95893
A7: 1.1 กลุ่มธัญพืชและพืชอาหาร | B7: =AVERAGE(รายเดือน!B7:D7) -> 86.186346 | C7: =AVERAGE(รายเดือน!E7:G7) -> 32.354547 | D7: =AVERAGE(รายเดือน!H7:J7) -> 43.295957 | E7: =AVERAGE(รายเดือน!K7:M7) -> 238.16315 | F7: =AVERAGE(รายเดือน!N7:P7) -> 100.58003 | G7: =AVERAGE(รายเดือน!Q7:S7) -> 40.589947 | H7: =AVERAGE(รายเดือน!T7:V7) -> 53.974167 | I7: =AVERAGE(รายเดือน!W7:Y7) -> 233.12237 | J7: =AVERAGE(รายเดือน!Z7:AB7) -> 100.2682 | K7: =AVERAGE(รายเดือน!AC7:AE7) -> 49.522525 | L7: =AVERAGE(รายเดือน!AF7:AH7) -> 47.58183 | M7: =AVERAGE(รายเดือน!AI7:AK7) -> 246.54501 | N7: =AVERAGE(รายเดือน!AL7:AN7) -> 91.093124 | O7: =AVERAGE(รายเดือน!AO7:AQ7) -> 67.365241 | P7: =AVERAGE(รายเดือน!AR7:AT7) -> 64.516489 | Q7: =AVERAGE(รายเดือน!AU7:AW7) -> 242.42188 | R7: =AVERAGE(รายเดือน!AX7:AZ7) -> 106.15993 | S7: =AVERAGE(รายเดือน!BA7:BC7) -> 64.424557 | T7: =AVERAGE(รายเดือน!BD7:BF7) -> 57.498536 | U7: =AVERAGE(รายเดือน!BG7:BI7) -> 249.0921 | V7: =AVERAGE(รายเดือน!BJ7:BL7) -> 89.606939 | W7: =AVERAGE(รายเดือน!BM7:BO7) -> 67.874928 | X7: =AVERAGE(รายเดือน!BP7:BR7) -> 53.814803 | Y7: =AVERAGE(รายเดือน!BS7:BU7) -> 262.88046 | Z7: =AVERAGE(รายเดือน!BV7:BX7) -> 119.13014 | AA7: =AVERAGE(รายเดือน!BY7:CA7) -> 87.139526 | AB7: =AVERAGE(รายเดือน!CB7:CD7) -> 69.730221 | AC7: =AVERAGE(รายเดือน!CE7:CG7) -> 257.40164 | AD7: =AVERAGE(รายเดือน!CH7:CJ7) -> 141.74752 | AE7: =AVERAGE(รายเดือน!CK7:CM7) -> 87.073086 | AF7: =AVERAGE(รายเดือน!CN7:CP7) -> 82.620773 | AG7: =AVERAGE(รายเดือน!CQ7:CS7) -> 261.639 | AH7: =AVERAGE(รายเดือน!CT7:CV7) -> 154.96191 | AI7: =AVERAGE(รายเดือน!CW7:CY7) -> 68.688821 | AJ7: =AVERAGE(รายเดือน!CZ7:DB7) -> 59.259604 | AK7: =AVERAGE(รายเดือน!DC7:DE7) -> 279.41192 | AL7: =AVERAGE(รายเดือน!DF7:DH7) -> 147.62459 | AM7: =AVERAGE(รายเดือน!DI7:DK7) -> 65.506356 | AN7: =AVERAGE(รายเดือน!DL7:DN7) -> 61.285108 | AO7: =AVERAGE(รายเดือน!DO7:DQ7) -> 262.21545 | AP7: =AVERAGE(รายเดือน!DR7:DT7) -> 155.90998 | AQ7: =AVERAGE(รายเดือน!DU7:DW7) -> 36.192059 | AR7: =AVERAGE(รายเดือน!DX7:DZ7) -> 32.890721 | AS7: =AVERAGE(รายเดือน!EA7:EC7) -> 263.46071 | AT7: =AVERAGE(รายเดือน!ED7:EF7) -> 128.1339 | AU7: =AVERAGE(รายเดือน!EG7:EI7) -> 26.214702 | AV7: =AVERAGE(รายเดือน!EJ7:EL7) -> 28.641349 | AW7: =AVERAGE(รายเดือน!EM7:EO7) -> 278.53863 | AX7: =AVERAGE(รายเดือน!EP7:ER7) -> 140.39725 | AY7: =AVERAGE(รายเดือน!ES7:EU7) -> 46.021839 | AZ7: =AVERAGE(รายเดือน!EV7:EX7) -> 55.030112 | BA7: =AVERAGE(รายเดือน!EY7:FA7) -> 255.48464 | BB7: =AVERAGE(รายเดือน!FB7:FD7) -> 162.69072 | BC7: =AVERAGE(รายเดือน!FE7:FG7) -> 66.563981 | BD7: =AVERAGE(รายเดือน!FH7:FJ7) -> 63.197587 | BE7: =AVERAGE(รายเดือน!FK7:FM7) -> 258.91647 | BF7: =AVERAGE(รายเดือน!FN7:FP7) -> 163.00536 | BG7: =AVERAGE(รายเดือน!FQ7:FS7) -> 52.826526 | BH7: =AVERAGE(รายเดือน!FT7:FV7) -> 54.901493 | BI7: =AVERAGE(รายเดือน!FW7:FY7) -> 247.35588 | BJ7: =AVERAGE(รายเดือน!FZ7:GB7) -> 114.41904 | BK7: =AVERAGE(รายเดือน!GC7:GE7) -> 32.851459 | BL7: =AVERAGE(รายเดือน!GF7:GH7) -> 37.568436 | BM7: =AVERAGE(รายเดือน!GI7:GK7) -> 282.19453 | BN7: =AVERAGE(รายเดือน!GL7:GN7) -> 122.34155 | BO7: =AVERAGE(รายเดือน!GO7:GQ7) -> 41.367288 | BP7: =AVERAGE(รายเดือน!GR7:GT7) -> 48.418494 | BQ7: =AVERAGE(รายเดือน!GU7:GW7) -> 282.38202 | BR7: =AVERAGE(รายเดือน!GX7:GZ7) -> 136.58675 | BS7: =AVERAGE(รายเดือน!HA7:HC7) -> 47.484974 | BT7: =AVERAGE(รายเดือน!HD7:HF7) -> 58.370295 | BU7: =AVERAGE(รายเดือน!HG7:HI7) -> 272.77442 | BV7: =AVERAGE(รายเดือน!HJ7:HL7) -> 131.9095 | BW7: =AVERAGE(รายเดือน!HM7:HO7) -> 51.757548 | BX7: =AVERAGE(รายเดือน!HP7:HR7) -> 55.71857 | BY7: =AVERAGE(รายเดือน!HS7:HU7) -> 272.39899 | BZ7: =AVERAGE(รายเดือน!HV7:HX7) -> 123.47429 | CA7: =AVERAGE(รายเดือน!HY7:IA7) -> 47.250011 | CB7: =AVERAGE(รายเดือน!IB7:ID7) -> 59.67419 | CC7: =AVERAGE(รายเดือน!IE7:IG7) -> 268.72893 | CD7: =AVERAGE(รายเดือน!IH7:IJ7) -> 132.11701 | CE7: =AVERAGE(รายเดือน!IK7:IM7) -> 58.927428 | CF7: =AVERAGE(รายเดือน!IN7:IP7) -> 65.602646 | CG7: =AVERAGE(รายเดือน!IQ7:IS7) -> 260.66297 | CH7: =AVERAGE(รายเดือน!IT7:IV7) -> 138.38068 | CI7: =AVERAGE(รายเดือน!IW7:IY7) -> 58.756617
A8: ข้าวเปลือก | B8: =AVERAGE(รายเดือน!B8:D8) -> 51.924318 | C8: =AVERAGE(รายเดือน!E8:G8) -> 37.875019 | D8: =AVERAGE(รายเดือน!H8:J8) -> 39.566683 | E8: =AVERAGE(รายเดือน!K8:M8) -> 270.63398 | F8: =AVERAGE(รายเดือน!N8:P8) -> 54.7198 | G8: =AVERAGE(รายเดือน!Q8:S8) -> 46.694062 | H8: =AVERAGE(รายเดือน!T8:V8) -> 40.935372 | I8: =AVERAGE(รายเดือน!W8:Y8) -> 262.93698 | J8: =AVERAGE(รายเดือน!Z8:AB8) -> 43.023634 | K8: =AVERAGE(รายเดือน!AC8:AE8) -> 54.944947 | L8: =AVERAGE(รายเดือน!AF8:AH8) -> 42.443909 | M8: =AVERAGE(รายเดือน!AI8:AK8) -> 267.97005 | N8: =AVERAGE(รายเดือน!AL8:AN8) -> 34.331415 | O8: =AVERAGE(รายเดือน!AO8:AQ8) -> 80.410091 | P8: =AVERAGE(รายเดือน!AR8:AT8) -> 55.918013 | Q8: =AVERAGE(รายเดือน!AU8:AW8) -> 266.08217 | R8: =AVERAGE(รายเดือน!AX8:AZ8) -> 39.585498 | S8: =AVERAGE(รายเดือน!BA8:BC8) -> 72.653402 | T8: =AVERAGE(รายเดือน!BD8:BF8) -> 51.769003 | U8: =AVERAGE(รายเดือน!BG8:BI8) -> 272.16134 | V8: =AVERAGE(รายเดือน!BJ8:BL8) -> 31.415583 | W8: =AVERAGE(รายเดือน!BM8:BO8) -> 79.942417 | X8: =AVERAGE(รายเดือน!BP8:BR8) -> 48.952462 | Y8: =AVERAGE(รายเดือน!BS8:BU8) -> 302.37297 | Z8: =AVERAGE(รายเดือน!BV8:BX8) -> 49.654175 | AA8: =AVERAGE(รายเดือน!BY8:CA8) -> 87.873566 | AB8: =AVERAGE(รายเดือน!CB8:CD8) -> 67.895388 | AC8: =AVERAGE(รายเดือน!CE8:CG8) -> 287.56505 | AD8: =AVERAGE(รายเดือน!CH8:CJ8) -> 53.953972 | AE8: =AVERAGE(รายเดือน!CK8:CM8) -> 98.572527 | AF8: =AVERAGE(รายเดือน!CN8:CP8) -> 85.150589 | AG8: =AVERAGE(รายเดือน!CQ8:CS8) -> 289.84768 | AH8: =AVERAGE(รายเดือน!CT8:CV8) -> 64.889679 | AI8: =AVERAGE(รายเดือน!CW8:CY8) -> 77.027639 | AJ8: =AVERAGE(รายเดือน!CZ8:DB8) -> 59.841546 | AK8: =AVERAGE(รายเดือน!DC8:DE8) -> 301.04728 | AL8: =AVERAGE(รายเดือน!DF8:DH8) -> 63.072054 | AM8: =AVERAGE(รายเดือน!DI8:DK8) -> 71.427954 | AN8: =AVERAGE(รายเดือน!DL8:DN8) -> 63.934052 | AO8: =AVERAGE(รายเดือน!DO8:DQ8) -> 281.24562 | AP8: =AVERAGE(รายเดือน!DR8:DT8) -> 58.858769 | AQ8: =AVERAGE(รายเดือน!DU8:DW8) -> 32.592675 | AR8: =AVERAGE(รายเดือน!DX8:DZ8) -> 34.177329 | AS8: =AVERAGE(รายเดือน!EA8:EC8) -> 286.23748 | AT8: =AVERAGE(รายเดือน!ED8:EF8) -> 35.025544 | AU8: =AVERAGE(รายเดือน!EG8:EI8) -> 21.146386 | AV8: =AVERAGE(รายเดือน!EJ8:EL8) -> 23.282215 | AW8: =AVERAGE(รายเดือน!EM8:EO8) -> 312.68114 | AX8: =AVERAGE(รายเดือน!EP8:ER8) -> 47.210603 | AY8: =AVERAGE(รายเดือน!ES8:EU8) -> 45.270667 | AZ8: =AVERAGE(รายเดือน!EV8:EX8) -> 54.803957 | BA8: =AVERAGE(รายเดือน!EY8:FA8) -> 280.85309 | BB8: =AVERAGE(รายเดือน!FB8:FD8) -> 52.392729 | BC8: =AVERAGE(รายเดือน!FE8:FG8) -> 57.410509 | BD8: =AVERAGE(รายเดือน!FH8:FJ8) -> 67.506147 | BE8: =AVERAGE(รายเดือน!FK8:FM8) -> 272.54848 | BF8: =AVERAGE(รายเดือน!FN8:FP8) -> 52.103972 | BG8: =AVERAGE(รายเดือน!FQ8:FS8) -> 49.485095 | BH8: =AVERAGE(รายเดือน!FT8:FV8) -> 60.613596 | BI8: =AVERAGE(รายเดือน!FW8:FY8) -> 264.06144 | BJ8: =AVERAGE(รายเดือน!FZ8:GB8) -> 42.340609 | BK8: =AVERAGE(รายเดือน!GC8:GE8) -> 28.431928 | BL8: =AVERAGE(รายเดือน!GF8:GH8) -> 38.770962 | BM8: =AVERAGE(รายเดือน!GI8:GK8) -> 314.45771 | BN8: =AVERAGE(รายเดือน!GL8:GN8) -> 40.568623 | BO8: =AVERAGE(รายเดือน!GO8:GQ8) -> 37.787803 | BP8: =AVERAGE(รายเดือน!GR8:GT8) -> 51.065134 | BQ8: =AVERAGE(รายเดือน!GU8:GW8) -> 307.97962 | BR8: =AVERAGE(รายเดือน!GX8:GZ8) -> 41.766565 | BS8: =AVERAGE(รายเดือน!HA8:HC8) -> 47.234235 | BT8: =AVERAGE(รายเดือน!HD8:HF8) -> 64.723453 | BU8: =AVERAGE(รายเดือน!HG8:HI8) -> 295.84762 | BV8: =AVERAGE(รายเดือน!HJ8:HL8) -> 42.047615 | BW8: =AVERAGE(รายเดือน!HM8:HO8) -> 54.641146 | BX8: =AVERAGE(รายเดือน!HP8:HR8) -> 61.10758 | BY8: =AVERAGE(รายเดือน!HS8:HU8) -> 301.4772 | BZ8: =AVERAGE(รายเดือน!HV8:HX8) -> 44.658652 | CA8: =AVERAGE(รายเดือน!HY8:IA8) -> 48.743117 | CB8: =AVERAGE(รายเดือน!IB8:ID8) -> 64.480222 | CC8: =AVERAGE(รายเดือน!IE8:IG8) -> 298.70902 | CD8: =AVERAGE(รายเดือน!IH8:IJ8) -> 51.337222 | CE8: =AVERAGE(รายเดือน!IK8:IM8) -> 63.25835 | CF8: =AVERAGE(รายเดือน!IN8:IP8) -> 70.896826 | CG8: =AVERAGE(รายเดือน!IQ8:IS8) -> 289.56995 | CH8: =AVERAGE(รายเดือน!IT8:IV8) -> 47.716648 | CI8: =AVERAGE(รายเดือน!IW8:IY8) -> 61.366455
A9: ข้าวเปลือกเจ้า | B9: =AVERAGE(รายเดือน!B9:D9) -> 93.911269 | C9: =AVERAGE(รายเดือน!E9:G9) -> 70.576479 | D9: =AVERAGE(รายเดือน!H9:J9) -> 73.681111 | E9: =AVERAGE(รายเดือน!K9:M9) -> 161.83114 | F9: =AVERAGE(รายเดือน!N9:P9) -> 99.112214 | G9: =AVERAGE(รายเดือน!Q9:S9) -> 87.009922 | H9: =AVERAGE(รายเดือน!T9:V9) -> 76.228726 | I9: =AVERAGE(รายเดือน!W9:Y9) -> 159.55243 | J9: =AVERAGE(รายเดือน!Z9:AB9) -> 77.639816 | K9: =AVERAGE(รายเดือน!AC9:AE9) -> 102.38466 | L9: =AVERAGE(รายเดือน!AF9:AH9) -> 79.039547 | M9: =AVERAGE(รายเดือน!AI9:AK9) -> 161.13259 | N9: =AVERAGE(รายเดือน!AL9:AN9) -> 61.300021 | O9: =AVERAGE(รายเดือน!AO9:AQ9) -> 149.83652 | P9: =AVERAGE(รายเดือน!AR9:AT9) -> 104.14141 | Q9: =AVERAGE(รายเดือน!AU9:AW9) -> 157.82596 | R9: =AVERAGE(รายเดือน!AX9:AZ9) -> 71.272706 | S9: =AVERAGE(รายเดือน!BA9:BC9) -> 135.38267 | T9: =AVERAGE(รายเดือน!BD9:BF9) -> 96.415077 | U9: =AVERAGE(รายเดือน!BG9:BI9) -> 165.45239 | V9: =AVERAGE(รายเดือน!BJ9:BL9) -> 56.482401 | W9: =AVERAGE(รายเดือน!BM9:BO9) -> 148.96505 | X9: =AVERAGE(รายเดือน!BP9:BR9) -> 91.160721 | Y9: =AVERAGE(รายเดือน!BS9:BU9) -> 173.91952 | Z9: =AVERAGE(รายเดือน!BV9:BX9) -> 89.725959 | AA9: =AVERAGE(รายเดือน!BY9:CA9) -> 163.74399 | AB9: =AVERAGE(รายเดือน!CB9:CD9) -> 126.40619 | AC9: =AVERAGE(รายเดือน!CE9:CG9) -> 160.47323 | AD9: =AVERAGE(รายเดือน!CH9:CJ9) -> 99.166144 | AE9: =AVERAGE(รายเดือน!CK9:CM9) -> 183.68048 | AF9: =AVERAGE(รายเดือน!CN9:CP9) -> 158.53017 | AG9: =AVERAGE(รายเดือน!CQ9:CS9) -> 166.38333 | AH9: =AVERAGE(รายเดือน!CT9:CV9) -> 119.15714 | AI9: =AVERAGE(รายเดือน!CW9:CY9) -> 143.53364 | AJ9: =AVERAGE(รายเดือน!CZ9:DB9) -> 111.40273 | AK9: =AVERAGE(รายเดือน!DC9:DE9) -> 196.86834 | AL9: =AVERAGE(รายเดือน!DF9:DH9) -> 115.87254 | AM9: =AVERAGE(รายเดือน!DI9:DK9) -> 133.09916 | AN9: =AVERAGE(รายเดือน!DL9:DN9) -> 119.01405 | AO9: =AVERAGE(รายเดือน!DO9:DQ9) -> 171.69352 | AP9: =AVERAGE(รายเดือน!DR9:DT9) -> 106.77365 | AQ9: =AVERAGE(รายเดือน!DU9:DW9) -> 60.733334 | AR9: =AVERAGE(รายเดือน!DX9:DZ9) -> 63.627276 | AS9: =AVERAGE(รายเดือน!EA9:EC9) -> 151.60188 | AT9: =AVERAGE(รายเดือน!ED9:EF9) -> 63.091276 | AU9: =AVERAGE(รายเดือน!EG9:EI9) -> 39.404269 | AV9: =AVERAGE(รายเดือน!EJ9:EL9) -> 43.322641 | AW9: =AVERAGE(รายเดือน!EM9:EO9) -> 181.92694 | AX9: =AVERAGE(รายเดือน!EP9:ER9) -> 85.982788 | AY9: =AVERAGE(รายเดือน!ES9:EU9) -> 84.35756 | AZ9: =AVERAGE(รายเดือน!EV9:EX9) -> 100.95873 | BA9: =AVERAGE(รายเดือน!EY9:FA9) -> 136.09487 | BB9: =AVERAGE(รายเดือน!FB9:FD9) -> 96.344308 | BC9: =AVERAGE(รายเดือน!FE9:FG9) -> 106.979 | BD9: =AVERAGE(รายเดือน!FH9:FJ9) -> 124.54879 | BE9: =AVERAGE(รายเดือน!FK9:FM9) -> 145.67912 | BF9: =AVERAGE(รายเดือน!FN9:FP9) -> 96.066253 | BG9: =AVERAGE(รายเดือน!FQ9:FS9) -> 92.210746 | BH9: =AVERAGE(รายเดือน!FT9:FV9) -> 110.65328 | BI9: =AVERAGE(รายเดือน!FW9:FY9) -> 135.77044 | BJ9: =AVERAGE(รายเดือน!FZ9:GB9) -> 77.710145 | BK9: =AVERAGE(รายเดือน!GC9:GE9) -> 52.98018 | BL9: =AVERAGE(รายเดือน!GF9:GH9) -> 71.35957 | BM9: =AVERAGE(รายเดือน!GI9:GK9) -> 174.48409 | BN9: =AVERAGE(รายเดือน!GL9:GN9) -> 74.695144 | BO9: =AVERAGE(รายเดือน!GO9:GQ9) -> 70.413959 | BP9: =AVERAGE(รายเดือน!GR9:GT9) -> 93.758082 | BQ9: =AVERAGE(รายเดือน!GU9:GW9) -> 161.21591 | BR9: =AVERAGE(รายเดือน!GX9:GZ9) -> 76.920202 | BS9: =AVERAGE(รายเดือน!HA9:HC9) -> 88.016482 | BT9: =AVERAGE(รายเดือน!HD9:HF9) -> 118.9445 | BU9: =AVERAGE(รายเดือน!HG9:HI9) -> 152.13565 | BV9: =AVERAGE(รายเดือน!HJ9:HL9) -> 77.635127 | BW9: =AVERAGE(รายเดือน!HM9:HO9) -> 101.81855 | BX9: =AVERAGE(รายเดือน!HP9:HR9) -> 112.43716 | BY9: =AVERAGE(รายเดือน!HS9:HU9) -> 160.73657 | BZ9: =AVERAGE(รายเดือน!HV9:HX9) -> 82.446666 | CA9: =AVERAGE(รายเดือน!HY9:IA9) -> 90.828139 | CB9: =AVERAGE(รายเดือน!IB9:ID9) -> 118.63132 | CC9: =AVERAGE(รายเดือน!IE9:IG9) -> 155.97429 | CD9: =AVERAGE(รายเดือน!IH9:IJ9) -> 94.765519 | CE9: =AVERAGE(รายเดือน!IK9:IM9) -> 117.87589 | CF9: =AVERAGE(รายเดือน!IN9:IP9) -> 130.5091 | CG9: =AVERAGE(รายเดือน!IQ9:IS9) -> 140.48645 | CH9: =AVERAGE(รายเดือน!IT9:IV9) -> 88.381347 | CI9: =AVERAGE(รายเดือน!IW9:IY9) -> 114.35052
A10: ข้าวเปลือกเจ้านาปีหอมมะลิ | B10: =AVERAGE(รายเดือน!B10:D10) -> 2.6848113 | C10: =AVERAGE(รายเดือน!E10:G10) -> 0 | D10: =AVERAGE(รายเดือน!H10:J10) -> 0 | E10: =AVERAGE(รายเดือน!K10:M10) -> 397.31519 | F10: =AVERAGE(รายเดือน!N10:P10) -> 2.6925198 | G10: =AVERAGE(รายเดือน!Q10:S10) -> 0 | H10: =AVERAGE(รายเดือน!T10:V10) -> 0 | I10: =AVERAGE(รายเดือน!W10:Y10) -> 383.08433 | J10: =AVERAGE(รายเดือน!Z10:AB10) -> 2.3883498 | K10: =AVERAGE(รายเดือน!AC10:AE10) -> 0 | L10: =AVERAGE(รายเดือน!AF10:AH10) -> 0 | M10: =AVERAGE(รายเดือน!AI10:AK10) -> 392.27679 | N10: =AVERAGE(รายเดือน!AL10:AN10) -> 2.5230033 | O10: =AVERAGE(รายเดือน!AO10:AQ10) -> 0 | P10: =AVERAGE(รายเดือน!AR10:AT10) -> 0 | Q10: =AVERAGE(รายเดือน!AU10:AW10) -> 392.28396 | R10: =AVERAGE(รายเดือน!AX10:AZ10) -> 2.351043 | S10: =AVERAGE(รายเดือน!BA10:BC10) -> 0 | T10: =AVERAGE(รายเดือน!BD10:BF10) -> 0 | U10: =AVERAGE(รายเดือน!BG10:BI10) -> 396.13662 | V10: =AVERAGE(รายเดือน!BJ10:BL10) -> 1.9418647 | W10: =AVERAGE(รายเดือน!BM10:BO10) -> 0 | X10: =AVERAGE(รายเดือน!BP10:BR10) -> 0 | Y10: =AVERAGE(รายเดือน!BS10:BU10) -> 452.68061 | Z10: =AVERAGE(รายเดือน!BV10:BX10) -> 2.6424495 | AA10: =AVERAGE(รายเดือน!BY10:CA10) -> 0 | AB10: =AVERAGE(รายเดือน!CB10:CD10) -> 0 | AC10: =AVERAGE(รายเดือน!CE10:CG10) -> 436.76776 | AD10: =AVERAGE(รายเดือน!CH10:CJ10) -> 1.2948 | AE10: =AVERAGE(รายเดือน!CK10:CM10) -> 0 | AF10: =AVERAGE(รายเดือน!CN10:CP10) -> 0 | AG10: =AVERAGE(รายเดือน!CQ10:CS10) -> 434.36319 | AH10: =AVERAGE(รายเดือน!CT10:CV10) -> 1.6597153 | AI10: =AVERAGE(รายเดือน!CW10:CY10) -> 0 | AJ10: =AVERAGE(รายเดือน!CZ10:DB10) -> 0 | AK10: =AVERAGE(รายเดือน!DC10:DE10) -> 420.62832 | AL10: =AVERAGE(รายเดือน!DF10:DH10) -> 1.563096 | AM10: =AVERAGE(รายเดือน!DI10:DK10) -> 0 | AN10: =AVERAGE(รายเดือน!DL10:DN10) -> 0 | AO10: =AVERAGE(รายเดือน!DO10:DQ10) -> 408.45163 | AP10: =AVERAGE(รายเดือน!DR10:DT10) -> 2.7407776 | AQ10: =AVERAGE(รายเดือน!DU10:DW10) -> 0 | AR10: =AVERAGE(รายเดือน!DX10:DZ10) -> 0 | AS10: =AVERAGE(รายเดือน!EA10:EC10) -> 509.94213 | AT10: =AVERAGE(รายเดือน!ED10:EF10) -> 2.0531783 | AU10: =AVERAGE(รายเดือน!EG10:EI10) -> 0 | AV10: =AVERAGE(รายเดือน!EJ10:EL10) -> 0 | AW10: =AVERAGE(รายเดือน!EM10:EO10) -> 528.6157 | AX10: =AVERAGE(รายเดือน!EP10:ER10) -> 1.4828709 | AY10: =AVERAGE(รายเดือน!ES10:EU10) -> 0 | AZ10: =AVERAGE(รายเดือน!EV10:EX10) -> 1.0998128 | BA10: =AVERAGE(รายเดือน!EY10:FA10) -> 537.20791 | BB10: =AVERAGE(รายเดือน!FB10:FD10) -> 1.310438 | BC10: =AVERAGE(รายเดือน!FE10:FG10) -> 0 | BD10: =AVERAGE(รายเดือน!FH10:FJ10) -> 0.94586104 | BE10: =AVERAGE(รายเดือน!FK10:FM10) -> 486.33883 | BF10: =AVERAGE(รายเดือน!FN10:FP10) -> 1.2801388 | BG10: =AVERAGE(รายเดือน!FQ10:FS10) -> 0 | BH10: =AVERAGE(รายเดือน!FT10:FV10) -> 1.5946196 | BI10: =AVERAGE(รายเดือน!FW10:FY10) -> 489.12045 | BJ10: =AVERAGE(รายเดือน!FZ10:GB10) -> 1.2729282 | BK10: =AVERAGE(รายเดือน!GC10:GE10) -> 0 | BL10: =AVERAGE(รายเดือน!GF10:GH10) -> 0.71171103 | BM10: =AVERAGE(รายเดือน!GI10:GK10) -> 540.40551 | BN10: =AVERAGE(รายเดือน!GL10:GN10) -> 0.99403693 | BO10: =AVERAGE(รายเดือน!GO10:GQ10) -> 0 | BP10: =AVERAGE(รายเดือน!GR10:GT10) -> 1.0323191 | BQ10: =AVERAGE(รายเดือน!GU10:GW10) -> 554.94512 | BR10: =AVERAGE(รายเดือน!GX10:GZ10) -> 1.0294071 | BS10: =AVERAGE(รายเดือน!HA10:HC10) -> 0 | BT10: =AVERAGE(รายเดือน!HD10:HF10) -> 1.2191808 | BU10: =AVERAGE(รายเดือน!HG10:HI10) -> 537.36801 | BV10: =AVERAGE(รายเดือน!HJ10:HL10) -> 0.78972828 | BW10: =AVERAGE(รายเดือน!HM10:HO10) -> 0 | BX10: =AVERAGE(รายเดือน!HP10:HR10) -> 1.0790776 | BY10: =AVERAGE(รายเดือน!HS10:HU10) -> 535.28814 | BZ10: =AVERAGE(รายเดือน!HV10:HX10) -> 0.85754691 | CA10: =AVERAGE(รายเดือน!HY10:IA10) -> 0 | CB10: =AVERAGE(รายเดือน!IB10:ID10) -> 1.1286696 | CC10: =AVERAGE(รายเดือน!IE10:IG10) -> 537.82891 | CD10: =AVERAGE(รายเดือน!IH10:IJ10) -> 0.91760937 | CE10: =AVERAGE(รายเดือน!IK10:IM10) -> 0 | CF10: =AVERAGE(รายเดือน!IN10:IP10) -> 1.2184309 | CG10: =AVERAGE(รายเดือน!IQ10:IS10) -> 540.45653 | CH10: =AVERAGE(รายเดือน!IT10:IV10) -> 0.58589275 | CI10: =AVERAGE(รายเดือน!IW10:IY10) -> 0
A11: ข้าวเปลือกเหนียวนาปีเมล็ดยาว | B11: =AVERAGE(รายเดือน!B11:D11) -> 4.0570408 | C11: =AVERAGE(รายเดือน!E11:G11) -> 0 | D11: =AVERAGE(รายเดือน!H11:J11) -> 0.12407729 | E11: =AVERAGE(รายเดือน!K11:M11) -> 395.81888 | F11: =AVERAGE(รายเดือน!N11:P11) -> 4.0686891 | G11: =AVERAGE(รายเดือน!Q11:S11) -> 0 | H11: =AVERAGE(รายเดือน!T11:V11) -> 0.13138771 | I11: =AVERAGE(รายเดือน!W11:Y11) -> 382.16927 | J11: =AVERAGE(รายเดือน!Z11:AB11) -> 3.6090552 | K11: =AVERAGE(รายเดือน!AC11:AE11) -> 0 | L11: =AVERAGE(รายเดือน!AF11:AH11) -> 0.13189432 | M11: =AVERAGE(รายเดือน!AI11:AK11) -> 391.00128 | N11: =AVERAGE(รายเดือน!AL11:AN11) -> 3.8125312 | O11: =AVERAGE(รายเดือน!AO11:AQ11) -> 0 | P11: =AVERAGE(รายเดือน!AR11:AT11) -> 0.14712654 | Q11: =AVERAGE(รายเดือน!AU11:AW11) -> 390.44192 | R11: =AVERAGE(รายเดือน!AX11:AZ11) -> 3.5526807 | S11: =AVERAGE(รายเดือน!BA11:BC11) -> 0 | T11: =AVERAGE(รายเดือน!BD11:BF11) -> 0.1342141 | U11: =AVERAGE(รายเดือน!BG11:BI11) -> 395.27195 | V11: =AVERAGE(รายเดือน!BJ11:BL11) -> 2.9343679 | W11: =AVERAGE(รายเดือน!BM11:BO11) -> 0 | X11: =AVERAGE(รายเดือน!BP11:BR11) -> 0.1498514 | Y11: =AVERAGE(รายเดือน!BS11:BU11) -> 449.2339 | Z11: =AVERAGE(รายเดือน!BV11:BX11) -> 3.9930274 | AA11: =AVERAGE(รายเดือน!BY11:CA11) -> 0 | AB11: =AVERAGE(รายเดือน!CB11:CD11) -> 0.2875952 | AC11: =AVERAGE(รายเดือน!CE11:CG11) -> 432.25899 | AD11: =AVERAGE(รายเดือน!CH11:CJ11) -> 1.9565831 | AE11: =AVERAGE(รายเดือน!CK11:CM11) -> 0 | AF11: =AVERAGE(รายเดือน!CN11:CP11) -> 0.36428922 | AG11: =AVERAGE(รายเดือน!CQ11:CS11) -> 430.94739 | AH11: =AVERAGE(รายเดือน!CT11:CV11) -> 2.5080096 | AI11: =AVERAGE(รายเดือน!CW11:CY11) -> 0 | AJ11: =AVERAGE(รายเดือน!CZ11:DB11) -> 0.27689012 | AK11: =AVERAGE(รายเดือน!DC11:DE11) -> 423.05705 | AL11: =AVERAGE(รายเดือน!DF11:DH11) -> 2.3620074 | AM11: =AVERAGE(รายเดือน!DI11:DK11) -> 0 | AN11: =AVERAGE(รายเดือน!DL11:DN11) -> 0.31513589 | AO11: =AVERAGE(รายเดือน!DO11:DQ11) -> 407.72697 | AP11: =AVERAGE(รายเดือน!DR11:DT11) -> 4.1416119 | AQ11: =AVERAGE(รายเดือน!DU11:DW11) -> 0 | AR11: =AVERAGE(รายเดือน!DX11:DZ11) -> 0.15349514 | AS11: =AVERAGE(รายเดือน!EA11:EC11) -> 357.48654 | AT11: =AVERAGE(รายเดือน!ED11:EF11) -> 3.1025749 | AU11: =AVERAGE(รายเดือน!EG11:EI11) -> 0 | AV11: =AVERAGE(รายเดือน!EJ11:EL11) -> 0.16035076 | AW11: =AVERAGE(รายเดือน!EM11:EO11) -> 383.52685 | AX11: =AVERAGE(รายเดือน!EP11:ER11) -> 3.3310903 | AY11: =AVERAGE(รายเดือน!ES11:EU11) -> 0 | AZ11: =AVERAGE(รายเดือน!EV11:EX11) -> 1.6564105 | BA11: =AVERAGE(รายเดือน!EY11:FA11) -> 337.67617 | BB11: =AVERAGE(รายเดือน!FB11:FD11) -> 1.7093382 | BC11: =AVERAGE(รายเดือน!FE11:FG11) -> 0 | BD11: =AVERAGE(รายเดือน!FH11:FJ11) -> 2.0553154 | BE11: =AVERAGE(รายเดือน!FK11:FM11) -> 335.95155 | BF11: =AVERAGE(รายเดือน!FN11:FP11) -> 1.0697149 | BG11: =AVERAGE(รายเดือน!FQ11:FS11) -> 0 | BH11: =AVERAGE(รายเดือน!FT11:FV11) -> 3.9853733 | BI11: =AVERAGE(รายเดือน!FW11:FY11) -> 317.08693 | BJ11: =AVERAGE(รายเดือน!FZ11:GB11) -> 1.5034704 | BK11: =AVERAGE(รายเดือน!GC11:GE11) -> 0 | BL11: =AVERAGE(รายเดือน!GF11:GH11) -> 1.4202025 | BM11: =AVERAGE(รายเดือน!GI11:GK11) -> 396.81207 | BN11: =AVERAGE(รายเดือน!GL11:GN11) -> 1.1043851 | BO11: =AVERAGE(รายเดือน!GO11:GQ11) -> 0 | BP11: =AVERAGE(รายเดือน!GR11:GT11) -> 2.3496973 | BQ11: =AVERAGE(รายเดือน!GU11:GW11) -> 381.76137 | BR11: =AVERAGE(รายเดือน!GX11:GZ11) -> 1.0789249 | BS11: =AVERAGE(รายเดือน!HA11:HC11) -> 0 | BT11: =AVERAGE(รายเดือน!HD11:HF11) -> 2.8054794 | BU11: =AVERAGE(รายเดือน!HG11:HI11) -> 368.48233 | BV11: =AVERAGE(รายเดือน!HJ11:HL11) -> 0.88021964 | BW11: =AVERAGE(รายเดือน!HM11:HO11) -> 0 | BX11: =AVERAGE(รายเดือน!HP11:HR11) -> 2.3800125 | BY11: =AVERAGE(รายเดือน!HS11:HU11) -> 376.004 | BZ11: =AVERAGE(รายเดือน!HV11:HX11) -> 0.93585301 | CA11: =AVERAGE(รายเดือน!HY11:IA11) -> 0 | CB11: =AVERAGE(รายเดือน!IB11:ID11) -> 2.5536669 | CC11: =AVERAGE(รายเดือน!IE11:IG11) -> 371.79726 | CD11: =AVERAGE(รายเดือน!IH11:IJ11) -> 1.1891574 | CE11: =AVERAGE(รายเดือน!IK11:IM11) -> 0 | CF11: =AVERAGE(รายเดือน!IN11:IP11) -> 2.6471949 | CG11: =AVERAGE(รายเดือน!IQ11:IS11) -> 364.4961 | CH11: =AVERAGE(รายเดือน!IT11:IV11) -> 0.65937779 | CI11: =AVERAGE(รายเดือน!IW11:IY11) -> 0
A12: อ้อย | B12: =AVERAGE(รายเดือน!B12:D12) -> 331.46293 | C12: =AVERAGE(รายเดือน!E12:G12) -> 13.981348 | D12: =AVERAGE(รายเดือน!H12:J12) -> 0 | E12: =AVERAGE(รายเดือน!K12:M12) -> 54.55572 | F12: =AVERAGE(รายเดือน!N12:P12) -> 392.843 | G12: =AVERAGE(รายเดือน!Q12:S12) -> 14.296681 | H12: =AVERAGE(รายเดือน!T12:V12) -> 0 | I12: =AVERAGE(รายเดือน!W12:Y12) -> 114.0341 | J12: =AVERAGE(รายเดือน!Z12:AB12) -> 472.44456 | K12: =AVERAGE(รายเดือน!AC12:AE12) -> 28.923926 | L12: =AVERAGE(รายเดือน!AF12:AH12) -> 0 | M12: =AVERAGE(รายเดือน!AI12:AK12) -> 127.32883 | N12: =AVERAGE(รายเดือน!AL12:AN12) -> 535.03999 | O12: =AVERAGE(รายเดือน!AO12:AQ12) -> 40.457116 | P12: =AVERAGE(รายเดือน!AR12:AT12) -> 0 | Q12: =AVERAGE(รายเดือน!AU12:AW12) -> 120.78703 | R12: =AVERAGE(รายเดือน!AX12:AZ12) -> 492.54269 | S12: =AVERAGE(รายเดือน!BA12:BC12) -> 25.755123 | T12: =AVERAGE(รายเดือน!BD12:BF12) -> 0 | U12: =AVERAGE(รายเดือน!BG12:BI12) -> 166.55085 | V12: =AVERAGE(รายเดือน!BJ12:BL12) -> 477.19349 | W12: =AVERAGE(รายเดือน!BM12:BO12) -> 13.472959 | X12: =AVERAGE(รายเดือน!BP12:BR12) -> 0 | Y12: =AVERAGE(รายเดือน!BS12:BU12) -> 133.97617 | Z12: =AVERAGE(รายเดือน!BV12:BX12) -> 602.51479 | AA12: =AVERAGE(รายเดือน!BY12:CA12) -> 175.02241 | AB12: =AVERAGE(รายเดือน!CB12:CD12) -> 0 | AC12: =AVERAGE(รายเดือน!CE12:CG12) -> 208.70649 | AD12: =AVERAGE(รายเดือน!CH12:CJ12) -> 652.95583 | AE12: =AVERAGE(รายเดือน!CK12:CM12) -> 73.402601 | AF12: =AVERAGE(รายเดือน!CN12:CP12) -> 0 | AG12: =AVERAGE(รายเดือน!CQ12:CS12) -> 204.4229 | AH12: =AVERAGE(รายเดือน!CT12:CV12) -> 695.91383 | AI12: =AVERAGE(รายเดือน!CW12:CY12) -> 51.796021 | AJ12: =AVERAGE(รายเดือน!CZ12:DB12) -> 0 | AK12: =AVERAGE(รายเดือน!DC12:DE12) -> 210.51053 | AL12: =AVERAGE(รายเดือน!DF12:DH12) -> 726.87756 | AM12: =AVERAGE(รายเดือน!DI12:DK12) -> 48.609687 | AN12: =AVERAGE(รายเดือน!DL12:DN12) -> 0 | AO12: =AVERAGE(รายเดือน!DO12:DQ12) -> 206.17477 | AP12: =AVERAGE(รายเดือน!DR12:DT12) -> 751.39023 | AQ12: =AVERAGE(รายเดือน!DU12:DW12) -> 53.591285 | AR12: =AVERAGE(รายเดือน!DX12:DZ12) -> 0 | AS12: =AVERAGE(รายเดือน!EA12:EC12) -> 191.20668 | AT12: =AVERAGE(รายเดือน!ED12:EF12) -> 702.25488 | AU12: =AVERAGE(รายเดือน!EG12:EI12) -> 1.7008147 | AV12: =AVERAGE(รายเดือน!EJ12:EL12) -> 0 | AW12: =AVERAGE(รายเดือน!EM12:EO12) -> 125.58337 | AX12: =AVERAGE(รายเดือน!EP12:ER12) -> 730.66689 | AY12: =AVERAGE(รายเดือน!ES12:EU12) -> 28.762926 | AZ12: =AVERAGE(รายเดือน!EV12:EX12) -> 0 | BA12: =AVERAGE(รายเดือน!EY12:FA12) -> 192.41304 | BB12: =AVERAGE(รายเดือน!FB12:FD12) -> 903.50104 | BC12: =AVERAGE(รายเดือน!FE12:FG12) -> 178.33581 | BD12: =AVERAGE(รายเดือน!FH12:FJ12) -> 0 | BE12: =AVERAGE(รายเดือน!FK12:FM12) -> 273.93523 | BF12: =AVERAGE(รายเดือน!FN12:FP12) -> 899.36676 | BG12: =AVERAGE(รายเดือน!FQ12:FS12) -> 61.970996 | BH12: =AVERAGE(รายเดือน!FT12:FV12) -> 0 | BI12: =AVERAGE(รายเดือน!FW12:FY12) -> 213.54568 | BJ12: =AVERAGE(รายเดือน!FZ12:GB12) -> 483.49902 | BK12: =AVERAGE(รายเดือน!GC12:GE12) -> 9.0633243 | BL12: =AVERAGE(รายเดือน!GF12:GH12) -> 0 | BM12: =AVERAGE(รายเดือน!GI12:GK12) -> 95.882628 | BN12: =AVERAGE(รายเดือน!GL12:GN12) -> 525.43548 | BO12: =AVERAGE(รายเดือน!GO12:GQ12) -> 3.6610359 | BP12: =AVERAGE(รายเดือน!GR12:GT12) -> 0 | BQ12: =AVERAGE(รายเดือน!GU12:GW12) -> 164.39418 | BR12: =AVERAGE(รายเดือน!GX12:GZ12) -> 693.48914 | BS12: =AVERAGE(รายเดือน!HA12:HC12) -> 5.5844646 | BT12: =AVERAGE(รายเดือน!HD12:HF12) -> 0 | BU12: =AVERAGE(รายเดือน!HG12:HI12) -> 164.48915 | BV12: =AVERAGE(รายเดือน!HJ12:HL12) -> 707.60121 | BW12: =AVERAGE(รายเดือน!HM12:HO12) -> 5.6219348 | BX12: =AVERAGE(รายเดือน!HP12:HR12) -> 0 | BY12: =AVERAGE(รายเดือน!HS12:HU12) -> 141.84638 | BZ12: =AVERAGE(รายเดือน!HV12:HX12) -> 623.06392 | CA12: =AVERAGE(รายเดือน!HY12:IA12) -> 4.9665586 | CB12: =AVERAGE(รายเดือน!IB12:ID12) -> 0 | CC12: =AVERAGE(รายเดือน!IE12:IG12) -> 163.41566 | CD12: =AVERAGE(รายเดือน!IH12:IJ12) -> 692.82919 | CE12: =AVERAGE(รายเดือน!IK12:IM12) -> 5.0871117 | CF12: =AVERAGE(รายเดือน!IN12:IP12) -> 0 | CG12: =AVERAGE(รายเดือน!IQ12:IS12) -> 133.20716 | CH12: =AVERAGE(รายเดือน!IT12:IV12) -> 820.92107 | CI12: =AVERAGE(รายเดือน!IW12:IY12) -> 33.837709
A13: มันสำปะหลัง | B13: =AVERAGE(รายเดือน!B13:D13) -> 162.34932 | C13: =AVERAGE(รายเดือน!E13:G13) -> 27.998781 | D13: =AVERAGE(รายเดือน!H13:J13) -> 31.794094 | E13: =AVERAGE(รายเดือน!K13:M13) -> 177.85781 | F13: =AVERAGE(รายเดือน!N13:P13) -> 249.03649 | G13: =AVERAGE(รายเดือน!Q13:S13) -> 46.722545 | H13: =AVERAGE(รายเดือน!T13:V13) -> 41.620409 | I13: =AVERAGE(รายเดือน!W13:Y13) -> 223.9741 | J13: =AVERAGE(รายเดือน!Z13:AB13) -> 279.44516 | K13: =AVERAGE(รายเดือน!AC13:AE13) -> 64.007279 | L13: =AVERAGE(รายเดือน!AF13:AH13) -> 46.620681 | M13: =AVERAGE(รายเดือน!AI13:AK13) -> 247.35294 | N13: =AVERAGE(รายเดือน!AL13:AN13) -> 172.00745 | O13: =AVERAGE(รายเดือน!AO13:AQ13) -> 39.826304 | P13: =AVERAGE(รายเดือน!AR13:AT13) -> 114.71399 | Q13: =AVERAGE(รายเดือน!AU13:AW13) -> 216.64265 | R13: =AVERAGE(รายเดือน!AX13:AZ13) -> 330.82319 | S13: =AVERAGE(รายเดือน!BA13:BC13) -> 86.659802 | T13: =AVERAGE(รายเดือน!BD13:BF13) -> 52.298141 | U13: =AVERAGE(รายเดือน!BG13:BI13) -> 168.15754 | V13: =AVERAGE(รายเดือน!BJ13:BL13) -> 241.99768 | W13: =AVERAGE(รายเดือน!BM13:BO13) -> 66.740971 | X13: =AVERAGE(รายเดือน!BP13:BR13) -> 25.106076 | Y13: =AVERAGE(รายเดือน!BS13:BU13) -> 109.82838 | Z13: =AVERAGE(รายเดือน!BV13:BX13) -> 288.74721 | AA13: =AVERAGE(รายเดือน!BY13:CA13) -> 56.660214 | AB13: =AVERAGE(รายเดือน!CB13:CD13) -> 44.670849 | AC13: =AVERAGE(รายเดือน!CE13:CG13) -> 100.17994 | AD13: =AVERAGE(รายเดือน!CH13:CJ13) -> 451.77627 | AE13: =AVERAGE(รายเดือน!CK13:CM13) -> 70.132068 | AF13: =AVERAGE(รายเดือน!CN13:CP13) -> 58.870831 | AG13: =AVERAGE(รายเดือน!CQ13:CS13) -> 109.29511 | AH13: =AVERAGE(รายเดือน!CT13:CV13) -> 476.35922 | AI13: =AVERAGE(รายเดือน!CW13:CY13) -> 58.865378 | AJ13: =AVERAGE(รายเดือน!CZ13:DB13) -> 45.087019 | AK13: =AVERAGE(รายเดือน!DC13:DE13) -> 176.50424 | AL13: =AVERAGE(รายเดือน!DF13:DH13) -> 381.26164 | AM13: =AVERAGE(รายเดือน!DI13:DK13) -> 74.689866 | AN13: =AVERAGE(รายเดือน!DL13:DN13) -> 52.462967 | AO13: =AVERAGE(รายเดือน!DO13:DQ13) -> 153.64693 | AP13: =AVERAGE(รายเดือน!DR13:DT13) -> 480.98549 | AQ13: =AVERAGE(รายเดือน!DU13:DW13) -> 61.692243 | AR13: =AVERAGE(รายเดือน!DX13:DZ13) -> 41.880122 | AS13: =AVERAGE(รายเดือน!EA13:EC13) -> 125.19504 | AT13: =AVERAGE(รายเดือน!ED13:EF13) -> 423.74528 | AU13: =AVERAGE(รายเดือน!EG13:EI13) -> 99.978064 | AV13: =AVERAGE(รายเดือน!EJ13:EL13) -> 61.986473 | AW13: =AVERAGE(รายเดือน!EM13:EO13) -> 127.23236 | AX13: =AVERAGE(รายเดือน!EP13:ER13) -> 436.99743 | AY13: =AVERAGE(รายเดือน!ES13:EU13) -> 93.677859 | AZ13: =AVERAGE(รายเดือน!EV13:EX13) -> 37.805157 | BA13: =AVERAGE(รายเดือน!EY13:FA13) -> 115.66476 | BB13: =AVERAGE(รายเดือน!FB13:FD13) -> 456.88584 | BC13: =AVERAGE(รายเดือน!FE13:FG13) -> 57.429771 | BD13: =AVERAGE(รายเดือน!FH13:FJ13) -> 40.021112 | BE13: =AVERAGE(รายเดือน!FK13:FM13) -> 128.84653 | BF13: =AVERAGE(รายเดือน!FN13:FP13) -> 458.72147 | BG13: =AVERAGE(รายเดือน!FQ13:FS13) -> 80.560988 | BH13: =AVERAGE(รายเดือน!FT13:FV13) -> 40.924814 | BI13: =AVERAGE(รายเดือน!FW13:FY13) -> 120.28771 | BJ13: =AVERAGE(รายเดือน!FZ13:GB13) -> 407.89384 | BK13: =AVERAGE(รายเดือน!GC13:GE13) -> 95.042629 | BL13: =AVERAGE(รายเดือน!GF13:GH13) -> 38.357549 | BM13: =AVERAGE(รายเดือน!GI13:GK13) -> 156.45376 | BN13: =AVERAGE(รายเดือน!GL13:GN13) -> 474.88157 | BO13: =AVERAGE(รายเดือน!GO13:GQ13) -> 117.33567 | BP13: =AVERAGE(รายเดือน!GR13:GT13) -> 51.969457 | BQ13: =AVERAGE(รายเดือน!GU13:GW13) -> 159.21145 | BR13: =AVERAGE(รายเดือน!GX13:GZ13) -> 457.57432 | BS13: =AVERAGE(รายเดือน!HA13:HC13) -> 109.9422 | BT13: =AVERAGE(รายเดือน!HD13:HF13) -> 50.494519 | BU13: =AVERAGE(รายเดือน!HG13:HI13) -> 165.1322 | BV13: =AVERAGE(รายเดือน!HJ13:HL13) -> 393.70938 | BW13: =AVERAGE(รายเดือน!HM13:HO13) -> 94.599721 | BX13: =AVERAGE(รายเดือน!HP13:HR13) -> 45.041027 | BY13: =AVERAGE(รายเดือน!HS13:HU13) -> 142.27716 | BZ13: =AVERAGE(รายเดือน!HV13:HX13) -> 373.85361 | CA13: =AVERAGE(รายเดือน!HY13:IA13) -> 92.094714 | CB13: =AVERAGE(รายเดือน!IB13:ID13) -> 44.805382 | CC13: =AVERAGE(รายเดือน!IE13:IG13) -> 121.2424 | CD13: =AVERAGE(รายเดือน!IH13:IJ13) -> 340.82079 | CE13: =AVERAGE(รายเดือน!IK13:IM13) -> 101.93447 | CF13: =AVERAGE(รายเดือน!IN13:IP13) -> 50.629029 | CG13: =AVERAGE(รายเดือน!IQ13:IS13) -> 114.49242 | CH13: =AVERAGE(รายเดือน!IT13:IV13) -> 309.48813 | CI13: =AVERAGE(รายเดือน!IW13:IY13) -> 84.200208
A14: ข้าวโพดเลี้ยงสัตว์ | B14: =AVERAGE(รายเดือน!B14:D14) -> 38.197199 | C14: =AVERAGE(รายเดือน!E14:G14) -> 1.9492656 | D14: =AVERAGE(รายเดือน!H14:J14) -> 144.77049 | E14: =AVERAGE(รายเดือน!K14:M14) -> 215.08305 | F14: =AVERAGE(รายเดือน!N14:P14) -> 28.899283 | G14: =AVERAGE(รายเดือน!Q14:S14) -> 2.3072121 | H14: =AVERAGE(รายเดือน!T14:V14) -> 260.93401 | I14: =AVERAGE(รายเดือน!W14:Y14) -> 101.06472 | J14: =AVERAGE(รายเดือน!Z14:AB14) -> 10.405955 | K14: =AVERAGE(รายเดือน!AC14:AE14) -> 1.9089524 | L14: =AVERAGE(รายเดือน!AF14:AH14) -> 155.91546 | M14: =AVERAGE(รายเดือน!AI14:AK14) -> 185.94943 | N14: =AVERAGE(รายเดือน!AL14:AN14) -> 27.076116 | O14: =AVERAGE(รายเดือน!AO14:AQ14) -> 2.6869392 | P14: =AVERAGE(รายเดือน!AR14:AT14) -> 168.29609 | Q14: =AVERAGE(รายเดือน!AU14:AW14) -> 193.68765 | R14: =AVERAGE(รายเดือน!AX14:AZ14) -> 40.815931 | S14: =AVERAGE(รายเดือน!BA14:BC14) -> 3.1361157 | T14: =AVERAGE(รายเดือน!BD14:BF14) -> 189.05622 | U14: =AVERAGE(รายเดือน!BG14:BI14) -> 225.3308 | V14: =AVERAGE(รายเดือน!BJ14:BL14) -> 23.015955 | W14: =AVERAGE(รายเดือน!BM14:BO14) -> 14.512547 | X14: =AVERAGE(รายเดือน!BP14:BR14) -> 199.57174 | Y14: =AVERAGE(รายเดือน!BS14:BU14) -> 216.84144 | Z14: =AVERAGE(รายเดือน!BV14:BX14) -> 33.342138 | AA14: =AVERAGE(รายเดือน!BY14:CA14) -> 13.85464 | AB14: =AVERAGE(รายเดือน!CB14:CD14) -> 201.23643 | AC14: =AVERAGE(รายเดือน!CE14:CG14) -> 213.6205 | AD14: =AVERAGE(รายเดือน!CH14:CJ14) -> 40.691457 | AE14: =AVERAGE(รายเดือน!CK14:CM14) -> 11.175821 | AF14: =AVERAGE(รายเดือน!CN14:CP14) -> 185.63982 | AG14: =AVERAGE(รายเดือน!CQ14:CS14) -> 241.42426 | AH14: =AVERAGE(รายเดือน!CT14:CV14) -> 29.304803 | AI14: =AVERAGE(รายเดือน!CW14:CY14) -> 18.225753 | AJ14: =AVERAGE(รายเดือน!CZ14:DB14) -> 141.49987 | AK14: =AVERAGE(รายเดือน!DC14:DE14) -> 281.02917 | AL14: =AVERAGE(รายเดือน!DF14:DH14) -> 24.734131 | AM14: =AVERAGE(รายเดือน!DI14:DK14) -> 16.507667 | AN14: =AVERAGE(รายเดือน!DL14:DN14) -> 119.56139 | AO14: =AVERAGE(รายเดือน!DO14:DQ14) -> 279.88473 | AP14: =AVERAGE(รายเดือน!DR14:DT14) -> 30.907968 | AQ14: =AVERAGE(รายเดือน!DU14:DW14) -> 19.658303 | AR14: =AVERAGE(รายเดือน!DX14:DZ14) -> 48.861846 | AS14: =AVERAGE(รายเดือน!EA14:EC14) -> 298.00206 | AT14: =AVERAGE(รายเดือน!ED14:EF14) -> 21.725547 | AU14: =AVERAGE(รายเดือน!EG14:EI14) -> 16.315081 | AV14: =AVERAGE(รายเดือน!EJ14:EL14) -> 76.17793 | AW14: =AVERAGE(รายเดือน!EM14:EO14) -> 312.09199 | AX14: =AVERAGE(รายเดือน!EP14:ER14) -> 14.848045 | AY14: =AVERAGE(รายเดือน!ES14:EU14) -> 16.660704 | AZ14: =AVERAGE(รายเดือน!EV14:EX14) -> 143.44608 | BA14: =AVERAGE(รายเดือน!EY14:FA14) -> 254.90328 | BB14: =AVERAGE(รายเดือน!FB14:FD14) -> 29.770793 | BC14: =AVERAGE(รายเดือน!FE14:FG14) -> 33.648785 | BD14: =AVERAGE(รายเดือน!FH14:FJ14) -> 124.91062 | BE14: =AVERAGE(รายเดือน!FK14:FM14) -> 268.62962 | BF14: =AVERAGE(รายเดือน!FN14:FP14) -> 45.617305 | BG14: =AVERAGE(รายเดือน!FQ14:FS14) -> 43.905551 | BH14: =AVERAGE(รายเดือน!FT14:FV14) -> 80.958401 | BI14: =AVERAGE(รายเดือน!FW14:FY14) -> 281.98582 | BJ14: =AVERAGE(รายเดือน!FZ14:GB14) -> 39.748328 | BK14: =AVERAGE(รายเดือน!GC14:GE14) -> 30.176313 | BL14: =AVERAGE(รายเดือน!GF14:GH14) -> 67.813331 | BM14: =AVERAGE(รายเดือน!GI14:GK14) -> 343.46452 | BN14: =AVERAGE(รายเดือน!GL14:GN14) -> 36.261499 | BO14: =AVERAGE(รายเดือน!GO14:GQ14) -> 29.147276 | BP14: =AVERAGE(รายเดือน!GR14:GT14) -> 76.636946 | BQ14: =AVERAGE(รายเดือน!GU14:GW14) -> 327.1139 | BR14: =AVERAGE(รายเดือน!GX14:GZ14) -> 36.679151 | BS14: =AVERAGE(รายเดือน!HA14:HC14) -> 22.733471 | BT14: =AVERAGE(รายเดือน!HD14:HF14) -> 76.03349 | BU14: =AVERAGE(รายเดือน!HG14:HI14) -> 311.32881 | BV14: =AVERAGE(รายเดือน!HJ14:HL14) -> 35.587447 | BW14: =AVERAGE(รายเดือน!HM14:HO14) -> 27.218454 | BX14: =AVERAGE(รายเดือน!HP14:HR14) -> 82.805051 | BY14: =AVERAGE(รายเดือน!HS14:HU14) -> 305.67331 | BZ14: =AVERAGE(รายเดือน!HV14:HX14) -> 23.419559 | CA14: =AVERAGE(รายเดือน!HY14:IA14) -> 30.464523 | CB14: =AVERAGE(รายเดือน!IB14:ID14) -> 102.70877 | CC14: =AVERAGE(รายเดือน!IE14:IG14) -> 283.49955 | CD14: =AVERAGE(รายเดือน!IH14:IJ14) -> 27.753415 | CE14: =AVERAGE(รายเดือน!IK14:IM14) -> 31.080875 | CF14: =AVERAGE(รายเดือน!IN14:IP14) -> 111.80665 | CG14: =AVERAGE(รายเดือน!IQ14:IS14) -> 308.63471 | CH14: =AVERAGE(รายเดือน!IT14:IV14) -> 29.628837 | CI14: =AVERAGE(รายเดือน!IW14:IY14) -> 32.698942
A15: ถั่วเขียวผิวมัน | B15: =AVERAGE(รายเดือน!B15:D15) -> 221.17467 | C15: =AVERAGE(รายเดือน!E15:G15) -> 78.551529 | D15: =AVERAGE(รายเดือน!H15:J15) -> 28.722228 | E15: =AVERAGE(รายเดือน!K15:M15) -> 71.551571 | F15: =AVERAGE(รายเดือน!N15:P15) -> 209.46336 | G15: =AVERAGE(รายเดือน!Q15:S15) -> 74.392185 | H15: =AVERAGE(รายเดือน!T15:V15) -> 27.201371 | I15: =AVERAGE(รายเดือน!W15:Y15) -> 67.762878 | J15: =AVERAGE(รายเดือน!Z15:AB15) -> 218.37965 | K15: =AVERAGE(รายเดือน!AC15:AE15) -> 77.55886 | L15: =AVERAGE(รายเดือน!AF15:AH15) -> 28.35926 | M15: =AVERAGE(รายเดือน!AI15:AK15) -> 70.647361 | N15: =AVERAGE(รายเดือน!AL15:AN15) -> 203.45284 | O15: =AVERAGE(รายเดือน!AO15:AQ15) -> 72.257513 | P15: =AVERAGE(รายเดือน!AR15:AT15) -> 26.420832 | Q15: =AVERAGE(รายเดือน!AU15:AW15) -> 65.818433 | R15: =AVERAGE(รายเดือน!AX15:AZ15) -> 182.9679 | S15: =AVERAGE(รายเดือน!BA15:BC15) -> 64.982162 | T15: =AVERAGE(รายเดือน!BD15:BF15) -> 23.760613 | U15: =AVERAGE(รายเดือน!BG15:BI15) -> 59.19141 | V15: =AVERAGE(รายเดือน!BJ15:BL15) -> 193.27701 | W15: =AVERAGE(รายเดือน!BM15:BO15) -> 68.643504 | X15: =AVERAGE(รายเดือน!BP15:BR15) -> 25.099376 | Y15: =AVERAGE(รายเดือน!BS15:BU15) -> 62.526479 | Z15: =AVERAGE(รายเดือน!BV15:BX15) -> 185.64842 | AA15: =AVERAGE(รายเดือน!BY15:CA15) -> 65.934164 | AB15: =AVERAGE(รายเดือน!CB15:CD15) -> 24.108711 | AC15: =AVERAGE(รายเดือน!CE15:CG15) -> 60.058576 | AD15: =AVERAGE(รายเดือน!CH15:CJ15) -> 193.43656 | AE15: =AVERAGE(รายเดือน!CK15:CM15) -> 68.700171 | AF15: =AVERAGE(รายเดือน!CN15:CP15) -> 25.120096 | AG15: =AVERAGE(รายเดือน!CQ15:CS15) -> 62.578096 | AH15: =AVERAGE(รายเดือน!CT15:CV15) -> 189.2506 | AI15: =AVERAGE(รายเดือน!CW15:CY15) -> 67.2135 | AJ15: =AVERAGE(รายเดือน!CZ15:DB15) -> 24.576498 | AK15: =AVERAGE(รายเดือน!DC15:DE15) -> 61.223908 | AL15: =AVERAGE(รายเดือน!DF15:DH15) -> 186.88731 | AM15: =AVERAGE(รายเดือน!DI15:DK15) -> 66.374165 | AN15: =AVERAGE(รายเดือน!DL15:DN15) -> 24.269596 | AO15: =AVERAGE(รายเดือน!DO15:DQ15) -> 60.459368 | AP15: =AVERAGE(รายเดือน!DR15:DT15) -> 185.0102 | AQ15: =AVERAGE(รายเดือน!DU15:DW15) -> 65.707497 | AR15: =AVERAGE(รายเดือน!DX15:DZ15) -> 24.02583 | AS15: =AVERAGE(รายเดือน!EA15:EC15) -> 59.852108 | AT15: =AVERAGE(รายเดือน!ED15:EF15) -> 189.45333 | AU15: =AVERAGE(รายเดือน!EG15:EI15) -> 67.285501 | AV15: =AVERAGE(รายเดือน!EJ15:EL15) -> 24.602824 | AW15: =AVERAGE(รายเดือน!EM15:EO15) -> 61.289492 | AX15: =AVERAGE(รายเดือน!EP15:ER15) -> 199.54281 | AY15: =AVERAGE(รายเดือน!ES15:EU15) -> 70.868843 | AZ15: =AVERAGE(รายเดือน!EV15:EX15) -> 25.913067 | BA15: =AVERAGE(รายเดือน!EY15:FA15) -> 64.553512 | BB15: =AVERAGE(รายเดือน!FB15:FD15) -> 250.2856 | BC15: =AVERAGE(รายเดือน!FE15:FG15) -> 106.71031 | BD15: =AVERAGE(รายเดือน!FH15:FJ15) -> 13.475159 | BE15: =AVERAGE(รายเดือน!FK15:FM15) -> 101.14324 | BF15: =AVERAGE(รายเดือน!FN15:FP15) -> 150.54659 | BG15: =AVERAGE(รายเดือน!FQ15:FS15) -> 32.480781 | BH15: =AVERAGE(รายเดือน!FT15:FV15) -> 29.492076 | BI15: =AVERAGE(รายเดือน!FW15:FY15) -> 66.873213 | BJ15: =AVERAGE(รายเดือน!FZ15:GB15) -> 248.73626 | BK15: =AVERAGE(รายเดือน!GC15:GE15) -> 57.982067 | BL15: =AVERAGE(รายเดือน!GF15:GH15) -> 53.842428 | BM15: =AVERAGE(รายเดือน!GI15:GK15) -> 65.273021 | BN15: =AVERAGE(รายเดือน!GL15:GN15) -> 224.21178 | BO15: =AVERAGE(รายเดือน!GO15:GQ15) -> 92.145061 | BP15: =AVERAGE(รายเดือน!GR15:GT15) -> 21.893568 | BQ15: =AVERAGE(รายเดือน!GU15:GW15) -> 48.428887 | BR15: =AVERAGE(รายเดือน!GX15:GZ15) -> 213.01693 | BS15: =AVERAGE(รายเดือน!HA15:HC15) -> 106.56618 | BT15: =AVERAGE(รายเดือน!HD15:HF15) -> 18.046711 | BU15: =AVERAGE(รายเดือน!HG15:HI15) -> 63.484208 | BV15: =AVERAGE(รายเดือน!HJ15:HL15) -> 121.14995 | BW15: =AVERAGE(รายเดือน!HM15:HO15) -> 59.285817 | BX15: =AVERAGE(รายเดือน!HP15:HR15) -> 18.316851 | BY15: =AVERAGE(รายเดือน!HS15:HU15) -> 40.392848 | BZ15: =AVERAGE(รายเดือน!HV15:HX15) -> 76.615461 | CA15: =AVERAGE(รายเดือน!HY15:IA15) -> 39.259705 | CB15: =AVERAGE(รายเดือน!IB15:ID15) -> 10.368417 | CC15: =AVERAGE(รายเดือน!IE15:IG15) -> 41.811604 | CD15: =AVERAGE(รายเดือน!IH15:IJ15) -> 93.044327 | CE15: =AVERAGE(รายเดือน!IK15:IM15) -> 33.169276 | CF15: =AVERAGE(รายเดือน!IN15:IP15) -> 1.7881845 | CG15: =AVERAGE(รายเดือน!IQ15:IS15) -> 61.16813 | CH15: =AVERAGE(รายเดือน!IT15:IV15) -> 138.58342 | CI15: =AVERAGE(รายเดือน!IW15:IY15) -> 59.777646
A16: 1.2 กลุ่มไม้ยืนต้น | B16: =AVERAGE(รายเดือน!B16:D16) -> 164.34519 | C16: =AVERAGE(รายเดือน!E16:G16) -> 72.875968 | D16: =AVERAGE(รายเดือน!H16:J16) -> 97.751666 | E16: =AVERAGE(รายเดือน!K16:M16) -> 65.027174 | F16: =AVERAGE(รายเดือน!N16:P16) -> 107.85776 | G16: =AVERAGE(รายเดือน!Q16:S16) -> 84.694211 | H16: =AVERAGE(รายเดือน!T16:V16) -> 113.60467 | I16: =AVERAGE(รายเดือน!W16:Y16) -> 112.05061 | J16: =AVERAGE(รายเดือน!Z16:AB16) -> 112.70225 | K16: =AVERAGE(รายเดือน!AC16:AE16) -> 91.765852 | L16: =AVERAGE(รายเดือน!AF16:AH16) -> 113.16283 | M16: =AVERAGE(รายเดือน!AI16:AK16) -> 118.11021 | N16: =AVERAGE(รายเดือน!AL16:AN16) -> 110.27739 | O16: =AVERAGE(รายเดือน!AO16:AQ16) -> 72.663526 | P16: =AVERAGE(รายเดือน!AR16:AT16) -> 129.0066 | Q16: =AVERAGE(รายเดือน!AU16:AW16) -> 144.99564 | R16: =AVERAGE(รายเดือน!AX16:AZ16) -> 123.9092 | S16: =AVERAGE(รายเดือน!BA16:BC16) -> 82.652329 | T16: =AVERAGE(รายเดือน!BD16:BF16) -> 141.89621 | U16: =AVERAGE(รายเดือน!BG16:BI16) -> 125.4202 | V16: =AVERAGE(รายเดือน!BJ16:BL16) -> 128.65299 | W16: =AVERAGE(รายเดือน!BM16:BO16) -> 95.092215 | X16: =AVERAGE(รายเดือน!BP16:BR16) -> 161.58179 | Y16: =AVERAGE(รายเดือน!BS16:BU16) -> 124.07865 | Z16: =AVERAGE(รายเดือน!BV16:BX16) -> 117.41728 | AA16: =AVERAGE(รายเดือน!BY16:CA16) -> 99.275649 | AB16: =AVERAGE(รายเดือน!CB16:CD16) -> 160.00423 | AC16: =AVERAGE(รายเดือน!CE16:CG16) -> 179.12993 | AD16: =AVERAGE(รายเดือน!CH16:CJ16) -> 117.34016 | AE16: =AVERAGE(รายเดือน!CK16:CM16) -> 102.66696 | AF16: =AVERAGE(รายเดือน!CN16:CP16) -> 151.18743 | AG16: =AVERAGE(รายเดือน!CQ16:CS16) -> 180.82736 | AH16: =AVERAGE(รายเดือน!CT16:CV16) -> 136.40693 | AI16: =AVERAGE(รายเดือน!CW16:CY16) -> 102.76297 | AJ16: =AVERAGE(รายเดือน!CZ16:DB16) -> 162.71233 | AK16: =AVERAGE(รายเดือน!DC16:DE16) -> 191.58368 | AL16: =AVERAGE(รายเดือน!DF16:DH16) -> 133.41682 | AM16: =AVERAGE(รายเดือน!DI16:DK16) -> 102.72427 | AN16: =AVERAGE(รายเดือน!DL16:DN16) -> 173.33061 | AO16: =AVERAGE(รายเดือน!DO16:DQ16) -> 210.67012 | AP16: =AVERAGE(รายเดือน!DR16:DT16) -> 136.37496 | AQ16: =AVERAGE(รายเดือน!DU16:DW16) -> 100.08517 | AR16: =AVERAGE(รายเดือน!DX16:DZ16) -> 172.94598 | AS16: =AVERAGE(รายเดือน!EA16:EC16) -> 215.18904 | AT16: =AVERAGE(รายเดือน!ED16:EF16) -> 136.29561 | AU16: =AVERAGE(รายเดือน!EG16:EI16) -> 93.113885 | AV16: =AVERAGE(รายเดือน!EJ16:EL16) -> 174.00276 | AW16: =AVERAGE(รายเดือน!EM16:EO16) -> 224.57012 | AX16: =AVERAGE(รายเดือน!EP16:ER16) -> 143.6958 | AY16: =AVERAGE(รายเดือน!ES16:EU16) -> 101.67429 | AZ16: =AVERAGE(รายเดือน!EV16:EX16) -> 180.44361 | BA16: =AVERAGE(รายเดือน!EY16:FA16) -> 232.78588 | BB16: =AVERAGE(รายเดือน!FB16:FD16) -> 153.1255 | BC16: =AVERAGE(รายเดือน!FE16:FG16) -> 120.24734 | BD16: =AVERAGE(รายเดือน!FH16:FJ16) -> 191.01953 | BE16: =AVERAGE(รายเดือน!FK16:FM16) -> 230.56064 | BF16: =AVERAGE(รายเดือน!FN16:FP16) -> 150.09858 | BG16: =AVERAGE(รายเดือน!FQ16:FS16) -> 110.29368 | BH16: =AVERAGE(รายเดือน!FT16:FV16) -> 192.30277 | BI16: =AVERAGE(รายเดือน!FW16:FY16) -> 231.78246 | BJ16: =AVERAGE(รายเดือน!FZ16:GB16) -> 151.16388 | BK16: =AVERAGE(รายเดือน!GC16:GE16) -> 102.77842 | BL16: =AVERAGE(รายเดือน!GF16:GH16) -> 192.89613 | BM16: =AVERAGE(รายเดือน!GI16:GK16) -> 238.89946 | BN16: =AVERAGE(รายเดือน!GL16:GN16) -> 160.39987 | BO16: =AVERAGE(รายเดือน!GO16:GQ16) -> 106.61519 | BP16: =AVERAGE(รายเดือน!GR16:GT16) -> 197.76841 | BQ16: =AVERAGE(รายเดือน!GU16:GW16) -> 225.49157 | BR16: =AVERAGE(รายเดือน!GX16:GZ16) -> 151.47742 | BS16: =AVERAGE(รายเดือน!HA16:HC16) -> 113.97896 | BT16: =AVERAGE(รายเดือน!HD16:HF16) -> 194.42986 | BU16: =AVERAGE(รายเดือน!HG16:HI16) -> 215.27232 | BV16: =AVERAGE(รายเดือน!HJ16:HL16) -> 146.48725 | BW16: =AVERAGE(รายเดือน!HM16:HO16) -> 113.57737 | BX16: =AVERAGE(รายเดือน!HP16:HR16) -> 196.19546 | BY16: =AVERAGE(รายเดือน!HS16:HU16) -> 222.52715 | BZ16: =AVERAGE(รายเดือน!HV16:HX16) -> 150.73098 | CA16: =AVERAGE(รายเดือน!HY16:IA16) -> 118.17101 | CB16: =AVERAGE(รายเดือน!IB16:ID16) -> 192.27365 | CC16: =AVERAGE(รายเดือน!IE16:IG16) -> 217.09532 | CD16: =AVERAGE(รายเดือน!IH16:IJ16) -> 148.72764 | CE16: =AVERAGE(รายเดือน!IK16:IM16) -> 113.24269 | CF16: =AVERAGE(รายเดือน!IN16:IP16) -> 195.46295 | CG16: =AVERAGE(รายเดือน!IQ16:IS16) -> 221.55391 | CH16: =AVERAGE(รายเดือน!IT16:IV16) -> 155.74017 | CI16: =AVERAGE(รายเดือน!IW16:IY16) -> 119.59643
... A30: ลิ้นจี่ | B30: =AVERAGE(รายเดือน!B30:D30) -> 4.1224109 | C30: =AVERAGE(รายเดือน!E30:G30) -> 394.91889 | D30: =AVERAGE(รายเดือน!H30:J30) -> 0.9587002 | E30: =AVERAGE(รายเดือน!K30:M30) -> 0 | F30: =AVERAGE(รายเดือน!N30:P30) -> 3.829755 | G30: =AVERAGE(รายเดือน!Q30:S30) -> 366.99044 | H30: =AVERAGE(รายเดือน!T30:V30) -> 0.89310493 | I30: =AVERAGE(รายเดือน!W30:Y30) -> 0 | J30: =AVERAGE(รายเดือน!Z30:AB30) -> 2.8357343 | K30: =AVERAGE(รายเดือน!AC30:AE30) -> 368.38308 | L30: =AVERAGE(รายเดือน!AF30:AH30) -> 1.4531877 | M30: =AVERAGE(รายเดือน!AI30:AK30) -> 0 | N30: =AVERAGE(รายเดือน!AL30:AN30) -> 0.44402957 | O30: =AVERAGE(รายเดือน!AO30:AQ30) -> 267.33607 | P30: =AVERAGE(รายเดือน!AR30:AT30) -> 0.52980801 | Q30: =AVERAGE(รายเดือน!AU30:AW30) -> 0 | R30: =AVERAGE(รายเดือน!AX30:AZ30) -> 3.1990312 | S30: =AVERAGE(รายเดือน!BA30:BC30) -> 413.003 | T30: =AVERAGE(รายเดือน!BD30:BF30) -> 1.6297903 | U30: =AVERAGE(รายเดือน!BG30:BI30) -> 0 | V30: =AVERAGE(รายเดือน!BJ30:BL30) -> 0 | W30: =AVERAGE(รายเดือน!BM30:BO30) -> 212.73558 | X30: =AVERAGE(รายเดือน!BP30:BR30) -> 7.1650226 | Y30: =AVERAGE(รายเดือน!BS30:BU30) -> 0 | Z30: =AVERAGE(รายเดือน!BV30:BX30) -> 8.9915988 | AA30: =AVERAGE(รายเดือน!BY30:CA30) -> 176.63294 | AB30: =AVERAGE(รายเดือน!CB30:CD30) -> 0.95365441 | AC30: =AVERAGE(รายเดือน!CE30:CG30) -> 0 | AD30: =AVERAGE(รายเดือน!CH30:CJ30) -> 8.335646 | AE30: =AVERAGE(รายเดือน!CK30:CM30) -> 305.54785 | AF30: =AVERAGE(รายเดือน!CN30:CP30) -> 18.265762 | AG30: =AVERAGE(รายเดือน!CQ30:CS30) -> 0 | AH30: =AVERAGE(รายเดือน!CT30:CV30) -> 0.030274743 | AI30: =AVERAGE(รายเดือน!CW30:CY30) -> 249.20655 | AJ30: =AVERAGE(รายเดือน!CZ30:DB30) -> 0.43898378 | AK30: =AVERAGE(รายเดือน!DC30:DE30) -> 0 | AL30: =AVERAGE(รายเดือน!DF30:DH30) -> 0.33302218 | AM30: =AVERAGE(รายเดือน!DI30:DK30) -> 328.18326 | AN30: =AVERAGE(รายเดือน!DL30:DN30) -> 10.192497 | AO30: =AVERAGE(รายเดือน!DO30:DQ30) -> 0 | AP30: =AVERAGE(รายเดือน!DR30:DT30) -> 0.80732649 | AQ30: =AVERAGE(รายเดือน!DU30:DW30) -> 249.53453 | AR30: =AVERAGE(รายเดือน!DX30:DZ30) -> 8.0682191 | AS30: =AVERAGE(รายเดือน!EA30:EC30) -> 0 | AT30: =AVERAGE(รายเดือน!ED30:EF30) -> 0.98897495 | AU30: =AVERAGE(รายเดือน!EG30:EI30) -> 146.97954 | AV30: =AVERAGE(รายเดือน!EJ30:EL30) -> 9.7989252 | AW30: =AVERAGE(รายเดือน!EM30:EO30) -> 0 | AX30: =AVERAGE(รายเดือน!EP30:ER30) -> 0.050457905 | AY30: =AVERAGE(รายเดือน!ES30:EU30) -> 226.72755 | AZ30: =AVERAGE(รายเดือน!EV30:EX30) -> 8.1136312 | BA30: =AVERAGE(รายเดือน!EY30:FA30) -> 0 | BB30: =AVERAGE(รายเดือน!FB30:FD30) -> 0.27247269 | BC30: =AVERAGE(รายเดือน!FE30:FG30) -> 234.79073 | BD30: =AVERAGE(รายเดือน!FH30:FJ30) -> 7.2709842 | BE30: =AVERAGE(รายเดือน!FK30:FM30) -> 0 | BF30: =AVERAGE(รายเดือน!FN30:FP30) -> 0 | BG30: =AVERAGE(รายเดือน!FQ30:FS30) -> 112.52506 | BH30: =AVERAGE(รายเดือน!FT30:FV30) -> 3.6744456 | BI30: =AVERAGE(รายเดือน!FW30:FY30) -> 0 | BJ30: =AVERAGE(รายเดือน!FZ30:GB30) -> 1.4531877 | BK30: =AVERAGE(รายเดือน!GC30:GE30) -> 169.88642 | BL30: =AVERAGE(รายเดือน!GF30:GH30) -> 0.20183162 | BM30: =AVERAGE(รายเดือน!GI30:GK30) -> 0 | BN30: =AVERAGE(รายเดือน!GL30:GN30) -> 2.987108 | BO30: =AVERAGE(รายเดือน!GO30:GQ30) -> 179.57969 | BP30: =AVERAGE(รายเดือน!GR30:GT30) -> 0.25733532 | BQ30: =AVERAGE(รายเดือน!GU30:GW30) -> 0 | BR30: =AVERAGE(รายเดือน!GX30:GZ30) -> 1.1694124 | BS30: =AVERAGE(รายเดือน!HA30:HC30) -> 219.91977 | BT30: =AVERAGE(รายเดือน!HD30:HF30) -> 0 | BU30: =AVERAGE(รายเดือน!HG30:HI30) -> 0 | BV30: =AVERAGE(รายเดือน!HJ30:HL30) -> 0.60044908 | BW30: =AVERAGE(รายเดือน!HM30:HO30) -> 201.72072 | BX30: =AVERAGE(รายเดือน!HP30:HR30) -> 3.7284356 | BY30: =AVERAGE(รายเดือน!HS30:HU30) -> 0 | BZ30: =AVERAGE(รายเดือน!HV30:HX30) -> 0.020183162 | CA30: =AVERAGE(รายเดือน!HY30:IA30) -> 65.060423 | CB30: =AVERAGE(รายเดือน!IB30:ID30) -> 5.323309 | CC30: =AVERAGE(รายเดือน!IE30:IG30) -> 0 | CD30: =AVERAGE(รายเดือน!IH30:IJ30) -> 0.062567803 | CE30: =AVERAGE(รายเดือน!IK30:IM30) -> 159.46515 | CF30: =AVERAGE(รายเดือน!IN30:IP30) -> 21.550571 | CG30: =AVERAGE(รายเดือน!IQ30:IS30) -> 0 | CH30: =AVERAGE(รายเดือน!IT30:IV30) -> 0.09587002 | CI30: =AVERAGE(รายเดือน!IW30:IY30) -> 110.20511
A31: 1.4 กลุ่มพืชผัก | B31: =AVERAGE(รายเดือน!B31:D31) -> 257.6868 | C31: =AVERAGE(รายเดือน!E31:G31) -> 72.053651 | D31: =AVERAGE(รายเดือน!H31:J31) -> 20.443666 | E31: =AVERAGE(รายเดือน!K31:M31) -> 49.815886 | F31: =AVERAGE(รายเดือน!N31:P31) -> 260.58285 | G31: =AVERAGE(รายเดือน!Q31:S31) -> 30.892645 | H31: =AVERAGE(รายเดือน!T31:V31) -> 22.417988 | I31: =AVERAGE(รายเดือน!W31:Y31) -> 45.157223 | J31: =AVERAGE(รายเดือน!Z31:AB31) -> 230.22759 | K31: =AVERAGE(รายเดือน!AC31:AE31) -> 51.77012 | L31: =AVERAGE(รายเดือน!AF31:AH31) -> 15.804294 | M31: =AVERAGE(รายเดือน!AI31:AK31) -> 42.649418 | N31: =AVERAGE(รายเดือน!AL31:AN31) -> 253.38537 | O31: =AVERAGE(รายเดือน!AO31:AQ31) -> 35.861208 | P31: =AVERAGE(รายเดือน!AR31:AT31) -> 20.697042 | Q31: =AVERAGE(รายเดือน!AU31:AW31) -> 40.546302 | R31: =AVERAGE(รายเดือน!AX31:AZ31) -> 249.61285 | S31: =AVERAGE(รายเดือน!BA31:BC31) -> 26.355319 | T31: =AVERAGE(รายเดือน!BD31:BF31) -> 23.911458 | U31: =AVERAGE(รายเดือน!BG31:BI31) -> 40.693534 | V31: =AVERAGE(รายเดือน!BJ31:BL31) -> 237.04044 | W31: =AVERAGE(รายเดือน!BM31:BO31) -> 20.189087 | X31: =AVERAGE(รายเดือน!BP31:BR31) -> 23.76287 | Y31: =AVERAGE(รายเดือน!BS31:BU31) -> 51.815086 | Z31: =AVERAGE(รายเดือน!BT31:BV31) -> 72.232066 | AA31: =AVERAGE(รายเดือน!BY31:CA31) -> 25.54288 | AB31: =AVERAGE(รายเดือน!CB31:CD31) -> 26.287906 | AC31: =AVERAGE(รายเดือน!CE31:CG31) -> 46.096079 | AD31: =AVERAGE(รายเดือน!CH31:CJ31) -> 278.25001 | AE31: =AVERAGE(รายเดือน!CK31:CM31) -> 29.867748 | AF31: =AVERAGE(รายเดือน!CN31:CP31) -> 17.115663 | AG31: =AVERAGE(รายเดือน!CQ31:CS31) -> 30.400414 | AH31: =AVERAGE(รายเดือน!CT31:CV31) -> 211.54914 | AI31: =AVERAGE(รายเดือน!CW31:CY31) -> 18.172395 | AJ31: =AVERAGE(รายเดือน!CZ31:DB31) -> 17.287767 | AK31: =AVERAGE(รายเดือน!DC31:DE31) -> 30.839662 | AL31: =AVERAGE(รายเดือน!DF31:DH31) -> 200.74261 | AM31: =AVERAGE(รายเดือน!DI31:DK31) -> 16.598381 | AN31: =AVERAGE(รายเดือน!DL31:DN31) -> 18.630623 | AO31: =AVERAGE(รายเดือน!DO31:DQ31) -> 30.098206 | AP31: =AVERAGE(รายเดือน!DR31:DT31) -> 205.20139 | AQ31: =AVERAGE(รายเดือน!DU31:DW31) -> 26.423775 | AR31: =AVERAGE(รายเดือน!DX31:DZ31) -> 3.6563221 | AS31: =AVERAGE(รายเดือน!EA31:EC31) -> 22.766637 | AT31: =AVERAGE(รายเดือน!ED31:EF31) -> 197.81526 | AU31: =AVERAGE(รายเดือน!EG31:EI31) -> 14.372706 | AV31: =AVERAGE(รายเดือน!EJ31:EL31) -> 12.856284 | AW31: =AVERAGE(รายเดือน!EM31:EO31) -> 25.88663 | AX31: =AVERAGE(รายเดือน!EP31:ER31) -> 188.86694 | AY31: =AVERAGE(รายเดือน!ES31:EU31) -> 34.192458 | AZ31: =AVERAGE(รายเดือน!EV31:EX31) -> 17.34899 | BA31: =AVERAGE(รายเดือน!EY31:FA31) -> 21.661139 | BB31: =AVERAGE(รายเดือน!FB31:FD31) -> 265.57175 | BC31: =AVERAGE(รายเดือน!FE31:FG31) -> 17.602583 | BD31: =AVERAGE(รายเดือน!FH31:FJ31) -> 5.4184957 | BE31: =AVERAGE(รายเดือน!FK31:FM31) -> 22.968446 | BF31: =AVERAGE(รายเดือน!FN31:FP31) -> 227.78683 | BG31: =AVERAGE(รายเดือน!FQ31:FS31) -> 29.458356 | BH31: =AVERAGE(รายเดือน!FT31:FV31) -> 14.803319 | BI31: =AVERAGE(รายเดือน!FW31:FY31) -> 11.829272 | BJ31: =AVERAGE(รายเดือน!FZ31:GB31) -> 225.35296 | BK31: =AVERAGE(รายเดือน!GC31:GE31) -> 39.614607 | BL31: =AVERAGE(รายเดือน!GF31:GH31) -> 18.610525 | BM31: =AVERAGE(รายเดือน!GI31:GK31) -> 7.3310065 | BN31: =AVERAGE(รายเดือน!GL31:GN31) -> 234.06367 | BO31: =AVERAGE(รายเดือน!GO31:GQ31) -> 42.596084 | BP31: =AVERAGE(รายเดือน!GR31:GT31) -> 12.935546 | BQ31: =AVERAGE(รายเดือน!GU31:GW31) -> 6.9193039 | BR31: =AVERAGE(รายเดือน!GX31:GZ31) -> 197.90266 | BS31: =AVERAGE(รายเดือน!HA31:HC31) -> 45.152254 | BT31: =AVERAGE(รายเดือน!HD31:HF31) -> 16.932555 | BU31: =AVERAGE(รายเดือน!HG31:HI31) -> 6.949187 | BV31: =AVERAGE(รายเดือน!HJ31:HL31) -> 221.41119 | BW31: =AVERAGE(รายเดือน!HM31:HO31) -> 26.161752 | BX31: =AVERAGE(รายเดือน!HP31:HR31) -> 14.386042 | BY31: =AVERAGE(รายเดือน!HS31:HU31) -> 28.919329 | BZ31: =AVERAGE(รายเดือน!HV31:HX31) -> 198.62292 | CA31: =AVERAGE(รายเดือน!HY31:IA31) -> 19.026094 | CB31: =AVERAGE(รายเดือน!IB31:ID31) -> 16.168435 | CC31: =AVERAGE(รายเดือน!IE31:IG31) -> 43.379088 | CD31: =AVERAGE(รายเดือน!IH31:IJ31) -> 206.50671 | CE31: =AVERAGE(รายเดือน!IK31:IM31) -> 11.5914 | CF31: =AVERAGE(รายเดือน!IN31:IP31) -> 19.833288 | CG31: =AVERAGE(รายเดือน!IQ31:IS31) -> 40.037031 | CH31: =AVERAGE(รายเดือน!IT31:IV31) -> 209.14097 | CI31: =AVERAGE(รายเดือน!IW31:IY31) -> 14.032062
A32: หอมแดง | B32: =AVERAGE(รายเดือน!B32:D32) -> 136.67612 | C32: =AVERAGE(รายเดือน!E32:G32) -> 119.44887 | D32: =AVERAGE(รายเดือน!H32:J32) -> 40.306413 | E32: =AVERAGE(รายเดือน!K32:M32) -> 103.56859 | F32: =AVERAGE(รายเดือน!N32:P32) -> 196.48312 | G32: =AVERAGE(รายเดือน!Q32:S32) -> 51.353266 | H32: =AVERAGE(รายเดือน!T32:V32) -> 45.624753 | I32: =AVERAGE(รายเดือน!W32:Y32) -> 77.911943 | J32: =AVERAGE(รายเดือน!Z32:AB32) -> 171.62944 | K32: =AVERAGE(รายเดือน!AC32:AE32) -> 68.071276 | L32: =AVERAGE(รายเดือน!AF32:AH32) -> 30.432723 | M32: =AVERAGE(รายเดือน!AI32:AK32) -> 70.17428 | N32: =AVERAGE(รายเดือน!AL32:AN32) -> 203.91837 | O32: =AVERAGE(รายเดือน!AO32:AQ32) -> 42.096573 | P32: =AVERAGE(รายเดือน!AR32:AT32) -> 40.330745 | Q32: =AVERAGE(รายเดือน!AU32:AW32) -> 74.567993 | R32: =AVERAGE(รายเดือน!AX32:AZ32) -> 219.20772 | S32: =AVERAGE(รายเดือน!BA32:BC32) -> 16.386049 | T32: =AVERAGE(รายเดือน!BD32:BF32) -> 31.560698 | U32: =AVERAGE(รายเดือน!BG32:BI32) -> 75.669898 | V32: =AVERAGE(รายเดือน!BJ32:BL32) -> 174.09047 | W32: =AVERAGE(รายเดือน!BM32:BO32) -> 32.732123 | X32: =AVERAGE(รายเดือน!BP32:BR32) -> 27.587585 | Y32: =AVERAGE(รายเดือน!BS32:BU32) -> 101.50035 | Z32: =AVERAGE(รายเดือน!BV32:BX32) -> 187.26466 | AA32: =AVERAGE(รายเดือน!BY32:CA32) -> 22.957501 | AB32: =AVERAGE(รายเดือน!CB32:CD32) -> 40.236892 | AC32: =AVERAGE(รายเดือน!CE32:CG32) -> 84.957875 | AD32: =AVERAGE(รายเดือน!CH32:CJ32) -> 227.82483 | AE32: =AVERAGE(รายเดือน!CK32:CM32) -> 30.198091 | AF32: =AVERAGE(รายเดือน!CN32:CP32) -> 21.490613 | AG32: =AVERAGE(รายเดือน!CQ32:CS32) -> 56.669868 | AH32: =AVERAGE(รายเดือน!CT32:CV32) -> 127.36903 | AI32: =AVERAGE(รายเดือน!CW32:CY32) -> 18.553359 | AJ32: =AVERAGE(รายเดือน!CZ32:DB32) -> 21.492351 | AK32: =AVERAGE(รายเดือน!DC32:DE32) -> 58.468718 | AL32: =AVERAGE(รายเดือน!DF32:DH32) -> 130.46097 | AM32: =AVERAGE(รายเดือน!DI32:DK32) -> 17.258535 | AN32: =AVERAGE(รายเดือน!DL32:DN32) -> 22.481284 | AO32: =AVERAGE(รายเดือน!DO32:DQ32) -> 54.048934 | AP32: =AVERAGE(รายเดือน!DR32:DT32) -> 131.14922 | AQ32: =AVERAGE(รายเดือน!DU32:DW32) -> 17.812963 | AR32: =AVERAGE(รายเดือน!DX32:DZ32) -> 5.9648833 | AS32: =AVERAGE(รายเดือน!EA32:EC32) -> 32.98935 | AT32: =AVERAGE(รายเดือน!ED32:EF32) -> 101.768 | AU32: =AVERAGE(รายเดือน!EG32:EI32) -> 12.501575 | AV32: =AVERAGE(รายเดือน!EJ32:EL32) -> 18.741065 | AW32: =AVERAGE(รายเดือน!EM32:EO32) -> 48.393418 | AX32: =AVERAGE(รายเดือน!EP32:ER32) -> 139.07459 | AY32: =AVERAGE(รายเดือน!ES32:EU32) -> 17.774727 | AZ32: =AVERAGE(รายเดือน!EV32:EX32) -> 22.748939 | BA32: =AVERAGE(รายเดือน!EY32:FA32) -> 39.101965 | BB32: =AVERAGE(รายเดือน!FB32:FD32) -> 210.48982 | BC32: =AVERAGE(รายเดือน!FE32:FG32) -> 17.321103 | BD32: =AVERAGE(รายเดือน!FH32:FJ32) -> 3.2918091 | BE32: =AVERAGE(รายเดือน!FK32:FM32) -> 45.676893 | BF32: =AVERAGE(รายเดือน!FN32:FP32) -> 148.60068 | BG32: =AVERAGE(รายเดือน!FQ32:FS32) -> 7.6125259 | BH32: =AVERAGE(รายเดือน!FT32:FV32) -> 23.802179 | BI32: =AVERAGE(รายเดือน!FW32:FY32) -> 21.165603 | BJ32: =AVERAGE(รายเดือน!FZ32:GB32) -> 180.79575 | BK32: =AVERAGE(รายเดือน!GC32:GE32) -> 8.2694973 | BL32: =AVERAGE(รายเดือน!GF32:GH32) -> 32.690411 | BM32: =AVERAGE(รายเดือน!GI32:GK32) -> 11.792463 | BN32: =AVERAGE(รายเดือน!GL32:GN32) -> 226.43088 | BO32: =AVERAGE(รายเดือน!GO32:GQ32) -> 6.9416503 | BP32: =AVERAGE(รายเดือน!GR32:GT32) -> 22.783699 | BQ32: =AVERAGE(รายเดือน!GU32:GW32) -> 7.8767049 | BR32: =AVERAGE(รายเดือน!GX32:GZ32) -> 202.45669 | BS32: =AVERAGE(รายเดือน!HA32:HC32) -> 5.8188897 | BT32: =AVERAGE(รายเดือน!HD32:HF32) -> 21.905999 | BU32: =AVERAGE(รายเดือน!HG32:HI32) -> 6.906299 | BV32: =AVERAGE(รายเดือน!HJ32:HL32) -> 228.13285 | BW32: =AVERAGE(รายเดือน!HM32:HO32) -> 2.5342412 | BX32: =AVERAGE(รายเดือน!HP32:HR32) -> 11.86546 | BY32: =AVERAGE(รายเดือน!HS32:HU32) -> 53.536218 | BZ32: =AVERAGE(รายเดือน!HV32:HX32) -> 178.4025 | CA32: =AVERAGE(รายเดือน!HY32:IA32) -> 7.9114653 | CB32: =AVERAGE(รายเดือน!IB32:ID32) -> 12.100093 | CC32: =AVERAGE(รายเดือน!IE32:IG32) -> 92.565187 | CD32: =AVERAGE(รายเดือน!IH32:IJ32) -> 164.57308 | CE32: =AVERAGE(รายเดือน!IK32:IM32) -> 7.1258804 | CF32: =AVERAGE(รายเดือน!IN32:IP32) -> 22.72113 | CG32: =AVERAGE(รายเดือน!IQ32:IS32) -> 85.92769 | CH32: =AVERAGE(รายเดือน!IT32:IV32) -> 159.10005 | CI32: =AVERAGE(รายเดือน!IW32:IY32) -> 3.4829913
A33: กระเทียม | B33: =AVERAGE(รายเดือน!B33:D33) -> 371.7587 | C33: =AVERAGE(รายเดือน!E33:G33) -> 28.027461 | D33: =AVERAGE(รายเดือน!H33:J33) -> 0 | E33: =AVERAGE(รายเดือน!K33:M33) -> 0.21383553 | F33: =AVERAGE(รายเดือน!N33:P33) -> 285.77431 | G33: =AVERAGE(รายเดือน!Q33:S33) -> 19.293968 | H33: =AVERAGE(รายเดือน!T33:V33) -> 0 | I33: =AVERAGE(รายเดือน!W33:Y33) -> 0.21383553 | J33: =AVERAGE(รายเดือน!Z33:AB33) -> 263.28782 | K33: =AVERAGE(รายเดือน!AC33:AE33) -> 16.776711 | L33: =AVERAGE(รายเดือน!AF33:AH33) -> 0 | M33: =AVERAGE(รายเดือน!AI33:AK33) -> 0.79189751 | N33: =AVERAGE(รายเดือน!AL33:AN33) -> 298.04922 | O33: =AVERAGE(รายเดือน!AO33:AQ33) -> 22.467737 | P33: =AVERAGE(รายเดือน!AR33:AT33) -> 0 | Q33: =AVERAGE(รายเดือน!AU33:AW33) -> 0.14255702 | R33: =AVERAGE(รายเดือน!AX33:AZ33) -> 248.51065 | S33: =AVERAGE(รายเดือน!BA33:BC33) -> 19.327731 | T33: =AVERAGE(รายเดือน!BD33:BF33) -> 0 | U33: =AVERAGE(รายเดือน!BG33:BI33) -> 0.30387155 | V33: =AVERAGE(รายเดือน!BJ33:BL33) -> 242.57203 | W33: =AVERAGE(รายเดือน!BM33:BO33) -> 12.631303 | X33: =AVERAGE(รายเดือน!BP33:BR33) -> 0 | Y33: =AVERAGE(รายเดือน!BS33:BU33) -> 0.26635654 | Z33: =AVERAGE(รายเดือน!BV33:BX33) -> 269.88295 | AA33: =AVERAGE(รายเดือน!BY33:CA33) -> 13.422869 | AB33: =AVERAGE(รายเดือน!CB33:CD33) -> 0 | AC33: =AVERAGE(รายเดือน!CE33:CG33) -> 0.46518607 | AD33: =AVERAGE(รายเดือน!CH33:CJ33) -> 296.70243 | AE33: =AVERAGE(รายเดือน!CK33:CM33) -> 23.037965 | AF33: =AVERAGE(รายเดือน!CN33:CP33) -> 0 | AG33: =AVERAGE(รายเดือน!CQ33:CS33) -> 0.10504202 | AH33: =AVERAGE(รายเดือน!CT33:CV33) -> 284.21744 | AI33: =AVERAGE(รายเดือน!CW33:CY33) -> 13.704232 | AJ33: =AVERAGE(รายเดือน!CZ33:DB33) -> 0 | AK33: =AVERAGE(รายเดือน!DC33:DE33) -> 0.19507803 | AL33: =AVERAGE(รายเดือน!DF33:DH33) -> 258.00195 | AM33: =AVERAGE(รายเดือน!DI33:DK33) -> 12.319928 | AN33: =AVERAGE(รายเดือน!DL33:DN33) -> 0 | AO33: =AVERAGE(รายเดือน!DO33:DQ33) -> 0.17632053 | AP33: =AVERAGE(รายเดือน!DR33:DT33) -> 242.01306 | AQ33: =AVERAGE(รายเดือน!DU33:DW33) -> 34.018607 | AR33: =AVERAGE(รายเดือน!DX33:DZ33) -> 0 | AS33: =AVERAGE(รายเดือน!EA33:EC33) -> 0.25510204 | AT33: =AVERAGE(รายเดือน!ED33:EF33) -> 238.01771 | AU33: =AVERAGE(รายเดือน!EG33:EI33) -> 15.156062 | AV33: =AVERAGE(รายเดือน!EJ33:EL33) -> 0 | AW33: =AVERAGE(รายเดือน!EM33:EO33) -> 0.38265306 | AX33: =AVERAGE(รายเดือน!EP33:ER33) -> 225.33764 | AY33: =AVERAGE(รายเดือน!ES33:EU33) -> 33.808523 | AZ33: =AVERAGE(รายเดือน!EV33:EX33) -> 0 | BA33: =AVERAGE(รายเดือน!EY33:FA33) -> 2.2358944 | BB33: =AVERAGE(รายเดือน!FB33:FD33) -> 330.2596 | BC33: =AVERAGE(รายเดือน!FE33:FG33) -> 8.8235294 | BD33: =AVERAGE(รายเดือน!FH33:FJ33) -> 0 | BE33: =AVERAGE(รายเดือน!FK33:FM33) -> 0.34513806 | BF33: =AVERAGE(รายเดือน!FN33:FP33) -> 302.83238 | BG33: =AVERAGE(รายเดือน!FQ33:FS33) -> 12.094838 | BH33: =AVERAGE(รายเดือน!FT33:FV33) -> 0 | BI33: =AVERAGE(รายเดือน!FW33:FY33) -> 0.18007203 | BJ33: =AVERAGE(รายเดือน!FZ33:GB33) -> 246.94253 | BK33: =AVERAGE(รายเดือน!GC33:GE33) -> 41.138956 | BL33: =AVERAGE(รายเดือน!GF33:GH33) -> 0 | BM33: =AVERAGE(รายเดือน!GI33:GK33) -> 0 | BN33: =AVERAGE(รายเดือน!GL33:GN33) -> 251.8645 | BO33: =AVERAGE(รายเดือน!GO33:GQ33) -> 31.163715 | BP33: =AVERAGE(รายเดือน!GR33:GT33) -> 0 | BQ33: =AVERAGE(รายเดือน!GU33:GW33) -> 0.048769508 | BR33: =AVERAGE(รายเดือน!GX33:GZ33) -> 200.47644 | BS33: =AVERAGE(รายเดือน!HA33:HC33) -> 34.187425 | BT33: =AVERAGE(รายเดือน!HD33:HF33) -> 0 | BU33: =AVERAGE(รายเดือน!HG33:HI33) -> 0.23259304 | BV33: =AVERAGE(รายเดือน!HJ33:HL33) -> 220.79982 | BW33: =AVERAGE(รายเดือน!HM33:HO33) -> 1.5306122 | BX33: =AVERAGE(รายเดือน!HP33:HR33) -> 0 | BY33: =AVERAGE(รายเดือน!HS33:HU33) -> 0.36764706 | BZ33: =AVERAGE(รายเดือน!HV33:HX33) -> 177.41221 | CA33: =AVERAGE(รายเดือน!HY33:IA33) -> 23.728241 | CB33: =AVERAGE(รายเดือน!IB33:ID33) -> 0 | CC33: =AVERAGE(รายเดือน!IE33:IG33) -> 0.090036014 | CD33: =AVERAGE(รายเดือน!IH33:IJ33) -> 196.85624 | CE33: =AVERAGE(รายเดือน!IK33:IM33) -> 4.2354442 | CF33: =AVERAGE(รายเดือน!IN33:IP33) -> 0 | CG33: =AVERAGE(รายเดือน!IQ33:IS33) -> 0.10129052 | CH33: =AVERAGE(รายเดือน!IT33:IV33) -> 193.1235 | CI33: =AVERAGE(รายเดือน!IW33:IY33) -> 2.5510204
A34: มันฝรั่ง | B34: =AVERAGE(รายเดือน!B34:D34) -> 312.4264 | C34: =AVERAGE(รายเดือน!E34:G34) -> 53.708324 | D34: =AVERAGE(รายเดือน!H34:J34) -> 15.535496 | E34: =AVERAGE(รายเดือน!K34:M34) -> 18.32978 | F34: =AVERAGE(รายเดือน!N34:P34) -> 388.28578 | G34: =AVERAGE(รายเดือน!Q34:S34) -> 8.1288274 | H34: =AVERAGE(รายเดือน!T34:V34) -> 12.969834 | I34: =AVERAGE(รายเดือน!W34:Y34) -> 31.535496 | J34: =AVERAGE(รายเดือน!Z34:AB34) -> 312.21229 | K34: =AVERAGE(รายเดือน!AC34:AE34) -> 99.451123 | L34: =AVERAGE(รายเดือน!AF34:AH34) -> 14.094806 | M34: =AVERAGE(รายเดือน!AI34:AK34) -> 53.461556 | N34: =AVERAGE(รายเดือน!AL34:AN34) -> 288.59878 | O34: =AVERAGE(รายเดือน!AO34:AQ34) -> 59.354956 | P34: =AVERAGE(รายเดือน!AR34:AT34) -> 17.09594 | Q34: =AVERAGE(รายเดือน!AU34:AW34) -> 43.180767 | R34: =AVERAGE(รายเดือน!AX34:AZ34) -> 319.37582 | S34: =AVERAGE(รายเดือน!BA34:BC34) -> 78.994783 | T34: =AVERAGE(รายเดือน!BD34:BF34) -> 62.729762 | U34: =AVERAGE(รายเดือน!BG34:BI34) -> 39.838657 | V34: =AVERAGE(รายเดือน!BJ34:BL34) -> 378.41869 | W34: =AVERAGE(รายเดือน!BM34:BO34) -> 7.6316625 | X34: =AVERAGE(รายเดือน!BP34:BR34) -> 73.137673 | Y34: =AVERAGE(รายเดือน!BS34:BU34) -> 30.512134 | Z34: =AVERAGE(รายเดือน!BV34:BX34) -> 335.13631 | AA34: =AVERAGE(รายเดือน!BY34:CA34) -> 68.071672 | AB34: =AVERAGE(รายเดือน!CB34:CD34) -> 53.127693 | AC34: =AVERAGE(รายเดือน!CE34:CG34) -> 39.388523 | AD34: =AVERAGE(รายเดือน!CH34:CJ34) -> 358.80426 | AE34: =AVERAGE(รายเดือน!CK34:CM34) -> 53.682921 | AF34: =AVERAGE(รายเดือน!CN34:CP34) -> 48.047176 | AG34: =AVERAGE(รายเดือน!CQ34:CS34) -> 27.895668 | AH34: =AVERAGE(รายเดือน!CT34:CV34) -> 272.78385 | AI34: =AVERAGE(รายเดือน!CW34:CY34) -> 32.892719 | AJ34: =AVERAGE(รายเดือน!CZ34:DB34) -> 49.143116 | AK34: =AVERAGE(รายเดือน!DC34:DE34) -> 25.801769 | AL34: =AVERAGE(รายเดือน!DF34:DH34) -> 262.09299 | AM34: =AVERAGE(รายเดือน!DI34:DK34) -> 24.821955 | AN34: =AVERAGE(รายเดือน!DL34:DN34) -> 54.905874 | AO34: =AVERAGE(รายเดือน!DO34:DQ34) -> 33.977773 | AP34: =AVERAGE(รายเดือน!DR34:DT34) -> 326.42323 | AQ34: =AVERAGE(รายเดือน!DU34:DW34) -> 40.720345 | AR34: =AVERAGE(รายเดือน!DX34:DZ34) -> 6.3361306 | AS34: =AVERAGE(รายเดือน!EA34:EC34) -> 48.798367 | AT34: =AVERAGE(รายเดือน!ED34:EF34) -> 360.61873 | AU34: =AVERAGE(รายเดือน!EG34:EI34) -> 18.914039 | AV34: =AVERAGE(รายเดือน!EJ34:EL34) -> 28.661374 | AW34: =AVERAGE(รายเดือน!EM34:EO34) -> 22.045815 | AX34: =AVERAGE(รายเดือน!EP34:ER34) -> 248.19415 | AY34: =AVERAGE(รายเดือน!ES34:EU34) -> 89.769109 | AZ34: =AVERAGE(รายเดือน!EV34:EX34) -> 45.942391 | BA34: =AVERAGE(รายเดือน!EY34:FA34) -> 18.206396 | BB34: =AVERAGE(รายเดือน!FB34:FD34) -> 285.64482 | BC34: =AVERAGE(รายเดือน!FE34:FG34) -> 43.188024 | BD34: =AVERAGE(รายเดือน!FH34:FJ34) -> 25.25017 | BE34: =AVERAGE(รายเดือน!FK34:FM34) -> 8.5534135 | BF34: =AVERAGE(รายเดือน!FN34:FP34) -> 300.6142 | BG34: =AVERAGE(รายเดือน!FQ34:FS34) -> 129.85076 | BH34: =AVERAGE(รายเดือน!FT34:FV34) -> 26.647312 | BI34: =AVERAGE(รายเดือน!FW34:FY34) -> 10.709004 | BJ34: =AVERAGE(รายเดือน!FZ34:GB34) -> 292.96802 | BK34: =AVERAGE(รายเดือน!GC34:GE34) -> 130.05761 | BL34: =AVERAGE(รายเดือน!GF34:GH34) -> 25.591291 | BM34: =AVERAGE(รายเดือน!GI34:GK34) -> 8.8800181 | BN34: =AVERAGE(รายเดือน!GL34:GN34) -> 220.14244 | BO34: =AVERAGE(รายเดือน!GO34:GQ34) -> 180.48537 | BP34: =AVERAGE(รายเดือน!GR34:GT34) -> 17.61125 | BQ34: =AVERAGE(รายเดือน!GU34:GW34) -> 11.73966 | BR34: =AVERAGE(รายเดือน!GX34:GZ34) -> 187.36947 | BS34: =AVERAGE(รายเดือน!HA34:HC34) -> 185.58403 | BT34: =AVERAGE(รายเดือน!HD34:HF34) -> 45.688365 | BU34: =AVERAGE(รายเดือน!HG34:HI34) -> 17.201179 | BV34: =AVERAGE(รายเดือน!HJ34:HL34) -> 219.52914 | BW34: =AVERAGE(รายเดือน!HM34:HO34) -> 154.77433 | BX34: =AVERAGE(รายเดือน!HP34:HR34) -> 58.102971 | BY34: =AVERAGE(รายเดือน!HS34:HU34) -> 28.309367 | BZ34: =AVERAGE(รายเดือน!HV34:HX34) -> 305.24836 | CA34: =AVERAGE(รายเดือน!HY34:IA34) -> 42.001361 | CB34: =AVERAGE(รายเดือน!IB34:ID34) -> 68.833749 | CC34: =AVERAGE(รายเดือน!IE34:IG34) -> 9.4896802 | CD34: =AVERAGE(รายเดือน!IH34:IJ34) -> 359.45022 | CE34: =AVERAGE(รายเดือน!IK34:IM34) -> 29.064187 | CF34: =AVERAGE(รายเดือน!IN34:IP34) -> 61.913359 | CG34: =AVERAGE(รายเดือน!IQ34:IS34) -> 8.0163302 | CH34: =AVERAGE(รายเดือน!IT34:IV34) -> 406.46314 | CI34: =AVERAGE(รายเดือน!IW34:IY34) -> 68.354729
A35: หอมหัวใหญ่ | B35: =AVERAGE(รายเดือน!B35:D35) -> 376.96794 | C35: =AVERAGE(รายเดือน!E35:G35) -> 11.431197 | D35: =AVERAGE(รายเดือน!H35:J35) -> 0.028277544 | E35: =AVERAGE(รายเดือน!K35:M35) -> 11.572585 | F35: =AVERAGE(รายเดือน!N35:P35) -> 260.05443 | G35: =AVERAGE(รายเดือน!Q35:S35) -> 0 | H35: =AVERAGE(รายเดือน!T35:V35) -> 0 | I35: =AVERAGE(รายเดือน!W35:Y35) -> 104.6057 | J35: =AVERAGE(รายเดือน!Z35:AB35) -> 268.29027 | K35: =AVERAGE(รายเดือน!AC35:AE35) -> 0 | L35: =AVERAGE(รายเดือน!AF35:AH35) -> 0 | M35: =AVERAGE(รายเดือน!AI35:AK35) -> 52.094306 | N35: =AVERAGE(รายเดือน!AL35:AN35) -> 276.12315 | O35: =AVERAGE(รายเดือน!AO35:AQ35) -> 0 | P35: =AVERAGE(รายเดือน!AR35:AT35) -> 0 | Q35: =AVERAGE(รายเดือน!AU35:AW35) -> 8.2570429 | R35: =AVERAGE(รายเดือน!AX35:AZ35) -> 309.70273 | S35: =AVERAGE(รายเดือน!BA35:BC35) -> 0 | T35: =AVERAGE(รายเดือน!BD35:BF35) -> 0 | U35: =AVERAGE(รายเดือน!BG35:BI35) -> 10.639426 | V35: =AVERAGE(รายเดือน!BJ35:BL35) -> 317.83253 | W35: =AVERAGE(รายเดือน!BM35:BO35) -> 0 | X35: =AVERAGE(รายเดือน!BP35:BR35) -> 0 | Y35: =AVERAGE(รายเดือน!BS35:BU35) -> 31.20427 | Z35: =AVERAGE(รายเดือน!BV35:BX35) -> 322.99789 | AA35: =AVERAGE(รายเดือน!BY35:CA35) -> 0 | AB35: =AVERAGE(รายเดือน!CB35:CD35) -> 0 | AC35: =AVERAGE(รายเดือน!CE35:CG35) -> 35.474179 | AD35: =AVERAGE(รายเดือน!CH35:CJ35) -> 348.12485 | AE35: =AVERAGE(รายเดือน!CK35:CM35) -> 0.26863667 | AF35: =AVERAGE(รายเดือน!CN35:CP35) -> 0 | AG35: =AVERAGE(รายเดือน!CQ35:CS35) -> 13.269238 | AH35: =AVERAGE(รายเดือน!CT35:CV35) -> 268.86289 | AI35: =AVERAGE(รายเดือน!CW35:CY35) -> 0 | AJ35: =AVERAGE(รายเดือน!CZ35:DB35) -> 0 | AK35: =AVERAGE(รายเดือน!DC35:DE35) -> 11.926054 | AL35: =AVERAGE(รายเดือน!DF35:DH35) -> 240.37326 | AM35: =AVERAGE(รายเดือน!DI35:DK35) -> 14.612421 | AN35: =AVERAGE(รายเดือน!DL35:DN35) -> 0 | AO35: =AVERAGE(รายเดือน!DO35:DQ35) -> 11.183769 | AP35: =AVERAGE(รายเดือน!DR35:DT35) -> 232.97869 | AQ35: =AVERAGE(รายเดือน!DU35:DW35) -> 6.5603902 | AR35: =AVERAGE(รายเดือน!DX35:DZ35) -> 0 | AS35: =AVERAGE(รายเดือน!EA35:EC35) -> 6.0089781 | AT35: =AVERAGE(รายเดือน!ED35:EF35) -> 267.90145 | AU35: =AVERAGE(รายเดือน!EG35:EI35) -> 11.537238 | AV35: =AVERAGE(รายเดือน!EJ35:EL35) -> 0 | AW35: =AVERAGE(รายเดือน!EM35:EO35) -> 13.339931 | AX35: =AVERAGE(รายเดือน!EP35:ER35) -> 196.08356 | AY35: =AVERAGE(รายเดือน!ES35:EU35) -> 10.300095 | AZ35: =AVERAGE(รายเดือน!EV35:EX35) -> 0 | BA35: =AVERAGE(รายเดือน!EY35:FA35) -> 11.11227 | BB35: =AVERAGE(รายเดือน!FB35:FD35) -> 248.15158 | BC35: =AVERAGE(รายเดือน!FE35:FG35) -> 1.1581917 | BD35: =AVERAGE(รายเดือน!FH35:FJ35) -> 0 | BE35: =AVERAGE(รายเดือน!FK35:FM35) -> 21.540419 | BF35: =AVERAGE(รายเดือน!FN35:FP35) -> 189.65749 | BG35: =AVERAGE(รายเดือน!FQ35:FS35) -> 30.886148 | BH35: =AVERAGE(รายเดือน!FT35:FV35) -> 0 | BI35: =AVERAGE(รายเดือน!FW35:FY35) -> 12.427981 | BJ35: =AVERAGE(รายเดือน!FZ35:GB35) -> 262.18939 | BK35: =AVERAGE(รายเดือน!GC35:GE35) -> 26.722279 | BL35: =AVERAGE(รายเดือน!GF35:GH35) -> 0 | BM35: =AVERAGE(รายเดือน!GI35:GK35) -> 13.191474 | BN35: =AVERAGE(รายเดือน!GL35:GN35) -> 222.93309 | BO35: =AVERAGE(รายเดือน!GO35:GQ35) -> 9.8688629 | BP35: =AVERAGE(รายเดือน!GR35:GT35) -> 0 | BQ35: =AVERAGE(รายเดือน!GU35:GW35) -> 30.341805 | BR35: =AVERAGE(รายเดือน!GX35:GZ35) -> 172.82528 | BS35: =AVERAGE(รายเดือน!HA35:HC35) -> 33.706833 | BT35: =AVERAGE(รายเดือน!HD35:HF35) -> 0 | BU35: =AVERAGE(รายเดือน!HG35:HI35) -> 21.441448 | BV35: =AVERAGE(รายเดือน!HJ35:HL35) -> 172.40819 | BW35: =AVERAGE(รายเดือน!HM35:HO35) -> 5.9665618 | BX35: =AVERAGE(รายเดือน!HP35:HR35) -> 0 | BY35: =AVERAGE(รายเดือน!HS35:HU35) -> 8.6387897 | BZ35: =AVERAGE(รายเดือน!HV35:HX35) -> 192.78216 | CA35: =AVERAGE(รายเดือน!HY35:IA35) -> 14.117564 | CB35: =AVERAGE(รายเดือน!IB35:ID35) -> 0 | CC35: =AVERAGE(รายเดือน!IE35:IG35) -> 9.7204058 | CD35: =AVERAGE(รายเดือน!IH35:IJ35) -> 170.57722 | CE35: =AVERAGE(รายเดือน!IK35:IM35) -> 47.046764 | CF35: =AVERAGE(รายเดือน!IN35:IP35) -> 0 | CG35: =AVERAGE(รายเดือน!IQ35:IS35) -> 6.79368 | CH35: =AVERAGE(รายเดือน!IT35:IV35) -> 151.38383 | CI35: =AVERAGE(รายเดือน!IW35:IY35) -> 17.800714
A36: 1.5 กลุ่มพืชน้ำมัน | B36: =AVERAGE(รายเดือน!B36:D36) -> 85.139324 | C36: =AVERAGE(รายเดือน!E36:G36) -> 120.89338 | D36: =AVERAGE(รายเดือน!H36:J36) -> 111.32694 | E36: =AVERAGE(รายเดือน!K36:M36) -> 82.640353 | F36: =AVERAGE(รายเดือน!N36:P36) -> 101.41641 | G36: =AVERAGE(รายเดือน!Q36:S36) -> 141.4395 | H36: =AVERAGE(รายเดือน!T36:V36) -> 122.68077 | I36: =AVERAGE(รายเดือน!W36:Y36) -> 113.90321 | J36: =AVERAGE(รายเดือน!Z36:AB36) -> 105.02056 | K36: =AVERAGE(รายเดือน!AC36:AE36) -> 114.54364 | L36: =AVERAGE(รายเดือน!AF36:AH36) -> 122.2252 | M36: =AVERAGE(รายเดือน!AI36:AK36) -> 113.72489 | N36: =AVERAGE(รายเดือน!AL36:AN36) -> 138.54965 | O36: =AVERAGE(รายเดือน!AO36:AQ36) -> 172.6095 | P36: =AVERAGE(รายเดือน!AR36:AT36) -> 153.53396 | Q36: =AVERAGE(รายเดือน!AU36:AW36) -> 107.40344 | R36: =AVERAGE(รายเดือน!AX36:AZ36) -> 120.274 | S36: =AVERAGE(รายเดือน!BA36:BC36) -> 128.21638 | T36: =AVERAGE(รายเดือน!BD36:BF36) -> 131.61471 | U36: =AVERAGE(รายเดือน!BG36:BI36) -> 108.1455 | V36: =AVERAGE(รายเดือน!BJ36:BL36) -> 133.26601 | W36: =AVERAGE(รายเดือน!BM36:BO36) -> 154.62224 | X36: =AVERAGE(รายเดือน!BP36:BR36) -> 120.35648 | Y36: =AVERAGE(รายเดือน!BS36:BU36) -> 72.420036 | Z36: =AVERAGE(รายเดือน!BT36:BV36) -> 62.528132 | AA36: =AVERAGE(รายเดือน!BY36:CA36) -> 167.04175 | AB36: =AVERAGE(รายเดือน!CB36:CD36) -> 155.59894 | AC36: =AVERAGE(รายเดือน!CE36:CG36) -> 157.31903 | AD36: =AVERAGE(รายเดือน!CH36:CJ36) -> 132.25061 | AE36: =AVERAGE(รายเดือน!CK36:CM36) -> 131.65461 | AF36: =AVERAGE(รายเดือน!CN36:CP36) -> 164.67718 | AG36: =AVERAGE(รายเดือน!CQ36:CS36) -> 167.36346 | AH36: =AVERAGE(รายเดือน!CT36:CV36) -> 152.49671 | AI36: =AVERAGE(รายเดือน!CW36:CY36) -> 140.13654 | AJ36: =AVERAGE(รายเดือน!CZ36:DB36) -> 169.84141 | AK36: =AVERAGE(รายเดือน!DC36:DE36) -> 180.0155 | AL36: =AVERAGE(รายเดือน!DF36:DH36) -> 163.25974 | AM36: =AVERAGE(รายเดือน!DI36:DK36) -> 225.97934 | AN36: =AVERAGE(รายเดือน!DL36:DN36) -> 151.45381 | AO36: =AVERAGE(รายเดือน!DO36:DQ36) -> 113.16212 | AP36: =AVERAGE(รายเดือน!DR36:DT36) -> 156.07133 | AQ36: =AVERAGE(รายเดือน!DU36:DW36) -> 183.03724 | AR36: =AVERAGE(รายเดือน!DX36:DZ36) -> 147.98561 | AS36: =AVERAGE(รายเดือน!EA36:EC36) -> 154.09084 | AT36: =AVERAGE(รายเดือน!ED36:EF36) -> 134.95004 | AU36: =AVERAGE(รายเดือน!EG36:EI36) -> 179.16501 | AV36: =AVERAGE(รายเดือน!EJ36:EL36) -> 141.85646 | AW36: =AVERAGE(รายเดือน!EM36:EO36) -> 145.92922 | AX36: =AVERAGE(รายเดือน!EP36:ER36) -> 159.66996 | AY36: =AVERAGE(รายเดือน!ES36:EU36) -> 192.7046 | AZ36: =AVERAGE(รายเดือน!EV36:EX36) -> 157.46955 | BA36: =AVERAGE(รายเดือน!EY36:FA36) -> 224.86092 | BB36: =AVERAGE(รายเดือน!FB36:FD36) -> 223.63579 | BC36: =AVERAGE(รายเดือน!FE36:FG36) -> 201.26221 | BD36: =AVERAGE(รายเดือน!FH36:FJ36) -> 163.06446 | BE36: =AVERAGE(รายเดือน!FK36:FM36) -> 199.45196 | BF36: =AVERAGE(รายเดือน!FN36:FP36) -> 211.15378 | BG36: =AVERAGE(รายเดือน!FQ36:FS36) -> 257.60128 | BH36: =AVERAGE(รายเดือน!FT36:FV36) -> 214.63888 | BI36: =AVERAGE(รายเดือน!FW36:FY36) -> 145.82622 | BJ36: =AVERAGE(รายเดือน!FZ36:GB36) -> 177.80085 | BK36: =AVERAGE(รายเดือน!GC36:GE36) -> 270.00961 | BL36: =AVERAGE(รายเดือน!GF36:GH36) -> 218.0872 | BM36: =AVERAGE(รายเดือน!GI36:GK36) -> 150.58876 | BN36: =AVERAGE(รายเดือน!GL36:GN36) -> 165.54429 | BO36: =AVERAGE(รายเดือน!GO36:GQ36) -> 282.39545 | BP36: =AVERAGE(รายเดือน!GR36:GT36) -> 223.82483 | BQ36: =AVERAGE(รายเดือน!GU36:GW36) -> 180.06042 | BR36: =AVERAGE(รายเดือน!GX36:GZ36) -> 192.45546 | BS36: =AVERAGE(รายเดือน!HA36:HC36) -> 246.78994 | BT36: =AVERAGE(รายเดือน!HD36:HF36) -> 248.21849 | BU36: =AVERAGE(รายเดือน!HG36:HI36) -> 243.83345 | BV36: =AVERAGE(รายเดือน!HJ36:HL36) -> 250.33253 | BW36: =AVERAGE(รายเดือน!HM36:HO36) -> 228.45786 | BX36: =AVERAGE(รายเดือน!HP36:HR36) -> 228.84735 | BY36: =AVERAGE(รายเดือน!HS36:HU36) -> 207.43528 | BZ36: =AVERAGE(รายเดือน!HV36:HX36) -> 199.31838 | CA36: =AVERAGE(รายเดือน!HY36:IA36) -> 329.08351 | CB36: =AVERAGE(รายเดือน!IB36:ID36) -> 250.63707 | CC36: =AVERAGE(รายเดือน!IE36:IG36) -> 145.39508 | CD36: =AVERAGE(รายเดือน!IH36:IJ36) -> 171.46512 | CE36: =AVERAGE(รายเดือน!IK36:IM36) -> 388.57868 | CF36: =AVERAGE(รายเดือน!IN36:IP36) -> 266.67937 | CG36: =AVERAGE(รายเดือน!IQ36:IS36) -> 215.69886 | CH36: =AVERAGE(รายเดือน!IT36:IV36) -> 237.66263 | CI36: =AVERAGE(รายเดือน!IW36:IY36) -> 282.38515
A37: ปาล์มน้ำมัน | B37: =AVERAGE(รายเดือน!B37:D37) -> 82.160047 | C37: =AVERAGE(รายเดือน!E37:G37) -> 129.16007 | D37: =AVERAGE(รายเดือน!H37:J37) -> 111.79998 | E37: =AVERAGE(รายเดือน!K37:M37) -> 76.879906 | F37: =AVERAGE(รายเดือน!N37:P37) -> 110.68082 | G37: =AVERAGE(รายเดือน!Q37:S37) -> 162.07105 | H37: =AVERAGE(รายเดือน!T37:V37) -> 135.06891 | I37: =AVERAGE(รายเดือน!W37:Y37) -> 129.09538 | J37: =AVERAGE(รายเดือน!Z37:AB37) -> 120.53132 | K37: =AVERAGE(รายเดือน!AC37:AE37) -> 118.68518 | L37: =AVERAGE(รายเดือน!AF37:AH37) -> 136.78328 | M37: =AVERAGE(รายเดือน!AI37:AK37) -> 134.92603 | N37: =AVERAGE(รายเดือน!AL37:AN37) -> 183.3006 | O37: =AVERAGE(รายเดือน!AO37:AQ37) -> 224.81131 | P37: =AVERAGE(รายเดือน!AR37:AT37) -> 193.99824 | Q37: =AVERAGE(รายเดือน!AU37:AW37) -> 139.13482 | R37: =AVERAGE(รายเดือน!AX37:AZ37) -> 155.92234 | S37: =AVERAGE(รายเดือน!BA37:BC37) -> 171.65154 | T37: =AVERAGE(รายเดือน!BD37:BF37) -> 179.22262 | U37: =AVERAGE(รายเดือน!BG37:BI37) -> 145.87122 | V37: =AVERAGE(รายเดือน!BJ37:BL37) -> 188.13873 | W37: =AVERAGE(รายเดือน!BM37:BO37) -> 209.51812 | X37: =AVERAGE(รายเดือน!BP37:BR37) -> 160.57577 | Y37: =AVERAGE(รายเดือน!BS37:BU37) -> 99.595136 | Z37: =AVERAGE(รายเดือน!BV37:BX37) -> 136.38077 | AA37: =AVERAGE(รายเดือน!BY37:CA37) -> 239.2572 | AB37: =AVERAGE(รายเดือน!CB37:CD37) -> 239.97737 | AC37: =AVERAGE(รายเดือน!CE37:CG37) -> 244.72684 | AD37: =AVERAGE(รายเดือน!CH37:CJ37) -> 194.40243 | AE37: =AVERAGE(รายเดือน!CK37:CM37) -> 192.24494 | AF37: =AVERAGE(รายเดือน!CN37:CP37) -> 256.76041 | AG37: =AVERAGE(รายเดือน!CQ37:CS37) -> 261.0933 | AH37: =AVERAGE(รายเดือน!CT37:CV37) -> 232.31203 | AI37: =AVERAGE(รายเดือน!CW37:CY37) -> 211.87974 | AJ37: =AVERAGE(รายเดือน!CZ37:DB37) -> 268.67221 | AK37: =AVERAGE(รายเดือน!DC37:DE37) -> 281.36671 | AL37: =AVERAGE(รายเดือน!DF37:DH37) -> 248.20706 | AM37: =AVERAGE(รายเดือน!DI37:DK37) -> 347.53018 | AN37: =AVERAGE(รายเดือน!DL37:DN37) -> 244.77521 | AO37: =AVERAGE(รายเดือน!DO37:DQ37) -> 168.86966 | AP37: =AVERAGE(รายเดือน!DR37:DT37) -> 241.06215 | AQ37: =AVERAGE(รายเดือน!DU37:DW37) -> 276.74582 | AR37: =AVERAGE(รายเดือน!DX37:DZ37) -> 232.73612 | AS37: =AVERAGE(รายเดือน!EA37:EC37) -> 240.66572 | AT37: =AVERAGE(รายเดือน!ED37:EF37) -> 207.8937 | AU37: =AVERAGE(รายเดือน!EG37:EI37) -> 275.40301 | AV37: =AVERAGE(รายเดือน!EJ37:EL37) -> 222.16352 | AW37: =AVERAGE(รายเดือน!EM37:EO37) -> 227.05331 | AX37: =AVERAGE(รายเดือน!EP37:ER37) -> 247.87356 | AY37: =AVERAGE(รายเดือน!ES37:EU37) -> 301.02077 | AZ37: =AVERAGE(รายเดือน!EV37:EX37) -> 248.84608 | BA37: =AVERAGE(รายเดือน!EY37:FA37) -> 357.98843 | BB37: =AVERAGE(รายเดือน!FB37:FD37) -> 355.34984 | BC37: =AVERAGE(รายเดือน!FE37:FG37) -> 315.3141 | BD37: =AVERAGE(รายเดือน!FH37:FJ37) -> 254.89341 | BE37: =AVERAGE(รายเดือน!FK37:FM37) -> 313.07674 | BF37: =AVERAGE(รายเดือน!FN37:FP37) -> 332.43888 | BG37: =AVERAGE(รายเดือน!FQ37:FS37) -> 406.26322 | BH37: =AVERAGE(รายเดือน!FT37:FV37) -> 344.40089 | BI37: =AVERAGE(รายเดือน!FW37:FY37) -> 230.02565 | BJ37: =AVERAGE(รายเดือน!FZ37:GB37) -> 278.17242 | BK37: =AVERAGE(รายเดือน!GC37:GE37) -> 431.20678 | BL37: =AVERAGE(รายเดือน!GF37:GH37) -> 350.55696 | BM37: =AVERAGE(รายเดือน!GI37:GK37) -> 237.12913 | BN37: =AVERAGE(รายเดือน!GL37:GN37) -> 260.25215 | BO37: =AVERAGE(รายเดือน!GO37:GQ37) -> 448.98928 | BP37: =AVERAGE(รายเดือน!GR37:GT37) -> 356.18084 | BQ37: =AVERAGE(รายเดือน!GU37:GW37) -> 286.23227 | BR37: =AVERAGE(รายเดือน!GX37:GZ37) -> 303.4047 | BS37: =AVERAGE(รายเดือน!HA37:HC37) -> 391.56458 | BT37: =AVERAGE(รายเดือน!HD37:HF37) -> 398.62689 | BU37: =AVERAGE(รายเดือน!HG37:HI37) -> 392.65976 | BV37: =AVERAGE(รายเดือน!HJ37:HL37) -> 400.73721 | BW37: =AVERAGE(รายเดือน!HM37:HO37) -> 360.45808 | BX37: =AVERAGE(รายเดือน!HP37:HR37) -> 366.97436 | BY37: =AVERAGE(รายเดือน!HS37:HU37) -> 333.69573 | BZ37: =AVERAGE(รายเดือน!HV37:HX37) -> 314.96917 | CA37: =AVERAGE(รายเดือน!HY37:IA37) -> 531.33355 | CB37: =AVERAGE(รายเดือน!IB37:ID37) -> 405.91012 | CC37: =AVERAGE(รายเดือน!IE37:IG37) -> 231.15488 | CD37: =AVERAGE(รายเดือน!IH37:IJ37) -> 273.17788 | CE37: =AVERAGE(รายเดือน!IK37:IM37) -> 632.04313 | CF37: =AVERAGE(รายเดือน!IN37:IP37) -> 430.45478 | CG37: =AVERAGE(รายเดือน!IQ37:IS37) -> 346.31875 | CH37: =AVERAGE(รายเดือน!IT37:IV37) -> 381.14215 | CI37: =AVERAGE(รายเดือน!IW37:IY37) -> 449.31175
A38: มะพร้าว | B38: =AVERAGE(รายเดือน!B38:D38) -> 63.081481 | C38: =AVERAGE(รายเดือน!E38:G38) -> 108.23012 | D38: =AVERAGE(รายเดือน!H38:J38) -> 133.82272 | E38: =AVERAGE(รายเดือน!K38:M38) -> 94.865679 | F38: =AVERAGE(รายเดือน!N38:P38) -> 63.529206 | G38: =AVERAGE(รายเดือน!Q38:S38) -> 100.44236 | H38: =AVERAGE(รายเดือน!T38:V38) -> 128.43126 | I38: =AVERAGE(รายเดือน!W38:Y38) -> 95.732978 | J38: =AVERAGE(รายเดือน!Z38:AB38) -> 57.259214 | K38: =AVERAGE(รายเดือน!AC38:AE38) -> 101.58431 | L38: =AVERAGE(รายเดือน!AF38:AH38) -> 124.44385 | M38: =AVERAGE(รายเดือน!AI38:AK38) -> 84.623616 | N38: =AVERAGE(รายเดือน!AL38:AN38) -> 48.780922 | O38: =AVERAGE(รายเดือน!AO38:AQ38) -> 87.803546 | P38: =AVERAGE(รายเดือน!AR38:AT38) -> 106.10432 | Q38: =AVERAGE(รายเดือน!AU38:AW38) -> 74.482358 | R38: =AVERAGE(รายเดือน!AX38:AZ38) -> 37.712563 | S38: =AVERAGE(รายเดือน!BA38:BC38) -> 46.392935 | T38: =AVERAGE(รายเดือน!BD38:BF38) -> 66.432903 | U38: =AVERAGE(รายเดือน!BG38:BI38) -> 57.129471 | V38: =AVERAGE(รายเดือน!BJ38:BL38) -> 24.103417 | W38: =AVERAGE(รายเดือน!BM38:BO38) -> 60.139543 | X38: =AVERAGE(รายเดือน!BP38:BR38) -> 66.041649 | Y38: =AVERAGE(รายเดือน!BS38:BU38) -> 33.01154 | Z38: =AVERAGE(รายเดือน!BV38:BX38) -> 26.305367 | AA38: =AVERAGE(รายเดือน!BY38:CA38) -> 35.268133 | AB38: =AVERAGE(รายเดือน!CB38:CD38) -> 34.315719 | AC38: =AVERAGE(รายเดือน!CE38:CG38) -> 27.220427 | AD38: =AVERAGE(รายเดือน!CH38:CJ38) -> 26.681466 | AE38: =AVERAGE(รายเดือน!CK38:CM38) -> 34.830134 | AF38: =AVERAGE(รายเดือน!CN38:CP38) -> 38.242986 | AG38: =AVERAGE(รายเดือน!CQ38:CS38) -> 29.542336 | AH38: =AVERAGE(รายเดือน!CT38:CV38) -> 28.919916 | AI38: =AVERAGE(รายเดือน!CW38:CY38) -> 27.535266 | AJ38: =AVERAGE(รายเดือน!CZ38:DB38) -> 31.738097 | AK38: =AVERAGE(รายเดือน!DC38:DE38) -> 31.098814 | AL38: =AVERAGE(รายเดือน!DF38:DH38) -> 41.176003 | AM38: =AVERAGE(รายเดือน!DI38:DK38) -> 46.892408 | AN38: =AVERAGE(รายเดือน!DL38:DN38) -> 17.21261 | AO38: =AVERAGE(รายเดือน!DO38:DQ38) -> 29.699649 | AP38: =AVERAGE(รายเดือน!DR38:DT38) -> 34.404941 | AQ38: =AVERAGE(รายเดือน!DU38:DW38) -> 39.640657 | AR38: =AVERAGE(รายเดือน!DX38:DZ38) -> 30.389733 | AS38: =AVERAGE(รายเดือน!EA38:EC38) -> 26.351899 | AT38: =AVERAGE(รายเดือน!ED38:EF38) -> 28.982457 | AU38: =AVERAGE(รายเดือน!EG38:EI38) -> 37.562721 | AV38: =AVERAGE(รายเดือน!EJ38:EL38) -> 30.287704 | AW38: =AVERAGE(รายเดือน!EM38:EO38) -> 27.471017 | AX38: =AVERAGE(รายเดือน!EP38:ER38) -> 30.023453 | AY38: =AVERAGE(รายเดือน!ES38:EU38) -> 36.127056 | AZ38: =AVERAGE(รายเดือน!EV38:EX38) -> 30.464014 | BA38: =AVERAGE(รายเดือน!EY38:FA38) -> 28.787577 | BB38: =AVERAGE(รายเดือน!FB38:FD38) -> 32.031377 | BC38: =AVERAGE(รายเดือน!FE38:FG38) -> 34.366093 | BD38: =AVERAGE(รายเดือน!FH38:FJ38) -> 36.637842 | BE38: =AVERAGE(รายเดือน!FK38:FM38) -> 33.080484 | BF38: =AVERAGE(รายเดือน!FN38:FP38) -> 34.806654 | BG38: =AVERAGE(รายเดือน!FQ38:FS38) -> 44.549367 | BH38: =AVERAGE(รายเดือน!FT38:FV38) -> 31.556024 | BI38: =AVERAGE(รายเดือน!FW38:FY38) -> 21.18278 | BJ38: =AVERAGE(รายเดือน!FZ38:GB38) -> 34.405368 | BK38: =AVERAGE(รายเดือน!GC38:GE38) -> 38.482264 | BL38: =AVERAGE(รายเดือน!GF38:GH38) -> 31.477901 | BM38: =AVERAGE(รายเดือน!GI38:GK38) -> 27.604637 | BN38: =AVERAGE(รายเดือน!GL38:GN38) -> 27.603143 | BO38: =AVERAGE(รายเดือน!GO38:GQ38) -> 41.371737 | BP38: =AVERAGE(รายเดือน!GR38:GT38) -> 40.844728 | BQ38: =AVERAGE(รายเดือน!GU38:GW38) -> 29.324404 | BR38: =AVERAGE(รายเดือน!GX38:GZ38) -> 34.936645 | BS38: =AVERAGE(รายเดือน!HA38:HC38) -> 39.837885 | BT38: =AVERAGE(รายเดือน!HD38:HF38) -> 37.931989 | BU38: =AVERAGE(รายเดือน!HG38:HI38) -> 31.65912 | BV38: =AVERAGE(รายเดือน!HJ38:HL38) -> 35.66387 | BW38: =AVERAGE(รายเดือน!HM38:HO38) -> 38.955482 | BX38: =AVERAGE(รายเดือน!HP38:HR38) -> 36.045518 | BY38: =AVERAGE(รายเดือน!HS38:HU38) -> 28.227271 | BZ38: =AVERAGE(รายเดือน!HV38:HX38) -> 31.081311 | CA38: =AVERAGE(รายเดือน!HY38:IA38) -> 40.293601 | CB38: =AVERAGE(รายเดือน!IB38:ID38) -> 31.06701 | CC38: =AVERAGE(รายเดือน!IE38:IG38) -> 25.082939 | CD38: =AVERAGE(รายเดือน!IH38:IJ38) -> 24.608012 | CE38: =AVERAGE(รายเดือน!IK38:IM38) -> 35.587668 | CF38: =AVERAGE(รายเดือน!IN38:IP38) -> 36.340506 | CG38: =AVERAGE(รายเดือน!IQ38:IS38) -> 31.008952 | CH38: =AVERAGE(รายเดือน!IT38:IV38) -> 32.495204 | CI38: =AVERAGE(รายเดือน!IW38:IY38) -> 43.905175
A39: ถั่วเหลือง | B39: =AVERAGE(รายเดือน!B39:D39) -> 161.18595 | C39: =AVERAGE(รายเดือน!E39:G39) -> 93.469842 | D39: =AVERAGE(รายเดือน!H39:J39) -> 58.096915 | E39: =AVERAGE(รายเดือน!K39:M39) -> 87.24729 | F39: =AVERAGE(รายเดือน!N39:P39) -> 152.71565 | G39: =AVERAGE(รายเดือน!Q39:S39) -> 125.1311 | H39: =AVERAGE(รายเดือน!T39:V39) -> 48.63152 | I39: =AVERAGE(รายเดือน!W39:Y39) -> 86.646901 | J39: =AVERAGE(รายเดือน!Z39:AB39) -> 151.1665 | K39: =AVERAGE(รายเดือน!AC39:AE39) -> 116.21977 | L39: =AVERAGE(รายเดือน!AF39:AH39) -> 46.122487 | M39: =AVERAGE(รายเดือน!AI39:AK39) -> 83.463356 | N39: =AVERAGE(รายเดือน!AL39:AN39) -> 139.29955 | O39: =AVERAGE(รายเดือน!AO39:AQ39) -> 108.50737 | P39: =AVERAGE(รายเดือน!AR39:AT39) -> 72.154174 | Q39: =AVERAGE(รายเดือน!AU39:AW39) -> 25.099602 | R39: =AVERAGE(รายเดือน!AX39:AZ39) -> 151.78542 | S39: =AVERAGE(รายเดือน!BA39:BC39) -> 100.80793 | T39: =AVERAGE(รายเดือน!BD39:BF39) -> 55.056055 | U39: =AVERAGE(รายเดือน!BG39:BI39) -> 42.627629 | V39: =AVERAGE(รายเดือน!BJ39:BL39) -> 130.36412 | W39: =AVERAGE(รายเดือน!BM39:BO39) -> 102.21069 | X39: =AVERAGE(รายเดือน!BP39:BR39) -> 54.837395 | Y39: =AVERAGE(รายเดือน!BS39:BU39) -> 30.532753 | Z39: =AVERAGE(รายเดือน!BV39:BX39) -> 81.269341 | AA39: =AVERAGE(รายเดือน!BY39:CA39) -> 118.4212 | AB39: =AVERAGE(รายเดือน!CB39:CD39) -> 25.727787 | AC39: =AVERAGE(รายเดือน!CE39:CG39) -> 32.180117 | AD39: =AVERAGE(รายเดือน!CH39:CJ39) -> 75.050496 | AE39: =AVERAGE(รายเดือน!CK39:CM39) -> 47.310294 | AF39: =AVERAGE(รายเดือน!CN39:CP39) -> 5.6332808 | AG39: =AVERAGE(รายเดือน!CQ39:CS39) -> 29.089224 | AH39: =AVERAGE(รายเดือน!CT39:CV39) -> 46.422681 | AI39: =AVERAGE(รายเดือน!CW39:CY39) -> 37.915315 | AJ39: =AVERAGE(รายเดือน!CZ39:DB39) -> 5.3664412 | AK39: =AVERAGE(รายเดือน!DC39:DE39) -> 30.951543 | AL39: =AVERAGE(รายเดือน!DF39:DH39) -> 25.872325 | AM39: =AVERAGE(รายเดือน!DI39:DK39) -> 36.684888 | AN39: =AVERAGE(รายเดือน!DL39:DN39) -> 5.8593533 | AO39: =AVERAGE(รายเดือน!DO39:DQ39) -> 36.401371 | AP39: =AVERAGE(รายเดือน!DR39:DT39) -> 16.162327 | AQ39: =AVERAGE(รายเดือน!DU39:DW39) -> 49.600667 | AR39: =AVERAGE(รายเดือน!DX39:DZ39) -> 4.9495043 | AS39: =AVERAGE(รายเดือน!EA39:EC39) -> 28.312795 | AT39: =AVERAGE(รายเดือน!ED39:EF39) -> 18.812193 | AU39: =AVERAGE(รายเดือน!EG39:EI39) -> 26.485685 | AV39: =AVERAGE(รายเดือน!EJ39:EL39) -> 7.0990457 | AW39: =AVERAGE(รายเดือน!EM39:EO39) -> 24.875382 | AX39: =AVERAGE(รายเดือน!EP39:ER39) -> 24.919855 | AY39: =AVERAGE(รายเดือน!ES39:EU39) -> 13.08626 | AZ39: =AVERAGE(รายเดือน!EV39:EX39) -> 3.9173538 | BA39: =AVERAGE(รายเดือน!EY39:FA39) -> 31.4111 | BB39: =AVERAGE(รายเดือน!FB39:FD39) -> 23.39294 | BC39: =AVERAGE(รายเดือน!FE39:FG39) -> 20.643009 | BD39: =AVERAGE(รายเดือน!FH39:FJ39) -> 4.1174836 | BE39: =AVERAGE(รายเดือน!FK39:FM39) -> 32.539609 | BF39: =AVERAGE(รายเดือน!FN39:FP39) -> 24.428796 | BG39: =AVERAGE(รายเดือน!FQ39:FS39) -> 15.195034 | BH39: =AVERAGE(รายเดือน!FT39:FV39) -> 3.1855462 | BI39: =AVERAGE(รายเดือน!FW39:FY39) -> 23.033281 | BJ39: =AVERAGE(รายเดือน!FZ39:GB39) -> 15.998351 | BK39: =AVERAGE(รายเดือน!GC39:GE39) -> 6.4869823 | BL39: =AVERAGE(รายเดือน!GF39:GH39) -> 2.6461595 | BM39: =AVERAGE(รายเดือน!GI39:GK39) -> 12.57667 | BN39: =AVERAGE(รายเดือน!GL39:GN39) -> 13.599555 | BO39: =AVERAGE(รายเดือน!GO39:GQ39) -> 13.427221 | BP39: =AVERAGE(รายเดือน!GR39:GT39) -> 1.1766886 | BQ39: =AVERAGE(รายเดือน!GU39:GW39) -> 10.132493 | BR39: =AVERAGE(รายเดือน!GX39:GZ39) -> 13.043639 | BS39: =AVERAGE(รายเดือน!HA39:HC39) -> 14.994904 | BT39: =AVERAGE(รายเดือน!HD39:HF39) -> 1.2341332 | BU39: =AVERAGE(รายเดือน!HG39:HI39) -> 8.7427036 | BV39: =AVERAGE(รายเดือน!HJ39:HL39) -> 9.8174743 | BW39: =AVERAGE(รายเดือน!HM39:HO39) -> 18.562031 | BX39: =AVERAGE(รายเดือน!HP39:HR39) -> 0.12044844 | BY39: =AVERAGE(รายเดือน!HS39:HU39) -> 5.9371815 | BZ39: =AVERAGE(รายเดือน!HV39:HX39) -> 20.239044 | CA39: =AVERAGE(รายเดือน!HY39:IA39) -> 5.0180673 | CB39: =AVERAGE(รายเดือน!IB39:ID39) -> 0.059297693 | CC39: =AVERAGE(รายเดือน!IE39:IG39) -> 3.7005467 | CD39: =AVERAGE(รายเดือน!IH39:IJ39) -> 8.9595108 | CE39: =AVERAGE(รายเดือน!IK39:IM39) -> 13.705179 | CF39: =AVERAGE(รายเดือน!IN39:IP39) -> 0.037061058 | CG39: =AVERAGE(รายเดือน!IQ39:IS39) -> 3.4744742 | CH39: =AVERAGE(รายเดือน!IT39:IV39) -> 8.8038544 | CI39: =AVERAGE(รายเดือน!IW39:IY39) -> 13.408691
A40: ถั่วลิสง | B40: =AVERAGE(รายเดือน!B40:D40) -> 114.88 | C40: =AVERAGE(รายเดือน!E40:G40) -> 203.264 | D40: =AVERAGE(รายเดือน!H40:J40) -> 30.176 | E40: =AVERAGE(รายเดือน!K40:M40) -> 51.68 | F40: =AVERAGE(รายเดือน!N40:P40) -> 116.44317 | G40: =AVERAGE(รายเดือน!Q40:S40) -> 206.02981 | H40: =AVERAGE(รายเดือน!T40:V40) -> 30.586604 | I40: =AVERAGE(รายเดือน!W40:Y40) -> 52.383208 | J40: =AVERAGE(รายเดือน!Z40:AB40) -> 99.667108 | K40: =AVERAGE(รายเดือน!AC40:AE40) -> 176.34693 | L40: =AVERAGE(รายเดือน!AF40:AH40) -> 26.179967 | M40: =AVERAGE(รายเดือน!AI40:AK40) -> 44.836317 | N40: =AVERAGE(รายเดือน!AL40:AN40) -> 89.117871 | O40: =AVERAGE(รายเดือน!AO40:AQ40) -> 157.68154 | P40: =AVERAGE(รายเดือน!AR40:AT40) -> 23.408956 | Q40: =AVERAGE(รายเดือน!AU40:AW40) -> 40.09063 | R40: =AVERAGE(รายเดือน!AX40:AZ40) -> 86.184559 | S40: =AVERAGE(รายเดือน!BA40:BC40) -> 152.49145 | T40: =AVERAGE(รายเดือน!BD40:BF40) -> 22.638451 | U40: =AVERAGE(รายเดือน!BG40:BI40) -> 38.771048 | V40: =AVERAGE(รายเดือน!BJ40:BL40) -> 79.39589 | W40: =AVERAGE(รายเดือน!BM40:BO40) -> 140.47986 | X40: =AVERAGE(รายเดือน!BP40:BR40) -> 20.855244 | Y40: =AVERAGE(รายเดือน!BS40:BU40) -> 35.717093 | Z40: =AVERAGE(รายเดือน!BV40:BX40) -> 87.825283 | AA40: =AVERAGE(รายเดือน!BY40:CA40) -> 155.39448 | AB40: =AVERAGE(รายเดือน!CB40:CD40) -> 23.069427 | AC40: =AVERAGE(รายเดือน!CE40:CG40) -> 39.509146 | AD40: =AVERAGE(รายเดือน!CH40:CJ40) -> 81.476094 | AE40: =AVERAGE(รายเดือน!CK40:CM40) -> 144.16049 | AF40: =AVERAGE(รายเดือน!CN40:CP40) -> 21.401659 | AG40: =AVERAGE(รายเดือน!CQ40:CS40) -> 36.652895 | AH40: =AVERAGE(รายเดือน!CT40:CV40) -> 76.302297 | AI40: =AVERAGE(รายเดือน!CW40:CY40) -> 135.00618 | AJ40: =AVERAGE(รายเดือน!CZ40:DB40) -> 20.042637 | AK40: =AVERAGE(รายเดือน!DC40:DE40) -> 34.325407 | AL40: =AVERAGE(รายเดือน!DF40:DH40) -> 66.914666 | AM40: =AVERAGE(รายเดือน!DI40:DK40) -> 118.39609 | AN40: =AVERAGE(รายเดือน!DL40:DN40) -> 17.576749 | AO40: =AVERAGE(รายเดือน!DO40:DQ40) -> 30.10228 | AP40: =AVERAGE(รายเดือน!DR40:DT40) -> 65.685846 | AQ40: =AVERAGE(รายเดือน!DU40:DW40) -> 116.22186 | AR40: =AVERAGE(รายเดือน!DX40:DZ40) -> 17.25397 | AS40: =AVERAGE(รายเดือน!EA40:EC40) -> 29.549482 | AT40: =AVERAGE(รายเดือน!ED40:EF40) -> 60.296618 | AU40: =AVERAGE(รายเดือน!EG40:EI40) -> 106.68638 | AV40: =AVERAGE(รายเดือน!EJ40:EL40) -> 15.83836 | AW40: =AVERAGE(รายเดือน!EM40:EO40) -> 27.12508 | AX40: =AVERAGE(รายเดือน!EP40:ER40) -> 61.911491 | AY40: =AVERAGE(รายเดือน!ES40:EU40) -> 109.54367 | AZ40: =AVERAGE(รายเดือน!EV40:EX40) -> 16.262545 | BA40: =AVERAGE(รายเดือน!EY40:FA40) -> 27.851548 | BB40: =AVERAGE(รายเดือน!FB40:FD40) -> 39.782687 | BC40: =AVERAGE(รายเดือน!FE40:FG40) -> 98.690003 | BD40: =AVERAGE(รายเดือน!FH40:FJ40) -> 27.648142 | BE40: =AVERAGE(รายเดือน!FK40:FM40) -> 25.589574 | BF40: =AVERAGE(รายเดือน!FN40:FP40) -> 53.606002 | BG40: =AVERAGE(รายเดือน!FQ40:FS40) -> 90.347109 | BH40: =AVERAGE(รายเดือน!FT40:FV40) -> 21.146128 | BI40: =AVERAGE(รายเดือน!FW40:FY40) -> 33.961472 | BJ40: =AVERAGE(รายเดือน!FZ40:GB40) -> 47.104261 | BK40: =AVERAGE(รายเดือน!GC40:GE40) -> 100.7402 | BL40: =AVERAGE(รายเดือน!GF40:GH40) -> 13.401486 | BM40: =AVERAGE(รายเดือน!GI40:GK40) -> 18.935025 | BN40: =AVERAGE(รายเดือน!GL40:GN40) -> 80.885584 | BO40: =AVERAGE(รายเดือน!GO40:GQ40) -> 116.75779 | BP40: =AVERAGE(รายเดือน!GR40:GT40) -> 4.6554595 | BQ40: =AVERAGE(รายเดือน!GU40:GW40) -> 19.583277 | BR40: =AVERAGE(รายเดือน!GX40:GZ40) -> 35.09755 | BS40: =AVERAGE(รายเดือน!HA40:HC40) -> 51.299095 | BT40: =AVERAGE(รายเดือน!HD40:HF40) -> 3.3159702 | BU40: =AVERAGE(รายเดือน!HG40:HI40) -> 15.685888 | BV40: =AVERAGE(รายเดือน!HJ40:HL40) -> 40.21198 | BW40: =AVERAGE(รายเดือน!HM40:HO40) -> 55.229935 | BX40: =AVERAGE(รายเดือน!HP40:HR40) -> 9.5941216 | BY40: =AVERAGE(รายเดือน!HS40:HU40) -> 12.536037 | BZ40: =AVERAGE(รายเดือน!HV40:HX40) -> 56.208828 | CA40: =AVERAGE(รายเดือน!HY40:IA40) -> 52.158372 | CB40: =AVERAGE(รายเดือน!IB40:ID40) -> 13.337379 | CC40: =AVERAGE(รายเดือน!IE40:IG40) -> 17.310561 | CD40: =AVERAGE(รายเดือน!IH40:IJ40) -> 55.873264 | CE40: =AVERAGE(รายเดือน!IK40:IM40) -> 56.31532 | CF40: =AVERAGE(รายเดือน!IN40:IP40) -> 9.2329399 | CG40: =AVERAGE(รายเดือน!IQ40:IS40) -> 23.831401 | CH40: =AVERAGE(รายเดือน!IT40:IV40) -> 40.149471 | CI40: =AVERAGE(รายเดือน!IW40:IY40) -> 64.392996
A41: 1.6 กลุ่มพืชเส้นใย | B41: =AVERAGE(รายเดือน!B41:D41) -> 14.156521 | C41: =AVERAGE(รายเดือน!E41:G41) -> 0 | D41: =AVERAGE(รายเดือน!H41:J41) -> 8.4983939 | E41: =AVERAGE(รายเดือน!K41:M41) -> 377.34509 | F41: =AVERAGE(รายเดือน!N41:P41) -> 26.697527 | G41: =AVERAGE(รายเดือน!Q41:S41) -> 0 | H41: =AVERAGE(รายเดือน!T41:V41) -> 4.8640325 | I41: =AVERAGE(รายเดือน!W41:Y41) -> 155.70369 | J41: =AVERAGE(รายเดือน!Z41:AB41) -> 9.9466733 | K41: =AVERAGE(รายเดือน!AC41:AE41) -> 0 | L41: =AVERAGE(รายเดือน!AF41:AH41) -> 2.6779505 | M41: =AVERAGE(รายเดือน!AI41:AK41) -> 84.710679 | N41: =AVERAGE(รายเดือน!AL41:AN41) -> 4.8093805 | O41: =AVERAGE(รายเดือน!AO41:AQ41) -> 0 | P41: =AVERAGE(รายเดือน!AR41:AT41) -> 1.3389752 | Q41: =AVERAGE(รายเดือน!AU41:AW41) -> 51.42758 | R41: =AVERAGE(รายเดือน!AX41:AZ41) -> 3.4704052 | S41: =AVERAGE(รายเดือน!BA41:BC41) -> 0 | T41: =AVERAGE(รายเดือน!BD41:BF41) -> 2.158756 | U41: =AVERAGE(รายเดือน!BG41:BI41) -> 72.60525 | V41: =AVERAGE(รายเดือน!BJ41:BL41) -> 3.4704052 | W41: =AVERAGE(รายเดือน!BM41:BO41) -> 0 | X41: =AVERAGE(รายเดือน!BP41:BR41) -> 2.158756 | Y41: =AVERAGE(รายเดือน!BS41:BU41) -> 72.60525 | Z41: =AVERAGE(รายเดือน!BV41:BX41) -> 3.4704052 | AA41: =AVERAGE(รายเดือน!BY41:CA41) -> 0 | AB41: =AVERAGE(รายเดือน!CB41:CD41) -> 2.158756 | AC41: =AVERAGE(รายเดือน!CE41:CG41) -> 72.60525 | AD41: =AVERAGE(รายเดือน!CH41:CJ41) -> 3.4704052 | AE41: =AVERAGE(รายเดือน!CK41:CM41) -> 0 | AF41: =AVERAGE(รายเดือน!CN41:CP41) -> 2.158756 | AG41: =AVERAGE(รายเดือน!CQ41:CS41) -> 72.60525 | AH41: =AVERAGE(รายเดือน!CT41:CV41) -> 3.4704052 | AI41: =AVERAGE(รายเดือน!CW41:CY41) -> 0 | AJ41: =AVERAGE(รายเดือน!CZ41:DB41) -> 0 | AK41: =AVERAGE(รายเดือน!DC41:DE41) -> 0 | AL41: =AVERAGE(รายเดือน!DF41:DH41) -> 0 | AM41: =AVERAGE(รายเดือน!DI41:DK41) -> 0 | AN41: =AVERAGE(รายเดือน!DL41:DN41) -> 0 | AO41: =AVERAGE(รายเดือน!DO41:DQ41) -> 0 | AP41: =AVERAGE(รายเดือน!DR41:DT41) -> 0 | AQ41: =AVERAGE(รายเดือน!DU41:DW41) -> 0 | AR41: =AVERAGE(รายเดือน!DX41:DZ41) -> 0 | AS41: =AVERAGE(รายเดือน!EA41:EC41) -> 0 | AT41: =AVERAGE(รายเดือน!ED41:EF41) -> 0 | AU41: =AVERAGE(รายเดือน!EG41:EI41) -> 0 | AV41: =AVERAGE(รายเดือน!EJ41:EL41) -> 0 | AW41: =AVERAGE(รายเดือน!EM41:EO41) -> 0 | AX41: =AVERAGE(รายเดือน!EP41:ER41) -> 0 | AY41: =AVERAGE(รายเดือน!ES41:EU41) -> 0 | AZ41: =AVERAGE(รายเดือน!EV41:EX41) -> 0 | BA41: =AVERAGE(รายเดือน!EY41:FA41) -> 0 | BB41: =AVERAGE(รายเดือน!FB41:FD41) -> 0 | BC41: =AVERAGE(รายเดือน!FE41:FG41) -> 0 | BD41: =AVERAGE(รายเดือน!FH41:FJ41) -> 0 | BE41: =AVERAGE(รายเดือน!FK41:FM41) -> 0 | BF41: =AVERAGE(รายเดือน!FN41:FP41) -> 0 | BG41: =AVERAGE(รายเดือน!FQ41:FS41) -> 0 | BH41: =AVERAGE(รายเดือน!FT41:FV41) -> 0 | BI41: =AVERAGE(รายเดือน!FW41:FY41) -> 0 | BJ41: =AVERAGE(รายเดือน!FZ41:GB41) -> 0 | BK41: =AVERAGE(รายเดือน!GC41:GE41) -> 0 | BL41: =AVERAGE(รายเดือน!GF41:GH41) -> 0 | BM41: =AVERAGE(รายเดือน!GI41:GK41) -> 0 | BN41: =AVERAGE(รายเดือน!GL41:GN41) -> 0 | BO41: =AVERAGE(รายเดือน!GO41:GQ41) -> 0 | BP41: =AVERAGE(รายเดือน!GR41:GT41) -> 0 | BQ41: =AVERAGE(รายเดือน!GU41:GW41) -> 0 | BR41: =AVERAGE(รายเดือน!GX41:GZ41) -> 0 | BS41: =AVERAGE(รายเดือน!HA41:HC41) -> 0 | BT41: =AVERAGE(รายเดือน!HD41:HF41) -> 0 | BU41: =AVERAGE(รายเดือน!HG41:HI41) -> 0 | BV41: =AVERAGE(รายเดือน!HJ41:HL41) -> 0 | BW41: =AVERAGE(รายเดือน!HM41:HO41) -> 0 | BX41: =AVERAGE(รายเดือน!HP41:HR41) -> 0 | BY41: =AVERAGE(รายเดือน!HS41:HU41) -> 0 | BZ41: =AVERAGE(รายเดือน!HV41:HX41) -> 0 | CA41: =AVERAGE(รายเดือน!HY41:IA41) -> 0 | CB41: =AVERAGE(รายเดือน!IB41:ID41) -> 0 | CC41: =AVERAGE(รายเดือน!IE41:IG41) -> 0 | CD41: =AVERAGE(รายเดือน!IH41:IJ41) -> 0 | CE41: =AVERAGE(รายเดือน!IK41:IM41) -> 0 | CF41: =AVERAGE(รายเดือน!IN41:IP41) -> 0 | CG41: =AVERAGE(รายเดือน!IQ41:IS41) -> 0 | CH41: =AVERAGE(รายเดือน!IT41:IV41) -> 0 | CI41: =AVERAGE(รายเดือน!IW41:IY41) -> 0
A42: ฝ้ายรวมเมล็ดชนิดคละ | B42: =AVERAGE(รายเดือน!B42:D42) -> 14.156521 | C42: =AVERAGE(รายเดือน!E42:G42) -> 0 | D42: =AVERAGE(รายเดือน!H42:J42) -> 8.4983939 | E42: =AVERAGE(รายเดือน!K42:M42) -> 377.34509 | F42: =AVERAGE(รายเดือน!N42:P42) -> 26.697527 | G42: =AVERAGE(รายเดือน!Q42:S42) -> 0 | H42: =AVERAGE(รายเดือน!T42:V42) -> 4.8640325 | I42: =AVERAGE(รายเดือน!W42:Y42) -> 155.70369 | J42: =AVERAGE(รายเดือน!Z42:AB42) -> 9.9466733 | K42: =AVERAGE(รายเดือน!AC42:AE42) -> 0 | L42: =AVERAGE(รายเดือน!AF42:AH42) -> 2.6779505 | M42: =AVERAGE(รายเดือน!AI42:AK42) -> 84.710679 | N42: =AVERAGE(รายเดือน!AL42:AN42) -> 4.8093805 | O42: =AVERAGE(รายเดือน!AO42:AQ42) -> 0 | P42: =AVERAGE(รายเดือน!AR42:AT42) -> 1.3389752 | Q42: =AVERAGE(รายเดือน!AU42:AW42) -> 51.42758 | R42: =AVERAGE(รายเดือน!AX42:AZ42) -> 3.4704052 | S42: =AVERAGE(รายเดือน!BA42:BC42) -> 0 | T42: =AVERAGE(รายเดือน!BD42:BF42) -> 2.158756 | U42: =AVERAGE(รายเดือน!BG42:BI42) -> 72.60525 | V42: =AVERAGE(รายเดือน!BJ42:BL42) -> 3.4704052 | W42: =AVERAGE(รายเดือน!BM42:BO42) -> 0 | X42: =AVERAGE(รายเดือน!BP42:BR42) -> 2.158756 | Y42: =AVERAGE(รายเดือน!BS42:BU42) -> 72.60525 | Z42: =AVERAGE(รายเดือน!BV42:BX42) -> 3.4704052 | AA42: =AVERAGE(รายเดือน!BY42:CA42) -> 0 | AB42: =AVERAGE(รายเดือน!CB42:CD42) -> 2.158756 | AC42: =AVERAGE(รายเดือน!CE42:CG42) -> 72.60525 | AD42: =AVERAGE(รายเดือน!CH42:CJ42) -> 3.4704052 | AE42: =AVERAGE(รายเดือน!CK42:CM42) -> 0 | AF42: =AVERAGE(รายเดือน!CN42:CP42) -> 2.158756 | AG42: =AVERAGE(รายเดือน!CQ42:CS42) -> 72.60525 | AH42: =AVERAGE(รายเดือน!CT42:CV42) -> 3.4704052 | AI42: =AVERAGE(รายเดือน!CW42:CY42) -> 0 | AJ42: =AVERAGE(รายเดือน!CZ42:DB42) -> 0 | AK42: =AVERAGE(รายเดือน!DC42:DE42) -> 0 | AL42: =AVERAGE(รายเดือน!DF42:DH42) -> 0 | AM42: =AVERAGE(รายเดือน!DI42:DK42) -> 0 | AN42: =AVERAGE(รายเดือน!DL42:DN42) -> 0 | AO42: =AVERAGE(รายเดือน!DO42:DQ42) -> 0 | AP42: =AVERAGE(รายเดือน!DR42:DT42) -> 0 | AQ42: =AVERAGE(รายเดือน!DU42:DW42) -> 0 | AR42: =AVERAGE(รายเดือน!DX42:DZ42) -> 0 | AS42: =AVERAGE(รายเดือน!EA42:EC42) -> 0 | AT42: =AVERAGE(รายเดือน!ED42:EF42) -> 0 | AU42: =AVERAGE(รายเดือน!EG42:EI42) -> 0 | AV42: =AVERAGE(รายเดือน!EJ42:EL42) -> 0 | AW42: =AVERAGE(รายเดือน!EM42:EO42) -> 0 | AX42: =AVERAGE(รายเดือน!EP42:ER42) -> 0 | AY42: =AVERAGE(รายเดือน!ES42:EU42) -> 0 | AZ42: =AVERAGE(รายเดือน!EV42:EX42) -> 0 | BA42: =AVERAGE(รายเดือน!EY42:FA42) -> 0 | BB42: =AVERAGE(รายเดือน!FB42:FD42) -> 0 | BC42: =AVERAGE(รายเดือน!FE42:FG42) -> 0 | BD42: =AVERAGE(รายเดือน!FH42:FJ42) -> 0 | BE42: =AVERAGE(รายเดือน!FK42:FM42) -> 0 | BF42: =AVERAGE(รายเดือน!FN42:FP42) -> 0 | BG42: =AVERAGE(รายเดือน!FQ42:FS42) -> 0 | BH42: =AVERAGE(รายเดือน!FT42:FV42) -> 0 | BI42: =AVERAGE(รายเดือน!FW42:FY42) -> 0 | BJ42: =AVERAGE(รายเดือน!FZ42:GB42) -> 0 | BK42: =AVERAGE(รายเดือน!GC42:GE42) -> 0 | BL42: =AVERAGE(รายเดือน!GF42:GH42) -> 0 | BM42: =AVERAGE(รายเดือน!GI42:GK42) -> 0 | BN42: =AVERAGE(รายเดือน!GL42:GN42) -> 0 | BO42: =AVERAGE(รายเดือน!GO42:GQ42) -> 0 | BP42: =AVERAGE(รายเดือน!GR42:GT42) -> 0 | BQ42: =AVERAGE(รายเดือน!GU42:GW42) -> 0 | BR42: =AVERAGE(รายเดือน!GX42:GZ42) -> 0 | BS42: =AVERAGE(รายเดือน!HA42:HC42) -> 0 | BT42: =AVERAGE(รายเดือน!HD42:HF42) -> 0 | BU42: =AVERAGE(รายเดือน!HG42:HI42) -> 0 | BV42: =AVERAGE(รายเดือน!HJ42:HL42) -> 0 | BW42: =AVERAGE(รายเดือน!HM42:HO42) -> 0 | BX42: =AVERAGE(รายเดือน!HP42:HR42) -> 0 | BY42: =AVERAGE(รายเดือน!HS42:HU42) -> 0 | BZ42: =AVERAGE(รายเดือน!HV42:HX42) -> 0 | CA42: =AVERAGE(รายเดือน!HY42:IA42) -> 0 | CB42: =AVERAGE(รายเดือน!IB42:ID42) -> 0 | CC42: =AVERAGE(รายเดือน!IE42:IG42) -> 0 | CD42: =AVERAGE(รายเดือน!IH42:IJ42) -> 0 | CE42: =AVERAGE(รายเดือน!IK42:IM42) -> 0 | CF42: =AVERAGE(รายเดือน!IN42:IP42) -> 0 | CG42: =AVERAGE(รายเดือน!IQ42:IS42) -> 0 | CH42: =AVERAGE(รายเดือน!IT42:IV42) -> 0 | CI42: =AVERAGE(รายเดือน!IW42:IY42) -> 0
A43: 1.6 กลุ่มพืชไม้ดอก | B43: =AVERAGE(รายเดือน!B43:D43) -> 165.47309 | C43: =AVERAGE(รายเดือน!E43:G43) -> 51.690338 | D43: =AVERAGE(รายเดือน!H43:J43) -> 48.089618 | E43: =AVERAGE(รายเดือน!K43:M43) -> 134.74695 | F43: =AVERAGE(รายเดือน!N43:P43) -> 166.12717 | G43: =AVERAGE(รายเดือน!Q43:S43) -> 51.894657 | H43: =AVERAGE(รายเดือน!T43:V43) -> 48.279704 | I43: =AVERAGE(รายเดือน!W43:Y43) -> 135.27957 | J43: =AVERAGE(รายเดือน!Z43:AB43) -> 175.7648 | K43: =AVERAGE(รายเดือน!AC43:AE43) -> 54.905251 | L43: =AVERAGE(รายเดือน!AF43:AH43) -> 51.080582 | M43: =AVERAGE(รายเดือน!AI43:AK43) -> 143.12762 | N43: =AVERAGE(รายเดือน!AL43:AN43) -> 187.31044 | O43: =AVERAGE(รายเดือน!AO43:AQ43) -> 58.511869 | P43: =AVERAGE(รายเดือน!AR43:AT43) -> 54.435965 | Q43: =AVERAGE(รายเดือน!AU43:AW43) -> 152.52939 | R43: =AVERAGE(รายเดือน!AX43:AZ43) -> 189.43527 | S43: =AVERAGE(รายเดือน!BA43:BC43) -> 59.175622 | T43: =AVERAGE(รายเดือน!BD43:BF43) -> 55.053481 | U43: =AVERAGE(รายเดือน!BG43:BI43) -> 154.25967 | V43: =AVERAGE(รายเดือน!BJ43:BL43) -> 195.23158 | W43: =AVERAGE(รายเดือน!BM43:BO43) -> 60.986268 | X43: =AVERAGE(รายเดือน!BP43:BR43) -> 56.737999 | Y43: =AVERAGE(รายเดือน!BS43:BU43) -> 158.97968 | Z43: =AVERAGE(รายเดือน!BV43:BX43) -> 172.26316 | AA43: =AVERAGE(รายเดือน!BY43:CA43) -> 53.811413 | AB43: =AVERAGE(รายเดือน!CB43:CD43) -> 50.06294 | AC43: =AVERAGE(รายเดือน!CE43:CG43) -> 140.27619 | AD43: =AVERAGE(รายเดือน!CH43:CJ43) -> 135.66402 | AE43: =AVERAGE(รายเดือน!CK43:CM43) -> 42.378604 | AF43: =AVERAGE(รายเดือน!CN43:CP43) -> 39.426534 | AG43: =AVERAGE(รายเดือน!CQ43:CS43) -> 110.47302 | AH43: =AVERAGE(รายเดือน!CT43:CV43) -> 71.364926 | AI43: =AVERAGE(รายเดือน!CW43:CY43) -> 71.45889 | AJ43: =AVERAGE(รายเดือน!CZ43:DB43) -> 149.33939 | AK43: =AVERAGE(รายเดือน!DC43:DE43) -> 125.47958 | AL43: =AVERAGE(รายเดือน!DF43:DH43) -> 90.393833 | AM43: =AVERAGE(รายเดือน!DI43:DK43) -> 92.979756 | AN43: =AVERAGE(รายเดือน!DL43:DN43) -> 137.48186 | AO43: =AVERAGE(รายเดือน!DO43:DQ43) -> 114.20821 | AP43: =AVERAGE(รายเดือน!DR43:DT43) -> 94.062152 | AQ43: =AVERAGE(รายเดือน!DU43:DW43) -> 91.240637 | AR43: =AVERAGE(รายเดือน!DX43:DZ43) -> 138.38527 | AS43: =AVERAGE(รายเดือน!EA43:EC43) -> 114.68629 | AT43: =AVERAGE(รายเดือน!ED43:EF43) -> 91.76004 | AU43: =AVERAGE(รายเดือน!EG43:EI43) -> 77.898539 | AV43: =AVERAGE(รายเดือน!EJ43:EL43) -> 125.56948 | AW43: =AVERAGE(รายเดือน!EM43:EO43) -> 117.30733 | AX43: =AVERAGE(รายเดือน!EP43:ER43) -> 80.95914 | AY43: =AVERAGE(รายเดือน!ES43:EU43) -> 82.723679 | AZ43: =AVERAGE(รายเดือน!EV43:EX43) -> 133.44107 | BA43: =AVERAGE(รายเดือน!EY43:FA43) -> 104.83283 | BB43: =AVERAGE(รายเดือน!FB43:FD43) -> 105.12983 | BC43: =AVERAGE(รายเดือน!FE43:FG43) -> 90.594222 | BD43: =AVERAGE(รายเดือน!FH43:FJ43) -> 113.76035 | BE43: =AVERAGE(รายเดือน!FK43:FM43) -> 111.09607 | BF43: =AVERAGE(รายเดือน!FN43:FP43) -> 86.891835 | BG43: =AVERAGE(รายเดือน!FQ43:FS43) -> 92.40698 | BH43: =AVERAGE(รายเดือน!FT43:FV43) -> 130.5191 | BI43: =AVERAGE(รายเดือน!FW43:FY43) -> 116.41746 | BJ43: =AVERAGE(รายเดือน!FZ43:GB43) -> 74.114302 | BK43: =AVERAGE(รายเดือน!GC43:GE43) -> 57.191326 | BL43: =AVERAGE(รายเดือน!GF43:GH43) -> 78.60881 | BM43: =AVERAGE(รายเดือน!GI43:GK43) -> 129.05628 | BN43: =AVERAGE(รายเดือน!GL43:GN43) -> 68.074512 | BO43: =AVERAGE(รายเดือน!GO43:GQ43) -> 67.751305 | BP43: =AVERAGE(รายเดือน!GR43:GT43) -> 81.317289 | BQ43: =AVERAGE(รายเดือน!GU43:GW43) -> 77.49121 | BR43: =AVERAGE(รายเดือน!GX43:GZ43) -> 69.943875 | BS43: =AVERAGE(รายเดือน!HA43:HC43) -> 68.423926 | BT43: =AVERAGE(รายเดือน!HD43:HF43) -> 83.972833 | BU43: =AVERAGE(รายเดือน!HG43:HI43) -> 87.877531 | BV43: =AVERAGE(รายเดือน!HJ43:HL43) -> 67.330261 | BW43: =AVERAGE(รายเดือน!HM43:HO43) -> 61.459064 | BX43: =AVERAGE(รายเดือน!HP43:HR43) -> 78.355834 | BY43: =AVERAGE(รายเดือน!HS43:HU43) -> 94.733376 | BZ43: =AVERAGE(รายเดือน!HV43:HX43) -> 64.134874 | CA43: =AVERAGE(รายเดือน!HY43:IA43) -> 58.701492 | CB43: =AVERAGE(รายเดือน!IB43:ID43) -> 79.482868 | CC43: =AVERAGE(รายเดือน!IE43:IG43) -> 85.807255 | CD43: =AVERAGE(รายเดือน!IH43:IJ43) -> 67.486449 | CE43: =AVERAGE(รายเดือน!IK43:IM43) -> 57.499596 | CF43: =AVERAGE(รายเดือน!IN43:IP43) -> 80.480706 | CG43: =AVERAGE(รายเดือน!IQ43:IS43) -> 88.03267 | CH43: =AVERAGE(รายเดือน!IT43:IV43) -> 67.864864 | CI43: =AVERAGE(รายเดือน!IW43:IY43) -> 54.857942
A44: กล้วยไม้ | B44: =AVERAGE(รายเดือน!B44:D44) -> 165.47309 | C44: =AVERAGE(รายเดือน!E44:G44) -> 51.690338 | D44: =AVERAGE(รายเดือน!H44:J44) -> 48.089618 | E44: =AVERAGE(รายเดือน!K44:M44) -> 134.74695 | F44: =AVERAGE(รายเดือน!N44:P44) -> 166.12717 | G44: =AVERAGE(รายเดือน!Q44:S44) -> 51.894657 | H44: =AVERAGE(รายเดือน!T44:V44) -> 48.279704 | I44: =AVERAGE(รายเดือน!W44:Y44) -> 135.27957 | J44: =AVERAGE(รายเดือน!Z44:AB44) -> 175.7648 | K44: =AVERAGE(รายเดือน!AC44:AE44) -> 54.905251 | L44: =AVERAGE(รายเดือน!AF44:AH44) -> 51.080582 | M44: =AVERAGE(รายเดือน!AI44:AK44) -> 143.12762 | N44: =AVERAGE(รายเดือน!AL44:AN44) -> 187.31044 | O44: =AVERAGE(รายเดือน!AO44:AQ44) -> 58.511869 | P44: =AVERAGE(รายเดือน!AR44:AT44) -> 54.435965 | Q44: =AVERAGE(รายเดือน!AU44:AW44) -> 152.52939 | R44: =AVERAGE(รายเดือน!AX44:AZ44) -> 189.43527 | S44: =AVERAGE(รายเดือน!BA44:BC44) -> 59.175622 | T44: =AVERAGE(รายเดือน!BD44:BF44) -> 55.053481 | U44: =AVERAGE(รายเดือน!BG44:BI44) -> 154.25967 | V44: =AVERAGE(รายเดือน!BJ44:BL44) -> 195.23158 | W44: =AVERAGE(รายเดือน!BM44:BO44) -> 60.986268 | X44: =AVERAGE(รายเดือน!BP44:BR44) -> 56.737999 | Y44: =AVERAGE(รายเดือน!BS44:BU44) -> 158.97968 | Z44: =AVERAGE(รายเดือน!BV44:BX44) -> 172.26316 | AA44: =AVERAGE(รายเดือน!BY44:CA44) -> 53.811413 | AB44: =AVERAGE(รายเดือน!CB44:CD44) -> 50.06294 | AC44: =AVERAGE(รายเดือน!CE44:CG44) -> 140.27619 | AD44: =AVERAGE(รายเดือน!CH44:CJ44) -> 135.66402 | AE44: =AVERAGE(รายเดือน!CK44:CM44) -> 42.378604 | AF44: =AVERAGE(รายเดือน!CN44:CP44) -> 39.426534 | AG44: =AVERAGE(รายเดือน!CQ44:CS44) -> 110.47302 | AH44: =AVERAGE(รายเดือน!CT44:CV44) -> 71.364926 | AI44: =AVERAGE(รายเดือน!CW44:CY44) -> 71.45889 | AJ44: =AVERAGE(รายเดือน!CZ44:DB44) -> 149.33939 | AK44: =AVERAGE(รายเดือน!DC44:DE44) -> 125.47958 | AL44: =AVERAGE(รายเดือน!DF44:DH44) -> 90.393833 | AM44: =AVERAGE(รายเดือน!DI44:DK44) -> 92.979756 | AN44: =AVERAGE(รายเดือน!DL44:DN44) -> 137.48186 | AO44: =AVERAGE(รายเดือน!DO44:DQ44) -> 114.20821 | AP44: =AVERAGE(รายเดือน!DR44:DT44) -> 94.062152 | AQ44: =AVERAGE(รายเดือน!DU44:DW44) -> 91.240637 | AR44: =AVERAGE(รายเดือน!DX44:DZ44) -> 138.38527 | AS44: =AVERAGE(รายเดือน!EA44:EC44) -> 114.68629 | AT44: =AVERAGE(รายเดือน!ED44:EF44) -> 91.76004 | AU44: =AVERAGE(รายเดือน!EG44:EI44) -> 77.898539 | AV44: =AVERAGE(รายเดือน!EJ44:EL44) -> 125.56948 | AW44: =AVERAGE(รายเดือน!EM44:EO44) -> 117.30733 | AX44: =AVERAGE(รายเดือน!EP44:ER44) -> 80.95914 | AY44: =AVERAGE(รายเดือน!ES44:EU44) -> 82.723679 | AZ44: =AVERAGE(รายเดือน!EV44:EX44) -> 133.44107 | BA44: =AVERAGE(รายเดือน!EY44:FA44) -> 104.83283 | BB44: =AVERAGE(รายเดือน!FB44:FD44) -> 105.12983 | BC44: =AVERAGE(รายเดือน!FE44:FG44) -> 90.594222 | BD44: =AVERAGE(รายเดือน!FH44:FJ44) -> 113.76035 | BE44: =AVERAGE(รายเดือน!FK44:FM44) -> 111.09607 | BF44: =AVERAGE(รายเดือน!FN44:FP44) -> 86.891835 | BG44: =AVERAGE(รายเดือน!FQ44:FS44) -> 92.40698 | BH44: =AVERAGE(รายเดือน!FT44:FV44) -> 130.5191 | BI44: =AVERAGE(รายเดือน!FW44:FY44) -> 116.41746 | BJ44: =AVERAGE(รายเดือน!FZ44:GB44) -> 74.114302 | BK44: =AVERAGE(รายเดือน!GC44:GE44) -> 57.191326 | BL44: =AVERAGE(รายเดือน!GF44:GH44) -> 78.60881 | BM44: =AVERAGE(รายเดือน!GI44:GK44) -> 129.05628 | BN44: =AVERAGE(รายเดือน!GL44:GN44) -> 68.074512 | BO44: =AVERAGE(รายเดือน!GO44:GQ44) -> 67.751305 | BP44: =AVERAGE(รายเดือน!GR44:GT44) -> 81.317289 | BQ44: =AVERAGE(รายเดือน!GU44:GW44) -> 77.49121 | BR44: =AVERAGE(รายเดือน!GX44:GZ44) -> 69.943875 | BS44: =AVERAGE(รายเดือน!HA44:HC44) -> 68.423926 | BT44: =AVERAGE(รายเดือน!HD44:HF44) -> 83.972833 | BU44: =AVERAGE(รายเดือน!HG44:HI44) -> 87.877531 | BV44: =AVERAGE(รายเดือน!HJ44:HL44) -> 67.330261 | BW44: =AVERAGE(รายเดือน!HM44:HO44) -> 61.459064 | BX44: =AVERAGE(รายเดือน!HP44:HR44) -> 78.355834 | BY44: =AVERAGE(รายเดือน!HS44:HU44) -> 94.733376 | BZ44: =AVERAGE(รายเดือน!HV44:HX44) -> 64.134874 | CA44: =AVERAGE(รายเดือน!HY44:IA44) -> 58.701492 | CB44: =AVERAGE(รายเดือน!IB44:ID44) -> 79.482868 | CC44: =AVERAGE(รายเดือน!IE44:IG44) -> 85.807255 | CD44: =AVERAGE(รายเดือน!IH44:IJ44) -> 67.486449 | CE44: =AVERAGE(รายเดือน!IK44:IM44) -> 57.499596 | CF44: =AVERAGE(รายเดือน!IN44:IP44) -> 80.480706 | CG44: =AVERAGE(รายเดือน!IQ44:IS44) -> 88.03267 | CH44: =AVERAGE(รายเดือน!IT44:IV44) -> 67.864864 | CI44: =AVERAGE(รายเดือน!IW44:IY44) -> 54.857942
A45: 2. หมวดปศุสัตว์ | B45: =AVERAGE(รายเดือน!B45:D45) -> 98.114601 | C45: =AVERAGE(รายเดือน!E45:G45) -> 102.91441 | D45: =AVERAGE(รายเดือน!H45:J45) -> 97.670461 | E45: =AVERAGE(รายเดือน!K45:M45) -> 101.30052 | F45: =AVERAGE(รายเดือน!N45:P45) -> 103.40557 | G45: =AVERAGE(รายเดือน!Q45:S45) -> 103.8235 | H45: =AVERAGE(รายเดือน!T45:V45) -> 109.4017 | I45: =AVERAGE(รายเดือน!W45:Y45) -> 111.03461 | J45: =AVERAGE(รายเดือน!Z45:AB45) -> 110.51164 | K45: =AVERAGE(รายเดือน!AC45:AE45) -> 109.2958 | L45: =AVERAGE(รายเดือน!AF45:AH45) -> 111.38448 | M45: =AVERAGE(รายเดือน!AI45:AK45) -> 108.76793 | N45: =AVERAGE(รายเดือน!AL45:AN45) -> 106.09943 | O45: =AVERAGE(รายเดือน!AO45:AQ45) -> 105.8901 | P45: =AVERAGE(รายเดือน!AR45:AT45) -> 107.50863 | Q45: =AVERAGE(รายเดือน!AU45:AW45) -> 109.25359 | R45: =AVERAGE(รายเดือน!AX45:AZ45) -> 103.9241 | S45: =AVERAGE(รายเดือน!BA45:BC45) -> 105.97829 | T45: =AVERAGE(รายเดือน!BD45:BF45) -> 108.11971 | U45: =AVERAGE(รายเดือน!BG45:BI45) -> 106.52224 | V45: =AVERAGE(รายเดือน!BJ45:BL45) -> 109.36037 | W45: =AVERAGE(รายเดือน!BM45:BO45) -> 108.98328 | X45: =AVERAGE(รายเดือน!BP45:BR45) -> 109.00953 | Y45: =AVERAGE(รายเดือน!BS45:BU45) -> 109.74898 | Z45: =AVERAGE(รายเดือน!BV45:BX45) -> 106.1961 | AA45: =AVERAGE(รายเดือน!BY45:CA45) -> 110.12965 | AB45: =AVERAGE(รายเดือน!CB45:CD45) -> 108.25573 | AC45: =AVERAGE(รายเดือน!CE45:CG45) -> 113.4078 | AD45: =AVERAGE(รายเดือน!CH45:CJ45) -> 121.21319 | AE45: =AVERAGE(รายเดือน!CK45:CM45) -> 123.24316 | AF45: =AVERAGE(รายเดือน!CN45:CP45) -> 124.65125 | AG45: =AVERAGE(รายเดือน!CQ45:CS45) -> 125.60929 | AH45: =AVERAGE(รายเดือน!CT45:CV45) -> 127.18314 | AI45: =AVERAGE(รายเดือน!CW45:CY45) -> 126.66633 | AJ45: =AVERAGE(รายเดือน!CZ45:DB45) -> 127.20568 | AK45: =AVERAGE(รายเดือน!DC45:DE45) -> 127.20382 | AL45: =AVERAGE(รายเดือน!DF45:DH45) -> 129.81344 | AM45: =AVERAGE(รายเดือน!DI45:DK45) -> 130.77508 | AN45: =AVERAGE(รายเดือน!DL45:DN45) -> 134.32481 | AO45: =AVERAGE(รายเดือน!DO45:DQ45) -> 141.20817 | AP45: =AVERAGE(รายเดือน!DR45:DT45) -> 136.4961 | AQ45: =AVERAGE(รายเดือน!DU45:DW45) -> 148.80652 | AR45: =AVERAGE(รายเดือน!DX45:DZ45) -> 147.86603 | AS45: =AVERAGE(รายเดือน!EA45:EC45) -> 150.35082 | AT45: =AVERAGE(รายเดือน!ED45:EF45) -> 150.81341 | AU45: =AVERAGE(รายเดือน!EG45:EI45) -> 159.32096 | AV45: =AVERAGE(รายเดือน!EJ45:EL45) -> 158.4648 | AW45: =AVERAGE(รายเดือน!EM45:EO45) -> 165.50469 | AX45: =AVERAGE(รายเดือน!EP45:ER45) -> 165.90307 | AY45: =AVERAGE(รายเดือน!ES45:EU45) -> 162.66334 | AZ45: =AVERAGE(รายเดือน!EV45:EX45) -> 164.42639 | BA45: =AVERAGE(รายเดือน!EY45:FA45) -> 166.40454 | BB45: =AVERAGE(รายเดือน!FB45:FD45) -> 169.27102 | BC45: =AVERAGE(รายเดือน!FE45:FG45) -> 171.3164 | BD45: =AVERAGE(รายเดือน!FH45:FJ45) -> 171.58598 | BE45: =AVERAGE(รายเดือน!FK45:FM45) -> 173.02945 | BF45: =AVERAGE(รายเดือน!FN45:FP45) -> 176.32824 | BG45: =AVERAGE(รายเดือน!FQ45:FS45) -> 177.35446 | BH45: =AVERAGE(รายเดือน!FT45:FV45) -> 179.56365 | BI45: =AVERAGE(รายเดือน!FW45:FY45) -> 183.99243 | BJ45: =AVERAGE(รายเดือน!FZ45:GB45) -> 175.12178 | BK45: =AVERAGE(รายเดือน!GC45:GE45) -> 179.07179 | BL45: =AVERAGE(รายเดือน!GF45:GH45) -> 180.10537 | BM45: =AVERAGE(รายเดือน!GI45:GK45) -> 184.30918 | BN45: =AVERAGE(รายเดือน!GL45:GN45) -> 174.65589 | BO45: =AVERAGE(รายเดือน!GO45:GQ45) -> 174.418 | BP45: =AVERAGE(รายเดือน!GR45:GT45) -> 172.4674 | BQ45: =AVERAGE(รายเดือน!GU45:GW45) -> 163.30738 | BR45: =AVERAGE(รายเดือน!GX45:GZ45) -> 171.40259 | BS45: =AVERAGE(รายเดือน!HA45:HC45) -> 170.88581 | BT45: =AVERAGE(รายเดือน!HD45:HF45) -> 172.4734 | BU45: =AVERAGE(รายเดือน!HG45:HI45) -> 176.87955 | BV45: =AVERAGE(รายเดือน!HJ45:HL45) -> 180.7381 | BW45: =AVERAGE(รายเดือน!HM45:HO45) -> 186.12659 | BX45: =AVERAGE(รายเดือน!HP45:HR45) -> 191.30103 | BY45: =AVERAGE(รายเดือน!HS45:HU45) -> 203.28774 | BZ45: =AVERAGE(รายเดือน!HV45:HX45) -> 198.09118 | CA45: =AVERAGE(รายเดือน!HY45:IA45) -> 198.27409 | CB45: =AVERAGE(รายเดือน!IB45:ID45) -> 207.32162 | CC45: =AVERAGE(รายเดือน!IE45:IG45) -> 208.07734 | CD45: =AVERAGE(รายเดือน!IH45:IJ45) -> 200.30762 | CE45: =AVERAGE(รายเดือน!IK45:IM45) -> 200.73953 | CF45: =AVERAGE(รายเดือน!IN45:IP45) -> 209.83962 | CG45: =AVERAGE(รายเดือน!IQ45:IS45) -> 216.65586 | CH45: =AVERAGE(รายเดือน!IT45:IV45) -> 203.03275 | CI45: =AVERAGE(รายเดือน!IW45:IY45) -> 204.45464
A46: สุกร | B46: =AVERAGE(รายเดือน!B46:D46) -> 93.638441 | C46: =AVERAGE(รายเดือน!E46:G46) -> 106.35735 | D46: =AVERAGE(รายเดือน!H46:J46) -> 98.761633 | E46: =AVERAGE(รายเดือน!K46:M46) -> 101.24258 | F46: =AVERAGE(รายเดือน!N46:P46) -> 105.8002 | G46: =AVERAGE(รายเดือน!Q46:S46) -> 101.93313 | H46: =AVERAGE(รายเดือน!T46:V46) -> 111.05758 | I46: =AVERAGE(รายเดือน!W46:Y46) -> 115.70671 | J46: =AVERAGE(รายเดือน!Z46:AB46) -> 113.5691 | K46: =AVERAGE(รายเดือน!AC46:AE46) -> 111.31166 | L46: =AVERAGE(รายเดือน!AF46:AH46) -> 112.81234 | M46: =AVERAGE(รายเดือน!AI46:AK46) -> 104.31447 | N46: =AVERAGE(รายเดือน!AL46:AN46) -> 102.26481 | O46: =AVERAGE(รายเดือน!AO46:AQ46) -> 98.505267 | P46: =AVERAGE(รายเดือน!AR46:AT46) -> 97.114796 | Q46: =AVERAGE(รายเดือน!AU46:AW46) -> 96.581014 | R46: =AVERAGE(รายเดือน!AX46:AZ46) -> 96.123659 | S46: =AVERAGE(รายเดือน!BA46:BC46) -> 95.863866 | T46: =AVERAGE(รายเดือน!BD46:BF46) -> 97.898647 | U46: =AVERAGE(รายเดือน!BG46:BI46) -> 94.2246 | V46: =AVERAGE(รายเดือน!BJ46:BL46) -> 100.41288 | W46: =AVERAGE(รายเดือน!BM46:BO46) -> 97.653441 | X46: =AVERAGE(รายเดือน!BP46:BR46) -> 99.98538 | Y46: =AVERAGE(รายเดือน!BS46:BU46) -> 96.783732 | Z46: =AVERAGE(รายเดือน!BV46:BX46) -> 93.363376 | AA46: =AVERAGE(รายเดือน!BY46:CA46) -> 98.367097 | AB46: =AVERAGE(รายเดือน!CB46:CD46) -> 94.682216 | AC46: =AVERAGE(รายเดือน!CE46:CG46) -> 101.47013 | AD46: =AVERAGE(รายเดือน!CH46:CJ46) -> 103.80631 | AE46: =AVERAGE(รายเดือน!CK46:CM46) -> 106.88242 | AF46: =AVERAGE(รายเดือน!CN46:CP46) -> 105.25239 | AG46: =AVERAGE(รายเดือน!CQ46:CS46) -> 102.7004 | AH46: =AVERAGE(รายเดือน!CT46:CV46) -> 117.19612 | AI46: =AVERAGE(รายเดือน!CW46:CY46) -> 114.56618 | AJ46: =AVERAGE(รายเดือน!CZ46:DB46) -> 116.55018 | AK46: =AVERAGE(รายเดือน!DC46:DE46) -> 113.08965 | AL46: =AVERAGE(รายเดือน!DF46:DH46) -> 115.23536 | AM46: =AVERAGE(รายเดือน!DI46:DK46) -> 113.99033 | AN46: =AVERAGE(รายเดือน!DL46:DN46) -> 116.1576 | AO46: =AVERAGE(รายเดือน!DO46:DQ46) -> 115.74261 | AP46: =AVERAGE(รายเดือน!DR46:DT46) -> 132.44493 | AQ46: =AVERAGE(รายเดือน!DU46:DW46) -> 130.91469 | AR46: =AVERAGE(รายเดือน!DX46:DZ46) -> 132.91987 | AS46: =AVERAGE(รายเดือน!EA46:EC46) -> 131.3896 | AT46: =AVERAGE(รายเดือน!ED46:EF46) -> 155.10614 | AU46: =AVERAGE(รายเดือน!EG46:EI46) -> 153.49625 | AV46: =AVERAGE(รายเดือน!EJ46:EL46) -> 155.78723 | AW46: =AVERAGE(รายเดือน!EM46:EO46) -> 154.79652 | AX46: =AVERAGE(รายเดือน!EP46:ER46) -> 162.96155 | AY46: =AVERAGE(รายเดือน!ES46:EU46) -> 161.07062 | AZ46: =AVERAGE(รายเดือน!EV46:EX46) -> 163.79804 | BA46: =AVERAGE(รายเดือน!EY46:FA46) -> 165.84 | BB46: =AVERAGE(รายเดือน!FB46:FD46) -> 172.11587 | BC46: =AVERAGE(รายเดือน!FE46:FG46) -> 172.51027 | BD46: =AVERAGE(รายเดือน!FH46:FJ46) -> 175.1706 | BE46: =AVERAGE(รายเดือน!FK46:FM46) -> 172.10369 | BF46: =AVERAGE(รายเดือน!FN46:FP46) -> 164.98426 | BG46: =AVERAGE(รายเดือน!FQ46:FS46) -> 168.76564 | BH46: =AVERAGE(รายเดือน!FT46:FV46) -> 173.04027 | BI46: =AVERAGE(รายเดือน!FW46:FY46) -> 175.4487 | BJ46: =AVERAGE(รายเดือน!FZ46:GB46) -> 159.35506 | BK46: =AVERAGE(รายเดือน!GC46:GE46) -> 167.89841 | BL46: =AVERAGE(รายเดือน!GF46:GH46) -> 168.38869 | BM46: =AVERAGE(รายเดือน!GI46:GK46) -> 166.77768 | BN46: =AVERAGE(รายเดือน!GL46:GN46) -> 169.08854 | BO46: =AVERAGE(รายเดือน!GO46:GQ46) -> 168.08207 | BP46: =AVERAGE(รายเดือน!GR46:GT46) -> 161.53992 | BQ46: =AVERAGE(รายเดือน!GU46:GW46) -> 130.33907 | BR46: =AVERAGE(รายเดือน!GX46:GZ46) -> 129.17618 | BS46: =AVERAGE(รายเดือน!HA46:HC46) -> 127.98918 | BT46: =AVERAGE(รายเดือน!HD46:HF46) -> 129.95031 | BU46: =AVERAGE(รายเดือน!HG46:HI46) -> 128.96968 | BV46: =AVERAGE(รายเดือน!HJ46:HL46) -> 148.79781 | BW46: =AVERAGE(รายเดือน!HM46:HO46) -> 160.88053 | BX46: =AVERAGE(รายเดือน!HP46:HR46) -> 170.96062 | BY46: =AVERAGE(รายเดือน!HS46:HU46) -> 186.91514 | BZ46: =AVERAGE(รายเดือน!HV46:HX46) -> 189.30569 | CA46: =AVERAGE(รายเดือน!HY46:IA46) -> 189.91809 | CB46: =AVERAGE(รายเดือน!IB46:ID46) -> 191.90836 | CC46: =AVERAGE(รายเดือน!IE46:IG46) -> 194.35791 | CD46: =AVERAGE(รายเดือน!IH46:IJ46) -> 183.32992 | CE46: =AVERAGE(รายเดือน!IK46:IM46) -> 178.1182 | CF46: =AVERAGE(รายเดือน!IN46:IP46) -> 192.22049 | CG46: =AVERAGE(รายเดือน!IQ46:IS46) -> 212.76078 | CH46: =AVERAGE(รายเดือน!IT46:IV46) -> 187.39094 | CI46: =AVERAGE(รายเดือน!IW46:IY46) -> 190.16532
A47: ไก่เนื้อ | B47: =AVERAGE(รายเดือน!B47:D47) -> 103.44 | C47: =AVERAGE(รายเดือน!E47:G47) -> 99.359999 | D47: =AVERAGE(รายเดือน!H47:J47) -> 95.36 | E47: =AVERAGE(รายเดือน!K47:M47) -> 101.84 | F47: =AVERAGE(รายเดือน!N47:P47) -> 96.251544 | G47: =AVERAGE(รายเดือน!Q47:S47) -> 101.55103 | H47: =AVERAGE(รายเดือน!T47:V47) -> 109.63666 | I47: =AVERAGE(รายเดือน!W47:Y47) -> 108.53767 | J47: =AVERAGE(รายเดือน!Z47:AB47) -> 106.25254 | K47: =AVERAGE(รายเดือน!AC47:AE47) -> 103.9203 | L47: =AVERAGE(รายเดือน!AF47:AH47) -> 110.16342 | M47: =AVERAGE(รายเดือน!AI47:AK47) -> 110.37283 | N47: =AVERAGE(รายเดือน!AL47:AN47) -> 108.47457 | O47: =AVERAGE(รายเดือน!AO47:AQ47) -> 110.60551 | P47: =AVERAGE(รายเดือน!AR47:AT47) -> 115.82319 | Q47: =AVERAGE(รายเดือน!AU47:AW47) -> 115.76222 | R47: =AVERAGE(รายเดือน!AX47:AZ47) -> 105.04584 | S47: =AVERAGE(รายเดือน!BA47:BC47) -> 110.46814 | T47: =AVERAGE(รายเดือน!BD47:BF47) -> 117.20297 | U47: =AVERAGE(รายเดือน!BG47:BI47) -> 116.23997 | V47: =AVERAGE(รายเดือน!BJ47:BL47) -> 116.70373 | W47: =AVERAGE(รายเดือน!BM47:BO47) -> 119.43505 | X47: =AVERAGE(รายเดือน!BP47:BR47) -> 117.36207 | Y47: =AVERAGE(รายเดือน!BS47:BU47) -> 121.72998 | Z47: =AVERAGE(รายเดือน!BV47:BX47) -> 119.52371 | AA47: =AVERAGE(รายเดือน!BY47:CA47) -> 122.30465 | AB47: =AVERAGE(รายเดือน!CB47:CD47) -> 120.18848 | AC47: =AVERAGE(รายเดือน!CE47:CG47) -> 124.65565 | AD47: =AVERAGE(รายเดือน!CH47:CJ47) -> 144.47802 | AE47: =AVERAGE(รายเดือน!CK47:CM47) -> 145.01144 | AF47: =AVERAGE(รายเดือน!CN47:CP47) -> 148.15188 | AG47: =AVERAGE(รายเดือน!CQ47:CS47) -> 151.75499 | AH47: =AVERAGE(รายเดือน!CT47:CV47) -> 145.55913 | AI47: =AVERAGE(รายเดือน!CW47:CY47) -> 146.55123 | AJ47: =AVERAGE(รายเดือน!CZ47:DB47) -> 143.5481 | AK47: =AVERAGE(รายเดือน!DC47:DE47) -> 146.32017 | AL47: =AVERAGE(รายเดือน!DF47:DH47) -> 156.01391 | AM47: =AVERAGE(รายเดือน!DI47:DK47) -> 158.84852 | AN47: =AVERAGE(รายเดือน!DL47:DN47) -> 164.051 | AO47: =AVERAGE(รายเดือน!DO47:DQ47) -> 182.75118 | AP47: =AVERAGE(รายเดือน!DR47:DT47) -> 144.50332 | AQ47: =AVERAGE(รายเดือน!DU47:DW47) -> 181.13649 | AR47: =AVERAGE(รายเดือน!DX47:DZ47) -> 178.23682 | AS47: =AVERAGE(รายเดือน!EA47:EC47) -> 187.23634 | AT47: =AVERAGE(รายเดือน!ED47:EF47) -> 155.18271 | AU47: =AVERAGE(รายเดือน!EG47:EI47) -> 183.4955 | AV47: =AVERAGE(รายเดือน!EJ47:EL47) -> 177.03651 | AW47: =AVERAGE(รายเดือน!EM47:EO47) -> 198.47036 | AX47: =AVERAGE(รายเดือน!EP47:ER47) -> 187.16583 | AY47: =AVERAGE(รายเดือน!ES47:EU47) -> 176.31749 | AZ47: =AVERAGE(รายเดือน!EV47:EX47) -> 181.04923 | BA47: =AVERAGE(รายเดือน!EY47:FA47) -> 183.80356 | BB47: =AVERAGE(รายเดือน!FB47:FD47) -> 179.74338 | BC47: =AVERAGE(รายเดือน!FE47:FG47) -> 185.55741 | BD47: =AVERAGE(รายเดือน!FH47:FJ47) -> 182.07366 | BE47: =AVERAGE(รายเดือน!FK47:FM47) -> 188.44692 | BF47: =AVERAGE(รายเดือน!FN47:FP47) -> 203.19763 | BG47: =AVERAGE(รายเดือน!FQ47:FS47) -> 205.54577 | BH47: =AVERAGE(รายเดือน!FT47:FV47) -> 208.06163 | BI47: =AVERAGE(รายเดือน!FW47:FY47) -> 221.815 | BJ47: =AVERAGE(รายเดือน!FZ47:GB47) -> 208.2157 | BK47: =AVERAGE(รายเดือน!GC47:GE47) -> 210.6248 | BL47: =AVERAGE(รายเดือน!GF47:GH47) -> 213.55015 | BM47: =AVERAGE(รายเดือน!GI47:GK47) -> 228.00479 | BN47: =AVERAGE(รายเดือน!GL47:GN47) -> 208.01971 | BO47: =AVERAGE(รายเดือน!GO47:GQ47) -> 210.42357 | BP47: =AVERAGE(รายเดือน!GR47:GT47) -> 213.08499 | BQ47: =AVERAGE(รายเดือน!GU47:GW47) -> 226.99304 | BR47: =AVERAGE(รายเดือน!GX47:GZ47) -> 228.50504 | BS47: =AVERAGE(รายเดือน!HA47:HC47) -> 231.05237 | BT47: =AVERAGE(รายเดือน!HD47:HF47) -> 234.16578 | BU47: =AVERAGE(รายเดือน!HG47:HI47) -> 249.7328 | BV47: =AVERAGE(รายเดือน!HJ47:HL47) -> 233.93126 | BW47: =AVERAGE(รายเดือน!HM47:HO47) -> 236.63678 | BX47: =AVERAGE(รายเดือน!HP47:HR47) -> 239.82544 | BY47: =AVERAGE(รายเดือน!HS47:HU47) -> 255.86533 | BZ47: =AVERAGE(รายเดือน!HV47:HX47) -> 239.64434 | CA47: =AVERAGE(รายเดือน!HY47:IA47) -> 239.34584 | CB47: =AVERAGE(รายเดือน!IB47:ID47) -> 263.43725 | CC47: =AVERAGE(รายเดือน!IE47:IG47) -> 261.84111 | CD47: =AVERAGE(รายเดือน!IH47:IJ47) -> 256.65893 | CE47: =AVERAGE(รายเดือน!IK47:IM47) -> 261.54082 | CF47: =AVERAGE(รายเดือน!IN47:IP47) -> 272.20845 | CG47: =AVERAGE(รายเดือน!IQ47:IS47) -> 265.86103 | CH47: =AVERAGE(รายเดือน!IT47:IV47) -> 259.38866 | CI47: =AVERAGE(รายเดือน!IW47:IY47) -> 259.282
A48: ไข่ไก่ | B48: =AVERAGE(รายเดือน!B48:D48) -> 98.191902 | C48: =AVERAGE(รายเดือน!E48:G48) -> 103.61876 | D48: =AVERAGE(รายเดือน!H48:J48) -> 100.22471 | E48: =AVERAGE(รายเดือน!K48:M48) -> 97.964635 | F48: =AVERAGE(รายเดือน!N48:P48) -> 111.3973 | G48: =AVERAGE(รายเดือน!Q48:S48) -> 114.30506 | H48: =AVERAGE(รายเดือน!T48:V48) -> 109.15305 | I48: =AVERAGE(รายเดือน!W48:Y48) -> 103.1822 | J48: =AVERAGE(รายเดือน!Z48:AB48) -> 113.0128 | K48: =AVERAGE(รายเดือน!AC48:AE48) -> 117.10836 | L48: =AVERAGE(รายเดือน!AF48:AH48) -> 114.71259 | M48: =AVERAGE(รายเดือน!AI48:AK48) -> 115.5305 | N48: =AVERAGE(รายเดือน!AL48:AN48) -> 111.52681 | O48: =AVERAGE(รายเดือน!AO48:AQ48) -> 117.07236 | P48: =AVERAGE(รายเดือน!AR48:AT48) -> 122.75798 | Q48: =AVERAGE(รายเดือน!AU48:AW48) -> 131.33994 | R48: =AVERAGE(รายเดือน!AX48:AZ48) -> 124.07995 | S48: =AVERAGE(รายเดือน!BA48:BC48) -> 127.39457 | T48: =AVERAGE(รายเดือน!BD48:BF48) -> 122.48903 | U48: =AVERAGE(รายเดือน!BG48:BI48) -> 118.55897 | V48: =AVERAGE(รายเดือน!BJ48:BL48) -> 125.89952 | W48: =AVERAGE(รายเดือน!BM48:BO48) -> 125.60317 | X48: =AVERAGE(รายเดือน!BP48:BR48) -> 125.21198 | Y48: =AVERAGE(รายเดือน!BS48:BU48) -> 124.4634 | Z48: =AVERAGE(รายเดือน!BV48:BX48) -> 120.79918 | AA48: =AVERAGE(รายเดือน!BY48:CA48) -> 127.69444 | AB48: =AVERAGE(รายเดือน!CB48:CD48) -> 132.29194 | AC48: =AVERAGE(รายเดือน!CE48:CG48) -> 132.55881 | AD48: =AVERAGE(รายเดือน!CH48:CJ48) -> 144.10615 | AE48: =AVERAGE(รายเดือน!CK48:CM48) -> 148.40696 | AF48: =AVERAGE(รายเดือน!CN48:CP48) -> 158.01183 | AG48: =AVERAGE(รายเดือน!CQ48:CS48) -> 159.22011 | AH48: =AVERAGE(รายเดือน!CT48:CV48) -> 149.04486 | AI48: =AVERAGE(รายเดือน!CW48:CY48) -> 151.42356 | AJ48: =AVERAGE(รายเดือน!CZ48:DB48) -> 157.84529 | AK48: =AVERAGE(รายเดือน!DC48:DE48) -> 157.22523 | AL48: =AVERAGE(รายเดือน!DF48:DH48) -> 152.00141 | AM48: =AVERAGE(รายเดือน!DI48:DK48) -> 156.48975 | AN48: =AVERAGE(รายเดือน!DL48:DN48) -> 164.8051 | AO48: =AVERAGE(รายเดือน!DO48:DQ48) -> 167.33753 | AP48: =AVERAGE(รายเดือน!DR48:DT48) -> 174.54735 | AQ48: =AVERAGE(รายเดือน!DU48:DW48) -> 182.58089 | AR48: =AVERAGE(รายเดือน!DX48:DZ48) -> 177.7311 | AS48: =AVERAGE(รายเดือน!EA48:EC48) -> 174.59821 | AT48: =AVERAGE(รายเดือน!ED48:EF48) -> 181.29323 | AU48: =AVERAGE(รายเดือน!EG48:EI48) -> 181.49631 | AV48: =AVERAGE(รายเดือน!EJ48:EL48) -> 184.93634 | AW48: =AVERAGE(รายเดือน!EM48:EO48) -> 183.7527 | AX48: =AVERAGE(รายเดือน!EP48:ER48) -> 187.98349 | AY48: =AVERAGE(รายเดือน!ES48:EU48) -> 196.35167 | AZ48: =AVERAGE(รายเดือน!EV48:EX48) -> 190.97009 | BA48: =AVERAGE(รายเดือน!EY48:FA48) -> 187.47717 | BB48: =AVERAGE(รายเดือน!FB48:FD48) -> 191.9035 | BC48: =AVERAGE(รายเดือน!FE48:FG48) -> 192.13594 | BD48: =AVERAGE(รายเดือน!FH48:FJ48) -> 195.85625 | BE48: =AVERAGE(รายเดือน!FK48:FM48) -> 195.15867 | BF48: =AVERAGE(รายเดือน!FN48:FP48) -> 203.65752 | BG48: =AVERAGE(รายเดือน!FQ48:FS48) -> 194.04379 | BH48: =AVERAGE(รายเดือน!FT48:FV48) -> 192.73632 | BI48: =AVERAGE(รายเดือน!FW48:FY48) -> 178.66185 | BJ48: =AVERAGE(รายเดือน!FZ48:GB48) -> 198.1493 | BK48: =AVERAGE(รายเดือน!GC48:GE48) -> 194.95076 | BL48: =AVERAGE(รายเดือน!GF48:GH48) -> 195.96496 | BM48: =AVERAGE(รายเดือน!GI48:GK48) -> 191.05025 | BN48: =AVERAGE(รายเดือน!GL48:GN48) -> 198.10054 | BO48: =AVERAGE(รายเดือน!GO48:GQ48) -> 193.98956 | BP48: =AVERAGE(รายเดือน!GR48:GT48) -> 195.07546 | BQ48: =AVERAGE(รายเดือน!GU48:GW48) -> 188.48246 | BR48: =AVERAGE(รายเดือน!GX48:GZ48) -> 206.55546 | BS48: =AVERAGE(รายเดือน!HA48:HC48) -> 200.79108 | BT48: =AVERAGE(รายเดือน!HD48:HF48) -> 201.03125 | BU48: =AVERAGE(รายเดือน!HG48:HI48) -> 192.22463 | BV48: =AVERAGE(รายเดือน!HJ48:HL48) -> 206.21451 | BW48: =AVERAGE(รายเดือน!HM48:HO48) -> 201.7807 | BX48: =AVERAGE(รายเดือน!HP48:HR48) -> 202.58689 | BY48: =AVERAGE(รายเดือน!HS48:HU48) -> 195.57331 | BZ48: =AVERAGE(รายเดือน!HV48:HX48) -> 201.60802 | CA48: =AVERAGE(รายเดือน!HY48:IA48) -> 202.09559 | CB48: =AVERAGE(รายเดือน!IB48:ID48) -> 206.6461 | CC48: =AVERAGE(รายเดือน!IE48:IG48) -> 202.25807 | CD48: =AVERAGE(รายเดือน!IH48:IJ48) -> 201.36017 | CE48: =AVERAGE(รายเดือน!IK48:IM48) -> 209.58894 | CF48: =AVERAGE(รายเดือน!IN48:IP48) -> 208.43704 | CG48: =AVERAGE(รายเดือน!IQ48:IS48) -> 203.4997 | CH48: =AVERAGE(รายเดือน!IT48:IV48) -> 199.50097 | CI48: =AVERAGE(รายเดือน!IW48:IY48) -> 201.84051
... A51: กุ้งขาวแวนนาไม | B51: =AVERAGE(รายเดือน!B51:D51) -> 76.12 | C51: =AVERAGE(รายเดือน!E51:G51) -> 86.08 | D51: =AVERAGE(รายเดือน!H51:J51) -> 119.08 | E51: =AVERAGE(รายเดือน!K51:M51) -> 118.72 | F51: =AVERAGE(รายเดือน!N51:P51) -> 91.172723 | G51: =AVERAGE(รายเดือน!Q51:S51) -> 103.10231 | H51: =AVERAGE(รายเดือน!T51:V51) -> 142.62806 | I51: =AVERAGE(รายเดือน!W51:Y51) -> 142.19687 | J51: =AVERAGE(รายเดือน!Z51:AB51) -> 97.921095 | K51: =AVERAGE(รายเดือน!AC51:AE51) -> 110.73368 | L51: =AVERAGE(รายเดือน!AF51:AH51) -> 153.18502 | M51: =AVERAGE(รายเดือน!AI51:AK51) -> 152.72192 | N51: =AVERAGE(รายเดือน!AL51:AN51) -> 97.62177 | O51: =AVERAGE(รายเดือน!AO51:AQ51) -> 110.39519 | P51: =AVERAGE(รายเดือน!AR51:AT51) -> 152.71677 | Q51: =AVERAGE(รายเดือน!AU51:AW51) -> 152.25508 | R51: =AVERAGE(รายเดือน!AX51:AZ51) -> 101.70709 | S51: =AVERAGE(รายเดือน!BA51:BC51) -> 129.13573 | T51: =AVERAGE(รายเดือน!BD51:BF51) -> 187.75773 | U51: =AVERAGE(รายเดือน!BG51:BI51) -> 178.9734 | V51: =AVERAGE(รายเดือน!BJ51:BL51) -> 116.29468 | W51: =AVERAGE(รายเดือน!BM51:BO51) -> 131.5337 | X51: =AVERAGE(รายเดือน!BP51:BR51) -> 181.97189 | Y51: =AVERAGE(รายเดือน!BS51:BU51) -> 167.80856 | Z51: =AVERAGE(รายเดือน!BV51:BX51) -> 127.68874 | AA51: =AVERAGE(รายเดือน!BY51:CA51) -> 149.66959 | AB51: =AVERAGE(รายเดือน!CB51:CD51) -> 205.75405 | AC51: =AVERAGE(รายเดือน!CE51:CG51) -> 182.9739 | AD51: =AVERAGE(รายเดือน!CH51:CJ51) -> 102.31293 | AE51: =AVERAGE(รายเดือน!CK51:CM51) -> 145.94602 | AF51: =AVERAGE(รายเดือน!CN51:CP51) -> 116.4096 | AG51: =AVERAGE(รายเดือน!CQ51:CS51) -> 120.52297 | AH51: =AVERAGE(รายเดือน!CT51:CV51) -> 76.996596 | AI51: =AVERAGE(รายเดือน!CW51:CY51) -> 59.385765 | AJ51: =AVERAGE(รายเดือน!CZ51:DB51) -> 65.566588 | AK51: =AVERAGE(รายเดือน!DC51:DE51) -> 60.313299 | AL51: =AVERAGE(รายเดือน!DF51:DH51) -> 38.335672 | AM51: =AVERAGE(รายเดือน!DI51:DK51) -> 45.85239 | AN51: =AVERAGE(รายเดือน!DL51:DN51) -> 54.988188 | AO51: =AVERAGE(รายเดือน!DO51:DQ51) -> 83.922319 | AP51: =AVERAGE(รายเดือน!DR51:DT51) -> 40.72066 | AQ51: =AVERAGE(รายเดือน!DU51:DW51) -> 53.421665 | AR51: =AVERAGE(รายเดือน!DX51:DZ51) -> 63.943836 | AS51: =AVERAGE(รายเดือน!EA51:EC51) -> 70.216546 | AT51: =AVERAGE(รายเดือน!ED51:EF51) -> 50.798883 | AU51: =AVERAGE(รายเดือน!EG51:EI51) -> 73.54366 | AV51: =AVERAGE(รายเดือน!EJ51:EL51) -> 86.527848 | AW51: =AVERAGE(รายเดือน!EM51:EO51) -> 99.108908 | AX51: =AVERAGE(รายเดือน!EP51:ER51) -> 50.93823 | AY51: =AVERAGE(รายเดือน!ES51:EU51) -> 74.031518 | AZ51: =AVERAGE(รายเดือน!EV51:EX51) -> 84.342286 | BA51: =AVERAGE(รายเดือน!EY51:FA51) -> 85.945413 | BB51: =AVERAGE(รายเดือน!FB51:FD51) -> 57.761535 | BC51: =AVERAGE(รายเดือน!FE51:FG51) -> 74.945648 | BD51: =AVERAGE(รายเดือน!FH51:FJ51) -> 80.135139 | BE51: =AVERAGE(รายเดือน!FK51:FM51) -> 80.095688 | BF51: =AVERAGE(รายเดือน!FN51:FP51) -> 55.849696 | BG51: =AVERAGE(รายเดือน!FQ51:FS51) -> 87.085856 | BH51: =AVERAGE(รายเดือน!FT51:FV51) -> 84.925153 | BI51: =AVERAGE(รายเดือน!FW51:FY51) -> 84.086802 | BJ51: =AVERAGE(รายเดือน!FZ51:GB51) -> 53.464283 | BK51: =AVERAGE(รายเดือน!GC51:GE51) -> 73.303667 | BL51: =AVERAGE(รายเดือน!GF51:GH51) -> 83.57709 | BM51: =AVERAGE(รายเดือน!GI51:GK51) -> 74.016791 | BN51: =AVERAGE(รายเดือน!GL51:GN51) -> 45.596107 | BO51: =AVERAGE(รายเดือน!GO51:GQ51) -> 70.37856 | BP51: =AVERAGE(รายเดือน!GR51:GT51) -> 75.638703 | BQ51: =AVERAGE(รายเดือน!GU51:GW51) -> 56.37402 | BR51: =AVERAGE(รายเดือน!GX51:GZ51) -> 47.533063 | BS51: =AVERAGE(รายเดือน!HA51:HC51) -> 62.967041 | BT51: =AVERAGE(รายเดือน!HD51:HF51) -> 74.309159 | BU51: =AVERAGE(รายเดือน!HG51:HI51) -> 62.34625 | BV51: =AVERAGE(รายเดือน!HJ51:HL51) -> 46.503336 | BW51: =AVERAGE(รายเดือน!HM51:HO51) -> 79.824959 | BX51: =AVERAGE(รายเดือน!HP51:HR51) -> 71.652657 | BY51: =AVERAGE(รายเดือน!HS51:HU51) -> 50.866316 | BZ51: =AVERAGE(รายเดือน!HV51:HX51) -> 47.234672 | CA51: =AVERAGE(รายเดือน!HY51:IA51) -> 63.472906 | CB51: =AVERAGE(รายเดือน!IB51:ID51) -> 69.382056 | CC51: =AVERAGE(รายเดือน!IE51:IG51) -> 60.459673 | CD51: =AVERAGE(รายเดือน!IH51:IJ51) -> 48.592698 | CE51: =AVERAGE(รายเดือน!IK51:IM51) -> 63.596831 | CF51: =AVERAGE(รายเดือน!IN51:IP51) -> 65.634235 | CG51: =AVERAGE(รายเดือน!IQ51:IS51) -> 61.043575 | CH51: =AVERAGE(รายเดือน!IT51:IV51) -> 48.856635 | CI51: =AVERAGE(รายเดือน!IW51:IY51) -> 68.500222
A52: ที่มา : สำนักงานเศรษฐกิจการเกษตร

Sheet รายเดือน
A1: ดัชนีผลผลิตสินค้าเกษตร
A3: รายการสินค้า | B3: 2548 | N3: 2549 | Z3: 2550 | AL3: 2551 | AX3: 2552 | BJ3: 2553 | BV3: 2554 | CH3: 2555 | CT3: 2556 | DF3: 2557 | DR3: 2558 | ED3: 2559 | EP3: 2560 | FB3: 2561 | FN3: 2562 | FZ3: 2563 | GL3: 2564 | GX3: 2565 | HJ3: 2566 | HV3: 2567 | IH3: 2568 | IT3: 2569
B4: ม.ค. | C4: ก.พ. | D4: มี.ค. | E4: เม.ย. | F4: พ.ค. | G4: มิ.ย. | H4: ก.ค. | I4: ส.ค. | J4: ก.ย. | K4: ต.ค. | L4: พ.ย. | M4: ธ.ค. | N4: ม.ค. | O4: ก.พ. | P4: มี.ค. | Q4: เม.ย. | R4: พ.ค. | S4: มิ.ย. | T4: ก.ค. | U4: ส.ค. | V4: ก.ย. | W4: ต.ค. | X4: พ.ย. | Y4: ธ.ค. | Z4: ม.ค. | AA4: ก.พ. | AB4: มี.ค. | AC4: เม.ย. | AD4: พ.ค. | AE4: มิ.ย. | AF4: ก.ค. | AG4: ส.ค. | AH4: ก.ย. | AI4: ต.ค. | AJ4: พ.ย. | AK4: ธ.ค. | AL4: ม.ค. | AM4: ก.พ. | AN4: มี.ค. | AO4: เม.ย. | AP4: พ.ค. | AQ4: มิ.ย. | AR4: ก.ค. | AS4: ส.ค. | AT4: ก.ย. | AU4: ต.ค. | AV4: พ.ย. | AW4: ธ.ค. | AX4: ม.ค. | AY4: ก.พ. | AZ4: มี.ค. | BA4: เม.ย. | BB4: พ.ค. | BC4: มิ.ย. | BD4: ก.ค. | BE4: ส.ค. | BF4: ก.ย. | BG4: ต.ค. | BH4: พ.ย. | BI4: ธ.ค. | BJ4: ม.ค. | BK4: ก.พ. | BL4: มี.ค. | BM4: เม.ย. | BN4: พ.ค. | BO4: มิ.ย. | BP4: ก.ค. | BQ4: ส.ค. | BR4: ก.ย. | BS4: ต.ค. | BT4: พ.ย. | BU4: ธ.ค. | BV4: ม.ค. | BW4: ก.พ. | BX4: มี.ค. | BY4: เม.ย. | BZ4: พ.ค. | CA4: มิ.ย. | CB4: ก.ค. | CC4: ส.ค. | CD4: ก.ย. | CE4: ต.ค. | CF4: พ.ย. | CG4: ธ.ค. | CH4: ม.ค. | CI4: ก.พ. | CJ4: มี.ค. | CK4: เม.ย. | CL4: พ.ค. | CM4: มิ.ย. | CN4: ก.ค. | CO4: ส.ค. | CP4: ก.ย. | CQ4: ต.ค. | CR4: พ.ย. | CS4: ธ.ค. | CT4: ม.ค. | CU4: ก.พ. | CV4: มี.ค. | CW4: เม.ย. | CX4: พ.ค. | CY4: มิ.ย. | CZ4: ก.ค. | DA4: ส.ค. | DB4: ก.ย. | DC4: ต.ค. | DD4: พ.ย. | DE4: ธ.ค. | DF4: ม.ค. | DG4: ก.พ. | DH4: มี.ค. | DI4: เม.ย. | DJ4: พ.ค. | DK4: มิ.ย. | DL4: ก.ค. | DM4: ส.ค. | DN4: ก.ย. | DO4: ต.ค. | DP4: พ.ย. | DQ4: ธ.ค. | DR4: ม.ค. | DS4: ก.พ. | DT4: มี.ค. | DU4: เม.ย. | DV4: พ.ค. | DW4: มิ.ย. | DX4: ก.ค. | DY4: ส.ค. | DZ4: ก.ย. | EA4: ต.ค. | EB4: พ.ย. | EC4: ธ.ค. | ED4: ม.ค. | EE4: ก.พ. | EF4: มี.ค. | EG4: เม.ย. | EH4: พ.ค. | EI4: มิ.ย. | EJ4: ก.ค. | EK4: ส.ค. | EL4: ก.ย. | EM4: ต.ค. | EN4: พ.ย. | EO4: ธ.ค. | EP4: ม.ค. | EQ4: ก.พ. | ER4: มี.ค. | ES4: เม.ย. | ET4: พ.ค. | EU4: มิ.ย. | EV4: ก.ค. | EW4: ส.ค. | EX4: ก.ย. | EY4: ต.ค. | EZ4: พ.ย. | FA4: ธ.ค. | FB4: ม.ค. | FC4: ก.พ. | FD4: มี.ค. | FE4: เม.ย. | FF4: พ.ค. | FG4: มิ.ย. | FH4: ก.ค. | FI4: ส.ค. | FJ4: ก.ย. | FK4: ต.ค. | FL4: พ.ย. | FM4: ธ.ค. | FN4: ม.ค. | FO4: ก.พ. | FP4: มี.ค. | FQ4: เม.ย. | FR4: พ.ค. | FS4: มิ.ย. | FT4: ก.ค. | FU4: ส.ค. | FV4: ก.ย. | FW4: ต.ค. | FX4: พ.ย. | FY4: ธ.ค. | FZ4: ม.ค. | GA4: ก.พ. | GB4: มี.ค. | GC4: เม.ย. | GD4: พ.ค. | GE4: มิ.ย. | GF4: ก.ค. | GG4: ส.ค. | GH4: ก.ย. | GI4: ต.ค. | GJ4: พ.ย. | GK4: ธ.ค. | GL4: ม.ค. | GM4: ก.พ. | GN4: มี.ค. | GO4: เม.ย. | GP4: พ.ค. | GQ4: มิ.ย. | GR4: ก.ค. | GS4: ส.ค. | GT4: ก.ย. | GU4: ต.ค. | GV4: พ.ย. | GW4: ธ.ค. | GX4: ม.ค. | GY4: ก.พ. | GZ4: มี.ค. | HA4: เม.ย. | HB4: พ.ค. | HC4: มิ.ย. | HD4: ก.ค. | HE4: ส.ค. | HF4: ก.ย. | HG4: ต.ค. | HH4: พ.ย. | HI4: ธ.ค. | HJ4: ม.ค. | HK4: ก.พ. | HL4: มี.ค. | HM4: เม.ย. | HN4: พ.ค. | HO4: มิ.ย. | HP4: ก.ค. | HQ4: ส.ค. | HR4: ก.ย. | HS4: ต.ค. | HT4: พ.ย. | HU4: ธ.ค. | HV4: ม.ค. | HW4: ก.พ. | HX4: มี.ค. | HY4: เม.ย. | HZ4: พ.ค. | IA4: มิ.ย. | IB4: ก.ค. | IC4: ส.ค. | ID4: ก.ย. | IE4: ต.ค. | IF4: พ.ย. | IG4: ธ.ค. | IH4: ม.ค. | II4: ก.พ. | IJ4: มี.ค. | IK4: เม.ย. | IL4: พ.ค. | IM4: มิ.ย. | IN4: ก.ค. | IO4: ส.ค. | IP4: ก.ย. | IQ4: ต.ค. | IR4: พ.ย. | IS4: ธ.ค. | IT4: ม.ค. | IU4: ก.พ. | IV4: มี.ค. | IW4: เม.ย. | IX4: พ.ค. | IY4: มิ.ย. | IZ4: ก.ค. | JA4: ส.ค. | JB4: ก.ย. | JC4: ต.ค. | JD4: พ.ย. | JE4: ธ.ค.
A5: ภาคเกษตรกรรม | B5: 115.14976 | C5: 111.92453 | D5: 80.254799 | E5: 73.631373 | F5: 73.897288 | G5: 69.860686 | H5: 82.460276 | I5: 87.222878 | J5: 81.816529 | K5: 79.523776 | L5: 192.3332 | M5: 151.92491 | N5: 109.87963 | O5: 93.545101 | P5: 93.142463 | Q5: 75.733754 | R5: 77.489443 | S5: 86.29145 | T5: 85.296117 | U5: 96.923019 | V5: 94.169063 | W5: 97.28307 | X5: 205.42943 | Y5: 159.74461 | Z5: 113.52726 | AA5: 94.500223 | AB5: 96.13054 | AC5: 91.514296 | AD5: 88.846219 | AE5: 82.285507 | AF5: 86.654952 | AG5: 102.08645 | AH5: 94.341635 | AI5: 99.539147 | AJ5: 208.52951 | AK5: 171.78453 | AL5: 112.51006 | AM5: 96.816132 | AN5: 87.081682 | AO5: 84.427348 | AP5: 101.64275 | AQ5: 86.562916 | AR5: 88.887529 | AS5: 103.58033 | AT5: 101.94548 | AU5: 104.12708 | AV5: 213.73859 | AW5: 173.6943 | AX5: 121.29863 | AY5: 105.57956 | AZ5: 94.045514 | BA5: 87.103284 | BB5: 94.273217 | BC5: 89.344582 | BD5: 96.869065 | BE5: 113.19802 | BF5: 101.95569 | BG5: 107.35157 | BH5: 213.28065 | BI5: 168.51135 | BJ5: 115.09939 | BK5: 104.0312 | BL5: 90.529825 | BM5: 85.169148 | BN5: 101.56161 | BO5: 100.75328 | BP5: 97.94133 | BQ5: 105.37032 | BR5: 104.69684 | BS5: 99.235851 | BT5: 228.32691 | BU5: 172.04018 | BV5: 121.44864 | BW5: 104.04239 | BX5: 106.99538 | BY5: 109.40401 | BZ5: 109.31825 | CA5: 97.737147 | CB5: 98.589735 | CC5: 113.99061 | CD5: 119.17385 | CE5: 104.12734 | CF5: 297.24854 | CG5: 142.817 | CH5: 123.98656 | CI5: 121.97022 | CJ5: 121.81506 | CK5: 114.30206 | CL5: 113.89755 | CM5: 96.991926 | CN5: 99.007521 | CO5: 111.5678 | CP5: 125.7145 | CQ5: 109.47184 | CR5: 293.90446 | CS5: 140.12352 | CT5: 134.31079 | CU5: 127.66146 | CV5: 128.90787 | CW5: 94.796675 | CX5: 94.754002 | CY5: 99.073331 | CZ5: 91.02493 | DA5: 106.77892 | DB5: 117.58672 | DC5: 129.63699 | DD5: 290.85049 | DE5: 142.74047 | DF5: 130.9457 | DG5: 128.13094 | DH5: 117.77584 | DI5: 95.962222 | DJ5: 105.22788 | DK5: 93.309649 | DL5: 99.233997 | DM5: 114.94649 | DN5: 120.00585 | DO5: 125.13617 | DP5: 253.8748 | DQ5: 181.81037 | DR5: 143.0963 | DS5: 132.97441 | DT5: 117.27447 | DU5: 90.271918 | DV5: 87.345857 | DW5: 86.574176 | DX5: 83.169668 | DY5: 111.34867 | DZ5: 104.67268 | EA5: 106.9211 | EB5: 292.35006 | EC5: 171.73934 | ED5: 143.32772 | EE5: 126.58939 | EF5: 100.17824 | EG5: 78.938137 | EH5: 83.17571 | EI5: 88.997221 | EJ5: 86.928463 | EK5: 98.019766 | EL5: 113.65938 | EM5: 133.46625 | EN5: 312.39895 | EO5: 164.58376 | EP5: 136.99327 | EQ5: 133.60749 | ER5: 133.08745 | ES5: 98.229747 | ET5: 98.732618 | EU5: 94.761769 | EV5: 95.867531 | EW5: 121.81783 | EX5: 126.87762 | EY5: 130.98714 | EZ5: 298.05184 | FA5: 165.75061 | FB5: 150.10032 | FC5: 146.01381 | FD5: 149.81603 | FE5: 121.05357 | FF5: 109.3699 | FG5: 102.0236 | FH5: 105.86414 | FI5: 135.04543 | FJ5: 129.22162 | FK5: 130.78231 | FL5: 297.5713 | FM5: 171.64847 | FN5: 155.33262 | FO5: 146.52497 | FP5: 146.60631 | FQ5: 117.08804 | FR5: 107.90148 | FS5: 101.36853 | FT5: 109.05161 | FU5: 132.62056 | FV5: 131.67643 | FW5: 137.62247 | FX5: 288.02617 | FY5: 167.44776 | FZ5: 153.34121 | GA5: 130.22991 | GB5: 107.82999 | GC5: 97.941568 | GD5: 107.1334 | GE5: 99.77676 | GF5: 107.9289 | GG5: 119.02323 | GH5: 123.01966 | GI5: 137.7432 | GJ5: 329.59098 | GK5: 163.9223 | GL5: 149.02703 | GM5: 136.44658 | GN5: 115.00571 | GO5: 103.66293 | GP5: 106.78265 | GQ5: 102.56523 | GR5: 110.55598 | GS5: 135.20146 | GT5: 131.29757 | GU5: 134.59621 | GV5: 313.34601 | GW5: 164.18208 | GX5: 147.44419 | GY5: 133.71393 | GZ5: 127.58739 | HA5: 104.74314 | HB5: 116.77566 | HC5: 112.1632 | HD5: 113.03637 | HE5: 132.64949 | HF5: 127.84576 | HG5: 133.31656 | HH5: 316.68028 | HI5: 162.81324 | HJ5: 153.8705 | HK5: 138.09675 | HL5: 122.42751 | HM5: 121.86729 | HN5: 108.2491 | HO5: 112.92631 | HP5: 112.11214 | HQ5: 137.61064 | HR5: 132.72131 | HS5: 143.01091 | HT5: 319.61358 | HU5: 162.31781 | HV5: 151.11091 | HW5: 133.14364 | HX5: 121.02985 | HY5: 117.8844 | HZ5: 119.05383 | IA5: 109.41396 | IB5: 117.51062 | IC5: 142.82211 | ID5: 134.96157 | IE5: 146.39597 | IF5: 319.60521 | IG5: 154.09495 | IH5: 153.91728 | II5: 132.24857 | IJ5: 130.56493 | IK5: 122.52375 | IL5: 132.39205 | IM5: 121.39711 | IN5: 123.05065 | IO5: 148.30517 | IP5: 139.90356 | IQ5: 145.01479 | IR5: 320.84415 | IS5: 156.31436 | IT5: 153.91435 | IU5: 138.84653 | IV5: 144.63849 | IW5: 129.0028 | IX5: 130.04444 | IY5: 118.80593 | IZ5: 121.21208
A6: 1. หมวดพืชผลสำคัญ | B6: 124.27239 | C6: 119.97337 | D6: 73.699867 | E6: 67.107123 | F6: 65.564397 | G6: 56.403721 | H6: 75.997576 | I6: 82.035809 | J6: 72.745568 | K6: 70.349738 | L6: 221.88529 | M6: 169.96515 | N6: 114.26212 | O6: 92.425641 | P6: 88.275561 | Q6: 68.02407 | R6: 69.137585 | S6: 76.661921 | T6: 75.46196 | U6: 88.769415 | V6: 84.53475 | W6: 89.793347 | X6: 235.01021 | Y6: 175.7651 | Z6: 116.87801 | AA6: 91.592386 | AB6: 89.242031 | AC6: 87.30077 | AD6: 81.992651 | AE6: 69.493458 | AF6: 74.614504 | AG6: 95.292546 | AH6: 83.504868 | AI6: 91.431295 | AJ6: 239.40512 | AK6: 192.37525 | AL6: 116.24206 | AM6: 95.711778 | AN6: 78.870489 | AO6: 78.788284 | AP6: 100.31421 | AQ6: 76.11071 | AR6: 79.331819 | AS6: 97.291618 | AT6: 95.456781 | AU6: 98.784028 | AV6: 246.0281 | AW6: 194.05111 | AX6: 127.61746 | AY6: 107.15883 | AZ6: 90.038876 | BA6: 80.583883 | BB6: 87.610486 | BC6: 79.282211 | BD6: 87.389738 | BE6: 106.70052 | BF6: 91.968516 | BG6: 99.941352 | BH6: 243.8931 | BI6: 186.7307 | BJ6: 117.40284 | BK6: 103.08405 | BL6: 80.672385 | BM6: 77.773904 | BN6: 98.106601 | BO6: 91.310442 | BP6: 90.367849 | BQ6: 96.76812 | BR6: 94.308469 | BS6: 89.347121 | BT6: 261.69329 | BU6: 194.15442 | BV6: 124.56362 | BW6: 103.68414 | BX6: 103.42906 | BY6: 110.20968 | BZ6: 104.40221 | CA6: 86.148817 | CB6: 89.267479 | CC6: 106.07719 | CD6: 112.56945 | CE6: 94.402013 | CF6: 354.73746 | CG6: 149.62751 | CH6: 127.8724 | CI6: 124.52878 | CJ6: 121.96594 | CK6: 112.46798 | CL6: 106.36426 | CM6: 84.200313 | CN6: 88.533723 | CO6: 108.13493 | CP6: 128.29933 | CQ6: 103.32098 | CR6: 354.46626 | CS6: 147.04738 | CT6: 138.67063 | CU6: 133.39192 | CV6: 135.7396 | CW6: 88.495164 | CX6: 90.00891 | CY6: 95.433748 | CZ6: 84.641713 | DA6: 105.09635 | DB6: 118.48858 | DC6: 136.18395 | DD6: 355.56894 | DE6: 154.89169 | DF6: 141.54641 | DG6: 134.08788 | DH6: 121.41602 | DI6: 92.543201 | DJ6: 100.06137 | DK6: 89.657071 | DL6: 90.033644 | DM6: 116.76838 | DN6: 124.08245 | DO6: 123.97448 | DP6: 299.70513 | DQ6: 201.98234 | DR6: 153.0931 | DS6: 141.46826 | DT6: 118.86429 | DU6: 73.678161 | DV6: 76.888459 | DW6: 73.851596 | DX6: 71.248614 | DY6: 102.58946 | DZ6: 96.086754 | EA6: 99.599275 | EB6: 351.74486 | EC6: 184.48124 | ED6: 148.11184 | EE6: 128.07114 | EF6: 91.322682 | EG6: 55.434392 | EH6: 66.928809 | EI6: 70.323742 | EJ6: 68.395408 | EK6: 82.224811 | EL6: 103.83304 | EM6: 131.15062 | EN6: 368.77627 | EO6: 169.45664 | EP6: 136.81622 | EQ6: 133.1385 | ER6: 130.98439 | ES6: 84.148921 | ET6: 84.125777 | EU6: 76.800114 | EV6: 78.528025 | EW6: 114.47151 | EX6: 119.70962 | EY6: 126.45028 | EZ6: 351.81406 | FA6: 172.65652 | FB6: 155.67309 | FC6: 145.65857 | FD6: 152.47703 | FE6: 114.26257 | FF6: 95.344439 | FG6: 83.593796 | FH6: 90.456684 | FI6: 129.20806 | FJ6: 123.1562 | FK6: 125.65463 | FL6: 348.81804 | FM6: 179.75783 | FN6: 159.8294 | FO6: 144.81102 | FP6: 147.42138 | FQ6: 104.87008 | FR6: 88.077713 | FS6: 83.80752 | FT6: 90.921575 | FU6: 124.83586 | FV6: 123.69014 | FW6: 127.85648 | FX6: 335.17874 | FY6: 171.85802 | FZ6: 157.8184 | GA6: 123.49594 | GB6: 94.77716 | GC6: 79.811149 | GD6: 87.583009 | GE6: 82.45405 | GF6: 88.634506 | GG6: 106.61663 | GH6: 112.33601 | GI6: 129.7834 | GJ6: 392.09493 | GK6: 167.3687 | GL6: 152.77498 | GM6: 132.91095 | GN6: 105.25329 | GO6: 88.760245 | GP6: 89.269266 | GQ6: 87.468316 | GR6: 94.386366 | GS6: 131.15544 | GT6: 127.19615 | GU6: 132.20298 | GV6: 377.8551 | GW6: 174.93216 | GX6: 151.97585 | GY6: 129.48592 | GZ6: 122.82557 | HA6: 91.507212 | HB6: 104.73136 | HC6: 102.22755 | HD6: 98.544048 | HE6: 127.96999 | HF6: 121.78751 | HG6: 126.55748 | HH6: 377.9105 | HI6: 168.86129 | HJ6: 158.50555 | HK6: 133.15591 | HL6: 113.03384 | HM6: 110.66674 | HN6: 86.897379 | HO6: 96.744567 | HP6: 91.276077 | HQ6: 129.84656 | HR6: 124.78513 | HS6: 134.73042 | HT6: 375.96402 | HU6: 160.87179 | HV6: 147.44677 | HW6: 126.66607 | HX6: 103.95926 | HY6: 103.39307 | HZ6: 100.80427 | IA6: 89.204645 | IB6: 97.525697 | IC6: 131.11005 | ID6: 122.399 | IE6: 136.83842 | IF6: 372.52864 | IG6: 149.14201 | IH6: 148.94469 | II6: 125.01957 | IJ6: 117.51198 | IK6: 109.33035 | IL6: 117.53477 | IM6: 105.24801 | IN6: 105.69258 | IO6: 139.42248 | IP6: 126.60429 | IQ6: 131.82535 | IR6: 372.9636 | IS6: 149.44714 | IT6: 149.19665 | IU6: 133.46615 | IV6: 134.64171 | IW6: 116.44878 | IX6: 113.47606 | IY6: 99.95194 | IZ6: 101.08272
A7: 1.1 กลุ่มธัญพืชและพืชอาหาร | B7: 105.75311 | C7: 80.008717 | D7: 72.797209 | E7: 40.860157 | F7: 26.364314 | G7: 29.839169 | H7: 25.724918 | I7: 45.044436 | J7: 59.118516 | K7: 87.158864 | L7: 370.72325 | M7: 256.60733 | N7: 106.29962 | O7: 97.148702 | P7: 98.291759 | Q7: 59.267394 | R7: 31.211474 | S7: 31.290973 | T7: 31.669508 | U7: 57.486416 | V7: 72.766576 | W7: 86.954695 | X7: 370.50858 | Y7: 241.90383 | Z7: 115.30022 | AA7: 89.42617 | AB7: 96.078201 | AC7: 77.144036 | AD7: 41.630167 | AE7: 29.793372 | AF7: 29.787708 | AG7: 47.956265 | AH7: 65.001518 | AI7: 89.275473 | AJ7: 372.86877 | AK7: 277.49078 | AL7: 106.54921 | AM7: 86.529168 | AN7: 80.200995 | AO7: 87.921614 | AP7: 68.283479 | AQ7: 45.89063 | AR7: 46.655118 | AS7: 67.055615 | AT7: 79.838735 | AU7: 82.413118 | AV7: 387.35505 | AW7: 257.49747 | AX7: 125.03026 | AY7: 103.96741 | AZ7: 89.482112 | BA7: 94.591828 | BB7: 58.569684 | BC7: 40.11216 | BD7: 40.175314 | BE7: 66.423248 | BF7: 65.897047 | BG7: 97.064515 | BH7: 390.24686 | BI7: 259.96494 | BJ7: 98.917655 | BK7: 89.572072 | BL7: 80.33109 | BM7: 85.563166 | BN7: 68.798015 | BO7: 49.263604 | BP7: 44.420516 | BQ7: 50.363965 | BR7: 66.659929 | BS7: 74.007167 | BT7: 422.94228 | BU7: 291.69193 | BV7: 119.96579 | BW7: 104.24992 | BX7: 133.17472 | BY7: 140.68407 | BZ7: 79.775707 | CA7: 40.958805 | CB7: 36.683152 | CC7: 67.662704 | CD7: 104.84481 | CE7: 59.954195 | CF7: 570.46196 | CG7: 141.78876 | CH7: 116.77809 | CI7: 140.4571 | CJ7: 168.00738 | CK7: 143.96169 | CL7: 77.210748 | CM7: 40.046817 | CN7: 41.466141 | CO7: 74.941681 | CP7: 131.4545 | CQ7: 80.152889 | CR7: 560.42732 | CS7: 144.33679 | CT7: 128.87756 | CU7: 150.62432 | CV7: 185.38384 | CW7: 109.78009 | CX7: 55.901237 | CY7: 40.385133 | CZ7: 30.277788 | DA7: 48.727146 | DB7: 98.773878 | DC7: 134.46689 | DD7: 551.55478 | DE7: 152.21409 | DF7: 128.97993 | DG7: 152.75162 | DH7: 161.14221 | DI7: 107.61425 | DJ7: 58.750155 | DK7: 30.154663 | DL7: 29.024335 | DM7: 49.458051 | DN7: 105.37294 | DO7: 104.59083 | DP7: 447.29556 | DQ7: 234.75996 | DR7: 147.63534 | DS7: 165.64038 | DT7: 154.4542 | DU7: 70.357336 | DV7: 27.747951 | DW7: 10.470889 | DX7: 7.1979011 | DY7: 37.313064 | DZ7: 54.161199 | EA7: 57.95984 | EB7: 539.02431 | EC7: 193.39798 | ED7: 137.23882 | EE7: 141.48519 | EF7: 105.67768 | EG7: 44.1635 | EH7: 23.302312 | EI7: 11.178294 | EJ7: 5.1572515 | EK7: 19.219273 | EL7: 61.547522 | EM7: 111.79359 | EN7: 564.91473 | EO7: 158.90756 | EP7: 108.47936 | EQ7: 144.20135 | ER7: 168.51104 | ES7: 87.03902 | ET7: 40.375219 | EU7: 10.651278 | EV7: 10.666722 | EW7: 61.923105 | EX7: 92.50051 | EY7: 95.187452 | EZ7: 518.26235 | FA7: 153.00413 | FB7: 134.62924 | FC7: 151.77689 | FD7: 201.66604 | FE7: 127.51106 | FF7: 55.967936 | FG7: 16.212945 | FH7: 19.308761 | FI7: 79.091383 | FJ7: 91.192617 | FK7: 87.020465 | FL7: 516.77181 | FM7: 172.95713 | FN7: 144.96856 | FO7: 152.36625 | FP7: 191.68126 | FQ7: 99.705962 | FR7: 42.235729 | FS7: 16.537886 | FT7: 16.61106 | FU7: 61.818928 | FV7: 86.274493 | FW7: 89.111327 | FX7: 494.62944 | FY7: 158.32686 | FZ7: 129.65655 | GA7: 120.23171 | GB7: 93.368875 | GC7: 60.080554 | GD7: 26.231767 | GE7: 12.242056 | GF7: 9.7709171 | GG7: 38.373634 | GH7: 64.560755 | GI7: 102.55866 | GJ7: 604.08895 | GK7: 139.93597 | GL7: 129.14438 | GM7: 125.81716 | GN7: 112.0631 | GO7: 74.529049 | GP7: 35.65974 | GQ7: 13.913076 | GR7: 9.0429615 | GS7: 58.270767 | GT7: 77.941753 | GU7: 95.246671 | GV7: 596.19706 | GW7: 155.70234 | GX7: 133.00214 | GY7: 126.11904 | GZ7: 150.63908 | HA7: 83.912792 | HB7: 39.33416 | HC7: 19.207971 | HD7: 17.645682 | HE7: 73.907062 | HF7: 83.558139 | HG7: 92.495664 | HH7: 576.83037 | HI7: 148.99722 | HJ7: 128.46723 | HK7: 132.59991 | HL7: 134.66135 | HM7: 95.521846 | HN7: 42.930453 | HO7: 16.820346 | HP7: 16.102183 | HQ7: 69.070076 | HR7: 81.983451 | HS7: 105.07213 | HT7: 576.93087 | HU7: 135.19396 | HV7: 124.87672 | HW7: 128.66586 | HX7: 116.88028 | HY7: 92.249807 | HZ7: 35.080781 | IA7: 14.419447 | IB7: 20.746365 | IC7: 71.872064 | ID7: 86.404142 | IE7: 114.31229 | IF7: 570.03939 | IG7: 121.83511 | IH7: 121.23566 | II7: 126.29099 | IJ7: 148.82438 | IK7: 110.66278 | IL7: 48.254155 | IM7: 17.865349 | IN7: 15.718651 | IO7: 86.554975 | IP7: 94.534312 | IQ7: 101.52366 | IR7: 574.17692 | IS7: 106.28834 | IT7: 112.43311 | IU7: 128.04313 | IV7: 174.66579 | IW7: 115.62142 | IX7: 44.030068 | IY7: 16.618363 | IZ7: 14.626517
A8: ข้าวเปลือก | B8: 43.455904 | C8: 40.277637 | D8: 72.039414 | E8: 45.273448 | F8: 30.715298 | G8: 37.636312 | H8: 30.448539 | I8: 44.920936 | J8: 43.330573 | K8: 80.38298 | L8: 453.98983 | M8: 277.52913 | N8: 43.580672 | O8: 46.062229 | P8: 74.516499 | Q8: 66.21526 | R8: 35.785484 | S8: 38.081443 | T8: 35.308415 | U8: 40.943298 | V8: 46.554402 | W8: 84.946291 | X8: 461.79469 | Y8: 242.06998 | Z8: 38.657427 | AA8: 31.521246 | AB8: 58.892231 | AC8: 83.515618 | AD8: 46.299565 | AE8: 35.019658 | AF8: 36.377688 | AG8: 44.133632 | AH8: 46.820407 | AI8: 82.223452 | AJ8: 448.00742 | AK8: 273.67926 | AL8: 40.836906 | AM8: 30.795901 | AN8: 31.361437 | AO8: 94.371153 | AP8: 85.926592 | AQ8: 60.932529 | AR8: 54.967051 | AS8: 59.701651 | AT8: 53.085337 | AU8: 74.986558 | AV8: 471.21807 | AW8: 252.04189 | AX8: 38.053586 | AY8: 33.813093 | AZ8: 46.889814 | BA8: 94.847663 | BB8: 71.345528 | BC8: 51.767016 | BD8: 49.286137 | BE8: 57.68339 | BF8: 48.337481 | BG8: 88.862207 | BH8: 484.29618 | BI8: 243.32563 | BJ8: 31.430695 | BK8: 20.038694 | BL8: 42.777359 | BM8: 94.950821 | BN8: 85.450961 | BO8: 59.42547 | BP8: 46.860231 | BQ8: 45.993563 | BR8: 54.003591 | BS8: 68.866685 | BT8: 531.2887 | BU8: 306.96351 | BV8: 42.770242 | BW8: 29.179775 | BX8: 77.012508 | BY8: 133.55173 | BZ8: 82.929481 | CA8: 47.139486 | CB8: 36.58197 | CC8: 64.646601 | CD8: 102.45759 | CE8: 50.651161 | CF8: 728.87568 | CG8: 83.168309 | CH8: 20.957415 | CI8: 35.036026 | CJ8: 105.86848 | CK8: 151.6259 | CL8: 93.796714 | CM8: 50.294968 | CN8: 46.40476 | CO8: 80.037605 | CP8: 129.0094 | CQ8: 64.911204 | CR8: 709.82402 | CS8: 94.807824 | CT8: 26.863872 | CU8: 49.069919 | CV8: 118.73525 | CW8: 116.49242 | CX8: 65.54876 | CY8: 49.041734 | CZ8: 32.613394 | DA8: 48.518196 | DB8: 98.393047 | DC8: 139.75056 | DD8: 682.89177 | DE8: 80.499504 | DF8: 25.300008 | DG8: 60.086899 | DH8: 103.82926 | DI8: 110.68983 | DJ8: 68.037703 | DK8: 35.556331 | DL8: 32.396218 | DM8: 48.100092 | DN8: 111.30585 | DO8: 93.95448 | DP8: 556.87216 | DQ8: 192.91023 | DR8: 44.361765 | DS8: 48.983248 | DT8: 83.231292 | DU8: 59.305943 | DV8: 27.523407 | DW8: 10.948673 | DX8: 5.5188299 | DY8: 40.802493 | DZ8: 56.210665 | EA8: 45.314263 | EB8: 661.77104 | EC8: 151.62713 | ED8: 33.232399 | EE8: 27.633513 | EF8: 44.210722 | EG8: 36.465197 | EH8: 19.750097 | EI8: 7.2238625 | EJ8: 1.7614026 | EK8: 16.656574 | EL8: 51.428669 | EM8: 102.82709 | EN8: 709.39275 | EO8: 125.82357 | EP8: 19.282096 | EQ8: 36.372618 | ER8: 85.977094 | ES8: 82.224777 | ET8: 42.603099 | EU8: 10.984124 | EV8: 11.013746 | EW8: 66.575516 | EX8: 86.822607 | EY8: 90.027411 | EZ8: 655.24761 | FA8: 97.284233 | FB8: 25.337956 | FC8: 38.288918 | FD8: 93.551313 | FE8: 101.74792 | FF8: 52.486012 | FG8: 17.997597 | FH8: 21.10665 | FI8: 85.533999 | FJ8: 95.877792 | FK8: 82.411269 | FL8: 634.71195 | FM8: 100.52222 | FN8: 25.380231 | FO8: 39.525306 | FP8: 91.406379 | FQ8: 88.075199 | FR8: 43.279779 | FS8: 17.100308 | FT8: 17.594464 | FU8: 74.386353 | FV8: 89.85997 | FW8: 86.394114 | FX8: 616.93023 | FY8: 88.859972 | FZ8: 22.826731 | GA8: 44.526901 | GB8: 59.668196 | GC8: 52.632646 | GD8: 20.529696 | GE8: 12.133441 | GF8: 6.1779835 | GG8: 42.508404 | GH8: 67.626498 | GI8: 97.932449 | GJ8: 746.06932 | GK8: 99.371352 | GL8: 18.883728 | GM8: 29.607979 | GN8: 73.214161 | GO8: 67.326132 | GP8: 34.143568 | GQ8: 11.893709 | GR8: 6.6970905 | GS8: 65.65116 | GT8: 80.847151 | GU8: 95.731861 | GV8: 730.60408 | GW8: 97.602915 | GX8: 19.442318 | GY8: 24.145001 | GZ8: 81.712377 | HA8: 82.991401 | HB8: 39.653535 | HC8: 19.057768 | HD8: 17.224586 | HE8: 88.209617 | HF8: 88.736155 | HG8: 88.72704 | HH8: 711.87091 | HI8: 86.944897 | HJ8: 14.683441 | HK8: 24.188316 | HL8: 87.271089 | HM8: 101.5921 | HN8: 45.823055 | HO8: 16.508283 | HP8: 15.756171 | HQ8: 79.872048 | HR8: 87.694522 | HS8: 97.967643 | HT8: 715.66874 | HU8: 90.795212 | HV8: 16.14255 | HW8: 29.752338 | HX8: 88.081068 | HY8: 98.179121 | HZ8: 35.391293 | IA8: 12.658936 | IB8: 21.066528 | IC8: 85.198413 | ID8: 87.175725 | IE8: 111.87067 | IF8: 709.40915 | IG8: 74.847242 | IH8: 16.415228 | II8: 29.877693 | IJ8: 107.71874 | IK8: 124.04844 | IL8: 49.444588 | IM8: 16.282025 | IN8: 14.829939 | IO8: 103.28192 | IP8: 94.578615 | IQ8: 92.650384 | IR8: 712.1975 | IS8: 63.861977 | IT8: 10.994647 | IU8: 27.230619 | IV8: 104.92468 | IW8: 120.34435 | IX8: 48.20317 | IY8: 15.55185 | IZ8: 13.836877
A9: ข้าวเปลือกเจ้า | B9: 72.441718 | C9: 75.053527 | D9: 134.23856 | E9: 84.362743 | F9: 57.235023 | G9: 70.13167 | H9: 56.737942 | I9: 83.70587 | J9: 80.59952 | K9: 120.18962 | L9: 226.71211 | M9: 138.59169 | N9: 72.649707 | O9: 85.83256 | P9: 138.85437 | Q9: 123.38581 | R9: 66.682829 | S9: 70.96113 | T9: 65.793856 | U9: 76.293923 | V9: 86.5984 | W9: 127.16342 | X9: 230.60968 | Y9: 120.8842 | Z9: 64.442576 | AA9: 58.736828 | AB9: 109.74004 | AC9: 155.62337 | AD9: 86.274815 | AE9: 65.255786 | AF9: 67.786345 | AG9: 82.238806 | AH9: 87.093491 | AI9: 123.00398 | AJ9: 223.72464 | AK9: 136.66915 | AL9: 68.075804 | AM9: 57.385218 | AN9: 58.439041 | AO9: 175.85162 | AP9: 160.11599 | AQ9: 113.54194 | AR9: 102.42585 | AS9: 111.24832 | AT9: 98.750052 | AU9: 112.29843 | AV9: 235.3155 | AW9: 125.86394 | AX9: 63.435964 | AY9: 63.007467 | AZ9: 87.374686 | BA9: 176.73955 | BB9: 132.94557 | BC9: 96.462886 | BD9: 91.840006 | BE9: 107.48748 | BF9: 89.917743 | BG9: 132.99953 | BH9: 241.84641 | BI9: 121.51124 | BJ9: 52.395493 | BK9: 37.340191 | BL9: 79.71152 | BM9: 176.93178 | BN9: 159.2297 | BO9: 110.73368 | BP9: 87.319562 | BQ9: 85.704608 | BR9: 100.45799 | BS9: 103.15461 | BT9: 265.3134 | BU9: 153.29054 | BV9: 71.298708 | BW9: 54.373722 | BX9: 143.50545 | BY9: 248.86089 | BZ9: 154.53116 | CA9: 87.839927 | CB9: 68.167004 | CC9: 120.46276 | CD9: 190.5888 | CE9: 75.903521 | CF9: 363.98381 | CG9: 41.532347 | CH9: 34.936361 | CI9: 65.286287 | CJ9: 197.27579 | CK9: 282.54037 | CL9: 174.78121 | CM9: 93.719866 | CN9: 86.470835 | CO9: 149.14243 | CP9: 239.97725 | CQ9: 97.335292 | CR9: 354.46985 | CS9: 47.344854 | CT9: 44.782523 | CU9: 91.437104 | CV9: 221.25178 | CW9: 217.0725 | CX9: 122.14385 | CY9: 91.384584 | CZ9: 60.771943 | DA9: 90.40902 | DB9: 183.02723 | DC9: 209.38492 | DD9: 341.0205 | DE9: 40.199607 | DF9: 42.175536 | DG9: 111.96619 | DH9: 193.47589 | DI9: 206.25991 | DJ9: 126.78176 | DK9: 66.255825 | DL9: 60.367256 | DM9: 89.629923 | DN9: 207.04496 | DO9: 140.65641 | DP9: 278.08919 | DQ9: 96.334947 | DR9: 73.951803 | DS9: 91.275601 | DT9: 155.09356 | DU9: 110.51096 | DV9: 51.287239 | DW9: 20.401806 | DX9: 10.283812 | DY9: 76.031546 | DZ9: 104.56647 | EA9: 68.105145 | EB9: 310.98139 | EC9: 75.719114 | ED9: 55.398964 | EE9: 51.49241 | EF9: 82.382455 | EG9: 67.94941 | EH9: 36.802419 | EI9: 13.460977 | EJ9: 3.2822054 | EK9: 31.037934 | EL9: 95.647783 | EM9: 143.24456 | EN9: 304.47604 | EO9: 98.060209 | EP9: 29.961369 | EQ9: 67.776897 | ER9: 160.2101 | ES9: 153.21801 | ET9: 79.386803 | EU9: 20.467866 | EV9: 20.523064 | EW9: 124.05711 | EX9: 158.29602 | EY9: 108.3678 | EZ9: 171.12949 | FA9: 128.78731 | FB9: 43.361256 | FC9: 71.34774 | FD9: 174.32393 | FE9: 189.59752 | FF9: 97.802668 | FG9: 33.536802 | FH9: 39.330225 | FI9: 159.38443 | FJ9: 174.9317 | FK9: 109.53916 | FL9: 172.4249 | FM9: 155.0733 | FN9: 44.220082 | FO9: 73.651629 | FP9: 170.32705 | FQ9: 164.11972 | FR9: 80.647731 | FS9: 31.86479 | FT9: 32.785602 | FU9: 138.61186 | FV9: 160.56237 | FW9: 106.85823 | FX9: 168.5261 | FY9: 131.92697 | FZ9: 38.972832 | GA9: 82.971624 | GB9: 111.18598 | GC9: 98.075906 | GD9: 38.255126 | GE9: 22.609508 | GF9: 11.512082 | GG9: 79.210348 | GH9: 123.35628 | GI9: 114.63136 | GJ9: 269.47763 | GK9: 139.34329 | GL9: 32.486201 | GM9: 55.17164 | GN9: 136.42759 | GO9: 125.45581 | GP9: 63.623276 | GQ9: 22.16279 | GR9: 12.479388 | GS9: 122.33466 | GT9: 146.46019 | GU9: 118.98261 | GV9: 220.55137 | GW9: 144.11375 | GX9: 33.505503 | GY9: 44.991901 | GZ9: 152.2632 | HA9: 154.64654 | HB9: 73.890573 | HC9: 35.51233 | HD9: 32.096369 | HE9: 164.37019 | HF9: 160.36696 | HG9: 107.86969 | HH9: 222.07378 | HI9: 126.46348 | HJ9: 25.211432 | HK9: 45.072615 | HL9: 162.62133 | HM9: 189.30717 | HN9: 85.386884 | HO9: 30.761607 | HP9: 29.36012 | HQ9: 148.83393 | HR9: 159.11743 | HS9: 118.49913 | HT9: 232.56129 | HU9: 131.14928 | HV9: 27.768708 | HW9: 55.440638 | HX9: 164.13065 | HY9: 182.94741 | HZ9: 65.948292 | IA9: 23.588717 | IB9: 39.255462 | IC9: 158.7591 | ID9: 157.87941 | IE9: 136.76703 | IF9: 221.99093 | IG9: 109.16491 | IH9: 27.898747 | II9: 55.674225 | IJ9: 200.72358 | IK9: 231.15241 | IL9: 92.135264 | IM9: 30.339998 | IN9: 27.634174 | IO9: 192.45599 | IP9: 171.43715 | IQ9: 113.67986 | IR9: 215.27566 | IS9: 92.503819 | IT9: 18.885277 | IU9: 50.741656 | IV9: 195.51711 | IW9: 224.25019 | IX9: 89.822001 | IY9: 28.979386 | IZ9: 25.783698
A10: ข้าวเปลือกเจ้านาปีหอมมะลิ | B10: 8.054434 | C10: 0 | D10: 0 | E10: 0 | F10: 0 | G10: 0 | H10: 0 | I10: 0 | J10: 0 | K10: 26.45945 | L10: 723.31529 | M10: 442.17083 | N10: 8.0775593 | O10: 0 | P10: 0 | Q10: 0 | R10: 0 | S10: 0 | T10: 0 | U10: 0 | V10: 0 | W10: 27.826834 | X10: 735.7503 | Y10: 385.67585 | Z10: 7.1650493 | AA10: 0 | AB10: 0 | AC10: 0 | AD10: 0 | AE10: 0 | AF10: 0 | AG10: 0 | AH10: 0 | AI10: 27.009438 | AJ10: 713.78386 | AK10: 436.03707 | AL10: 7.5690098 | AM10: 0 | AN10: 0 | AO10: 0 | AP10: 0 | AQ10: 0 | AR10: 0 | AS10: 0 | AT10: 0 | AU10: 24.524343 | AV10: 750.76403 | AW10: 401.56352 | AX10: 7.0531291 | AY10: 0 | AZ10: 0 | BA10: 0 | BB10: 0 | BC10: 0 | BD10: 0 | BE10: 0 | BF10: 0 | BG10: 29.132831 | BH10: 771.60061 | BI10: 387.67641 | BJ10: 5.8255941 | BK10: 0 | BL10: 0 | BM10: 0 | BN10: 0 | BO10: 0 | BP10: 0 | BQ10: 0 | BR10: 0 | BS10: 22.503908 | BT10: 846.47103 | BU10: 489.0669 | BV10: 7.9273484 | BW10: 0 | BX10: 0 | BY10: 0 | BZ10: 0 | CA10: 0 | CB10: 0 | CC10: 0 | CD10: 0 | CE10: 16.521369 | CF10: 1161.2747 | CG10: 132.50717 | CH10: 3.8844001 | CI10: 0 | CJ10: 0 | CK10: 0 | CL10: 0 | CM10: 0 | CN10: 0 | CO10: 0 | CP10: 0 | CQ10: 21.116987 | CR10: 1130.9209 | CS10: 151.05173 | CT10: 4.9791458 | CU10: 0 | CV10: 0 | CW10: 0 | CX10: 0 | CY10: 0 | CZ10: 0 | DA10: 0 | DB10: 0 | DC10: 45.618545 | DD10: 1088.0113 | DE10: 128.25512 | DF10: 4.689288 | DG10: 0 | DH10: 0 | DI10: 0 | DJ10: 0 | DK10: 0 | DL10: 0 | DM10: 0 | DN10: 0 | DO10: 30.770726 | DP10: 887.23165 | DQ10: 307.35252 | DR10: 8.2223329 | DS10: 0 | DT10: 0 | DU10: 0 | DV10: 0 | DW10: 0 | DX10: 0 | DY10: 0 | DZ10: 0 | EA10: 14.602446 | EB10: 1273.6453 | EC10: 241.57859 | ED10: 6.159535 | EE10: 0 | EF10: 0 | EG10: 0 | EH10: 0 | EI10: 0 | EJ10: 0 | EK10: 0 | EL10: 0 | EM10: 59.08619 | EN10: 1358.7056 | EO10: 168.05529 | EP10: 4.4486127 | EQ10: 0 | ER10: 0 | ES10: 0 | ET10: 0 | EU10: 0 | EV10: 0 | EW10: 0 | EX10: 3.2994385 | EY10: 70.859415 | EZ10: 1499.5699 | FA10: 41.194357 | FB10: 3.931314 | FC10: 0 | FD10: 0 | FE10: 0 | FF10: 0 | FG10: 0 | FH10: 0 | FI10: 0 | FJ10: 2.8375831 | FK10: 49.728382 | FL10: 1383.3606 | FM10: 25.92749 | FN10: 3.8404165 | FO10: 0 | FP10: 0 | FQ10: 0 | FR10: 0 | FS10: 0 | FT10: 0 | FU10: 0 | FV10: 4.7838588 | FW10: 62.970736 | FX10: 1371.043 | FY10: 33.347655 | FZ10: 3.8187846 | GA10: 0 | GB10: 0 | GC10: 0 | GD10: 0 | GE10: 0 | GF10: 0 | GG10: 0 | GH10: 2.1351331 | GI10: 78.944796 | GJ10: 1502.6906 | GK10: 39.581122 | GL10: 2.9821108 | GM10: 0 | GN10: 0 | GO10: 0 | GP10: 0 | GQ10: 0 | GR10: 0 | GS10: 0 | GT10: 3.0969574 | GU10: 68.527824 | GV10: 1562.7429 | GW10: 33.564618 | GX10: 3.0882214 | GY10: 0 | GZ10: 0 | HA10: 0 | HB10: 0 | HC10: 0 | HD10: 0 | HE10: 0 | HF10: 3.6575424 | HG10: 66.673389 | HH10: 1513.0446 | HI10: 32.386012 | HJ10: 2.3691848 | HK10: 0 | HL10: 0 | HM10: 0 | HN10: 0 | HO10: 0 | HP10: 0 | HQ10: 0 | HR10: 3.2372329 | HS10: 74.255319 | HT10: 1497.8737 | HU10: 33.735413 | HV10: 2.5726407 | HW10: 0 | HX10: 0 | HY10: 0 | HZ10: 0 | IA10: 0 | IB10: 0 | IC10: 0 | ID10: 3.3860089 | IE10: 83.003504 | IF10: 1503.3402 | IG10: 27.14301 | IH10: 2.7528281 | II10: 0 | IJ10: 0 | IK10: 0 | IL10: 0 | IM10: 0 | IN10: 0 | IO10: 0 | IP10: 3.6552927 | IQ10: 68.450081 | IR10: 1529.7262 | IS10: 23.19335 | IT10: 1.7576782 | IU10: 0 | IV10: 0 | IW10: 0 | IX10: 0 | IY10: 0 | IZ10: 0
A11: ข้าวเปลือกเหนียวนาปีเมล็ดยาว | B11: 12.171122 | C11: 0 | D11: 0 | E11: 0 | F11: 0 | G11: 0 | H11: 0 | I11: 0 | J11: 0.37223188 | K11: 44.049924 | L11: 709.61254 | M11: 433.79419 | N11: 12.206067 | O11: 0 | P11: 0 | Q11: 0 | R11: 0 | S11: 0 | T11: 0 | U11: 0 | V11: 0.39416314 | W11: 46.326356 | X11: 721.81198 | Y11: 378.36947 | Z11: 10.827166 | AA11: 0 | AB11: 0 | AC11: 0 | AD11: 0 | AE11: 0 | AF11: 0 | AG11: 0 | AH11: 0.39568296 | AI11: 44.965548 | AJ11: 700.26168 | AK11: 427.77662 | AL11: 11.437594 | AM11: 0 | AN11: 0 | AO11: 0 | AP11: 0 | AQ11: 0 | AR11: 0 | AS11: 0 | AT11: 0.44137963 | AU11: 40.82834 | AV11: 736.54128 | AW11: 393.95616 | AX11: 10.658042 | AY11: 0 | AZ11: 0 | BA11: 0 | BB11: 0 | BC11: 0 | BD11: 0 | BE11: 0 | BF11: 0.40264231 | BG11: 48.500592 | BH11: 756.98313 | BI11: 380.33213 | BJ11: 8.8031038 | BK11: 0 | BL11: 0 | BM11: 0 | BN11: 0 | BO11: 0 | BP11: 0 | BQ11: 0 | BR11: 0.44955421 | BS11: 37.464702 | BT11: 830.43518 | BU11: 479.80184 | BV11: 11.979082 | BW11: 0 | BX11: 0 | BY11: 0 | BZ11: 0 | CA11: 0 | CB11: 0 | CC11: 0 | CD11: 0.86278559 | CE11: 27.50492 | CF11: 1139.2751 | CG11: 129.99691 | CH11: 5.8697494 | CI11: 0 | CJ11: 0 | CK11: 0 | CL11: 0 | CM11: 0 | CN11: 0 | CO11: 0 | CP11: 1.0928677 | CQ11: 35.155744 | CR11: 1109.4963 | CS11: 148.19015 | CT11: 7.5240287 | CU11: 0 | CV11: 0 | CW11: 0 | CX11: 0 | CY11: 0 | CZ11: 0 | DA11: 0 | DB11: 0.83067035 | DC11: 75.946152 | DD11: 1067.3996 | DE11: 125.82541 | DF11: 7.0860221 | DG11: 0 | DH11: 0 | DI11: 0 | DJ11: 0 | DK11: 0 | DL11: 0 | DM11: 0 | DN11: 0.94540766 | DO11: 51.227373 | DP11: 870.42361 | DQ11: 301.52992 | DR11: 12.424836 | DS11: 0 | DT11: 0 | DU11: 0 | DV11: 0 | DW11: 0 | DX11: 0 | DY11: 0 | DZ11: 0.46048542 | EA11: 24.310281 | EB11: 811.14731 | EC11: 237.00204 | ED11: 9.3077247 | EE11: 0 | EF11: 0 | EG11: 0 | EH11: 0 | EI11: 0 | EJ11: 0 | EK11: 0 | EL11: 0.48105227 | EM11: 52.177916 | EN11: 953.01479 | EO11: 145.38783 | EP11: 9.993271 | EQ11: 0 | ER11: 0 | ES11: 0 | ET11: 0 | EU11: 0 | EV11: 0 | EW11: 0 | EX11: 4.9692314 | EY11: 66.19378 | EZ11: 861.5411 | FA11: 85.293641 | FB11: 5.1280147 | FC11: 0 | FD11: 0 | FE11: 0 | FF11: 0 | FG11: 0 | FH11: 0 | FI11: 0 | FJ11: 6.1659461 | FK11: 52.570145 | FL11: 903.6811 | FM11: 51.603409 | FN11: 3.2091447 | FO11: 0 | FP11: 0 | FQ11: 0 | FR11: 0 | FS11: 0 | FT11: 0 | FU11: 0 | FV11: 11.95612 | FW11: 62.344695 | FX11: 842.89875 | FY11: 46.017337 | FZ11: 4.5104113 | GA11: 0 | GB11: 0 | GC11: 0 | GD11: 0 | GE11: 0 | GF11: 0 | GG11: 0 | GH11: 4.2606076 | GI11: 78.150391 | GJ11: 1042.347 | GK11: 69.938863 | GL11: 3.3131553 | GM11: 0 | GN11: 0 | GO11: 0 | GP11: 0 | GQ11: 0 | GR11: 0 | GS11: 0 | GT11: 7.049092 | GU11: 69.146222 | GV11: 1019.6963 | GW11: 56.441609 | GX11: 3.2367747 | GY11: 0 | GZ11: 0 | HA11: 0 | HB11: 0 | HC11: 0 | HD11: 0 | HE11: 0 | HF11: 8.4164383 | HG11: 66.4091 | HH11: 986.88152 | HI11: 52.156361 | HJ11: 2.6406589 | HK11: 0 | HL11: 0 | HM11: 0 | HN11: 0 | HO11: 0 | HP11: 0 | HQ11: 0 | HR11: 7.1400375 | HS11: 74.103785 | HT11: 996.95318 | HU11: 56.955019 | HV11: 2.807559 | HW11: 0 | HX11: 0 | HY11: 0 | HZ11: 0 | IA11: 0 | IB11: 0 | IC11: 0 | ID11: 7.6610006 | IE11: 83.075602 | IF11: 987.27208 | IG11: 45.044096 | IH11: 3.5674721 | II11: 0 | IJ11: 0 | IK11: 0 | IL11: 0 | IM11: 0 | IN11: 0 | IO11: 0 | IP11: 7.9415847 | IQ11: 68.098772 | IR11: 985.33406 | IS11: 40.055471 | IT11: 1.9781334 | IU11: 0 | IV11: 0 | IW11: 0 | IX11: 0 | IY11: 0 | IZ11: 0
A12: อ้อย | B12: 512.55232 | C12: 391.4114 | D12: 90.425083 | E12: 32.581728 | F12: 9.3623167 | G12: 0 | H12: 0 | I12: 0 | J12: 0 | K12: 1.586444 | L12: 1.454222 | M12: 160.62649 | N12: 505.67598 | O12: 440.89657 | P12: 231.95646 | Q12: 31.158336 | R12: 11.731706 | S12: 0 | T12: 0 | U12: 0 | V12: 0 | W12: 1.8462168 | X12: 9.0464073 | Y12: 331.20967 | Z12: 573.24751 | AA12: 489.61427 | AB12: 354.47189 | AC12: 69.417422 | AD12: 17.354355 | AE12: 0 | AF12: 0 | AG12: 0 | AH12: 0 | AI12: 2.002619 | AJ12: 14.819276 | AK12: 365.16459 | AL12: 589.16138 | AM12: 530.70215 | AN12: 485.25644 | AO12: 104.28355 | AP12: 17.087796 | AQ12: 0 | AR12: 0 | AS12: 0 | AT12: 0 | AU12: 1.7255354 | AV12: 9.5862588 | AW12: 351.04929 | AX12: 596.84133 | AY12: 537.7899 | AZ12: 342.99683 | BA12: 65.761835 | BB12: 11.503533 | BC12: 0 | BD12: 0 | BE12: 0 | BF12: 0 | BG12: 1.8359127 | BH12: 26.926903 | BI12: 470.88972 | BJ12: 590.8828 | BK12: 513.80425 | BL12: 326.89341 | BM12: 29.574777 | BN12: 10.844099 | BO12: 0 | BP12: 0 | BQ12: 0 | BR12: 0 | BS12: 0 | BT12: 3.2759014 | BU12: 398.65261 | BV12: 656.44124 | BW12: 589.66315 | BX12: 561.43997 | BY12: 358.49821 | BZ12: 150.67316 | CA12: 15.895847 | CB12: 0 | CC12: 0 | CD12: 0 | CE12: 0 | CF12: 48.529865 | CG12: 577.5896 | CH12: 683.62597 | CI12: 655.01296 | CJ12: 620.22855 | CK12: 201.13247 | CL12: 19.07533 | CM12: 0 | CN12: 0 | CO12: 0 | CP12: 0 | CQ12: 0 | CR12: 54.271575 | CS12: 558.99713 | CT12: 775.79777 | CU12: 685.82123 | CV12: 626.12248 | CW12: 137.96402 | CX12: 17.424038 | CY12: 0 | CZ12: 0 | DA12: 0 | DB12: 0 | DC12: 0 | DD12: 10.648788 | DE12: 620.88282 | DF12: 831.19612 | DG12: 745.11853 | DH12: 604.31803 | DI12: 136.36348 | DJ12: 9.4655774 | DK12: 0 | DL12: 0 | DM12: 0 | DN12: 0 | DO12: 0 | DP12: 0 | DQ12: 618.52431 | DR12: 839.96753 | DS12: 779.60149 | DT12: 634.60167 | DU12: 146.2132 | DV12: 14.560658 | DW12: 0 | DX12: 0 | DY12: 0 | DZ12: 0 | EA12: 0 | EB12: 6.4451623 | EC12: 567.17489 | ED12: 843.24296 | EE12: 827.66712 | EF12: 435.85455 | EG12: 5.1024442 | EH12: 0 | EI12: 0 | EJ12: 0 | EK12: 0 | EL12: 0 | EM12: 0 | EN12: 0 | EO12: 376.75012 | EP12: 778.4576 | EQ12: 829.43436 | ER12: 584.1087 | ES12: 73.013601 | ET12: 13.275175 | EU12: 0 | EV12: 0 | EW12: 0 | EX12: 0 | EY12: 0 | EZ12: 0 | FA12: 577.23912 | FB12: 917.45428 | FC12: 866.56506 | FD12: 926.48377 | FE12: 406.82913 | FF12: 127.03469 | FG12: 1.1436158 | FH12: 0 | FI12: 0 | FJ12: 0 | FK12: 0 | FL12: 57.611856 | FM12: 764.19384 | FN12: 985.15307 | FO12: 896.7902 | FP12: 816.15702 | FQ12: 161.60096 | FR12: 24.312029 | FS12: 0 | FT12: 0 | FU12: 0 | FV12: 0 | FW12: 0 | FX12: 0 | FY12: 640.63703 | FZ12: 891.23603 | GA12: 519.46124 | GB12: 39.799779 | GC12: 12.407049 | GD12: 14.782924 | GE12: 0 | GF12: 0 | GG12: 0 | GH12: 0 | GI12: 0 | GJ12: 0 | GK12: 287.64789 | GL12: 825.60042 | GM12: 628.87532 | GN12: 121.83069 | GO12: 5.7468753 | GP12: 5.2362324 | GQ12: 0 | GR12: 0 | GS12: 0 | GT12: 0 | GU12: 0 | GV12: 0 | GW12: 493.18254 | GX12: 893.39038 | GY12: 720.40305 | GZ12: 466.67398 | HA12: 9.8135531 | HB12: 6.9398407 | HC12: 0 | HD12: 0 | HE12: 0 | HF12: 0 | HG12: 0 | HH12: 0 | HI12: 493.46745 | HJ12: 917.3216 | HK12: 842.32846 | HL12: 363.15359 | HM12: 9.6681694 | HN12: 7.1976351 | HO12: 0 | HP12: 0 | HQ12: 0 | HR12: 0 | HS12: 0 | HT12: 0 | HU12: 425.53915 | HV12: 929.46832 | HW12: 781.00103 | HX12: 158.72241 | HY12: 9.6153026 | HZ12: 5.2843731 | IA12: 0 | IB12: 0 | IC12: 0 | ID12: 0 | IE12: 0 | IF12: 0 | IG12: 490.24697 | IH12: 936.98423 | II12: 812.69488 | IJ12: 328.80846 | IK12: 8.5206518 | IL12: 6.7406834 | IM12: 0 | IN12: 0 | IO12: 0 | IP12: 0 | IQ12: 0 | IR12: 0 | IS12: 399.62147 | IT12: 888.00019 | IU12: 867.107 | IV12: 707.65602 | IW12: 94.664622 | IX12: 6.8485053 | IY12: 0 | IZ12: 0
A13: มันสำปะหลัง | B13: 238.08287 | C13: 145.96936 | D13: 102.99572 | E13: 34.282926 | F13: 29.579348 | G13: 20.13407 | H13: 32.327345 | I13: 22.427136 | J13: 40.627801 | K13: 94.911062 | L13: 189.89098 | M13: 248.77139 | N13: 267.54306 | O13: 249.52869 | P13: 230.0377 | Q13: 68.203933 | R13: 39.032702 | S13: 32.931 | T13: 58.993615 | U13: 36.646829 | V13: 29.220783 | W13: 125.01166 | X13: 205.63473 | Y13: 341.27591 | Z13: 388.94176 | AA13: 237.80486 | AB13: 211.58887 | AC13: 87.920235 | AD13: 62.586112 | AE13: 41.515488 | AF13: 28.488253 | AG13: 36.403724 | AH13: 74.970065 | AI13: 141.23553 | AJ13: 251.32268 | AK13: 349.5006 | AL13: 221.08527 | AM13: 165.19753 | AN13: 129.73954 | AO13: 81.736472 | AP13: 31.682215 | AQ13: 6.0602265 | AR13: 63.424316 | AS13: 112.7214 | AT13: 167.99625 | AU13: 111.48781 | AV13: 226.2701 | AW13: 312.17003 | AX13: 430.66537 | AY13: 313.11948 | AZ13: 248.68472 | BA13: 192.72569 | BB13: 49.657022 | BC13: 17.596695 | BD13: 38.036548 | BE13: 49.678513 | BF13: 69.179362 | BG13: 125.67445 | BH13: 136.54838 | BI13: 242.2498 | BJ13: 226.19765 | BK13: 305.09961 | BL13: 194.69578 | BM13: 124.6056 | BN13: 47.094502 | BO13: 28.522816 | BP13: 29.879122 | BQ13: 18.882342 | BR13: 26.556763 | BS13: 51.925586 | BT13: 112.66788 | BU13: 164.89167 | BV13: 284.18114 | BW13: 311.69382 | BX13: 270.36669 | BY13: 93.538535 | BZ13: 52.275528 | CA13: 24.166579 | CB13: 28.971313 | CC13: 41.433153 | CD13: 63.608082 | CE13: 43.309889 | CF13: 97.007222 | CG13: 160.22272 | CH13: 413.30675 | CI13: 598.72952 | CJ13: 343.29254 | CK13: 123.97306 | CL13: 61.743597 | CM13: 24.679548 | CN13: 44.41741 | CO13: 27.956462 | CP13: 104.23862 | CQ13: 52.633888 | CR13: 99.596161 | CS13: 175.65527 | CT13: 416.72198 | CU13: 580.92472 | CV13: 431.43097 | CW13: 86.189622 | CX13: 56.36101 | CY13: 34.045502 | CZ13: 36.856329 | DA13: 40.866593 | DB13: 57.538136 | DC13: 61.228095 | DD13: 223.65785 | DE13: 244.62677 | DF13: 385.42181 | DG13: 453.17896 | DH13: 305.18414 | DI13: 112.05136 | DJ13: 75.105648 | DK13: 36.912587 | DL13: 32.3886 | DM13: 63.453267 | DN13: 61.547033 | DO13: 121.02419 | DP13: 131.29569 | DQ13: 208.6209 | DR13: 401.42961 | DS13: 663.67091 | DT13: 377.85594 | DU13: 103.1673 | DV13: 56.311664 | DW13: 25.59776 | DX13: 27.724239 | DY13: 44.679815 | DZ13: 53.236311 | EA13: 71.566809 | EB13: 141.47829 | EC13: 162.54002 | ED13: 390.45521 | EE13: 525.56179 | EF13: 355.21882 | EG13: 144.47836 | EH13: 90.432109 | EI13: 65.023727 | EJ13: 37.499337 | EK13: 55.067122 | EL13: 93.39296 | EM13: 98.187428 | EN13: 119.10906 | EO13: 164.4006 | EP13: 263.84694 | EQ13: 480.93844 | ER13: 566.20691 | ES13: 178.79099 | ET13: 75.975746 | EU13: 26.266845 | EV13: 17.271502 | EW13: 43.832919 | EX13: 52.311049 | EY13: 80.820519 | EZ13: 104.57316 | FA13: 161.60059 | FB13: 353.68847 | FC13: 501.26477 | FD13: 515.70429 | FE13: 106.88772 | FF13: 41.817452 | FG13: 23.584141 | FH13: 27.029215 | FI13: 44.978357 | FJ13: 48.055763 | FK13: 78.167518 | FL13: 128.06771 | FM13: 180.30437 | FN13: 392.63979 | FO13: 471.7605 | FP13: 511.76411 | FQ13: 131.72995 | FR13: 67.740652 | FS13: 42.21236 | FT13: 25.751343 | FU13: 36.288537 | FV13: 60.734563 | FW13: 82.59644 | FX13: 88.058351 | FY13: 190.20834 | FZ13: 336.23389 | GA13: 431.86242 | GB13: 455.58522 | GC13: 154.06038 | GD13: 95.633257 | GE13: 35.43425 | GF13: 31.73512 | GG13: 38.357115 | GH13: 44.98041 | GI13: 101.19673 | GJ13: 138.14512 | GK13: 230.01943 | GL13: 447.67961 | GM13: 526.39055 | GN13: 450.57455 | GO13: 195.5769 | GP13: 99.748854 | GQ13: 56.681248 | GR13: 36.582425 | GS13: 49.428838 | GT13: 69.897108 | GU13: 107.45017 | GV13: 142.63529 | GW13: 227.54889 | GX13: 426.36752 | GY13: 493.10222 | GZ13: 453.25322 | HA13: 175.51024 | HB13: 97.596572 | HC13: 56.719781 | HD13: 39.343974 | HE13: 48.054737 | HF13: 64.084846 | HG13: 97.258128 | HH13: 141.3809 | HI13: 256.75756 | HJ13: 384.08487 | HK13: 440.43295 | HL13: 356.61031 | HM13: 154.22081 | HN13: 81.334378 | HO13: 48.243978 | HP13: 36.239875 | HQ13: 44.791717 | HR13: 54.091488 | HS13: 95.694033 | HT13: 127.23683 | HU13: 203.90062 | HV13: 332.97552 | HW13: 416.37813 | HX13: 372.20718 | HY13: 142.52428 | HZ13: 84.153759 | IA13: 49.606102 | IB13: 42.920114 | IC13: 42.576948 | ID13: 48.919085 | IE13: 93.898195 | IF13: 115.25785 | IG13: 154.57116 | IH13: 274.67809 | II13: 357.28459 | IJ13: 390.4997 | IK13: 135.24956 | IL13: 113.43053 | IM13: 57.123312 | IN13: 37.082939 | IO13: 53.542176 | IP13: 61.261973 | IQ13: 85.745163 | IR13: 106.27099 | IS13: 151.46111 | IT13: 267.16732 | IU13: 343.47719 | IV13: 317.81989 | IW13: 127.79011 | IX13: 75.647774 | IY13: 49.162737 | IZ13: 33.27177
A14: ข้าวโพดเลี้ยงสัตว์ | B14: 89.209781 | C14: 19.658398 | D14: 5.7234183 | E14: 5.5990397 | F14: 0.12437853 | G14: 0.12437853 | H14: 0 | I14: 126.82082 | J14: 307.49065 | K14: 248.36213 | L14: 211.4071 | M14: 185.47991 | N14: 69.217509 | O14: 11.61449 | P14: 5.8658517 | Q14: 6.1005661 | R14: 0.70385636 | S14: 0.11721386 | T14: 0 | U14: 313.52502 | V14: 469.27702 | W14: 165.74614 | X14: 105.33199 | Y14: 32.116025 | Z14: 15.945671 | AA14: 8.3098611 | AB14: 6.9623316 | AC14: 4.2672724 | AD14: 1.1228458 | AE14: 0.3367391 | AF14: 0 | AG14: 156.73356 | AH14: 311.0128 | AI14: 203.9527 | AJ14: 211.43289 | AK14: 142.4627 | AL14: 55.825897 | AM14: 14.42533 | AN14: 10.977121 | AO14: 7.2747108 | AP14: 0.73480769 | AQ14: 0.051298977 | AR14: 0 | AS14: 167.55822 | AT14: 337.33004 | AU14: 219.34325 | AV14: 210.87663 | AW14: 150.84307 | AX14: 74.800787 | AY14: 36.036528 | AZ14: 11.610477 | BA14: 7.8066153 | BB14: 1.2472243 | BC14: 0.35450746 | BD14: 0 | BE14: 252.37005 | BF14: 314.79861 | BG14: 260.21363 | BH14: 205.59054 | BI14: 210.18824 | BJ14: 39.547513 | BK14: 17.836855 | BL14: 11.663496 | BM14: 8.6059049 | BN14: 1.64386 | BO14: 33.287878 | BP14: 89.114921 | BQ14: 190.77201 | BR14: 318.8283 | BS14: 239.72241 | BT14: 231.45697 | BU14: 179.34495 | BV14: 62.194135 | BW14: 25.978776 | BX14: 11.853503 | BY14: 9.2831087 | BZ14: 1.6455795 | CA14: 30.635233 | CB14: 88.934085 | CC14: 210.0418 | CD14: 304.73341 | CE14: 242.8998 | CF14: 206.91199 | CG14: 191.04971 | CH14: 51.929467 | CI14: 35.84165 | CJ14: 34.303253 | CK14: 23.703566 | CL14: 4.1967722 | CM14: 5.6271252 | CN14: 37.697297 | CO14: 170.85339 | CP14: 348.36877 | CQ14: 358.76412 | CR14: 251.22112 | CS14: 114.28753 | CT14: 41.963136 | CU14: 17.354243 | CV14: 28.59703 | CW14: 35.064427 | CX14: 8.0969274 | CY14: 11.515904 | CZ14: 34.091466 | DA14: 118.90157 | DB14: 271.50657 | DC14: 331.95998 | DD14: 305.14408 | DE14: 205.98345 | DF14: 30.244616 | DG14: 16.665863 | DH14: 27.291916 | DI14: 35.30516 | DJ14: 8.836607 | DK14: 5.381234 | DL14: 24.908949 | DM14: 106.40898 | DN14: 227.36624 | DO14: 317.13629 | DP14: 284.47375 | DQ14: 238.04416 | DR14: 60.744007 | DS14: 10.731517 | DT14: 21.24838 | DU14: 46.229549 | DV14: 12.74536 | DW14: 0 | DX14: 5.7907661 | DY14: 39.505371 | DZ14: 101.2894 | EA14: 236.06098 | EB14: 447.39414 | EC14: 210.55106 | ED14: 41.484537 | EE14: 5.2410933 | EF14: 18.45101 | EG14: 41.314878 | EH14: 7.6303646 | EI14: 0 | EJ14: 4.2635468 | EK14: 25.323353 | EL14: 198.94689 | EM14: 351.73301 | EN14: 355.6303 | EO14: 228.91266 | EP14: 21.473637 | EQ14: 4.5873895 | ER14: 18.483107 | ES14: 38.689459 | ET14: 10.12424 | EU14: 1.168413 | EV14: 9.6255796 | EW14: 112.53419 | EX14: 308.17846 | EY14: 278.16942 | EZ14: 287.25679 | FA14: 199.28363 | FB14: 41.138627 | FC14: 14.616769 | FD14: 33.556982 | FE14: 72.006569 | FF14: 24.087019 | FG14: 4.8527686 | FH14: 14.480068 | FI14: 152.81392 | FJ14: 207.43787 | FK14: 244.32585 | FL14: 371.08763 | FM14: 190.47539 | FN14: 53.021648 | FO14: 15.427523 | FP14: 68.402744 | FQ14: 105.40851 | FR14: 25.091218 | FS14: 1.2169264 | FT14: 12.838045 | FU14: 44.10341 | FV14: 185.93375 | FW14: 232.28281 | FX14: 372.48716 | FY14: 241.18749 | FZ14: 42.550149 | GA14: 18.877164 | GB14: 57.817673 | GC14: 75.607241 | GD14: 14.784422 | GE14: 0.13727492 | GF14: 26.087393 | GG14: 42.084649 | GH14: 135.26795 | GI14: 274.20163 | GJ14: 490.47496 | GK14: 265.71695 | GL14: 31.258272 | GM14: 12.052107 | GN14: 65.474117 | GO14: 74.805372 | GP14: 12.565097 | GQ14: 0.071360029 | GR14: 7.8315483 | GS14: 67.264996 | GT14: 154.81429 | GU14: 192.75748 | GV14: 532.96112 | GW14: 255.62309 | GX14: 21.42807 | GY14: 2.7136872 | GZ14: 85.895695 | HA14: 59.553814 | HB14: 8.4115993 | HC14: 0.2350009 | HD14: 15.811548 | HE14: 54.024414 | HF14: 158.26451 | HG14: 237.69252 | HH14: 459.33992 | HI14: 236.95399 | HJ14: 28.584134 | HK14: 7.4736018 | HL14: 70.704606 | HM14: 64.18849 | HN14: 13.842699 | HO14: 3.6241724 | HP14: 13.782803 | HQ14: 75.343581 | HR14: 159.28877 | HS14: 314.927 | HT14: 445.18972 | HU14: 156.90322 | HV14: 14.543117 | HW14: 4.3008031 | HX14: 51.414758 | HY14: 71.592451 | HZ14: 11.401269 | IA14: 8.3998493 | IB14: 17.375737 | IC14: 62.041957 | ID14: 228.70861 | IE14: 302.76169 | IF14: 429.24835 | IG14: 118.4886 | IH14: 23.196022 | II14: 4.729823 | IJ14: 55.334401 | IK14: 73.451538 | IL14: 10.589083 | IM14: 9.2020048 | IN14: 18.922444 | IO14: 67.524643 | IP14: 248.97285 | IQ14: 329.58762 | IR14: 467.35861 | IS14: 128.95789 | IT14: 25.2732 | IU14: 4.9986411 | IV14: 58.61467 | IW14: 77.80106 | IX14: 11.22158 | IY14: 9.0741872 | IZ14: 18.659931
A15: ถั่วเขียวผิวมัน | B15: 64.223615 | C15: 222.40667 | D15: 376.89374 | E15: 191.95085 | F15: 22.295866 | G15: 21.407872 | H15: 55.679666 | I15: 19.439883 | J15: 11.047134 | K15: 27.575835 | L15: 133.4872 | M15: 53.591678 | N15: 60.822941 | O15: 210.63012 | P15: 356.93702 | Q15: 181.78695 | R15: 21.115289 | S15: 20.274314 | T15: 52.731399 | U15: 18.410532 | V15: 10.462182 | W15: 26.11568 | X15: 126.41898 | Y15: 50.753972 | Z15: 63.41201 | AA15: 219.59607 | AB15: 372.13087 | AC15: 189.52513 | AD15: 22.01411 | AE15: 21.137337 | AF15: 54.976032 | AG15: 19.194218 | AH15: 10.907529 | AI15: 27.227354 | AJ15: 131.8003 | AK15: 52.914431 | AL15: 59.077637 | AM15: 204.58612 | AN15: 346.69477 | AO15: 176.5706 | AP15: 20.509389 | AQ15: 19.692546 | AR15: 51.21828 | AS15: 17.882244 | AT15: 10.161972 | AU15: 25.366295 | AV15: 122.79141 | AW15: 49.297594 | AX15: 53.12932 | AY15: 183.98707 | AZ15: 311.78731 | BA15: 158.79234 | BB15: 18.444372 | BC15: 17.709773 | BD15: 46.061294 | BE15: 16.081745 | BF15: 9.138799 | BG15: 22.812253 | BH15: 110.42798 | BI15: 44.333995 | BJ15: 56.122828 | BK15: 194.35361 | BL15: 329.35459 | BM15: 167.73931 | BN15: 19.483598 | BO15: 18.707609 | BP15: 48.656563 | BQ15: 16.987852 | BR15: 9.6537137 | BS15: 24.097582 | BT15: 116.64991 | BU15: 46.831942 | BV15: 53.907676 | BW15: 186.68252 | BX15: 316.35506 | BY15: 161.11868 | BZ15: 18.714585 | CA15: 17.969225 | CB15: 46.736102 | CC15: 16.317346 | CD15: 9.2726843 | CE15: 23.146457 | CF15: 112.04577 | CG15: 44.983498 | CH15: 56.169159 | CI15: 194.51405 | CJ15: 329.62648 | CK15: 167.87778 | CL15: 19.499682 | CM15: 18.723053 | CN15: 48.69673 | CO15: 17.001875 | CP15: 9.6616831 | CQ15: 24.117475 | CR15: 116.74621 | CS15: 46.870602 | CT15: 54.953659 | CU15: 190.30477 | CV15: 322.49337 | CW15: 164.24491 | CX15: 19.077709 | CY15: 18.317886 | CZ15: 47.642933 | DA15: 16.633955 | DB15: 9.4526044 | DC15: 23.595574 | DD15: 114.21983 | DE15: 45.856323 | DF15: 54.26742 | DG15: 187.92832 | DH15: 318.4662 | DI15: 162.19388 | DJ15: 18.839474 | DK15: 18.08914 | DL15: 47.047987 | DM15: 16.426237 | DN15: 9.3345641 | DO15: 23.300921 | DP15: 112.79349 | DQ15: 45.283688 | DR15: 53.722353 | DS15: 186.04075 | DT15: 315.2675 | DU15: 160.56479 | DV15: 18.650249 | DW15: 17.907451 | DX15: 46.575433 | DY15: 16.26125 | DZ15: 9.2408068 | EA15: 23.066885 | EB15: 111.66059 | EC15: 44.828854 | ED15: 55.012527 | EE15: 190.50863 | EF15: 322.83883 | EG15: 164.42085 | EH15: 19.098145 | EI15: 18.337509 | EJ15: 47.693969 | EK15: 16.651774 | EL15: 9.4627302 | EM15: 23.620849 | EN15: 114.34218 | EO15: 45.905445 | EP15: 57.942262 | EQ15: 200.65431 | ER15: 340.03187 | ES15: 173.17721 | ET15: 20.115232 | EU15: 19.314087 | EV15: 50.233949 | EW15: 17.538577 | EX15: 9.9666753 | EY15: 24.878796 | EZ15: 120.43156 | FA15: 48.350176 | FB15: 41.926793 | FC15: 266.83126 | FD15: 442.09876 | FE15: 211.68191 | FF15: 44.765747 | FG15: 63.683271 | FH15: 32.665955 | FI15: 3.1082817 | FJ15: 4.6512396 | FK15: 86.560726 | FL15: 170.24486 | FM15: 46.62414 | FN15: 36.48643 | FO15: 166.0063 | FP15: 249.14705 | FQ15: 78.133786 | FR15: 13.77058 | FS15: 5.5379785 | FT15: 64.312827 | FU15: 5.6301083 | FV15: 18.533292 | FW15: 12.859938 | FX15: 82.989503 | FY15: 104.7702 | FZ15: 180.25485 | GA15: 349.34016 | GB15: 216.61377 | GC15: 125.4341 | GD15: 27.522182 | GE15: 20.989923 | GF15: 87.595348 | GG15: 49.326966 | GH15: 24.604971 | GI15: 26.055501 | GJ15: 121.88172 | GK15: 47.881844 | GL15: 25.821737 | GM15: 169.55179 | GN15: 477.26181 | GO15: 238.46986 | GP15: 20.629683 | GQ15: 17.335639 | GR15: 54.065173 | GS15: 11.579784 | GT15: 0.035748067 | GU15: 14.093033 | GV15: 117.72365 | GW15: 13.469974 | GX15: 37.396554 | GY15: 144.75357 | GZ15: 456.90066 | HA15: 304.70146 | HB15: 6.715406 | HC15: 8.2816638 | HD15: 40.160262 | HE15: 12.486774 | HF15: 1.4930974 | HG15: 2.228098 | HH15: 168.58788 | HI15: 19.636642 | HJ15: 50.13314 | HK15: 126.82009 | HL15: 186.49663 | HM15: 161.35433 | HN15: 9.1296827 | HO15: 7.3734421 | HP15: 34.683267 | HQ15: 18.449654 | HR15: 1.8176321 | HS15: 1.6246945 | HT15: 82.593998 | HU15: 36.95985 | HV15: 10.373274 | HW15: 69.023489 | HX15: 150.44962 | HY15: 105.13077 | HZ15: 10.289143 | IA15: 2.3592026 | IB15: 0.29518903 | IC15: 28.841557 | ID15: 1.9685042 | IE15: 0.13912027 | IF15: 87.129961 | IG15: 38.165732 | IH15: 3.6299997 | II15: 46.31022 | IJ15: 229.19276 | IK15: 61.12697 | IL15: 29.219332 | IM15: 9.1615248 | IN15: 0.65807012 | IO15: 0.90754237 | IP15: 3.7989411 | IQ15: 37.161856 | IR15: 80.649337 | IS15: 65.693195 | IT15: 18.809257 | IU15: 65.453012 | IV15: 331.488 | IW15: 146.46854 | IX15: 22.388428 | IY15: 10.475967 | IZ15: 0.88308764
