Workbook

Sheet รายปี
A1: ราคาสินค้าเกษตรที่เกษตรกรขายได้ ณ ไร่นา
A3: รายการสินค้า | B3: หน่วย | C3: 2548 | D3: 2549 | E3: 2550 | F3: 2551 | G3: 2552 | H3: 2553 | I3: 2554 | J3: 2555 | K3: 2556 | L3: 2557 | M3: 2558 | N3: 2559 | O3: 2560 | P3: 2561 | Q3: 2562 | R3: 2563 | S3: 2564 | T3: 2565 | U3: 2566 | V3: 2567 | W3: 2568
A5: ภาคเกษตรกรรม
A6: 1. หมวดพืชผลสำคัญ
A7: 1.1 กลุ่มธัญพืชและพืชอาหาร
A8: ข้าวเปลือก
A9: ข้าวเปลือกเจ้าความชื้น 15% | B9: บาท/ตัน | C9: =AVERAGE(รายเดือน!C8:N8) -> 6654 | D9: =AVERAGE(รายเดือน!O8:Z8) -> 6652.25 | E9: =AVERAGE(รายเดือน!AA8:AL8) -> 6493.75 | F9: =AVERAGE(รายเดือน!AM8:AX8) -> 10608.5 | G9: =AVERAGE(รายเดือน!AY8:BJ8) -> 9658.3333 | H9: =AVERAGE(รายเดือน!BK8:BV8) -> 8400.1667 | I9: =AVERAGE(รายเดือน!BW8:CH8) -> 9144.868 | J9: =AVERAGE(รายเดือน!CI8:CT8) -> 10103.667 | K9: =AVERAGE(รายเดือน!CU8:DF8) -> 9384.9167 | L9: =AVERAGE(รายเดือน!DG8:DR8) -> 7713.3333 | M9: =AVERAGE(รายเดือน!DS8:ED8) -> 7756.4167 | N9: =AVERAGE(รายเดือน!EE8:EP8) -> 7900.7406 | O9: =AVERAGE(รายเดือน!EQ8:FB8) -> 7738.6743 | P9: =AVERAGE(รายเดือน!FC8:FN8) -> 7763.128 | Q9: =AVERAGE(รายเดือน!FO8:FZ8) -> 7779.3519 | R9: =AVERAGE(รายเดือน!GA8:GL8) -> 8793.22 | S9: =AVERAGE(รายเดือน!GM8:GX8) -> 8335.1685 | T9: =AVERAGE(รายเดือน!GY8:HJ8) -> 8764.7731 | U9: =AVERAGE(รายเดือน!HK8:HV8) -> 10702.241 | V9: =AVERAGE(รายเดือน!HW8:IH8) -> 10631.947 | W9: =AVERAGE(รายเดือน!II8:IT8) -> 7305.3151
A10: ข้าวเปลือกเจ้าหอมมะลิ | B10: บาท/ตัน | C10: =AVERAGE(รายเดือน!C9:N9) -> 7684.1667 | D10: =AVERAGE(รายเดือน!O9:Z9) -> 8179.5 | E10: =AVERAGE(รายเดือน!AA9:AL9) -> 8770 | F10: =AVERAGE(รายเดือน!AM9:AX9) -> 13639 | G10: =AVERAGE(รายเดือน!AY9:BJ9) -> 13512.583 | H10: =AVERAGE(รายเดือน!BK9:BV9) -> 13551.5 | I10: =AVERAGE(รายเดือน!BW9:CH9) -> 13034.516 | J10: =AVERAGE(รายเดือน!CI9:CT9) -> 15102.583 | K10: =AVERAGE(รายเดือน!CU9:DF9) -> 15582.333 | L10: =AVERAGE(รายเดือน!DG9:DR9) -> 13782.333 | M10: =AVERAGE(รายเดือน!DS9:ED9) -> 12939.333 | N10: =AVERAGE(รายเดือน!EE9:EP9) -> 10401.76 | O10: =AVERAGE(รายเดือน!EQ9:FB9) -> 10188.393 | P10: =AVERAGE(รายเดือน!FC9:FN9) -> 15122.39 | Q10: =AVERAGE(รายเดือน!FO9:FZ9) -> 15487.208 | R10: =AVERAGE(รายเดือน!GA9:GL9) -> 13450.899 | S10: =AVERAGE(รายเดือน!GM9:GX9) -> 10720.619 | T10: =AVERAGE(รายเดือน!GY9:HJ9) -> 12849.811 | U10: =AVERAGE(รายเดือน!HK9:HV9) -> 13841.875 | V10: =AVERAGE(รายเดือน!HW9:IH9) -> 14744.209 | W10: =AVERAGE(รายเดือน!II9:IT9) -> 15025.678
A11: ข้าวเปลือกเหนียวเมล็ดยาว | B11: บาท/ตัน | C11: =AVERAGE(รายเดือน!C10:N10) -> 5968.25 | D11: =AVERAGE(รายเดือน!O10:Z10) -> 7767.0833 | E11: =AVERAGE(รายเดือน!AA10:AL10) -> 10915.833 | F11: =AVERAGE(รายเดือน!AM10:AX10) -> 8067.5 | G11: =AVERAGE(รายเดือน!AY10:BJ10) -> 7880 | H11: =AVERAGE(รายเดือน!BK10:BV10) -> 13392 | I11: =AVERAGE(รายเดือน!BW10:CH10) -> 14708.7 | J11: =AVERAGE(รายเดือน!CI10:CT10) -> 12690.167 | K11: =AVERAGE(รายเดือน!CU10:DF10) -> 12866 | L11: =AVERAGE(รายเดือน!DG10:DR10) -> 11856.167 | M11: =AVERAGE(รายเดือน!DS10:ED10) -> 11365.583 | N11: =AVERAGE(รายเดือน!EE10:EP10) -> 12057.722 | O11: =AVERAGE(รายเดือน!EQ10:FB10) -> 10149.283 | P11: =AVERAGE(รายเดือน!FC10:FN10) -> 9420.9544 | Q11: =AVERAGE(รายเดือน!FO10:FZ10) -> 12171.666 | R11: =AVERAGE(รายเดือน!GA10:GL10) -> 14164.964 | S11: =AVERAGE(รายเดือน!GM10:GX10) -> 9539.086 | T11: =AVERAGE(รายเดือน!GY10:HJ10) -> 9227.9158 | U11: =AVERAGE(รายเดือน!HK10:HV10) -> 11403.222 | V11: =AVERAGE(รายเดือน!HW10:IH10) -> 12123.135 | W11: =AVERAGE(รายเดือน!II10:IT10) -> 11914.69
A12: อ้อยโรงงาน | B12: บาท/ตัน | C12: =AVERAGE(รายเดือน!C11:N11) -> 546.66667 | D12: =AVERAGE(รายเดือน!O11:Z11) -> 665.83333 | E12: =AVERAGE(รายเดือน!AA11:AL11) -> 632.91667 | F12: =AVERAGE(รายเดือน!AM11:AX11) -> 645.08333 | G12: =AVERAGE(รายเดือน!AY11:BJ11) -> 754.66667 | H12: =AVERAGE(รายเดือน!BK11:BV11) -> 947.0575 | I12: =AVERAGE(รายเดือน!BW11:CH11) -> 929.91667 | J12: =AVERAGE(รายเดือน!CI11:CT11) -> 963.16667 | K12: =AVERAGE(รายเดือน!CU11:DF11) -> 965.91667 | L12: =AVERAGE(รายเดือน!DG11:DR11) -> 918 | M12: =AVERAGE(รายเดือน!DS11:ED11) -> 796.5 | N12: =AVERAGE(รายเดือน!EE11:EP11) -> 750.51937 | O12: =AVERAGE(รายเดือน!EQ11:FB11) -> 972.57318 | P12: =AVERAGE(รายเดือน!FC11:FN11) -> 763.41911 | Q12: =AVERAGE(รายเดือน!FO11:FZ11) -> 668.14644 | R12: =AVERAGE(รายเดือน!GA11:GL11) -> 716.76707 | S12: =AVERAGE(รายเดือน!GM11:GX11) -> 928.72481 | T12: =AVERAGE(รายเดือน!GY11:HJ11) -> 1073.4471 | U12: =AVERAGE(รายเดือน!HK11:HV11) -> 1165.8171 | V12: =AVERAGE(รายเดือน!HW11:IH11) -> 1450.4731 | W12: =AVERAGE(รายเดือน!II11:IT11) -> 1139.2462
A13: มันสำปะหลังสดคละ | B13: บาท/กก. | C13: =AVERAGE(รายเดือน!C12:N12) -> 1.3525 | D13: =AVERAGE(รายเดือน!O12:Z12) -> 1.0866667 | E13: =AVERAGE(รายเดือน!AA12:AL12) -> 1.46 | F13: =AVERAGE(รายเดือน!AM12:AX12) -> 1.8058333 | G13: =AVERAGE(รายเดือน!AY12:BJ12) -> 1.2516667 | H13: =AVERAGE(รายเดือน!BK12:BV12) -> 2.3283333 | I13: =AVERAGE(รายเดือน!BW12:CH12) -> 2.3808333 | J13: =AVERAGE(รายเดือน!CI12:CT12) -> 2.0158333 | K13: =AVERAGE(รายเดือน!CU12:DF12) -> 2.13 | L13: =AVERAGE(รายเดือน!DG12:DR12) -> 2.1033333 | M13: =AVERAGE(รายเดือน!DS12:ED12) -> 2.1558333 | N13: =AVERAGE(รายเดือน!EE12:EP12) -> 1.5210833 | O13: =AVERAGE(รายเดือน!EQ12:FB12) -> 1.4024583 | P13: =AVERAGE(รายเดือน!FC12:FN12) -> 2.3798194 | Q13: =AVERAGE(รายเดือน!FO12:FZ12) -> 1.8898611 | R13: =AVERAGE(รายเดือน!GA12:GL12) -> 1.7964583 | S13: =AVERAGE(รายเดือน!GM12:GX12) -> 2.0671666 | T13: =AVERAGE(รายเดือน!GY12:HJ12) -> 2.5218472 | U13: =AVERAGE(รายเดือน!HK12:HV12) -> 2.9061388 | V13: =AVERAGE(รายเดือน!HW12:IH12) -> 2.3322499 | W13: =AVERAGE(รายเดือน!II12:IT12) -> 1.7138194
A14: ข้าวโพดเลี้ยงสัตว์ ความชื้น 14.5% | B14: บาท/กก. | C14: =AVERAGE(รายเดือน!C13:N13) -> 4.8733333 | D14: =AVERAGE(รายเดือน!O13:Z13) -> 5.275 | E14: =AVERAGE(รายเดือน!AA13:AL13) -> 6.8091667 | F14: =AVERAGE(รายเดือน!AM13:AX13) -> 7.8508333 | G14: =AVERAGE(รายเดือน!AY13:BJ13) -> 6.1383333 | H14: =AVERAGE(รายเดือน!BK13:BV13) -> 7.9716667 | I14: =AVERAGE(รายเดือน!BW13:CH13) -> 8.1608333 | J14: =AVERAGE(รายเดือน!CI13:CT13) -> 9.0483333 | K14: =AVERAGE(รายเดือน!CU13:DF13) -> 7.8966667 | L14: =AVERAGE(รายเดือน!DG13:DR13) -> 7.2408333 | M14: =AVERAGE(รายเดือน!DS13:ED13) -> 8.0216667 | N14: =AVERAGE(รายเดือน!EE13:EP13) -> 7.316375 | O14: =AVERAGE(รายเดือน!EQ13:FB13) -> 6.1729165 | P14: =AVERAGE(รายเดือน!FC13:FN13) -> 7.920097 | Q14: =AVERAGE(รายเดือน!FO13:FZ13) -> 7.8091387 | R14: =AVERAGE(รายเดือน!GA13:GL13) -> 7.6718748 | S14: =AVERAGE(รายเดือน!GM13:GX13) -> 8.2026387 | T14: =AVERAGE(รายเดือน!GY13:HJ13) -> 9.8120692 | U14: =AVERAGE(รายเดือน!HK13:HV13) -> 10.178986 | V14: =AVERAGE(รายเดือน!HW13:IH13) -> 8.6511665 | W14: =AVERAGE(รายเดือน!II13:IT13) -> 8.2392776
A15: ถั่วเขียวผิวมันใหญ่ | B15: บาท/กก. | C15: =AVERAGE(รายเดือน!C14:N14) -> 17.8375 | D15: =AVERAGE(รายเดือน!O14:Z14) -> 18.643333 | E15: =AVERAGE(รายเดือน!AA14:AL14) -> 19.8825 | F15: =AVERAGE(รายเดือน!AM14:AX14) -> 17.8475 | G15: =AVERAGE(รายเดือน!AY14:BJ14) -> 20.586667 | H15: =AVERAGE(รายเดือน!BK14:BV14) -> 32.785 | I15: =AVERAGE(รายเดือน!BW14:CH14) -> 26.943611 | J15: =AVERAGE(รายเดือน!CI14:CT14) -> 20.439167 | K15: =AVERAGE(รายเดือน!CU14:DF14) -> 24.250833 | L15: =AVERAGE(รายเดือน!DG14:DR14) -> 32.63 | M15: =AVERAGE(รายเดือน!DS14:ED14) -> 33.579167 | N15: =AVERAGE(รายเดือน!EE14:EP14) -> 29.745542 | O15: =AVERAGE(รายเดือน!EQ14:FB14) -> 24.903749 | P15: =AVERAGE(รายเดือน!FC14:FN14) -> 21.333291 | Q15: =AVERAGE(รายเดือน!FO14:FZ14) -> 21.708611 | R15: =AVERAGE(รายเดือน!GA14:GL14) -> 23.725124 | S15: =AVERAGE(รายเดือน!GM14:GX14) -> 24.852958 | T15: =AVERAGE(รายเดือน!GY14:HJ14) -> 24.948291 | U15: =AVERAGE(รายเดือน!HK14:HV14) -> 27.376583 | V15: =AVERAGE(รายเดือน!HW14:IH14) -> 26.071457 | W15: =AVERAGE(รายเดือน!II14:IT14) -> 22.428749
A16: 1.2 กลุ่มไม้ยืนต้น
A17: ยางแผ่นดิบชั้น 3 | B17: บาท/กก. | C17: =AVERAGE(รายเดือน!C16:N16) -> 52.19 | D17: =AVERAGE(รายเดือน!O16:Z16) -> 68.184167 | E17: =AVERAGE(รายเดือน!AA16:AL16) -> 68.778333 | F17: =AVERAGE(รายเดือน!AM16:AX16) -> 76.5225 | G17: =AVERAGE(รายเดือน!AY16:BJ16) -> 56.3575 | H17: =AVERAGE(รายเดือน!BK16:BV16) -> 102.69917 | I17: =AVERAGE(รายเดือน!BW16:CH16) -> 127.95767 | J17: =AVERAGE(รายเดือน!CI16:CT16) -> 89.974167 | K17: =AVERAGE(รายเดือน!CU16:DF16) -> 74.755 | L17: =AVERAGE(รายเดือน!DG16:DR16) -> 55.415 | M17: =AVERAGE(รายเดือน!DS16:ED16) -> 44.91 | N17: =AVERAGE(รายเดือน!EE16:EP16) -> 48.359 | O17: =AVERAGE(รายเดือน!EQ16:FB16) -> 57.534374 | P17: =AVERAGE(รายเดือน!FC16:FN16) -> 41.478235 | Q17: =AVERAGE(รายเดือน!FO16:FZ16) -> 41.976874 | R17: =AVERAGE(รายเดือน!GA16:GL16) -> 42.922707 | S17: =AVERAGE(รายเดือน!GM16:GX16) -> 52.657013 | T17: =AVERAGE(รายเดือน!GY16:HJ16) -> 53.451082 | U17: =AVERAGE(รายเดือน!HK16:HV16) -> 45.365152 | V17: =AVERAGE(รายเดือน!HW16:IH16) -> 69.874873 | W17: =AVERAGE(รายเดือน!II16:IT16) -> 60.29554
A18: สารกาแฟ (โรบัสต้า) | B18: บาท/กก. | C18: =AVERAGE(รายเดือน!C17:N17) -> 29.35 | D18: =AVERAGE(รายเดือน!O17:Z17) -> 40.3425 | E18: =AVERAGE(รายเดือน!AA17:AL17) -> 48.900833 | F18: =AVERAGE(รายเดือน!AM17:AX17) -> 65.063333 | G18: =AVERAGE(รายเดือน!AY17:BJ17) -> 66.440833 | H18: =AVERAGE(รายเดือน!BK17:BV17) -> 60.366667 | I18: =AVERAGE(รายเดือน!BW17:CH17) -> 71.334167 | J18: =AVERAGE(รายเดือน!CI17:CT17) -> 66.6425 | K18: =AVERAGE(รายเดือน!CU17:DF17) -> 74.325833 | L18: =AVERAGE(รายเดือน!DG17:DR17) -> 66.25 | M18: =AVERAGE(รายเดือน!DS17:ED17) -> 68.4575 | N18: =AVERAGE(รายเดือน!EE17:EP17) -> 67.720833 | O18: =AVERAGE(รายเดือน!EQ17:FB17) -> 81.53541 | P18: =AVERAGE(รายเดือน!FC17:FN17) -> 68.076054 | Q18: =AVERAGE(รายเดือน!FO17:FZ17) -> 69.470202 | R18: =AVERAGE(รายเดือน!GA17:GL17) -> 67.242219 | S18: =AVERAGE(รายเดือน!GM17:GX17) -> 68.718538 | T18: =AVERAGE(รายเดือน!GY17:HJ17) -> 68.537286 | U18: =AVERAGE(รายเดือน!HK17:HV17) -> 74.11958 | V18: =AVERAGE(รายเดือน!HW17:IH17) -> 125.73562 | W18: =AVERAGE(รายเดือน!II17:IT17) -> 188.43055
A19: พริกไทยดำคละ | B19: บาท/กก. | C19: =AVERAGE(รายเดือน!C18:N18) -> 57.619167 | D19: =AVERAGE(รายเดือน!O18:Z18) -> 69.870833 | E19: =AVERAGE(รายเดือน!AA18:AL18) -> 132.17333 | F19: =AVERAGE(รายเดือน!AM18:AX18) -> 145 | G19: =AVERAGE(รายเดือน!AY18:BJ18) -> 91.875 | H19: =AVERAGE(รายเดือน!BK18:BV18) -> 132.11083 | I19: =AVERAGE(รายเดือน!BW18:CH18) -> 159.965 | J19: =AVERAGE(รายเดือน!CI18:CT18) -> 180.13333 | K19: =AVERAGE(รายเดือน!CU18:DF18) -> 185.04167 | L19: =AVERAGE(รายเดือน!DG18:DR18) -> 275.04583 | M19: =AVERAGE(รายเดือน!DS18:ED18) -> 352.7 | N19: =AVERAGE(รายเดือน!EE18:EP18) -> 352.11 | O19: =AVERAGE(รายเดือน!EQ18:FB18) -> 213.39583 | P19: =AVERAGE(รายเดือน!FC18:FN18) -> 133.91666 | Q19: =AVERAGE(รายเดือน!FO18:FZ18) -> 95.326387 | R19: =AVERAGE(รายเดือน!GA18:GL18) -> 97.687498 | S19: =AVERAGE(รายเดือน!GM18:GX18) -> 143.90277 | T19: =AVERAGE(รายเดือน!GY18:HJ18) -> 165.50137 | U19: =AVERAGE(รายเดือน!HK18:HV18) -> 242.49999 | V19: =AVERAGE(รายเดือน!HW18:IH18) -> 249.99999 | W19: =AVERAGE(รายเดือน!II18:IT18) -> 295.03683
A20: 1.3 กลุ่มไม้ผล
A21: มะม่วงน้ำดอกไม้ | B21: บาท/กก. | C21: =AVERAGE(รายเดือน!C20:N20) -> 11.59 | D21: =AVERAGE(รายเดือน!O20:Z20) -> 17.8025 | E21: =AVERAGE(รายเดือน!AA20:AL20) -> 15.538333 | F21: =AVERAGE(รายเดือน!AM20:AX20) -> 15.744167 | G21: =AVERAGE(รายเดือน!AY20:BJ20) -> 19.364167 | H21: =AVERAGE(รายเดือน!BK20:BV20) -> 18.8725 | I21: =AVERAGE(รายเดือน!BW20:CH20) -> 18.519167 | J21: =AVERAGE(รายเดือน!CI20:CT20) -> 16.985 | K21: =AVERAGE(รายเดือน!CU20:DF20) -> 18.925 | L21: =AVERAGE(รายเดือน!DG20:DR20) -> 18.8675 | M21: =AVERAGE(รายเดือน!DS20:ED20) -> 25.011667 | N21: =AVERAGE(รายเดือน!EE20:EP20) -> 36.245 | O21: =AVERAGE(รายเดือน!EQ20:FB20) -> 26.92 | P21: =AVERAGE(รายเดือน!FC20:FN20) -> 31.2025 | Q21: =AVERAGE(รายเดือน!FO20:FZ20) -> 29.2225 | R21: =AVERAGE(รายเดือน!GA20:GL20) -> 20.075833 | S21: =AVERAGE(รายเดือน!GM20:GX20) -> 15.875833 | T21: =AVERAGE(รายเดือน!GY20:HJ20) -> 20.655833 | U21: =AVERAGE(รายเดือน!HK20:HV20) -> 19.5375 | V21: =AVERAGE(รายเดือน!HW20:IH20) -> 19.554 | W21: =AVERAGE(รายเดือน!II20:IT20) -> 17.548708
A22: ส้มเขียวหวาน | B22: บาท/กก. | C22: =AVERAGE(รายเดือน!C21:N21) -> 13.660833 | D22: =AVERAGE(รายเดือน!O21:Z21) -> 11.213333 | E22: =AVERAGE(รายเดือน!AA21:AL21) -> 12.26 | F22: =AVERAGE(รายเดือน!AM21:AX21) -> 16.863333 | G22: =AVERAGE(รายเดือน!AY21:BJ21) -> 24.288333 | H22: =AVERAGE(รายเดือน!BK21:BV21) -> 25.0875 | I22: =AVERAGE(รายเดือน!BW21:CH21) -> 29.544167 | J22: =AVERAGE(รายเดือน!CI21:CT21) -> 33.279167 | K22: =AVERAGE(รายเดือน!CU21:DF21) -> 28.445833 | L22: =AVERAGE(รายเดือน!DG21:DR21) -> 43.708333 | M22: =AVERAGE(รายเดือน!DS21:ED21) -> 41.458333 | N22: =AVERAGE(รายเดือน!EE21:EP21) -> 48.583333 | O22: =AVERAGE(รายเดือน!EQ21:FB21) -> 37.874999 | P22: =AVERAGE(รายเดือน!FC21:FN21) -> 17.841666 | Q22: =AVERAGE(รายเดือน!FO21:FZ21) -> 27.91111 | R22: =AVERAGE(รายเดือน!GA21:GL21) -> 25.58611 | S22: =AVERAGE(รายเดือน!GM21:GX21) -> 21.687499 | T22: =AVERAGE(รายเดือน!GY21:HJ21) -> 22.966804 | U22: =AVERAGE(รายเดือน!HK21:HV21) -> 25.502499 | V22: =AVERAGE(รายเดือน!HW21:IH21) -> 22.916665 | W22: =AVERAGE(รายเดือน!II21:IT21) -> 22.499999
A23: ทุเรียนหมอนทองคละ | B23: บาท/กก. | C23: =AVERAGE(รายเดือน!C22:N22) -> 21.051667 | D23: =AVERAGE(รายเดือน!O22:Z22) -> 22.269167 | E23: =AVERAGE(รายเดือน!AA22:AL22) -> 20.321667 | F23: =AVERAGE(รายเดือน!AM22:AX22) -> 28.81 | G23: =AVERAGE(รายเดือน!AY22:BJ22) -> 24.379167 | H23: =AVERAGE(รายเดือน!BK22:BV22) -> 29.065 | I23: =AVERAGE(รายเดือน!BW22:CH22) -> 35.931667 | J23: =AVERAGE(รายเดือน!CI22:CT22) -> 33.1175 | K23: =AVERAGE(รายเดือน!CU22:DF22) -> 31.929167 | L23: =AVERAGE(รายเดือน!DG22:DR22) -> 40.395 | M23: =AVERAGE(รายเดือน!DS22:ED22) -> 50.908333 | N23: =AVERAGE(รายเดือน!EE22:EP22) -> 56.599166 | O23: =AVERAGE(รายเดือน!EQ22:FB22) -> 74.890387 | P23: =AVERAGE(รายเดือน!FC22:FN22) -> 80.948095 | Q23: =AVERAGE(รายเดือน!FO22:FZ22) -> 92.898511 | R23: =AVERAGE(รายเดือน!GA22:GL22) -> 109.12716 | S23: =AVERAGE(รายเดือน!GM22:GX22) -> 109.76689 | T23: =AVERAGE(รายเดือน!GY22:HJ22) -> 110.55582 | U23: =AVERAGE(รายเดือน!HK22:HV22) -> 103.77518 | V23: =AVERAGE(รายเดือน!HW22:IH22) -> 110.12112 | W23: =AVERAGE(รายเดือน!II22:IT22) -> 93.205317
A24: สับปะรดปัตตาเวียส่งโรงงาน | B24: บาท/กก. | C24: =AVERAGE(รายเดือน!C23:N23) -> 3.7383333 | D24: =AVERAGE(รายเดือน!O23:Z23) -> 2.5175 | E24: =AVERAGE(รายเดือน!AA23:AL23) -> 4.5658333 | F24: =AVERAGE(รายเดือน!AM23:AX23) -> 4.54 | G24: =AVERAGE(รายเดือน!AY23:BJ23) -> 5.0525 | H24: =AVERAGE(รายเดือน!BK23:BV23) -> 5.5808333 | I24: =AVERAGE(รายเดือน!BW23:CH23) -> 4.9275 | J24: =AVERAGE(รายเดือน!CI23:CT23) -> 3.4775 | K24: =AVERAGE(รายเดือน!CU23:DF23) -> 4.5558333 | L24: =AVERAGE(รายเดือน!DG23:DR23) -> 6.8758333 | M24: =AVERAGE(รายเดือน!DS23:ED23) -> 10.345833 | N24: =AVERAGE(รายเดือน!EE23:EP23) -> 10.538042 | O24: =AVERAGE(รายเดือน!EQ23:FB23) -> 4.8917499 | P24: =AVERAGE(รายเดือน!FC23:FN23) -> 2.906361 | Q24: =AVERAGE(รายเดือน!FO23:FZ23) -> 5.9166665 | R24: =AVERAGE(รายเดือน!GA23:GL23) -> 11.094583 | S24: =AVERAGE(รายเดือน!GM23:GX23) -> 6.1331387 | T24: =AVERAGE(รายเดือน!GY23:HJ23) -> 6.5852637 | U24: =AVERAGE(รายเดือน!HK23:HV23) -> 8.4670693 | V24: =AVERAGE(รายเดือน!HW23:IH23) -> 11.880416 | W24: =AVERAGE(รายเดือน!II23:IT23) -> 11.185833
A25: ลำไยสดทั้งช่อพันธุ์อีดอ เกรด A | B25: บาท/กก. | C25: =AVERAGE(รายเดือน!C24:N24) -> 19.865833 | D25: =AVERAGE(รายเดือน!O24:Z24) -> 27.376667 | E25: =AVERAGE(รายเดือน!AA24:AL24) -> 22.5125 | F25: =AVERAGE(รายเดือน!AM24:AX24) -> 26.3875 | G25: =AVERAGE(รายเดือน!AY24:BJ24) -> 29.085833 | H25: =AVERAGE(รายเดือน!BK24:BV24) -> 30.735 | I25: =AVERAGE(รายเดือน!BW24:CH24) -> 29.913333 | J25: =AVERAGE(รายเดือน!CI24:CT24) -> 25.5775 | K25: =AVERAGE(รายเดือน!CU24:DF24) -> 28.999167 | L25: =AVERAGE(รายเดือน!DG24:DR24) -> 29.88 | M25: =AVERAGE(รายเดือน!DS24:ED24) -> 30.270833 | N25: =AVERAGE(รายเดือน!EE24:EP24) -> 33.630291 | O25: =AVERAGE(รายเดือน!EQ24:FB24) -> 24.153958 | P25: =AVERAGE(รายเดือน!FC24:FN24) -> 27.467208 | Q25: =AVERAGE(รายเดือน!FO24:FZ24) -> 25.972888 | R25: =AVERAGE(รายเดือน!GA24:GL24) -> 21.787374 | S25: =AVERAGE(รายเดือน!GM24:GX24) -> 22.631749 | T25: =AVERAGE(รายเดือน!GY24:HJ24) -> 19.137722 | U25: =AVERAGE(รายเดือน!HK24:HV24) -> 28.56111 | V25: =AVERAGE(รายเดือน!HW24:IH24) -> 27.969249 | W25: =AVERAGE(รายเดือน!II24:IT24) -> 18.481527
A26: ลองกอง เบอร์1 | B26: บาท/กก. | C26: =AVERAGE(รายเดือน!C25:N25) -> 27.1525 | D26: =AVERAGE(รายเดือน!O25:Z25) -> 30.950833 | E26: =AVERAGE(รายเดือน!AA25:AL25) -> 23.195833 | F26: =AVERAGE(รายเดือน!AM25:AX25) -> 27.6725 | G26: =AVERAGE(รายเดือน!AY25:BJ25) -> 26.051667 | H26: =AVERAGE(รายเดือน!BK25:BV25) -> 21.443333 | I26: =AVERAGE(รายเดือน!BW25:CH25) -> 25.614167 | J26: =AVERAGE(รายเดือน!CI25:CT25) -> 32.523333 | K26: =AVERAGE(รายเดือน!CU25:DF25) -> 29.515 | L26: =AVERAGE(รายเดือน!DG25:DR25) -> 28.648333 | M26: =AVERAGE(รายเดือน!DS25:ED25) -> 32.595 | N26: =AVERAGE(รายเดือน!EE25:EP25) -> 36.3775 | O26: =AVERAGE(รายเดือน!EQ25:FB25) -> 36.462123 | P26: =AVERAGE(รายเดือน!FC25:FN25) -> 38.817887 | Q26: =AVERAGE(รายเดือน!FO25:FZ25) -> 29.00586 | R26: =AVERAGE(รายเดือน!GA25:GL25) -> 32.998832 | S26: =AVERAGE(รายเดือน!GM25:GX25) -> 29.886152 | T26: =AVERAGE(รายเดือน!GY25:HJ25) -> 40.012985 | U26: =AVERAGE(รายเดือน!HK25:HV25) -> 46.376749 | V26: =AVERAGE(รายเดือน!HW25:IH25) -> 34.363457 | W26: =AVERAGE(รายเดือน!II25:IT25) -> 28.757332
A27: เงาะโรงเรียน | B27: บาท/กก. | C27: =AVERAGE(รายเดือน!C26:N26) -> 12.9075 | D27: =AVERAGE(รายเดือน!O26:Z26) -> 13.813333 | E27: =AVERAGE(รายเดือน!AA26:AL26) -> 8.6783333 | F27: =AVERAGE(รายเดือน!AM26:AX26) -> 11.895833 | G27: =AVERAGE(รายเดือน!AY26:BJ26) -> 11.3925 | H27: =AVERAGE(รายเดือน!BK26:BV26) -> 12.710833 | I27: =AVERAGE(รายเดือน!BW26:CH26) -> 17.668333 | J27: =AVERAGE(รายเดือน!CI26:CT26) -> 18.203333 | K27: =AVERAGE(รายเดือน!CU26:DF26) -> 20.904167 | L27: =AVERAGE(รายเดือน!DG26:DR26) -> 26.239167 | M27: =AVERAGE(รายเดือน!DS26:ED26) -> 24.715833 | N27: =AVERAGE(รายเดือน!EE26:EP26) -> 30.5625 | O27: =AVERAGE(รายเดือน!EQ26:FB26) -> 25.617832 | P27: =AVERAGE(รายเดือน!FC26:FN26) -> 26.010666 | Q27: =AVERAGE(รายเดือน!FO26:FZ26) -> 22.223388 | R27: =AVERAGE(รายเดือน!GA26:GL26) -> 19.590333 | S27: =AVERAGE(รายเดือน!GM26:GX26) -> 17.298082 | T27: =AVERAGE(รายเดือน!GY26:HJ26) -> 25.642791 | U27: =AVERAGE(รายเดือน!HK26:HV26) -> 26.953374 | V27: =AVERAGE(รายเดือน!HW26:IH26) -> 27.026874 | W27: =AVERAGE(รายเดือน!II26:IT26) -> 28.079541
A28: มังคุดคละ | B28: บาท/กก. | C28: =AVERAGE(รายเดือน!C27:N27) -> 21.118333 | D28: =AVERAGE(รายเดือน!O27:Z27) -> 24.273333 | E28: =AVERAGE(รายเดือน!AA27:AL27) -> 11.520833 | F28: =AVERAGE(รายเดือน!AM27:AX27) -> 15.795833 | G28: =AVERAGE(รายเดือน!AY27:BJ27) -> 14.415833 | H28: =AVERAGE(รายเดือน!BK27:BV27) -> 15.049167 | I28: =AVERAGE(รายเดือน!BW27:CH27) -> 23.905833 | J28: =AVERAGE(รายเดือน!CI27:CT27) -> 18.773333 | K28: =AVERAGE(รายเดือน!CU27:DF27) -> 16.764167 | L28: =AVERAGE(รายเดือน!DG27:DR27) -> 28.8325 | M28: =AVERAGE(รายเดือน!DS27:ED27) -> 25.276667 | N28: =AVERAGE(รายเดือน!EE27:EP27) -> 28.536875 | O28: =AVERAGE(รายเดือน!EQ27:FB27) -> 43.870985 | P28: =AVERAGE(รายเดือน!FC27:FN27) -> 46.634817 | Q28: =AVERAGE(รายเดือน!FO27:FZ27) -> 23.962194 | R28: =AVERAGE(รายเดือน!GA27:GL27) -> 39.946707 | S28: =AVERAGE(รายเดือน!GM27:GX27) -> 65.432692 | T28: =AVERAGE(รายเดือน!GY27:HJ27) -> 45.637081 | U28: =AVERAGE(รายเดือน!HK27:HV27) -> 30.87318 | V28: =AVERAGE(รายเดือน!HW27:IH27) -> 31.030749 | W28: =AVERAGE(รายเดือน!II27:IT27) -> 28.33811
A29: กล้วยหอมทอง | B29: บาท/กก. | C29: =AVERAGE(รายเดือน!C28:N28) -> 71.365833 | D29: =AVERAGE(รายเดือน!O28:Z28) -> 63.0075 | E29: =AVERAGE(รายเดือน!AA28:AL28) -> 52.840833 | F29: =AVERAGE(รายเดือน!AM28:AX28) -> 46.363333 | G29: =AVERAGE(รายเดือน!AY28:BJ28) -> 52.6975 | H29: =AVERAGE(รายเดือน!BK28:BV28) -> 68.729167 | I29: =AVERAGE(รายเดือน!BW28:CH28) -> 119.90417 | J29: =AVERAGE(รายเดือน!CI28:CT28) -> 150.20833 | K29: =AVERAGE(รายเดือน!CU28:DF28) -> 141.22083 | L29: =AVERAGE(รายเดือน!DG28:DR28) -> 149.567 | M29: =AVERAGE(รายเดือน!DS28:ED28) -> 170.31833 | N29: =AVERAGE(รายเดือน!EE28:EP28) -> 184.28504 | O29: =AVERAGE(รายเดือน!EQ28:FB28) -> 198.55804 | P29: =AVERAGE(รายเดือน!FC28:FN28) -> 189.36669 | Q29: =AVERAGE(รายเดือน!FO28:FZ28) -> 205.9673 | R29: =AVERAGE(รายเดือน!GA28:GL28) -> 221.46499 | S29: =AVERAGE(รายเดือน!GM28:GX28) -> 204.9595 | T29: =AVERAGE(รายเดือน!GY28:HJ28) -> 202.53472 | U29: =AVERAGE(รายเดือน!HK28:HV28) -> 210.67637 | V29: =AVERAGE(รายเดือน!HW28:IH28) -> 230.28966 | W29: =AVERAGE(รายเดือน!II28:IT28) -> 222.72908
A30: ลิ้นจี่พันธุ์ฮงฮวย เกรด A | B30: บาท/กก. | C30: =AVERAGE(รายเดือน!C29:N29) -> 8.4516667 | D30: =AVERAGE(รายเดือน!O29:Z29) -> 17.5275 | E30: =AVERAGE(รายเดือน!AA29:AL29) -> 7.9458333 | F30: =AVERAGE(รายเดือน!AM29:AX29) -> 15.538333 | G30: =AVERAGE(รายเดือน!AY29:BJ29) -> 12.223333 | H30: =AVERAGE(รายเดือน!BK29:BV29) -> 13.696667 | I30: =AVERAGE(รายเดือน!BW29:CH29) -> 23.56 | J30: =AVERAGE(รายเดือน!CI29:CT29) -> 16.700833 | K30: =AVERAGE(รายเดือน!CU29:DF29) -> 19.489167 | L30: =AVERAGE(รายเดือน!DG29:DR29) -> 15.543333 | M30: =AVERAGE(รายเดือน!DS29:ED29) -> 13.586667 | N30: =AVERAGE(รายเดือน!EE29:EP29) -> 24.176667 | O30: =AVERAGE(รายเดือน!EQ29:FB29) -> 23.014791 | P30: =AVERAGE(รายเดือน!FC29:FN29) -> 16.679999 | Q30: =AVERAGE(รายเดือน!FO29:FZ29) -> 36.627775 | R30: =AVERAGE(รายเดือน!GA29:GL29) -> 31.685331 | S30: =AVERAGE(รายเดือน!GM29:GX29) -> 18.478832 | T30: =AVERAGE(รายเดือน!GY29:HJ29) -> 15.812499 | U30: =AVERAGE(รายเดือน!HK29:HV29) -> 23.419998 | V30: =AVERAGE(รายเดือน!HW29:IH29) -> 26.999997 | W30: =AVERAGE(รายเดือน!II29:IT29) -> 25.805553
A31: 1.4 กลุ่มพืชผัก
A32: หอมแดงหัวกลาง | B32: บาท/กก. | C32: =AVERAGE(รายเดือน!C31:N31) -> 13.898333 | D32: =AVERAGE(รายเดือน!O31:Z31) -> 19.900833 | E32: =AVERAGE(รายเดือน!AA31:AL31) -> 13.015 | F32: =AVERAGE(รายเดือน!AM31:AX31) -> 22.378333 | G32: =AVERAGE(รายเดือน!AY31:BJ31) -> 17.124167 | H32: =AVERAGE(รายเดือน!BK31:BV31) -> 15.774167 | I32: =AVERAGE(รายเดือน!BW31:CH31) -> 19.509167 | J32: =AVERAGE(รายเดือน!CI31:CT31) -> 12.93 | K32: =AVERAGE(รายเดือน!CU31:DF31) -> 14.889167 | L32: =AVERAGE(รายเดือน!DG31:DR31) -> 9.8433333 | M32: =AVERAGE(รายเดือน!DS31:ED31) -> 20.250833 | N32: =AVERAGE(รายเดือน!EE31:EP31) -> 22.680555 | O32: =AVERAGE(รายเดือน!EQ31:FB31) -> 28.690457 | P32: =AVERAGE(รายเดือน!FC31:FN31) -> 13.273541 | Q32: =AVERAGE(รายเดือน!FO31:FZ31) -> 15.504111 | R32: =AVERAGE(รายเดือน!GA31:GL31) -> 28.278916 | S32: =AVERAGE(รายเดือน!GM31:GX31) -> 27.802819 | T32: =AVERAGE(รายเดือน!GY31:HJ31) -> 33.918902 | U32: =AVERAGE(รายเดือน!HK31:HV31) -> 35.634164 | V32: =AVERAGE(รายเดือน!HW31:IH31) -> 39.075624 | W32: =AVERAGE(รายเดือน!II31:IT31) -> 30.98493
A33: กระเทียมแห้งคละ | B33: บาท/กก. | C33: =AVERAGE(รายเดือน!C32:N32) -> 23.21 | D33: =AVERAGE(รายเดือน!O32:Z32) -> 36.490833 | E33: =AVERAGE(รายเดือน!AA32:AL32) -> 36.194167 | F33: =AVERAGE(รายเดือน!AM32:AX32) -> 20.254167 | G33: =AVERAGE(รายเดือน!AY32:BJ32) -> 41.039167 | H33: =AVERAGE(รายเดือน!BK32:BV32) -> 61.629167 | I33: =AVERAGE(รายเดือน!BW32:CH32) -> 37.196667 | J33: =AVERAGE(รายเดือน!CI32:CT32) -> 41.079167 | K33: =AVERAGE(รายเดือน!CU32:DF32) -> 44.733333 | L33: =AVERAGE(รายเดือน!DG32:DR32) -> 38.039167 | M33: =AVERAGE(รายเดือน!DS32:ED32) -> 42.394167 | N33: =AVERAGE(รายเดือน!EE32:EP32) -> 77.276667 | O33: =AVERAGE(รายเดือน!EQ32:FB32) -> 82.549998 | P33: =AVERAGE(รายเดือน!FC32:FN32) -> 62.234768 | Q33: =AVERAGE(รายเดือน!FO32:FZ32) -> 33.121179 | R33: =AVERAGE(รายเดือน!GA32:GL32) -> 40.429122 | S33: =AVERAGE(รายเดือน!GM32:GX32) -> 34.702734 | T33: =AVERAGE(รายเดือน!GY32:HJ32) -> 39.633591 | U33: =AVERAGE(รายเดือน!HK32:HV32) -> 67.171453 | V33: =AVERAGE(รายเดือน!HW32:IH32) -> 76.331664 | W33: =AVERAGE(รายเดือน!II32:IT32) -> 69.199414
A34: มันฝรั่งโรงงาน | B34: บาท/กก. | C34: =AVERAGE(รายเดือน!C33:N33) -> 10.150833 | D34: =AVERAGE(รายเดือน!O33:Z33) -> 9.1891667 | E34: =AVERAGE(รายเดือน!AA33:AL33) -> 9.1458333 | F34: =AVERAGE(รายเดือน!AM33:AX33) -> 11.114167 | G34: =AVERAGE(รายเดือน!AY33:BJ33) -> 12.8675 | H34: =AVERAGE(รายเดือน!BK33:BV33) -> 11.993333 | I34: =AVERAGE(รายเดือน!BW33:CH33) -> 10.904167 | J34: =AVERAGE(รายเดือน!CI33:CT33) -> 12.588333 | K34: =AVERAGE(รายเดือน!CU33:DF33) -> 12.630833 | L34: =AVERAGE(รายเดือน!DG33:DR33) -> 12.825 | M34: =AVERAGE(รายเดือน!DS33:ED33) -> 12.354167 | N34: =AVERAGE(รายเดือน!EE33:EP33) -> 12.795833 | O34: =AVERAGE(รายเดือน!EQ33:FB33) -> 12.524999 | P34: =AVERAGE(รายเดือน!FC33:FN33) -> 12.874861 | Q34: =AVERAGE(รายเดือน!FO33:FZ33) -> 13.891 | R34: =AVERAGE(รายเดือน!GA33:GL33) -> 13.635625 | S34: =AVERAGE(รายเดือน!GM33:GX33) -> 12.3125 | T34: =AVERAGE(รายเดือน!GY33:HJ33) -> 11.4475 | U34: =AVERAGE(รายเดือน!HK33:HV33) -> 12.7875 | V34: =AVERAGE(รายเดือน!HW33:IH33) -> 13.171458 | W34: =AVERAGE(รายเดือน!II33:IT33) -> 13.264166
A35: หอมหัวใหญ่เบอร์ 1 | B35: บาท/กก. | C35: =AVERAGE(รายเดือน!C34:N34) -> 6.4491667 | D35: =AVERAGE(รายเดือน!O34:Z34) -> 9.8591667 | E35: =AVERAGE(รายเดือน!AA34:AL34) -> 5.0666667 | F35: =AVERAGE(รายเดือน!AM34:AX34) -> 4.9266667 | G35: =AVERAGE(รายเดือน!AY34:BJ34) -> 8.2941667 | H35: =AVERAGE(รายเดือน!BK34:BV34) -> 10.11 | I35: =AVERAGE(รายเดือน!BW34:CH34) -> 11.755833 | J35: =AVERAGE(รายเดือน!CI34:CT34) -> 6.2025 | K35: =AVERAGE(รายเดือน!CU34:DF34) -> 9.83 | L35: =AVERAGE(รายเดือน!DG34:DR34) -> 10.275 | M35: =AVERAGE(รายเดือน!DS34:ED34) -> 8.1858333 | N35: =AVERAGE(รายเดือน!EE34:EP34) -> 12.384167 | O35: =AVERAGE(รายเดือน!EQ34:FB34) -> 14.478708 | P35: =AVERAGE(รายเดือน!FC34:FN34) -> 6.6874997 | Q35: =AVERAGE(รายเดือน!FO34:FZ34) -> 11.533472 | R35: =AVERAGE(รายเดือน!GA34:GL34) -> 7.2081939 | S35: =AVERAGE(รายเดือน!GM34:GX34) -> 7.3958331 | T35: =AVERAGE(รายเดือน!GY34:HJ34) -> 11.46125 | U35: =AVERAGE(รายเดือน!HK34:HV34) -> 14.749999 | V35: =AVERAGE(รายเดือน!HW34:IH34) -> 12.213333 | W35: =AVERAGE(รายเดือน!II34:IT34) -> 11.641568
A36: 1.5 กลุ่มพืชน้ำมัน
A37: ปาล์มน้ำมันทั้งทะลายคละ | B37: บาท/กก. | C37: =AVERAGE(รายเดือน!C36:N36) -> 2.7633333 | D37: =AVERAGE(รายเดือน!O36:Z36) -> 2.4258333 | E37: =AVERAGE(รายเดือน!AA36:AL36) -> 4.0083333 | F37: =AVERAGE(รายเดือน!AM36:AX36) -> 4.3641667 | G37: =AVERAGE(รายเดือน!AY36:BJ36) -> 3.65 | H37: =AVERAGE(รายเดือน!BK36:BV36) -> 4.4375 | I37: =AVERAGE(รายเดือน!BW36:CH36) -> 5.3908333 | J37: =AVERAGE(รายเดือน!CI36:CT36) -> 4.7725 | K37: =AVERAGE(รายเดือน!CU36:DF36) -> 3.6166667 | L37: =AVERAGE(รายเดือน!DG36:DR36) -> 4.3541667 | M37: =AVERAGE(รายเดือน!DS36:ED36) -> 4.115 | N37: =AVERAGE(รายเดือน!EE36:EP36) -> 5.4279583 | O37: =AVERAGE(รายเดือน!EQ36:FB36) -> 4.0564166 | P37: =AVERAGE(รายเดือน!FC36:FN36) -> 3.0700277 | Q37: =AVERAGE(รายเดือน!FO36:FZ36) -> 2.7126805 | R37: =AVERAGE(รายเดือน!GA36:GL36) -> 4.5583332 | S37: =AVERAGE(รายเดือน!GM36:GX36) -> 6.7180415 | T37: =AVERAGE(รายเดือน!GY36:HJ36) -> 7.6482498 | U37: =AVERAGE(รายเดือน!HK36:HV36) -> 5.2779721 | V37: =AVERAGE(รายเดือน!HW36:IH36) -> 5.8820832 | W37: =AVERAGE(รายเดือน!II36:IT36) -> 6.3001387
A38: มะพร้าวผลแก่ขนาดใหญ่ | B38: บาท/ร้อยผล | C38: =AVERAGE(รายเดือน!C37:N37) -> 445.83333 | D38: =AVERAGE(รายเดือน!O37:Z37) -> 586.58333 | E38: =AVERAGE(รายเดือน!AA37:AL37) -> 421.58333 | F38: =AVERAGE(รายเดือน!AM37:AX37) -> 596.08333 | G38: =AVERAGE(รายเดือน!AY37:BJ37) -> 580.91667 | H38: =AVERAGE(รายเดือน!BK37:BV37) -> 648.83333 | I38: =AVERAGE(รายเดือน!BW37:CH37) -> 1328.25 | J38: =AVERAGE(รายเดือน!CI37:CT37) -> 625 | K38: =AVERAGE(รายเดือน!CU37:DF37) -> 849 | L38: =AVERAGE(รายเดือน!DG37:DR37) -> 1163.75 | M38: =AVERAGE(รายเดือน!DS37:ED37) -> 993.66667 | N38: =AVERAGE(รายเดือน!EE37:EP37) -> 1473.4004 | O38: =AVERAGE(รายเดือน!EQ37:FB37) -> 1702.8216 | P38: =AVERAGE(รายเดือน!FC37:FN37) -> 866.67747 | Q38: =AVERAGE(รายเดือน!FO37:FZ37) -> 791.24108 | R38: =AVERAGE(รายเดือน!GA37:GL37) -> 1461.0421 | S38: =AVERAGE(รายเดือน!GM37:GX37) -> 1222.546 | T38: =AVERAGE(รายเดือน!GY37:HJ37) -> 1040.955 | U38: =AVERAGE(รายเดือน!HK37:HV37) -> 1002.3915 | V38: =AVERAGE(รายเดือน!HW37:IH37) -> 1610.0102 | W38: =AVERAGE(รายเดือน!II37:IT37) -> 1856.1189
A39: ถั่วเหลืองคละ | B39: บาท/กก. | C39: =AVERAGE(รายเดือน!C38:N38) -> 10.743333 | D39: =AVERAGE(รายเดือน!O38:Z38) -> 10.463333 | E39: =AVERAGE(รายเดือน!AA38:AL38) -> 11.334167 | F39: =AVERAGE(รายเดือน!AM38:AX38) -> 16.715833 | G39: =AVERAGE(รายเดือน!AY38:BJ38) -> 14.5825 | H39: =AVERAGE(รายเดือน!BK38:BV38) -> 14.29 | I39: =AVERAGE(รายเดือน!BW38:CH38) -> 14.650833 | J39: =AVERAGE(รายเดือน!CI38:CT38) -> 16.7925 | K39: =AVERAGE(รายเดือน!CU38:DF38) -> 18.650833 | L39: =AVERAGE(รายเดือน!DG38:DR38) -> 18.109167 | M39: =AVERAGE(รายเดือน!DS38:ED38) -> 15.073333 | N39: =AVERAGE(รายเดือน!EE38:EP38) -> 14.387333 | O39: =AVERAGE(รายเดือน!EQ38:FB38) -> 14.984583 | P39: =AVERAGE(รายเดือน!FC38:FN38) -> 16.706208 | Q39: =AVERAGE(รายเดือน!FO38:FZ38) -> 16.406708 | R39: =AVERAGE(รายเดือน!GA38:GL38) -> 16.952555 | S39: =AVERAGE(รายเดือน!GM38:GX38) -> 17.345805 | T39: =AVERAGE(รายเดือน!GY38:HJ38) -> 19.087013 | U39: =AVERAGE(รายเดือน!HK38:HV38) -> 22.161222 | V39: =AVERAGE(รายเดือน!HW38:IH38) -> 17.875833 | W39: =AVERAGE(รายเดือน!II38:IT38) -> 18.741457
A40: ถั่วลิสงเปลือกแห้ง | B40: บาท/กก. | C40: =AVERAGE(รายเดือน!C39:N39) -> 14.708333 | D40: =AVERAGE(รายเดือน!O39:Z39) -> 14.0775 | E40: =AVERAGE(รายเดือน!AA39:AL39) -> 14.409167 | F40: =AVERAGE(รายเดือน!AM39:AX39) -> 17.710833 | G40: =AVERAGE(รายเดือน!AY39:BJ39) -> 20.456667 | H40: =AVERAGE(รายเดือน!BK39:BV39) -> 20.713333 | I40: =AVERAGE(รายเดือน!BW39:CH39) -> 23.164167 | J40: =AVERAGE(รายเดือน!CI39:CT39) -> 27.505833 | K40: =AVERAGE(รายเดือน!CU39:DF39) -> 40.678333 | L40: =AVERAGE(รายเดือน!DG39:DR39) -> 40.910833 | M40: =AVERAGE(รายเดือน!DS39:ED39) -> 43.8975 | N40: =AVERAGE(รายเดือน!EE39:EP39) -> 43.8325 | O40: =AVERAGE(รายเดือน!EQ39:FB39) -> 40.542832 | P40: =AVERAGE(รายเดือน!FC39:FN39) -> 44.307429 | Q40: =AVERAGE(รายเดือน!FO39:FZ39) -> 56.090027 | R40: =AVERAGE(รายเดือน!GA39:GL39) -> 49.907916 | S40: =AVERAGE(รายเดือน!GM39:GX39) -> 46.523471 | T40: =AVERAGE(รายเดือน!GY39:HJ39) -> 43.309541 | U40: =AVERAGE(รายเดือน!HK39:HV39) -> 42.562082 | V40: =AVERAGE(รายเดือน!HW39:IH39) -> 43.911249 | W40: =AVERAGE(รายเดือน!II39:IT39) -> 57.990346
A41: 1.6 กลุ่มพืชเส้นใย | K41: =AVERAGE(รายเดือน!CU40:DF40) -> #DIV/0! | L41: =AVERAGE(รายเดือน!DG40:DR40) -> #DIV/0! | M41: =AVERAGE(รายเดือน!DS40:ED40) -> #DIV/0! | O41: =AVERAGE(รายเดือน!EQ40:FB40) -> #DIV/0! | P41: =AVERAGE(รายเดือน!FC40:FN40) -> #DIV/0! | Q41: =AVERAGE(รายเดือน!FO40:FZ40) -> #DIV/0! | R41: =AVERAGE(รายเดือน!GA40:GL40) -> #DIV/0! | S41: =AVERAGE(รายเดือน!GM40:GX40) -> #DIV/0! | T41: =AVERAGE(รายเดือน!GY40:HJ40) -> #DIV/0! | U41: =AVERAGE(รายเดือน!HK40:HV40) -> #DIV/0! | V41: =AVERAGE(รายเดือน!HW40:IH40) -> #DIV/0! | W41: =AVERAGE(รายเดือน!II40:IT40) -> #DIV/0!
A42: ฝ้ายรวมเมล็ดชนิดคละ | B42: บาท/กก. | C42: =AVERAGE(รายเดือน!C41:N41) -> 0.1 | D42: =AVERAGE(รายเดือน!O41:Z41) -> 0.1 | E42: =AVERAGE(รายเดือน!AA41:AL41) -> 0.1 | F42: =AVERAGE(รายเดือน!AM41:AX41) -> 0.1 | G42: =AVERAGE(รายเดือน!AY41:BJ41) -> 0.1 | H42: =AVERAGE(รายเดือน!BK41:BV41) -> 0.1 | I42: =AVERAGE(รายเดือน!BW41:CH41) -> 0.1 | J42: =AVERAGE(รายเดือน!CI41:CT41) -> 0.1 | K42: =AVERAGE(รายเดือน!CU41:DF41) -> 0.1 | L42: =AVERAGE(รายเดือน!DG41:DR41) -> 0.1 | M42: =AVERAGE(รายเดือน!DS41:ED41) -> 0.1 | O42: =AVERAGE(รายเดือน!EQ41:FB41) -> 0.1 | P42: =AVERAGE(รายเดือน!FC41:FN41) -> 0.1 | Q42: =AVERAGE(รายเดือน!FO41:FZ41) -> 0.1 | R42: =AVERAGE(รายเดือน!GA41:GL41) -> 0.1 | S42: =AVERAGE(รายเดือน!GM41:GX41) -> 0.1 | T42: =AVERAGE(รายเดือน!GY41:HJ41) -> 0.1 | U42: =AVERAGE(รายเดือน!HK41:HV41) -> 0.1 | V42: =AVERAGE(รายเดือน!HW41:IH41) -> 0.1 | W42: =AVERAGE(รายเดือน!II41:IT41) -> 0.1
A43: 1.6 กลุ่มพืชไม้ดอก
A44: กล้วยไม้ ก้านช่อดอกยาว 45-54 ซม. | B44: บาท/ช่อ | C44: =AVERAGE(รายเดือน!C43:N43) -> 4.2258333 | D44: =AVERAGE(รายเดือน!O43:Z43) -> 4.4283333 | E44: =AVERAGE(รายเดือน!AA43:AL43) -> 3.4625 | F44: =AVERAGE(รายเดือน!AM43:AX43) -> 3.3383333 | G44: =AVERAGE(รายเดือน!AY43:BJ43) -> 3.0458333 | H44: =AVERAGE(รายเดือน!BK43:BV43) -> 2.7241667 | I44: =AVERAGE(รายเดือน!BW43:CH43) -> 2.9775 | J44: =AVERAGE(รายเดือน!CI43:CT43) -> 3.8808333 | K44: =AVERAGE(รายเดือน!CU43:DF43) -> 2.4391667 | L44: =AVERAGE(รายเดือน!DG43:DR43) -> 2.0188333 | M44: =AVERAGE(รายเดือน!DS43:ED43) -> 2.0083333 | N44: =AVERAGE(รายเดือน!EE43:EP43) -> 2.2380417 | O44: =AVERAGE(รายเดือน!EQ43:FB43) -> 1.9528333 | P44: =AVERAGE(รายเดือน!FC43:FN43) -> 1.8287361 | Q44: =AVERAGE(รายเดือน!FO43:FZ43) -> 2.0040972 | R44: =AVERAGE(รายเดือน!GA43:GL43) -> 1.20225 | S44: =AVERAGE(รายเดือน!GM43:GX43) -> 1.1335972 | T44: =AVERAGE(รายเดือน!GY43:HJ43) -> 3.1025833 | U44: =AVERAGE(รายเดือน!HK43:HV43) -> 3.1696805 | V44: =AVERAGE(รายเดือน!HW43:IH43) -> 1.4357916 | W44: =AVERAGE(รายเดือน!II43:IT43) -> 1.7673194
A45: 2. หมวดปศุสัตว์
A46: สุกร (น้ำหนัก 100 กก.ขึ้นไป) | B46: บาท/กก. | C46: =AVERAGE(รายเดือน!C45:N45) -> 49.554167 | D46: =AVERAGE(รายเดือน!O45:Z45) -> 47.0675 | E46: =AVERAGE(รายเดือน!AA45:AL45) -> 38.333333 | F46: =AVERAGE(รายเดือน!AM45:AX45) -> 53.335 | G46: =AVERAGE(รายเดือน!AY45:BJ45) -> 56.883333 | H46: =AVERAGE(รายเดือน!BK45:BV45) -> 59.991667 | I46: =AVERAGE(รายเดือน!BW45:CH45) -> 65.4075 | J46: =AVERAGE(รายเดือน!CI45:CT45) -> 56.650833 | K46: =AVERAGE(รายเดือน!CU45:DF45) -> 65.349167 | L46: =AVERAGE(รายเดือน!DG45:DR45) -> 75.049167 | M46: =AVERAGE(รายเดือน!DS45:ED45) -> 66.071667 | N46: =AVERAGE(รายเดือน!EE45:EP45) -> 66.94325 | O46: =AVERAGE(รายเดือน!EQ45:FB45) -> 58.979082 | P46: =AVERAGE(รายเดือน!FC45:FN45) -> 55.693401 | Q46: =AVERAGE(รายเดือน!FO45:FZ45) -> 66.485387 | R46: =AVERAGE(รายเดือน!GA45:GL45) -> 71.863623 | S46: =AVERAGE(รายเดือน!GM45:GX45) -> 73.150123 | T46: =AVERAGE(รายเดือน!GY45:HJ45) -> 99.4619 | U46: =AVERAGE(รายเดือน!HK45:HV45) -> 77.945318 | V46: =AVERAGE(รายเดือน!HW45:IH45) -> 68.913248 | W46: =AVERAGE(รายเดือน!II45:IT45) -> 73.66154
A47: ไก่รุ่นพันธุ์เนื้อ | B47: บาท/กก. | C47: =AVERAGE(รายเดือน!C46:N46) -> 35.885833 | D47: =AVERAGE(รายเดือน!O46:Z46) -> 31.553333 | E47: =AVERAGE(รายเดือน!AA46:AL46) -> 33.653333 | F47: =AVERAGE(รายเดือน!AM46:AX46) -> 37.230833 | G47: =AVERAGE(รายเดือน!AY46:BJ46) -> 37.968333 | H47: =AVERAGE(รายเดือน!BK46:BV46) -> 42.783333 | I47: =AVERAGE(รายเดือน!BW46:CH46) -> 46.805833 | J47: =AVERAGE(รายเดือน!CI46:CT46) -> 41.533333 | K47: =AVERAGE(รายเดือน!CU46:DF46) -> 43.245833 | L47: =AVERAGE(รายเดือน!DG46:DR46) -> 42.340833 | M47: =AVERAGE(รายเดือน!DS46:ED46) -> 38.354167 | N47: =AVERAGE(รายเดือน!EE46:EP46) -> 37.361166 | O47: =AVERAGE(รายเดือน!EQ46:FB46) -> 37.285249 | P47: =AVERAGE(รายเดือน!FC46:FN46) -> 34.413985 | Q47: =AVERAGE(รายเดือน!FO46:FZ46) -> 36.841082 | R47: =AVERAGE(รายเดือน!GA46:GL46) -> 35.479041 | S47: =AVERAGE(รายเดือน!GM46:GX46) -> 34.86011 | T47: =AVERAGE(รายเดือน!GY46:HJ46) -> 43.96161 | U47: =AVERAGE(รายเดือน!HK46:HV46) -> 43.552429 | V47: =AVERAGE(รายเดือน!HW46:IH46) -> 40.739082 | W47: =AVERAGE(รายเดือน!II46:IT46) -> 41.990263
A48: ไข่ไก่สดคละ | B48: บาท/ร้อยฟอง | C48: =AVERAGE(รายเดือน!C47:N47) -> 246.91667 | D48: =AVERAGE(รายเดือน!O47:Z47) -> 200.33333 | E48: =AVERAGE(รายเดือน!AA47:AL47) -> 206 | F48: =AVERAGE(รายเดือน!AM47:AX47) -> 233.41667 | G48: =AVERAGE(รายเดือน!AY47:BJ47) -> 236.83333 | H48: =AVERAGE(รายเดือน!BK47:BV47) -> 264.75 | I48: =AVERAGE(รายเดือน!BW47:CH47) -> 300.83333 | J48: =AVERAGE(รายเดือน!CI47:CT47) -> 255.91667 | K48: =AVERAGE(รายเดือน!CU47:DF47) -> 306 | L48: =AVERAGE(รายเดือน!DG47:DR47) -> 308.58333 | M48: =AVERAGE(รายเดือน!DS47:ED47) -> 268.66667 | N48: =AVERAGE(รายเดือน!EE47:EP47) -> 294.73708 | O48: =AVERAGE(รายเดือน!EQ47:FB47) -> 265.10137 | P48: =AVERAGE(รายเดือน!FC47:FN47) -> 268.06313 | Q48: =AVERAGE(รายเดือน!FO47:FZ47) -> 278.88192 | R48: =AVERAGE(รายเดือน!GA47:GL47) -> 281.63545 | S48: =AVERAGE(รายเดือน!GM47:GX47) -> 283.31905 | T48: =AVERAGE(รายเดือน!GY47:HJ47) -> 327.62158 | U48: =AVERAGE(รายเดือน!HK47:HV47) -> 356.00956 | V48: =AVERAGE(รายเดือน!HW47:IH47) -> 366.40228 | W48: =AVERAGE(รายเดือน!II47:IT47) -> 347.67245
A49: โคพันธุ์ลูกผสม (ขนาดกลาง) | B49: บาท/ตัว | C49: =AVERAGE(รายเดือน!C48:N48) -> 14418.5 | D49: =AVERAGE(รายเดือน!O48:Z48) -> 14937 | E49: =AVERAGE(รายเดือน!AA48:AL48) -> 14287 | F49: =AVERAGE(รายเดือน!AM48:AX48) -> 13214.833 | G49: =AVERAGE(รายเดือน!AY48:BJ48) -> 13372 | H49: =AVERAGE(รายเดือน!BK48:BV48) -> 12998 | I49: =AVERAGE(รายเดือน!BW48:CH48) -> 14926.667 | J49: =AVERAGE(รายเดือน!CI48:CT48) -> 17344.083 | K49: =AVERAGE(รายเดือน!CU48:DF48) -> 21112.917 | L49: =AVERAGE(รายเดือน!DG48:DR48) -> 29890.25 | M49: =AVERAGE(รายเดือน!DS48:ED48) -> 36677.083 | N49: =AVERAGE(รายเดือน!EE48:EP48) -> 36104.42 | O49: =AVERAGE(รายเดือน!EQ48:FB48) -> 33722.372 | P49: =AVERAGE(รายเดือน!FC48:FN48) -> 31532.626 | Q49: =AVERAGE(รายเดือน!FO48:FZ48) -> 31158.281 | R49: =AVERAGE(รายเดือน!GA48:GL48) -> 32680.152 | S49: =AVERAGE(รายเดือน!GM48:GX48) -> 33817.654 | T49: =AVERAGE(รายเดือน!GY48:HJ48) -> 34921.337 | U49: =AVERAGE(รายเดือน!HK48:HV48) -> 32437.638 | V49: =AVERAGE(รายเดือน!HW48:IH48) -> 29034.326 | W49: =AVERAGE(รายเดือน!II48:IT48) -> 22722.384
A50: 3. หมวดประมง
A51: กุ้งขาวแวนนาไม (70 ตัว/กก.) | B51: บาท/กก. | C51: =AVERAGE(รายเดือน!C50:N50) -> 121.83333 | D51: =AVERAGE(รายเดือน!O50:Z50) -> 116.5 | E51: =AVERAGE(รายเดือน!AA50:AL50) -> 100 | F51: =AVERAGE(รายเดือน!AM50:AX50) -> 106.58333 | G51: =AVERAGE(รายเดือน!AY50:BJ50) -> 106.75 | H51: =AVERAGE(รายเดือน!BK50:BV50) -> 110.41667 | I51: =AVERAGE(รายเดือน!BW50:CH50) -> 128.83333 | J51: =AVERAGE(รายเดือน!CI50:CT50) -> 126.75 | K51: =AVERAGE(รายเดือน!CU50:DF50) -> 196.91667 | L51: =AVERAGE(รายเดือน!DG50:DR50) -> 222.58333 | M51: =AVERAGE(รายเดือน!DS50:ED50) -> 179.33333 | N51: =AVERAGE(รายเดือน!EE50:EP50) -> 179.90267 | O51: =AVERAGE(รายเดือน!EQ50:FB50) -> 185.1397 | P51: =AVERAGE(รายเดือน!FC50:FN50) -> 151.27333 | Q51: =AVERAGE(รายเดือน!FO50:FZ50) -> 144.18325 | R51: =AVERAGE(รายเดือน!GA50:GL50) -> 140.07837 | S51: =AVERAGE(รายเดือน!GM50:GX50) -> 140.07766 | T51: =AVERAGE(รายเดือน!GY50:HJ50) -> 152.27905 | U51: =AVERAGE(รายเดือน!HK50:HV50) -> 127.38691 | V51: =AVERAGE(รายเดือน!HW50:IH50) -> 130.9065 | W51: =AVERAGE(รายเดือน!II50:IT50) -> 145.3934
A52: ที่มา : สำนักงานเศรษฐกิจการเกษตร

Sheet รายไตรมาส
A1: ราคาสินค้าเกษตรที่เกษตรกรขายได้ ณ ไร่นา
A3: รายการสินค้า | B3: หน่วย | C3: 2548 | G3: 2549 | K3: 2550 | O3: 2551 | S3: 2552 | W3: 2553 | AA3: 2554 | AE3: 2555 | AI3: 2556 | AM3: 2557 | AQ3: 2558 | AU3: 2559 | AY3: 2560 | BC3: 2561 | BG3: 2562 | BK3: 2563 | BO3: 2564 | BS3: 2565 | BW3: 2566 | CA3: 2567 | CE3: 2568 | CI3: 2569
C4: ไตรมาส 1 | D4: ไตรมาส 2 | E4: ไตรมาส 3 | F4: ไตรมาส 4 | G4: ไตรมาส 1 | H4: ไตรมาส 2 | I4: ไตรมาส 3 | J4: ไตรมาส 4 | K4: ไตรมาส 1 | L4: ไตรมาส 2 | M4: ไตรมาส 3 | N4: ไตรมาส 4 | O4: ไตรมาส 1 | P4: ไตรมาส 2 | Q4: ไตรมาส 3 | R4: ไตรมาส 4 | S4: ไตรมาส 1 | T4: ไตรมาส 2 | U4: ไตรมาส 3 | V4: ไตรมาส 4 | W4: ไตรมาส 1 | X4: ไตรมาส 2 | Y4: ไตรมาส 3 | Z4: ไตรมาส 4 | AA4: ไตรมาส 1 | AB4: ไตรมาส 2 | AC4: ไตรมาส 3 | AD4: ไตรมาส 4 | AE4: ไตรมาส 1 | AF4: ไตรมาส 2 | AG4: ไตรมาส 3 | AH4: ไตรมาส 4 | AI4: ไตรมาส 1 | AJ4: ไตรมาส 2 | AK4: ไตรมาส 3 | AL4: ไตรมาส 4 | AM4: ไตรมาส 1 | AN4: ไตรมาส 2 | AO4: ไตรมาส 3 | AP4: ไตรมาส 4 | AQ4: ไตรมาส 1 | AR4: ไตรมาส 2 | AS4: ไตรมาส 3 | AT4: ไตรมาส 4 | AU4: ไตรมาส 1 | AV4: ไตรมาส 2 | AW4: ไตรมาส 3 | AX4: ไตรมาส 4 | AY4: ไตรมาส 1 | AZ4: ไตรมาส 2 | BA4: ไตรมาส 3 | BB4: ไตรมาส 4 | BC4: ไตรมาส 1 | BD4: ไตรมาส 2 | BE4: ไตรมาส 3 | BF4: ไตรมาส 4 | BG4: ไตรมาส 1 | BH4: ไตรมาส 2 | BI4: ไตรมาส 3 | BJ4: ไตรมาส 4 | BK4: ไตรมาส 1 | BL4: ไตรมาส 2 | BM4: ไตรมาส 3 | BN4: ไตรมาส 4 | BO4: ไตรมาส 1 | BP4: ไตรมาส 2 | BQ4: ไตรมาส 3 | BR4: ไตรมาส 4 | BS4: ไตรมาส 1 | BT4: ไตรมาส 2 | BU4: ไตรมาส 3 | BV4: ไตรมาส 4 | BW4: ไตรมาส 1 | BX4: ไตรมาส 2 | BY4: ไตรมาส 3 | BZ4: ไตรมาส 4 | CA4: ไตรมาส 1 | CB4: ไตรมาส 2 | CC4: ไตรมาส 3 | CD4: ไตรมาส 4 | CE4: ไตรมาส 1 | CF4: ไตรมาส 2 | CG4: ไตรมาส 3 | CH4: ไตรมาส 4 | CI4: ไตรมาส 1 | CJ4: ไตรมาส 2 | CK4: ไตรมาส 3 | CL4: ไตรมาส 4
A5: ภาคเกษตรกรรม
A6: 1. หมวดพืชผลสำคัญ
A7: 1.1 กลุ่มธัญพืชและพืชอาหาร
A8: ข้าวเปลือก
A9: ข้าวเปลือกเจ้าความชื้น 15% | B9: บาท/ตัน | C9: =AVERAGE(รายเดือน!C8:E8) -> 6519.6667 | D9: =AVERAGE(รายเดือน!F8:H8) -> 6547 | E9: =AVERAGE(รายเดือน!I8:K8) -> 6770.6667 | F9: =AVERAGE(รายเดือน!L8:N8) -> 6778.6667 | G9: =AVERAGE(รายเดือน!O8:Q8) -> 6659.3333 | H9: =AVERAGE(รายเดือน!R8:T8) -> 6761 | I9: =AVERAGE(รายเดือน!U8:W8) -> 6710.3333 | J9: =AVERAGE(รายเดือน!X8:Z8) -> 6478.3333 | K9: =AVERAGE(รายเดือน!AA8:AC8) -> 6533.6667 | L9: =AVERAGE(รายเดือน!AD8:AF8) -> 6437.6667 | M9: =AVERAGE(รายเดือน!AG8:AI8) -> 6413 | N9: =AVERAGE(รายเดือน!AJ8:AL8) -> 6590.6667 | O9: =AVERAGE(รายเดือน!AM8:AO8) -> 7963.6667 | P9: =AVERAGE(รายเดือน!AP8:AR8) -> 12587 | Q9: =AVERAGE(รายเดือน!AS8:AU8) -> 11832.333 | R9: =AVERAGE(รายเดือน!AV8:AX8) -> 10051 | S9: =AVERAGE(รายเดือน!AY8:BA8) -> 10122.667 | T9: =AVERAGE(รายเดือน!BB8:BD8) -> 9939.3333 | U9: =AVERAGE(รายเดือน!BE8:BG8) -> 9493.6667 | V9: =AVERAGE(รายเดือน!BH8:BJ8) -> 9077.6667 | W9: =AVERAGE(รายเดือน!BK8:BM8) -> 9139.3333 | X9: =AVERAGE(รายเดือน!BN8:BP8) -> 7885 | Y9: =AVERAGE(รายเดือน!BQ8:BS8) -> 8300.3333 | Z9: =AVERAGE(รายเดือน!BT8:BV8) -> 8276 | AA9: =AVERAGE(รายเดือน!BW8:BY8) -> 8610 | AB9: =AVERAGE(รายเดือน!BZ8:CB8) -> 8199.6667 | AC9: =AVERAGE(รายเดือน!CC8:CE8) -> 9488.3333 | AD9: =AVERAGE(รายเดือน!CF8:CH8) -> 10281.472 | AE9: =AVERAGE(รายเดือน!CI8:CK8) -> 9735.6667 | AF9: =AVERAGE(รายเดือน!CL8:CN8) -> 10236.333 | AG9: =AVERAGE(รายเดือน!CO8:CQ8) -> 10274.667 | AH9: =AVERAGE(รายเดือน!CR8:CT8) -> 10168 | AI9: =AVERAGE(รายเดือน!CU8:CW8) -> 10414.333 | AJ9: =AVERAGE(รายเดือน!CX8:CZ8) -> 9816.3333 | AK9: =AVERAGE(รายเดือน!DA8:DC8) -> 9129 | AL9: =AVERAGE(รายเดือน!DD8:DF8) -> 8180 | AM9: =AVERAGE(รายเดือน!DG8:DI8) -> 7741 | AN9: =AVERAGE(รายเดือน!DJ8:DL8) -> 7117.6667 | AO9: =AVERAGE(รายเดือน!DM8:DO8) -> 8088 | AP9: =AVERAGE(รายเดือน!DP8:DR8) -> 7906.6667 | AQ9: =AVERAGE(รายเดือน!DS8:DU8) -> 7830.3333 | AR9: =AVERAGE(รายเดือน!DV8:DX8) -> 7635 | AS9: =AVERAGE(รายเดือน!DY8:EA8) -> 7921.3333 | AT9: =AVERAGE(รายเดือน!EB8:ED8) -> 7639 | AU9: =AVERAGE(รายเดือน!EE8:EG8) -> 7778.6667 | AV9: =AVERAGE(รายเดือน!EH8:EJ8) -> 8084.3333 | AW9: =AVERAGE(รายเดือน!EK8:EM8) -> 8468 | AX9: =AVERAGE(รายเดือน!EN8:EP8) -> 7271.9625 | AY9: =AVERAGE(รายเดือน!EQ8:ES8) -> 7450.8218 | AZ9: =AVERAGE(รายเดือน!ET8:EV8) -> 7803.4313 | BA9: =AVERAGE(รายเดือน!EW8:EY8) -> 7830.8633 | BB9: =AVERAGE(รายเดือน!EZ8:FB8) -> 7869.5808 | BC9: =AVERAGE(รายเดือน!FC8:FE8) -> 7682.9624 | BD9: =AVERAGE(รายเดือน!FF8:FH8) -> 7944.7381 | BE9: =AVERAGE(รายเดือน!FI8:FK8) -> 7528.7662 | BF9: =AVERAGE(รายเดือน!FL8:FN8) -> 7896.0452 | BG9: =AVERAGE(รายเดือน!FO8:FQ8) -> 7658.091 | BH9: =AVERAGE(รายเดือน!FR8:FT8) -> 7817.6008 | BI9: =AVERAGE(รายเดือน!FU8:FW8) -> 7805.9913 | BJ9: =AVERAGE(รายเดือน!FX8:FZ8) -> 7835.7245 | BK9: =AVERAGE(รายเดือน!GA8:GC8) -> 8192.1453 | BL9: =AVERAGE(รายเดือน!GD8:GF8) -> 9274.411 | BM9: =AVERAGE(รายเดือน!GG8:GI8) -> 9208.7676 | BN9: =AVERAGE(รายเดือน!GJ8:GL8) -> 8497.556 | BO9: =AVERAGE(รายเดือน!GM8:GO8) -> 9153.7893 | BP9: =AVERAGE(รายเดือน!GP8:GR8) -> 8761.2114 | BQ9: =AVERAGE(รายเดือน!GS8:GU8) -> 7735.4585 | BR9: =AVERAGE(รายเดือน!GV8:GX8) -> 7690.2148 | BS9: =AVERAGE(รายเดือน!GY8:HA8) -> 7992.1948 | BT9: =AVERAGE(รายเดือน!HB8:HD8) -> 8775.335 | BU9: =AVERAGE(รายเดือน!HE8:HG8) -> 9115.745 | BV9: =AVERAGE(รายเดือน!HH8:HJ8) -> 9175.8178 | BW9: =AVERAGE(รายเดือน!HK8:HM8) -> 9722.9739 | BX9: =AVERAGE(รายเดือน!HN8:HP8) -> 9923.9455 | BY9: =AVERAGE(รายเดือน!HQ8:HS8) -> 11835.108 | BZ9: =AVERAGE(รายเดือน!HT8:HV8) -> 11326.936 | CA9: =AVERAGE(รายเดือน!HW8:HY8) -> 11462.714 | CB9: =AVERAGE(รายเดือน!HZ8:IB8) -> 10793.736 | CC9: =AVERAGE(รายเดือน!IC8:IE8) -> 10772.466 | CD9: =AVERAGE(รายเดือน!IF8:IH8) -> 9498.8723 | CE9: =AVERAGE(รายเดือน!II8:IK8) -> 8668.0591 | CF9: =AVERAGE(รายเดือน!IL8:IN8) -> 7175.5472 | CG9: =AVERAGE(รายเดือน!IO8:IQ8) -> 6756.4217 | CH9: =AVERAGE(รายเดือน!IR8:IT8) -> 6621.2323 | CI9: =AVERAGE(รายเดือน!IU8:IW8) -> 7285.7427 | CJ9: =AVERAGE(รายเดือน!IX8:IZ8) -> 7428.3914
A10: ข้าวเปลือกเจ้าหอมมะลิ | B10: บาท/ตัน | C10: =AVERAGE(รายเดือน!C9:E9) -> 7718.6667 | D10: =AVERAGE(รายเดือน!F9:H9) -> 7770.6667 | E10: =AVERAGE(รายเดือน!I9:K9) -> 7640 | F10: =AVERAGE(รายเดือน!L9:N9) -> 7607.3333 | G10: =AVERAGE(รายเดือน!O9:Q9) -> 7820.3333 | H10: =AVERAGE(รายเดือน!R9:T9) -> 8085.6667 | I10: =AVERAGE(รายเดือน!U9:W9) -> 8535.6667 | J10: =AVERAGE(รายเดือน!X9:Z9) -> 8276.3333 | K10: =AVERAGE(รายเดือน!AA9:AC9) -> 8244.6667 | L10: =AVERAGE(รายเดือน!AD9:AF9) -> 8649 | M10: =AVERAGE(รายเดือน!AG9:AI9) -> 8971 | N10: =AVERAGE(รายเดือน!AJ9:AL9) -> 9215.3333 | O10: =AVERAGE(รายเดือน!AM9:AO9) -> 11683.667 | P10: =AVERAGE(รายเดือน!AP9:AR9) -> 16417 | Q10: =AVERAGE(รายเดือน!AS9:AU9) -> 13708.333 | R10: =AVERAGE(รายเดือน!AV9:AX9) -> 12747 | S10: =AVERAGE(รายเดือน!AY9:BA9) -> 12708.333 | T10: =AVERAGE(รายเดือน!BB9:BD9) -> 13128.667 | U10: =AVERAGE(รายเดือน!BE9:BG9) -> 13926.667 | V10: =AVERAGE(รายเดือน!BH9:BJ9) -> 14286.667 | W10: =AVERAGE(รายเดือน!BK9:BM9) -> 14130.333 | X10: =AVERAGE(รายเดือน!BN9:BP9) -> 13196 | Y10: =AVERAGE(รายเดือน!BQ9:BS9) -> 13516 | Z10: =AVERAGE(รายเดือน!BT9:BV9) -> 13363.667 | AA10: =AVERAGE(รายเดือน!BW9:BY9) -> 12212 | AB10: =AVERAGE(รายเดือน!BZ9:CB9) -> 12200.667 | AC10: =AVERAGE(รายเดือน!CC9:CE9) -> 12896 | AD10: =AVERAGE(รายเดือน!CF9:CH9) -> 14829.397 | AE10: =AVERAGE(รายเดือน!CI9:CK9) -> 14998.333 | AF10: =AVERAGE(รายเดือน!CL9:CN9) -> 14665.333 | AG10: =AVERAGE(รายเดือน!CO9:CQ9) -> 15246.333 | AH10: =AVERAGE(รายเดือน!CR9:CT9) -> 15500.333 | AI10: =AVERAGE(รายเดือน!CU9:CW9) -> 15878 | AJ10: =AVERAGE(รายเดือน!CX9:CZ9) -> 15774 | AK10: =AVERAGE(รายเดือน!DA9:DC9) -> 15675.667 | AL10: =AVERAGE(รายเดือน!DD9:DF9) -> 15001.667 | AM10: =AVERAGE(รายเดือน!DG9:DI9) -> 14220.333 | AN10: =AVERAGE(รายเดือน!DJ9:DL9) -> 13853.333 | AO10: =AVERAGE(รายเดือน!DM9:DO9) -> 13990.667 | AP10: =AVERAGE(รายเดือน!DP9:DR9) -> 13065 | AQ10: =AVERAGE(รายเดือน!DS9:DU9) -> 13079.667 | AR10: =AVERAGE(รายเดือน!DV9:DX9) -> 13315 | AS10: =AVERAGE(รายเดือน!DY9:EA9) -> 13151 | AT10: =AVERAGE(รายเดือน!EB9:ED9) -> 12211.667 | AU10: =AVERAGE(รายเดือน!EE9:EG9) -> 10813.667 | AV10: =AVERAGE(รายเดือน!EH9:EJ9) -> 10850.333 | AW10: =AVERAGE(รายเดือน!EK9:EM9) -> 10945.667 | AX10: =AVERAGE(รายเดือน!EN9:EP9) -> 8997.373 | AY10: =AVERAGE(รายเดือน!EQ9:ES9) -> 9269.2096 | AZ10: =AVERAGE(รายเดือน!ET9:EV9) -> 9222.1898 | BA10: =AVERAGE(รายเดือน!EW9:EY9) -> 10637.706 | BB10: =AVERAGE(รายเดือน!EZ9:FB9) -> 11624.466 | BC10: =AVERAGE(รายเดือน!FC9:FE9) -> 14313.363 | BD10: =AVERAGE(รายเดือน!FF9:FH9) -> 15553.735 | BE10: =AVERAGE(รายเดือน!FI9:FK9) -> 15492.794 | BF10: =AVERAGE(รายเดือน!FL9:FN9) -> 15129.666 | BG10: =AVERAGE(รายเดือน!FO9:FQ9) -> 15485.286 | BH10: =AVERAGE(รายเดือน!FR9:FT9) -> 15714.359 | BI10: =AVERAGE(รายเดือน!FU9:FW9) -> 16035.181 | BJ10: =AVERAGE(รายเดือน!FX9:FZ9) -> 14714.007 | BK10: =AVERAGE(รายเดือน!GA9:GC9) -> 13873.356 | BL10: =AVERAGE(รายเดือน!GD9:GF9) -> 14736.998 | BM10: =AVERAGE(รายเดือน!GG9:GI9) -> 14092.077 | BN10: =AVERAGE(รายเดือน!GJ9:GL9) -> 11101.163 | BO10: =AVERAGE(รายเดือน!GM9:GO9) -> 11832.518 | BP10: =AVERAGE(รายเดือน!GP9:GR9) -> 11355.079 | BQ10: =AVERAGE(รายเดือน!GS9:GU9) -> 10011.863 | BR10: =AVERAGE(รายเดือน!GV9:GX9) -> 9683.0148 | BS10: =AVERAGE(รายเดือน!GY9:HA9) -> 11384.663 | BT10: =AVERAGE(รายเดือน!HB9:HD9) -> 12845.733 | BU10: =AVERAGE(รายเดือน!HE9:HG9) -> 13666.472 | BV10: =AVERAGE(รายเดือน!HH9:HJ9) -> 13502.375 | BW10: =AVERAGE(รายเดือน!HK9:HM9) -> 13359.696 | BX10: =AVERAGE(รายเดือน!HN9:HP9) -> 13576.801 | BY10: =AVERAGE(รายเดือน!HQ9:HS9) -> 14571.337 | BZ10: =AVERAGE(รายเดือน!HT9:HV9) -> 13859.667 | CA10: =AVERAGE(รายเดือน!HW9:HY9) -> 14160.766 | CB10: =AVERAGE(รายเดือน!HZ9:IB9) -> 14453.869 | CC10: =AVERAGE(รายเดือน!IC9:IE9) -> 15243.171 | CD10: =AVERAGE(รายเดือน!IF9:IH9) -> 15119.03 | CE10: =AVERAGE(รายเดือน!II9:IK9) -> 15160.59 | CF10: =AVERAGE(รายเดือน!IL9:IN9) -> 15492.192 | CG10: =AVERAGE(รายเดือน!IO9:IQ9) -> 15014.479 | CH10: =AVERAGE(รายเดือน!IR9:IT9) -> 14435.449 | CI10: =AVERAGE(รายเดือน!IU9:IW9) -> 15761.607 | CJ10: =AVERAGE(รายเดือน!IX9:IZ9) -> 16134.626
A11: ข้าวเปลือกเหนียวเมล็ดยาว | B11: บาท/ตัน | C11: =AVERAGE(รายเดือน!C10:E10) -> 5969.3333 | D11: =AVERAGE(รายเดือน!F10:H10) -> 6071 | E11: =AVERAGE(รายเดือน!I10:K10) -> 6091.6667 | F11: =AVERAGE(รายเดือน!L10:N10) -> 5741 | G11: =AVERAGE(รายเดือน!O10:Q10) -> 6326.6667 | H11: =AVERAGE(รายเดือน!R10:T10) -> 6806.3333 | I11: =AVERAGE(รายเดือน!U10:W10) -> 8735 | J11: =AVERAGE(รายเดือน!X10:Z10) -> 9200.3333 | K11: =AVERAGE(รายเดือน!AA10:AC10) -> 10295.333 | L11: =AVERAGE(รายเดือน!AD10:AF10) -> 10990.333 | M11: =AVERAGE(รายเดือน!AG10:AI10) -> 12135.667 | N11: =AVERAGE(รายเดือน!AJ10:AL10) -> 10242 | O11: =AVERAGE(รายเดือน!AM10:AO10) -> 8561.6667 | P11: =AVERAGE(รายเดือน!AP10:AR10) -> 9852.6667 | Q11: =AVERAGE(รายเดือน!AS10:AU10) -> 7466.3333 | R11: =AVERAGE(รายเดือน!AV10:AX10) -> 6389.3333 | S11: =AVERAGE(รายเดือน!AY10:BA10) -> 7641.6667 | T11: =AVERAGE(รายเดือน!BB10:BD10) -> 7338 | U11: =AVERAGE(รายเดือน!BE10:BG10) -> 7302.6667 | V11: =AVERAGE(รายเดือน!BH10:BJ10) -> 9237.6667 | W11: =AVERAGE(รายเดือน!BK10:BM10) -> 11448.333 | X11: =AVERAGE(รายเดือน!BN10:BP10) -> 11652.333 | Y11: =AVERAGE(รายเดือน!BQ10:BS10) -> 15184 | Z11: =AVERAGE(รายเดือน!BT10:BV10) -> 15283.333 | AA11: =AVERAGE(รายเดือน!BW10:BY10) -> 14374.333 | AB11: =AVERAGE(รายเดือน!BZ10:CB10) -> 15116.333 | AC11: =AVERAGE(รายเดือน!CC10:CE10) -> 15497.333 | AD11: =AVERAGE(รายเดือน!CF10:CH10) -> 13846.802 | AE11: =AVERAGE(รายเดือน!CI10:CK10) -> 13047.333 | AF11: =AVERAGE(รายเดือน!CL10:CN10) -> 12791.667 | AG11: =AVERAGE(รายเดือน!CO10:CQ10) -> 12910.333 | AH11: =AVERAGE(รายเดือน!CR10:CT10) -> 12011.333 | AI11: =AVERAGE(รายเดือน!CU10:CW10) -> 12643.333 | AJ11: =AVERAGE(รายเดือน!CX10:CZ10) -> 12945 | AK11: =AVERAGE(รายเดือน!DA10:DC10) -> 13193.667 | AL11: =AVERAGE(รายเดือน!DD10:DF10) -> 12682 | AM11: =AVERAGE(รายเดือน!DG10:DI10) -> 12104.667 | AN11: =AVERAGE(รายเดือน!DJ10:DL10) -> 12339.667 | AO11: =AVERAGE(รายเดือน!DM10:DO10) -> 12561.333 | AP11: =AVERAGE(รายเดือน!DP10:DR10) -> 10419 | AQ11: =AVERAGE(รายเดือน!DS10:DU10) -> 10753 | AR11: =AVERAGE(รายเดือน!DV10:DX10) -> 11137 | AS11: =AVERAGE(รายเดือน!DY10:EA10) -> 11845 | AT11: =AVERAGE(รายเดือน!EB10:ED10) -> 11727.333 | AU11: =AVERAGE(รายเดือน!EE10:EG10) -> 11608 | AV11: =AVERAGE(รายเดือน!EH10:EJ10) -> 12631.333 | AW11: =AVERAGE(รายเดือน!EK10:EM10) -> 13003 | AX11: =AVERAGE(รายเดือน!EN10:EP10) -> 10988.556 | AY11: =AVERAGE(รายเดือน!EQ10:ES10) -> 10866.918 | AZ11: =AVERAGE(รายเดือน!ET10:EV10) -> 10577.981 | BA11: =AVERAGE(รายเดือน!EW10:EY10) -> 10156.589 | BB11: =AVERAGE(รายเดือน!EZ10:FB10) -> 8995.6435 | BC11: =AVERAGE(รายเดือน!FC10:FE10) -> 9586.3024 | BD11: =AVERAGE(รายเดือน!FF10:FH10) -> 9324.3351 | BE11: =AVERAGE(รายเดือน!FI10:FK10) -> 9104.4878 | BF11: =AVERAGE(รายเดือน!FL10:FN10) -> 9668.6924 | BG11: =AVERAGE(รายเดือน!FO10:FQ10) -> 10120.401 | BH11: =AVERAGE(รายเดือน!FR10:FT10) -> 11315.015 | BI11: =AVERAGE(รายเดือน!FU10:FW10) -> 13086.866 | BJ11: =AVERAGE(รายเดือน!FX10:FZ10) -> 14164.382 | BK11: =AVERAGE(รายเดือน!GA10:GC10) -> 14607.366 | BL11: =AVERAGE(รายเดือน!GD10:GF10) -> 15669.798 | BM11: =AVERAGE(รายเดือน!GG10:GI10) -> 15420.389 | BN11: =AVERAGE(รายเดือน!GJ10:GL10) -> 10962.305 | BO11: =AVERAGE(รายเดือน!GM10:GO10) -> 10668.762 | BP11: =AVERAGE(รายเดือน!GP10:GR10) -> 10553.871 | BQ11: =AVERAGE(รายเดือน!GS10:GU10) -> 9159.0241 | BR11: =AVERAGE(รายเดือน!GV10:GX10) -> 7774.6875 | BS11: =AVERAGE(รายเดือน!GY10:HA10) -> 9106.5314 | BT11: =AVERAGE(รายเดือน!HB10:HD10) -> 8902.2349 | BU11: =AVERAGE(รายเดือน!HE10:HG10) -> 9150.9305 | BV11: =AVERAGE(รายเดือน!HH10:HJ10) -> 9751.9666 | BW11: =AVERAGE(รายเดือน!HK10:HM10) -> 10639.757 | BX11: =AVERAGE(รายเดือน!HN10:HP10) -> 11000.784 | BY11: =AVERAGE(รายเดือน!HQ10:HS10) -> 11959.284 | BZ11: =AVERAGE(รายเดือน!HT10:HV10) -> 12013.064 | CA11: =AVERAGE(รายเดือน!HW10:HY10) -> 11303.091 | CB11: =AVERAGE(รายเดือน!HZ10:IB10) -> 12179.791 | CC11: =AVERAGE(รายเดือน!IC10:IE10) -> 12574.367 | CD11: =AVERAGE(รายเดือน!IF10:IH10) -> 12435.291 | CE11: =AVERAGE(รายเดือน!II10:IK10) -> 12454.644 | CF11: =AVERAGE(รายเดือน!IL10:IN10) -> 12571.485 | CG11: =AVERAGE(รายเดือน!IO10:IQ10) -> 11943.492 | CH11: =AVERAGE(รายเดือน!IR10:IT10) -> 10689.138 | CI11: =AVERAGE(รายเดือน!IU10:IW10) -> 11414.838 | CJ11: =AVERAGE(รายเดือน!IX10:IZ10) -> 11732.828
A12: อ้อยโรงงาน | B12: บาท/ตัน | C12: =AVERAGE(รายเดือน!C11:E11) -> 522 | D12: =AVERAGE(รายเดือน!F11:H11) -> 520 | E12: =AVERAGE(รายเดือน!I11:K11) -> 520 | F12: =AVERAGE(รายเดือน!L11:N11) -> 624.66667 | G12: =AVERAGE(รายเดือน!O11:Q11) -> 698 | H12: =AVERAGE(รายเดือน!R11:T11) -> 652 | I12: =AVERAGE(รายเดือน!U11:W11) -> 652 | J12: =AVERAGE(รายเดือน!X11:Z11) -> 661.33333 | K12: =AVERAGE(รายเดือน!AA11:AC11) -> 683 | L12: =AVERAGE(รายเดือน!AD11:AF11) -> 634.33333 | M12: =AVERAGE(รายเดือน!AG11:AI11) -> 620 | N12: =AVERAGE(รายเดือน!AJ11:AL11) -> 594.33333 | O12: =AVERAGE(รายเดือน!AM11:AO11) -> 588 | P12: =AVERAGE(รายเดือน!AP11:AR11) -> 639 | Q12: =AVERAGE(รายเดือน!AS11:AU11) -> 675 | R12: =AVERAGE(รายเดือน!AV11:AX11) -> 678.33333 | S12: =AVERAGE(รายเดือน!AY11:BA11) -> 707.33333 | T12: =AVERAGE(รายเดือน!BB11:BD11) -> 751 | U12: =AVERAGE(รายเดือน!BE11:BG11) -> 751 | V12: =AVERAGE(รายเดือน!BH11:BJ11) -> 809.33333 | W12: =AVERAGE(รายเดือน!BK11:BM11) -> 876 | X12: =AVERAGE(รายเดือน!BN11:BP11) -> 1009 | Y12: =AVERAGE(รายเดือน!BQ11:BS11) -> 1009 | Z12: =AVERAGE(รายเดือน!BT11:BV11) -> 894.23 | AA12: =AVERAGE(รายเดือน!BW11:BY11) -> 932.66667 | AB12: =AVERAGE(รายเดือน!BZ11:CB11) -> 923 | AC12: =AVERAGE(รายเดือน!CC11:CE11) -> 910 | AD12: =AVERAGE(รายเดือน!CF11:CH11) -> 954 | AE12: =AVERAGE(รายเดือน!CI11:CK11) -> 955.33333 | AF12: =AVERAGE(รายเดือน!CL11:CN11) -> 969.66667 | AG12: =AVERAGE(รายเดือน!CO11:CQ11) -> 974 | AH12: =AVERAGE(รายเดือน!CR11:CT11) -> 953.66667 | AI12: =AVERAGE(รายเดือน!CU11:CW11) -> 918 | AJ12: =AVERAGE(รายเดือน!CX11:CZ11) -> 1020 | AK12: =AVERAGE(รายเดือน!DA11:DC11) -> 1028 | AL12: =AVERAGE(รายเดือน!DD11:DF11) -> 897.66667 | AM12: =AVERAGE(รายเดือน!DG11:DI11) -> 868.66667 | AN12: =AVERAGE(รายเดือน!DJ11:DL11) -> 948 | AO12: =AVERAGE(รายเดือน!DM11:DO11) -> 958 | AP12: =AVERAGE(รายเดือน!DP11:DR11) -> 897.33333 | AQ12: =AVERAGE(รายเดือน!DS11:DU11) -> 850.33333 | AR12: =AVERAGE(รายเดือน!DV11:DX11) -> 838.33333 | AS12: =AVERAGE(รายเดือน!DY11:EA11) -> 777 | AT12: =AVERAGE(รายเดือน!EB11:ED11) -> 720.33333 | AU12: =AVERAGE(รายเดือน!EE11:EG11) -> 757.66667 | AV12: =AVERAGE(รายเดือน!EH11:EJ11) -> 708.66667 | AW12: =AVERAGE(รายเดือน!EK11:EM11) -> 712 | AX12: =AVERAGE(รายเดือน!EN11:EP11) -> 823.74413 | AY12: =AVERAGE(รายเดือน!EQ11:ES11) -> 975.60031 | AZ12: =AVERAGE(รายเดือน!ET11:EV11) -> 999.51748 | BA12: =AVERAGE(รายเดือน!EW11:EY11) -> 999.51748 | BB12: =AVERAGE(รายเดือน!EZ11:FB11) -> 915.65748 | BC12: =AVERAGE(รายเดือน!FC11:FE11) -> 771.62482 | BD12: =AVERAGE(รายเดือน!FF11:FH11) -> 792.15376 | BE12: =AVERAGE(รายเดือน!FI11:FK11) -> 812.15798 | BF12: =AVERAGE(รายเดือน!FL11:FN11) -> 677.73987 | BG12: =AVERAGE(รายเดือน!FO11:FQ11) -> 592.56449 | BH12: =AVERAGE(รายเดือน!FR11:FT11) -> 683.31909 | BI12: =AVERAGE(รายเดือน!FU11:FW11) -> 712.13199 | BJ12: =AVERAGE(รายเดือน!FX11:FZ11) -> 684.57021 | BK12: =AVERAGE(รายเดือน!GA11:GC11) -> 695.00665 | BL12: =AVERAGE(รายเดือน!GD11:GF11) -> 713.48748 | BM12: =AVERAGE(รายเดือน!GG11:GI11) -> 713.48748 | BN12: =AVERAGE(รายเดือน!GJ11:GL11) -> 745.08665 | BO12: =AVERAGE(รายเดือน!GM11:GO11) -> 905.98898 | BP12: =AVERAGE(รายเดือน!GP11:GR11) -> 929.71198 | BQ12: =AVERAGE(รายเดือน!GS11:GU11) -> 929.71198 | BR12: =AVERAGE(รายเดือน!GV11:GX11) -> 949.48631 | BS12: =AVERAGE(รายเดือน!GY11:HA11) -> 1056.27 | BT12: =AVERAGE(รายเดือน!HB11:HD11) -> 1072.8875 | BU12: =AVERAGE(รายเดือน!HE11:HG11) -> 1072.8875 | BV12: =AVERAGE(รายเดือน!HH11:HJ11) -> 1091.7433 | BW12: =AVERAGE(รายเดือน!HK11:HM11) -> 1123.1716 | BX12: =AVERAGE(รายเดือน!HN11:HP11) -> 1161.72 | BY12: =AVERAGE(รายเดือน!HQ11:HS11) -> 1161.72 | BZ12: =AVERAGE(รายเดือน!HT11:HV11) -> 1216.6566 | CA12: =AVERAGE(รายเดือน!HW11:HY11) -> 1447.4291 | CB12: =AVERAGE(รายเดือน!HZ11:IB11) -> 1494.4225 | CC12: =AVERAGE(รายเดือน!IC11:IE11) -> 1494.4225 | CD12: =AVERAGE(รายเดือน!IF11:IH11) -> 1365.6183 | CE12: =AVERAGE(รายเดือน!II11:IK11) -> 1131.4966 | CF12: =AVERAGE(รายเดือน!IL11:IN11) -> 1167.4499 | CG12: =AVERAGE(รายเดือน!IO11:IQ11) -> 1167.4499 | CH12: =AVERAGE(รายเดือน!IR11:IT11) -> 1090.5883 | CI12: =AVERAGE(รายเดือน!IU11:IW11) -> 878.75481 | CJ12: =AVERAGE(รายเดือน!IX11:IZ11) -> 881.31198
A13: มันสำปะหลังสดคละ | B13: บาท/กก. | C13: =AVERAGE(รายเดือน!C12:E12) -> 1.39 | D13: =AVERAGE(รายเดือน!F12:H12) -> 1.3933333 | E13: =AVERAGE(รายเดือน!I12:K12) -> 1.3333333 | F13: =AVERAGE(รายเดือน!L12:N12) -> 1.2933333 | G13: =AVERAGE(รายเดือน!O12:Q12) -> 1.3466667 | H13: =AVERAGE(รายเดือน!R12:T12) -> 1.0533333 | I13: =AVERAGE(รายเดือน!U12:W12) -> 0.94666667 | J13: =AVERAGE(รายเดือน!X12:Z12) -> 1 | K13: =AVERAGE(รายเดือน!AA12:AC12) -> 1.17 | L13: =AVERAGE(รายเดือน!AD12:AF12) -> 1.27 | M13: =AVERAGE(รายเดือน!AG12:AI12) -> 1.6766667 | N13: =AVERAGE(รายเดือน!AJ12:AL12) -> 1.7233333 | O13: =AVERAGE(รายเดือน!AM12:AO12) -> 2.0933333 | P13: =AVERAGE(รายเดือน!AP12:AR12) -> 2.1166667 | Q13: =AVERAGE(รายเดือน!AS12:AU12) -> 1.74 | R13: =AVERAGE(รายเดือน!AV12:AX12) -> 1.2733333 | S13: =AVERAGE(รายเดือน!AY12:BA12) -> 1.17 | T13: =AVERAGE(รายเดือน!BB12:BD12) -> 1.1233333 | U13: =AVERAGE(รายเดือน!BE12:BG12) -> 1.22 | V13: =AVERAGE(รายเดือน!BH12:BJ12) -> 1.4933333 | W13: =AVERAGE(รายเดือน!BK12:BM12) -> 1.8633333 | X13: =AVERAGE(รายเดือน!BN12:BP12) -> 2.18 | Y13: =AVERAGE(รายเดือน!BQ12:BS12) -> 2.7033333 | Z13: =AVERAGE(รายเดือน!BT12:BV12) -> 2.5666667 | AA13: =AVERAGE(รายเดือน!BW12:BY12) -> 2.9033333 | AB13: =AVERAGE(รายเดือน!BZ12:CB12) -> 2.5066667 | AC13: =AVERAGE(รายเดือน!CC12:CE12) -> 1.98 | AD13: =AVERAGE(รายเดือน!CF12:CH12) -> 2.1333333 | AE13: =AVERAGE(รายเดือน!CI12:CK12) -> 1.96 | AF13: =AVERAGE(รายเดือน!CL12:CN12) -> 1.8866667 | AG13: =AVERAGE(รายเดือน!CO12:CQ12) -> 2.06 | AH13: =AVERAGE(รายเดือน!CR12:CT12) -> 2.1566667 | AI13: =AVERAGE(รายเดือน!CU12:CW12) -> 2.08 | AJ13: =AVERAGE(รายเดือน!CX12:CZ12) -> 2.2233333 | AK13: =AVERAGE(รายเดือน!DA12:DC12) -> 2.1433333 | AL13: =AVERAGE(รายเดือน!DD12:DF12) -> 2.0733333 | AM13: =AVERAGE(รายเดือน!DG12:DI12) -> 2.2 | AN13: =AVERAGE(รายเดือน!DJ12:DL12) -> 2.1133333 | AO13: =AVERAGE(รายเดือน!DM12:DO12) -> 1.9033333 | AP13: =AVERAGE(รายเดือน!DP12:DR12) -> 2.1966667 | AQ13: =AVERAGE(รายเดือน!DS12:DU12) -> 2.2033333 | AR13: =AVERAGE(รายเดือน!DV12:DX12) -> 2.1533333 | AS13: =AVERAGE(รายเดือน!DY12:EA12) -> 2.2566667 | AT13: =AVERAGE(รายเดือน!EB12:ED12) -> 2.01 | AU13: =AVERAGE(รายเดือน!EE12:EG12) -> 1.81 | AV13: =AVERAGE(รายเดือน!EH12:EJ12) -> 1.73 | AW13: =AVERAGE(รายเดือน!EK12:EM12) -> 1.2633333 | AX13: =AVERAGE(รายเดือน!EN12:EP12) -> 1.281 | AY13: =AVERAGE(รายเดือน!EQ12:ES12) -> 1.5055 | AZ13: =AVERAGE(รายเดือน!ET12:EV12) -> 1.2025 | BA13: =AVERAGE(รายเดือน!EW12:EY12) -> 1.226 | BB13: =AVERAGE(รายเดือน!EZ12:FB12) -> 1.6758333 | BC13: =AVERAGE(รายเดือน!FC12:FE12) -> 2.1641666 | BD13: =AVERAGE(รายเดือน!FF12:FH12) -> 2.5098333 | BE13: =AVERAGE(รายเดือน!FI12:FK12) -> 2.4153333 | BF13: =AVERAGE(รายเดือน!FL12:FN12) -> 2.4299444 | BG13: =AVERAGE(รายเดือน!FO12:FQ12) -> 2.1771666 | BH13: =AVERAGE(รายเดือน!FR12:FT12) -> 1.8611666 | BI13: =AVERAGE(รายเดือน!FU12:FW12) -> 1.6643333 | BJ13: =AVERAGE(รายเดือน!FX12:FZ12) -> 1.8567777 | BK13: =AVERAGE(รายเดือน!GA12:GC12) -> 1.9196666 | BL13: =AVERAGE(รายเดือน!GD12:GF12) -> 1.6736666 | BM13: =AVERAGE(รายเดือน!GG12:GI12) -> 1.71 | BN13: =AVERAGE(รายเดือน!GJ12:GL12) -> 1.8825 | BO13: =AVERAGE(รายเดือน!GM12:GO12) -> 2.0781666 | BP13: =AVERAGE(รายเดือน!GP12:GR12) -> 1.9716666 | BQ13: =AVERAGE(รายเดือน!GS12:GU12) -> 2.0368333 | BR13: =AVERAGE(รายเดือน!GV12:GX12) -> 2.1819999 | BS13: =AVERAGE(รายเดือน!GY12:HA12) -> 2.2966666 | BT13: =AVERAGE(รายเดือน!HB12:HD12) -> 2.4932222 | BU13: =AVERAGE(รายเดือน!HE12:HG12) -> 2.7008333 | BV13: =AVERAGE(รายเดือน!HH12:HJ12) -> 2.5966666 | BW13: =AVERAGE(รายเดือน!HK12:HM12) -> 2.87 | BX13: =AVERAGE(รายเดือน!HN12:HP12) -> 3.0095555 | BY13: =AVERAGE(รายเดือน!HQ12:HS12) -> 2.8239999 | BZ13: =AVERAGE(รายเดือน!HT12:HV12) -> 2.9209999 | CA13: =AVERAGE(รายเดือน!HW12:HY12) -> 3.0408333 | CB13: =AVERAGE(รายเดือน!HZ12:IB12) -> 2.3516666 | CC13: =AVERAGE(รายเดือน!IC12:IE12) -> 1.924 | CD13: =AVERAGE(รายเดือน!IF12:IH12) -> 2.0125 | CE13: =AVERAGE(รายเดือน!II12:IK12) -> 1.7893333 | CF13: =AVERAGE(รายเดือน!IL12:IN12) -> 1.4372777 | CG13: =AVERAGE(รายเดือน!IO12:IQ12) -> 1.6603333 | CH13: =AVERAGE(รายเดือน!IR12:IT12) -> 1.9683333 | CI13: =AVERAGE(รายเดือน!IU12:IW12) -> 2.327 | CJ13: =AVERAGE(รายเดือน!IX12:IZ12) -> 2.5767777
A14: ข้าวโพดเลี้ยงสัตว์ ความชื้น 14.5% | B14: บาท/กก. | C14: =AVERAGE(รายเดือน!C13:E13) -> 4.98 | D14: =AVERAGE(รายเดือน!F13:H13) -> 4.8866667 | E14: =AVERAGE(รายเดือน!I13:K13) -> 4.89 | F14: =AVERAGE(รายเดือน!L13:N13) -> 4.7366667 | G14: =AVERAGE(รายเดือน!O13:Q13) -> 4.7666667 | H14: =AVERAGE(รายเดือน!R13:T13) -> 5.4766667 | I14: =AVERAGE(รายเดือน!U13:W13) -> 5.34 | J14: =AVERAGE(รายเดือน!X13:Z13) -> 5.5166667 | K14: =AVERAGE(รายเดือน!AA13:AC13) -> 6.8833333 | L14: =AVERAGE(รายเดือน!AD13:AF13) -> 6.8266667 | M14: =AVERAGE(รายเดือน!AG13:AI13) -> 6.27 | N14: =AVERAGE(รายเดือน!AJ13:AL13) -> 7.2566667 | O14: =AVERAGE(รายเดือน!AM13:AO13) -> 7.85 | P14: =AVERAGE(รายเดือน!AP13:AR13) -> 8.35 | Q14: =AVERAGE(รายเดือน!AS13:AU13) -> 8.7 | R14: =AVERAGE(รายเดือน!AV13:AX13) -> 6.5033333 | S14: =AVERAGE(รายเดือน!AY13:BA13) -> 6.4066667 | T14: =AVERAGE(รายเดือน!BB13:BD13) -> 6.55 | U14: =AVERAGE(รายเดือน!BE13:BG13) -> 5.5666667 | V14: =AVERAGE(รายเดือน!BH13:BJ13) -> 6.03 | W14: =AVERAGE(รายเดือน!BK13:BM13) -> 7.2366667 | X14: =AVERAGE(รายเดือน!BN13:BP13) -> 8.3166667 | Y14: =AVERAGE(รายเดือน!BQ13:BS13) -> 8.39 | Z14: =AVERAGE(รายเดือน!BT13:BV13) -> 7.9433333 | AA14: =AVERAGE(รายเดือน!BW13:BY13) -> 8.3166667 | AB14: =AVERAGE(รายเดือน!BZ13:CB13) -> 8.54 | AC14: =AVERAGE(รายเดือน!CC13:CE13) -> 7.5566667 | AD14: =AVERAGE(รายเดือน!CF13:CH13) -> 8.23 | AE14: =AVERAGE(รายเดือน!CI13:CK13) -> 8.5866667 | AF14: =AVERAGE(รายเดือน!CL13:CN13) -> 9.0766667 | AG14: =AVERAGE(รายเดือน!CO13:CQ13) -> 9.48 | AH14: =AVERAGE(รายเดือน!CR13:CT13) -> 9.05 | AI14: =AVERAGE(รายเดือน!CU13:CW13) -> 8.7566667 | AJ14: =AVERAGE(รายเดือน!CX13:CZ13) -> 8.5866667 | AK14: =AVERAGE(รายเดือน!DA13:DC13) -> 7.6066667 | AL14: =AVERAGE(รายเดือน!DD13:DF13) -> 6.6366667 | AM14: =AVERAGE(รายเดือน!DG13:DI13) -> 6.6766667 | AN14: =AVERAGE(รายเดือน!DJ13:DL13) -> 7.36 | AO14: =AVERAGE(รายเดือน!DM13:DO13) -> 7.44 | AP14: =AVERAGE(รายเดือน!DP13:DR13) -> 7.4866667 | AQ14: =AVERAGE(รายเดือน!DS13:DU13) -> 8.5066667 | AR14: =AVERAGE(รายเดือน!DV13:DX13) -> 8.2566667 | AS14: =AVERAGE(รายเดือน!DY13:EA13) -> 7.9133333 | AT14: =AVERAGE(รายเดือน!EB13:ED13) -> 7.41 | AU14: =AVERAGE(รายเดือน!EE13:EG13) -> 7.89 | AV14: =AVERAGE(รายเดือน!EH13:EJ13) -> 7.7033333 | AW14: =AVERAGE(รายเดือน!EK13:EM13) -> 7.58 | AX14: =AVERAGE(รายเดือน!EN13:EP13) -> 6.0921665 | AY14: =AVERAGE(รายเดือน!EQ13:ES13) -> 6.3343332 | AZ14: =AVERAGE(รายเดือน!ET13:EV13) -> 6.1239998 | BA14: =AVERAGE(รายเดือน!EW13:EY13) -> 5.9149999 | BB14: =AVERAGE(รายเดือน!EZ13:FB13) -> 6.3183333 | BC14: =AVERAGE(รายเดือน!FC13:FE13) -> 8.2009998 | BD14: =AVERAGE(รายเดือน!FF13:FH13) -> 8.5321664 | BE14: =AVERAGE(รายเดือน!FI13:FK13) -> 6.8366665 | BF14: =AVERAGE(รายเดือน!FL13:FN13) -> 8.1105553 | BG14: =AVERAGE(รายเดือน!FO13:FQ13) -> 8.4058331 | BH14: =AVERAGE(รายเดือน!FR13:FT13) -> 7.710222 | BI14: =AVERAGE(รายเดือน!FU13:FW13) -> 7.4838332 | BJ14: =AVERAGE(รายเดือน!FX13:FZ13) -> 7.6366665 | BK14: =AVERAGE(รายเดือน!GA13:GC13) -> 7.5648332 | BL14: =AVERAGE(รายเดือน!GD13:GF13) -> 7.7094998 | BM14: =AVERAGE(รายเดือน!GG13:GI13) -> 7.7388332 | BN14: =AVERAGE(รายเดือน!GJ13:GL13) -> 7.6743332 | BO14: =AVERAGE(รายเดือน!GM13:GO13) -> 8.1198332 | BP14: =AVERAGE(รายเดือน!GP13:GR13) -> 7.8978887 | BQ14: =AVERAGE(รายเดือน!GS13:GU13) -> 8.0808331 | BR14: =AVERAGE(รายเดือน!GV13:GX13) -> 8.7119998 | BS14: =AVERAGE(รายเดือน!GY13:HA13) -> 8.9616664 | BT14: =AVERAGE(รายเดือน!HB13:HD13) -> 10.170611 | BU14: =AVERAGE(รายเดือน!HE13:HG13) -> 9.8189998 | BV14: =AVERAGE(รายเดือน!HH13:HJ13) -> 10.297 | BW14: =AVERAGE(รายเดือน!HK13:HM13) -> 11.288333 | BX14: =AVERAGE(รายเดือน!HN13:HP13) -> 10.728111 | BY14: =AVERAGE(รายเดือน!HQ13:HS13) -> 9.7186664 | BZ14: =AVERAGE(รายเดือน!HT13:HV13) -> 8.9808331 | CA14: =AVERAGE(รายเดือน!HW13:HY13) -> 8.8683331 | CB14: =AVERAGE(รายเดือน!HZ13:IB13) -> 8.6433331 | CC14: =AVERAGE(รายเดือน!IC13:IE13) -> 8.8304998 | CD14: =AVERAGE(รายเดือน!IF13:IH13) -> 8.2624998 | CE14: =AVERAGE(รายเดือน!II13:IK13) -> 8.6554998 | CF14: =AVERAGE(รายเดือน!IL13:IN13) -> 8.6566109 | CG14: =AVERAGE(รายเดือน!IO13:IQ13) -> 7.8249998 | CH14: =AVERAGE(รายเดือน!IR13:IT13) -> 7.8199998 | CI14: =AVERAGE(รายเดือน!IU13:IW13) -> 7.8586665 | CJ14: =AVERAGE(รายเดือน!IX13:IZ13) -> 8.3181665
A15: ถั่วเขียวผิวมันใหญ่ | B15: บาท/กก. | C15: =AVERAGE(รายเดือน!C14:E14) -> 16.943333 | D15: =AVERAGE(รายเดือน!F14:H14) -> 19.61 | E15: =AVERAGE(รายเดือน!I14:K14) -> 17.176667 | F15: =AVERAGE(รายเดือน!L14:N14) -> 17.62 | G15: =AVERAGE(รายเดือน!O14:Q14) -> 17.903333 | H15: =AVERAGE(รายเดือน!R14:T14) -> 21.323333 | I15: =AVERAGE(รายเดือน!U14:W14) -> 18.356667 | J15: =AVERAGE(รายเดือน!X14:Z14) -> 16.99 | K15: =AVERAGE(รายเดือน!AA14:AC14) -> 18.82 | L15: =AVERAGE(รายเดือน!AD14:AF14) -> 21.973333 | M15: =AVERAGE(รายเดือน!AG14:AI14) -> 20.066667 | N15: =AVERAGE(รายเดือน!AJ14:AL14) -> 18.67 | O15: =AVERAGE(รายเดือน!AM14:AO14) -> 19.56 | P15: =AVERAGE(รายเดือน!AP14:AR14) -> 19.163333 | Q15: =AVERAGE(รายเดือน!AS14:AU14) -> 17.663333 | R15: =AVERAGE(รายเดือน!AV14:AX14) -> 15.003333 | S15: =AVERAGE(รายเดือน!AY14:BA14) -> 12.306667 | T15: =AVERAGE(รายเดือน!BB14:BD14) -> 18.76 | U15: =AVERAGE(รายเดือน!BE14:BG14) -> 24.326667 | V15: =AVERAGE(รายเดือน!BH14:BJ14) -> 26.953333 | W15: =AVERAGE(รายเดือน!BK14:BM14) -> 31.3 | X15: =AVERAGE(รายเดือน!BN14:BP14) -> 34.603333 | Y15: =AVERAGE(รายเดือน!BQ14:BS14) -> 30.823333 | Z15: =AVERAGE(รายเดือน!BT14:BV14) -> 34.413333 | AA15: =AVERAGE(รายเดือน!BW14:BY14) -> 30.273333 | AB15: =AVERAGE(รายเดือน!BZ14:CB14) -> 30.69 | AC15: =AVERAGE(รายเดือน!CC14:CE14) -> 23.78 | AD15: =AVERAGE(รายเดือน!CF14:CH14) -> 23.031111 | AE15: =AVERAGE(รายเดือน!CI14:CK14) -> 23.516667 | AF15: =AVERAGE(รายเดือน!CL14:CN14) -> 18.54 | AG15: =AVERAGE(รายเดือน!CO14:CQ14) -> 19.626667 | AH15: =AVERAGE(รายเดือน!CR14:CT14) -> 20.073333 | AI15: =AVERAGE(รายเดือน!CU14:CW14) -> 19.593333 | AJ15: =AVERAGE(รายเดือน!CX14:CZ14) -> 29.72 | AK15: =AVERAGE(รายเดือน!DA14:DC14) -> 22.116667 | AL15: =AVERAGE(รายเดือน!DD14:DF14) -> 25.573333 | AM15: =AVERAGE(รายเดือน!DG14:DI14) -> 33.733333 | AN15: =AVERAGE(รายเดือน!DJ14:DL14) -> 32.52 | AO15: =AVERAGE(รายเดือน!DM14:DO14) -> 30.976667 | AP15: =AVERAGE(รายเดือน!DP14:DR14) -> 33.29 | AQ15: =AVERAGE(รายเดือน!DS14:DU14) -> 33.63 | AR15: =AVERAGE(รายเดือน!DV14:DX14) -> 32.4 | AS15: =AVERAGE(รายเดือน!DY14:EA14) -> 36.88 | AT15: =AVERAGE(รายเดือน!EB14:ED14) -> 31.406667 | AU15: =AVERAGE(รายเดือน!EE14:EG14) -> 32.203333 | AV15: =AVERAGE(รายเดือน!EH14:EJ14) -> 34.68 | AW15: =AVERAGE(รายเดือน!EK14:EM14) -> 26.956667 | AX15: =AVERAGE(รายเดือน!EN14:EP14) -> 25.142166 | AY15: =AVERAGE(รายเดือน!EQ14:ES14) -> 22.004166 | AZ15: =AVERAGE(รายเดือน!ET14:EV14) -> 25.015333 | BA15: =AVERAGE(รายเดือน!EW14:EY14) -> 30.880499 | BB15: =AVERAGE(รายเดือน!EZ14:FB14) -> 21.715 | BC15: =AVERAGE(รายเดือน!FC14:FE14) -> 18.745833 | BD15: =AVERAGE(รายเดือน!FF14:FH14) -> 24.87111 | BE15: =AVERAGE(รายเดือน!FI14:FK14) -> 19.996666 | BF15: =AVERAGE(รายเดือน!FL14:FN14) -> 21.719555 | BG15: =AVERAGE(รายเดือน!FO14:FQ14) -> 22.829833 | BH15: =AVERAGE(รายเดือน!FR14:FT14) -> 20.524111 | BI15: =AVERAGE(รายเดือน!FU14:FW14) -> 20.769833 | BJ15: =AVERAGE(รายเดือน!FX14:FZ14) -> 22.710666 | BK15: =AVERAGE(รายเดือน!GA14:GC14) -> 25.154166 | BL15: =AVERAGE(รายเดือน!GD14:GF14) -> 23.771333 | BM15: =AVERAGE(รายเดือน!GG14:GI14) -> 23.410833 | BN15: =AVERAGE(รายเดือน!GJ14:GL14) -> 22.564166 | BO15: =AVERAGE(รายเดือน!GM14:GO14) -> 27.826499 | BP15: =AVERAGE(รายเดือน!GP14:GR14) -> 23.261666 | BQ15: =AVERAGE(รายเดือน!GS14:GU14) -> 24.796166 | BR15: =AVERAGE(รายเดือน!GV14:GX14) -> 23.527499 | BS15: =AVERAGE(รายเดือน!GY14:HA14) -> 22.994999 | BT15: =AVERAGE(รายเดือน!HB14:HD14) -> 23.917499 | BU15: =AVERAGE(รายเดือน!HE14:HG14) -> 21.445666 | BV15: =AVERAGE(รายเดือน!HH14:HJ14) -> 31.434999 | BW15: =AVERAGE(รายเดือน!HK14:HM14) -> 31.274999 | BX15: =AVERAGE(รายเดือน!HN14:HP14) -> 28.209999 | BY15: =AVERAGE(รายเดือน!HQ14:HS14) -> 25.308833 | BZ15: =AVERAGE(รายเดือน!HT14:HV14) -> 24.712499 | CA15: =AVERAGE(รายเดือน!HW14:HY14) -> 25.485833 | CB15: =AVERAGE(รายเดือน!HZ14:IB14) -> 25.206665 | CC15: =AVERAGE(รายเดือน!IC14:IE14) -> 27.833333 | CD15: =AVERAGE(รายเดือน!IF14:IH14) -> 25.759999 | CE15: =AVERAGE(รายเดือน!II14:IK14) -> 22.083333 | CF15: =AVERAGE(รายเดือน!IL14:IN14) -> 22.993333 | CG15: =AVERAGE(รายเดือน!IO14:IQ14) -> 22.416666 | CH15: =AVERAGE(รายเดือน!IR14:IT14) -> 22.221666 | CI15: =AVERAGE(รายเดือน!IU14:IW14) -> 22.286999 | CJ15: =AVERAGE(รายเดือน!IX14:IZ14) -> 27.308888
A16: 1.2 กลุ่มไม้ยืนต้น
A17: ยางแผ่นดิบชั้น 3 | B17: บาท/กก. | C17: =AVERAGE(รายเดือน!C16:E16) -> 41.543333 | D17: =AVERAGE(รายเดือน!F16:H16) -> 47.806667 | E17: =AVERAGE(รายเดือน!I16:K16) -> 59.81 | F17: =AVERAGE(รายเดือน!L16:N16) -> 59.6 | G17: =AVERAGE(รายเดือน!O16:Q16) -> 69.006667 | H17: =AVERAGE(รายเดือน!R16:T16) -> 82.723333 | I17: =AVERAGE(รายเดือน!U16:W16) -> 69.483333 | J17: =AVERAGE(รายเดือน!X16:Z16) -> 51.523333 | K17: =AVERAGE(รายเดือน!AA16:AC16) -> 67.816667 | L17: =AVERAGE(รายเดือน!AD16:AF16) -> 71.76 | M17: =AVERAGE(รายเดือน!AG16:AI16) -> 63.68 | N17: =AVERAGE(รายเดือน!AJ16:AL16) -> 71.856667 | O17: =AVERAGE(รายเดือน!AM16:AO16) -> 79.216667 | P17: =AVERAGE(รายเดือน!AP16:AR16) -> 87.246667 | Q17: =AVERAGE(รายเดือน!AS16:AU16) -> 93.156667 | R17: =AVERAGE(รายเดือน!AV16:AX16) -> 46.47 | S17: =AVERAGE(รายเดือน!AY16:BA16) -> 43.583333 | T17: =AVERAGE(รายเดือน!BB16:BD16) -> 49.993333 | U17: =AVERAGE(รายเดือน!BE16:BG16) -> 58.026667 | V17: =AVERAGE(รายเดือน!BH16:BJ16) -> 73.826667 | W17: =AVERAGE(รายเดือน!BK16:BM16) -> 93.95 | X17: =AVERAGE(รายเดือน!BN16:BP16) -> 104.6 | Y17: =AVERAGE(รายเดือน!BQ16:BS16) -> 98.64 | Z17: =AVERAGE(รายเดือน!BT16:BV16) -> 113.60667 | AA17: =AVERAGE(รายเดือน!BW16:BY16) -> 151.63667 | AB17: =AVERAGE(รายเดือน!BZ16:CB16) -> 142.64 | AC17: =AVERAGE(รายเดือน!CC16:CE16) -> 124.00667 | AD17: =AVERAGE(รายเดือน!CF16:CH16) -> 93.547333 | AE17: =AVERAGE(รายเดือน!CI16:CK16) -> 102.56333 | AF17: =AVERAGE(รายเดือน!CL16:CN16) -> 98.08 | AG17: =AVERAGE(รายเดือน!CO16:CQ16) -> 80.18 | AH17: =AVERAGE(รายเดือน!CR16:CT16) -> 79.073333 | AI17: =AVERAGE(รายเดือน!CU16:CW16) -> 81.02 | AJ17: =AVERAGE(รายเดือน!CX16:CZ16) -> 75.54 | AK17: =AVERAGE(รายเดือน!DA16:DC16) -> 71.243333 | AL17: =AVERAGE(รายเดือน!DD16:DF16) -> 71.216667 | AM17: =AVERAGE(รายเดือน!DG16:DI16) -> 62.573333 | AN17: =AVERAGE(รายเดือน!DJ16:DL16) -> 60.893333 | AO17: =AVERAGE(รายเดือน!DM16:DO16) -> 53.033333 | AP17: =AVERAGE(รายเดือน!DP16:DR16) -> 45.16 | AQ17: =AVERAGE(รายเดือน!DS16:DU16) -> 46.06 | AR17: =AVERAGE(รายเดือน!DV16:DX16) -> 50.41 | AS17: =AVERAGE(รายเดือน!DY16:EA16) -> 45.18 | AT17: =AVERAGE(รายเดือน!EB16:ED16) -> 37.99 | AU17: =AVERAGE(รายเดือน!EE16:EG16) -> 36.543333 | AV17: =AVERAGE(รายเดือน!EH16:EJ16) -> 50.703333 | AW17: =AVERAGE(รายเดือน!EK16:EM16) -> 49.29 | AX17: =AVERAGE(รายเดือน!EN16:EP16) -> 56.899332 | AY17: =AVERAGE(รายเดือน!EQ16:ES16) -> 74.872665 | AZ17: =AVERAGE(รายเดือน!ET16:EV16) -> 61.110832 | BA17: =AVERAGE(รายเดือน!EW16:EY16) -> 50.782499 | BB17: =AVERAGE(รายเดือน!EZ16:FB16) -> 43.371499 | BC17: =AVERAGE(รายเดือน!FC16:FE16) -> 42.966832 | BD17: =AVERAGE(รายเดือน!FF16:FH16) -> 44.125388 | BE17: =AVERAGE(รายเดือน!FI16:FK16) -> 41.008999 | BF17: =AVERAGE(รายเดือน!FL16:FN16) -> 37.811721 | BG17: =AVERAGE(รายเดือน!FO16:FQ16) -> 41.882499 | BH17: =AVERAGE(รายเดือน!FR16:FT16) -> 48.295999 | BI17: =AVERAGE(รายเดือน!FU16:FW16) -> 40.779666 | BJ17: =AVERAGE(รายเดือน!FX16:FZ16) -> 36.949332 | BK17: =AVERAGE(รายเดือน!GA16:GC16) -> 38.123666 | BL17: =AVERAGE(รายเดือน!GD16:GF16) -> 35.259333 | BM17: =AVERAGE(รายเดือน!GG16:GI16) -> 42.814666 | BN17: =AVERAGE(รายเดือน!GJ16:GL16) -> 55.493165 | BO17: =AVERAGE(รายเดือน!GM16:GO16) -> 54.385832 | BP17: =AVERAGE(รายเดือน!GP16:GR16) -> 56.047887 | BQ17: =AVERAGE(รายเดือน!GS16:GU16) -> 48.681166 | BR17: =AVERAGE(รายเดือน!GV16:GX16) -> 51.513165 | BS17: =AVERAGE(รายเดือน!GY16:HA16) -> 57.089165 | BT17: =AVERAGE(รายเดือน!HB16:HD16) -> 61.305998 | BU17: =AVERAGE(รายเดือน!HE16:HG16) -> 50.93 | BV17: =AVERAGE(รายเดือน!HH16:HJ16) -> 44.479166 | BW17: =AVERAGE(รายเดือน!HK16:HM16) -> 44.441666 | BX17: =AVERAGE(รายเดือน!HN16:HP16) -> 43.949777 | BY17: =AVERAGE(รายเดือน!HQ16:HS16) -> 43.518832 | BZ17: =AVERAGE(รายเดือน!HT16:HV16) -> 49.550332 | CA17: =AVERAGE(รายเดือน!HW16:HY16) -> 66.571665 | CB17: =AVERAGE(รายเดือน!HZ16:IB16) -> 74.104165 | CC17: =AVERAGE(รายเดือน!IC16:IE16) -> 68.078666 | CD17: =AVERAGE(รายเดือน!IF16:IH16) -> 70.744998 | CE17: =AVERAGE(รายเดือน!II16:IK16) -> 67.947665 | CF17: =AVERAGE(รายเดือน!IL16:IN16) -> 62.183165 | CG17: =AVERAGE(รายเดือน!IO16:IQ16) -> 57.319665 | CH17: =AVERAGE(รายเดือน!IR16:IT16) -> 53.731665 | CI17: =AVERAGE(รายเดือน!IU16:IW16) -> 59.589332 | CJ17: =AVERAGE(รายเดือน!IX16:IZ16) -> 76.66422
A18: สารกาแฟ (โรบัสต้า) | B18: บาท/กก. | C18: =AVERAGE(รายเดือน!C17:E17) -> 27.97 | D18: =AVERAGE(รายเดือน!F17:H17) -> 29.35 | E18: =AVERAGE(รายเดือน!I17:K17) -> 29.35 | F18: =AVERAGE(รายเดือน!L17:N17) -> 30.73 | G18: =AVERAGE(รายเดือน!O17:Q17) -> 42.443333 | H18: =AVERAGE(รายเดือน!R17:T17) -> 39 | I18: =AVERAGE(รายเดือน!U17:W17) -> 39 | J18: =AVERAGE(รายเดือน!X17:Z17) -> 40.926667 | K18: =AVERAGE(รายเดือน!AA17:AC17) -> 47.03 | L18: =AVERAGE(รายเดือน!AD17:AF17) -> 46.99 | M18: =AVERAGE(รายเดือน!AG17:AI17) -> 46.99 | N18: =AVERAGE(รายเดือน!AJ17:AL17) -> 54.593333 | O18: =AVERAGE(รายเดือน!AM17:AO17) -> 67.64 | P18: =AVERAGE(รายเดือน!AP17:AR17) -> 68.61 | Q18: =AVERAGE(รายเดือน!AS17:AU17) -> 68.61 | R18: =AVERAGE(รายเดือน!AV17:AX17) -> 55.393333 | S18: =AVERAGE(รายเดือน!AY17:BA17) -> 69.206667 | T18: =AVERAGE(รายเดือน!BB17:BD17) -> 69.6 | U18: =AVERAGE(รายเดือน!BE17:BG17) -> 69.6 | V18: =AVERAGE(รายเดือน!BH17:BJ17) -> 57.356667 | W18: =AVERAGE(รายเดือน!BK17:BM17) -> 59.186667 | X18: =AVERAGE(รายเดือน!BN17:BP17) -> 61.12 | Y18: =AVERAGE(รายเดือน!BQ17:BS17) -> 61.12 | Z18: =AVERAGE(รายเดือน!BT17:BV17) -> 60.04 | AA18: =AVERAGE(รายเดือน!BW17:BY17) -> 71.993333 | AB18: =AVERAGE(รายเดือน!BZ17:CB17) -> 72.39 | AC18: =AVERAGE(รายเดือน!CC17:CE17) -> 72.39 | AD18: =AVERAGE(รายเดือน!CF17:CH17) -> 68.563333 | AE18: =AVERAGE(รายเดือน!CI17:CK17) -> 69.273333 | AF18: =AVERAGE(รายเดือน!CL17:CN17) -> 66 | AG18: =AVERAGE(รายเดือน!CO17:CQ17) -> 66 | AH18: =AVERAGE(รายเดือน!CR17:CT17) -> 65.296667 | AI18: =AVERAGE(รายเดือน!CU17:CW17) -> 71.943333 | AJ18: =AVERAGE(รายเดือน!CX17:CZ17) -> 77.01 | AK18: =AVERAGE(รายเดือน!DA17:DC17) -> 77.01 | AL18: =AVERAGE(รายเดือน!DD17:DF17) -> 71.34 | AM18: =AVERAGE(รายเดือน!DG17:DI17) -> 65.5 | AN18: =AVERAGE(รายเดือน!DJ17:DL17) -> 66.5 | AO18: =AVERAGE(รายเดือน!DM17:DO17) -> 66.5 | AP18: =AVERAGE(รายเดือน!DP17:DR17) -> 66.5 | AQ18: =AVERAGE(รายเดือน!DS17:DU17) -> 69.636667 | AR18: =AVERAGE(รายเดือน!DV17:DX17) -> 67.51 | AS18: =AVERAGE(รายเดือน!DY17:EA17) -> 67.51 | AT18: =AVERAGE(รายเดือน!EB17:ED17) -> 69.173333 | AU18: =AVERAGE(รายเดือน!EE17:EG17) -> 60.883333 | AV18: =AVERAGE(รายเดือน!EH17:EJ17) -> 70 | AW18: =AVERAGE(รายเดือน!EK17:EM17) -> 70 | AX18: =AVERAGE(รายเดือน!EN17:EP17) -> 70 | AY18: =AVERAGE(รายเดือน!EQ17:ES17) -> 82.308331 | AZ18: =AVERAGE(รายเดือน!ET17:EV17) -> 82.999992 | BA18: =AVERAGE(รายเดือน!EW17:EY17) -> 82.999992 | BB18: =AVERAGE(รายเดือน!EZ17:FB17) -> 77.833327 | BC18: =AVERAGE(รายเดือน!FC17:FE17) -> 69.983998 | BD18: =AVERAGE(รายเดือน!FF17:FH17) -> 68.211999 | BE18: =AVERAGE(รายเดือน!FI17:FK17) -> 68.211999 | BF18: =AVERAGE(รายเดือน!FL17:FN17) -> 65.89622 | BG18: =AVERAGE(รายเดือน!FO17:FQ17) -> 67.88083 | BH18: =AVERAGE(รายเดือน!FR17:FT17) -> 69.999993 | BI18: =AVERAGE(รายเดือน!FU17:FW17) -> 69.999993 | BJ18: =AVERAGE(รายเดือน!FX17:FZ17) -> 69.999993 | BK18: =AVERAGE(รายเดือน!GA17:GC17) -> 66.746665 | BL18: =AVERAGE(รายเดือน!GD17:GF17) -> 67.999997 | BM18: =AVERAGE(รายเดือน!GG17:GI17) -> 67.999997 | BN18: =AVERAGE(รายเดือน!GJ17:GL17) -> 66.222219 | BO18: =AVERAGE(รายเดือน!GM17:GO17) -> 66.874164 | BP18: =AVERAGE(รายเดือน!GP17:GR17) -> 67.999997 | BQ18: =AVERAGE(รายเดือน!GS17:GU17) -> 67.999997 | BR18: =AVERAGE(รายเดือน!GV17:GX17) -> 71.999995 | BS18: =AVERAGE(รายเดือน!GY17:HA17) -> 73.659163 | BT18: =AVERAGE(รายเดือน!HB17:HD17) -> 66.829993 | BU18: =AVERAGE(รายเดือน!HE17:HG17) -> 66.829993 | BV18: =AVERAGE(รายเดือน!HH17:HJ17) -> 66.829993 | BW18: =AVERAGE(รายเดือน!HK17:HM17) -> 72.91833 | BX18: =AVERAGE(รายเดือน!HN17:HP17) -> 74.519996 | BY18: =AVERAGE(รายเดือน!HQ17:HS17) -> 74.519996 | BZ18: =AVERAGE(รายเดือน!HT17:HV17) -> 74.519996 | CA18: =AVERAGE(รายเดือน!HW17:HY17) -> 121.9425 | CB18: =AVERAGE(รายเดือน!HZ17:IB17) -> 126.99999 | CC18: =AVERAGE(รายเดือน!IC17:IE17) -> 126.99999 | CD18: =AVERAGE(รายเดือน!IF17:IH17) -> 126.99999 | CE18: =AVERAGE(รายเดือน!II17:IK17) -> 189.72222 | CF18: =AVERAGE(รายเดือน!IL17:IN17) -> 187.99999 | CG18: =AVERAGE(รายเดือน!IO17:IQ17) -> 187.99999 | CH18: =AVERAGE(รายเดือน!IR17:IT17) -> 187.99999 | CI18: =AVERAGE(รายเดือน!IU17:IW17) -> 124.55555 | CJ18: =AVERAGE(รายเดือน!IX17:IZ17) -> 116.66666
A19: พริกไทยดำคละ | B19: บาท/กก. | C19: =AVERAGE(รายเดือน!C18:E18) -> 56.366667 | D19: =AVERAGE(รายเดือน!F18:H18) -> 58.11 | E19: =AVERAGE(รายเดือน!I18:K18) -> 58 | F19: =AVERAGE(รายเดือน!L18:N18) -> 58 | G19: =AVERAGE(รายเดือน!O18:Q18) -> 71.25 | H19: =AVERAGE(รายเดือน!R18:T18) -> 72.033333 | I19: =AVERAGE(รายเดือน!U18:W18) -> 61.333333 | J19: =AVERAGE(รายเดือน!X18:Z18) -> 74.866667 | K19: =AVERAGE(รายเดือน!AA18:AC18) -> 80.916667 | L19: =AVERAGE(รายเดือน!AD18:AF18) -> 127.77667 | M19: =AVERAGE(รายเดือน!AG18:AI18) -> 160 | N19: =AVERAGE(รายเดือน!AJ18:AL18) -> 160 | O19: =AVERAGE(รายเดือน!AM18:AO18) -> 150 | P19: =AVERAGE(รายเดือน!AP18:AR18) -> 150 | Q19: =AVERAGE(รายเดือน!AS18:AU18) -> 150 | R19: =AVERAGE(รายเดือน!AV18:AX18) -> 130 | S19: =AVERAGE(รายเดือน!AY18:BA18) -> 83.5 | T19: =AVERAGE(รายเดือน!BB18:BD18) -> 80.5 | U19: =AVERAGE(รายเดือน!BE18:BG18) -> 106.83333 | V19: =AVERAGE(รายเดือน!BH18:BJ18) -> 96.666667 | W19: =AVERAGE(รายเดือน!BK18:BM18) -> 105.33333 | X19: =AVERAGE(รายเดือน!BN18:BP18) -> 141.11 | Y19: =AVERAGE(รายเดือน!BQ18:BS18) -> 120.66667 | Z19: =AVERAGE(รายเดือน!BT18:BV18) -> 161.33333 | AA19: =AVERAGE(รายเดือน!BW18:BY18) -> 146.66667 | AB19: =AVERAGE(รายเดือน!BZ18:CB18) -> 162.36 | AC19: =AVERAGE(รายเดือน!CC18:CE18) -> 165.83333 | AD19: =AVERAGE(รายเดือน!CF18:CH18) -> 165 | AE19: =AVERAGE(รายเดือน!CI18:CK18) -> 168.86667 | AF19: =AVERAGE(รายเดือน!CL18:CN18) -> 203.16667 | AG19: =AVERAGE(รายเดือน!CO18:CQ18) -> 176 | AH19: =AVERAGE(รายเดือน!CR18:CT18) -> 172.5 | AI19: =AVERAGE(รายเดือน!CU18:CW18) -> 181.66667 | AJ19: =AVERAGE(รายเดือน!CX18:CZ18) -> 188.5 | AK19: =AVERAGE(รายเดือน!DA18:DC18) -> 185 | AL19: =AVERAGE(รายเดือน!DD18:DF18) -> 185 | AM19: =AVERAGE(รายเดือน!DG18:DI18) -> 239.33333 | AN19: =AVERAGE(รายเดือน!DJ18:DL18) -> 251.6 | AO19: =AVERAGE(รายเดือน!DM18:DO18) -> 273 | AP19: =AVERAGE(รายเดือน!DP18:DR18) -> 336.25 | AQ19: =AVERAGE(รายเดือน!DS18:DU18) -> 333.94 | AR19: =AVERAGE(รายเดือน!DV18:DX18) -> 341.24 | AS19: =AVERAGE(รายเดือน!DY18:EA18) -> 362.41333 | AT19: =AVERAGE(รายเดือน!EB18:ED18) -> 373.20667 | AU19: =AVERAGE(รายเดือน!EE18:EG18) -> 360.77 | AV19: =AVERAGE(รายเดือน!EH18:EJ18) -> 359.83667 | AW19: =AVERAGE(รายเดือน!EK18:EM18) -> 362.5 | AX19: =AVERAGE(รายเดือน!EN18:EP18) -> 325.33333 | AY19: =AVERAGE(รายเดือน!EQ18:ES18) -> 263.58333 | AZ19: =AVERAGE(รายเดือน!ET18:EV18) -> 209.41666 | BA19: =AVERAGE(รายเดือน!EW18:EY18) -> 206 | BB19: =AVERAGE(รายเดือน!EZ18:FB18) -> 174.58333 | BC19: =AVERAGE(รายเดือน!FC18:FE18) -> 151.16666 | BD19: =AVERAGE(รายเดือน!FF18:FH18) -> 130.33333 | BE19: =AVERAGE(รายเดือน!FI18:FK18) -> 141.83333 | BF19: =AVERAGE(รายเดือน!FL18:FN18) -> 112.33333 | BG19: =AVERAGE(รายเดือน!FO18:FQ18) -> 95.833331 | BH19: =AVERAGE(รายเดือน!FR18:FT18) -> 100.5 | BI19: =AVERAGE(รายเดือน!FU18:FW18) -> 97.833331 | BJ19: =AVERAGE(รายเดือน!FX18:FZ18) -> 87.138887 | BK19: =AVERAGE(รายเดือน!GA18:GC18) -> 88.749998 | BL19: =AVERAGE(รายเดือน!GD18:GF18) -> 89.999998 | BM19: =AVERAGE(รายเดือน!GG18:GI18) -> 95.833331 | BN19: =AVERAGE(รายเดือน!GJ18:GL18) -> 116.16666 | BO19: =AVERAGE(รายเดือน!GM18:GO18) -> 129.66666 | BP19: =AVERAGE(รายเดือน!GP18:GR18) -> 151.11111 | BQ19: =AVERAGE(รายเดือน!GS18:GU18) -> 150.83333 | BR19: =AVERAGE(รายเดือน!GV18:GX18) -> 144 | BS19: =AVERAGE(รายเดือน!GY18:HA18) -> 145.84166 | BT19: =AVERAGE(รายเดือน!HB18:HD18) -> 150 | BU19: =AVERAGE(รายเดือน!HE18:HG18) -> 152.49916 | BV19: =AVERAGE(รายเดือน!HH18:HJ18) -> 213.66466 | BW19: =AVERAGE(รายเดือน!HK18:HM18) -> 219.99999 | BX19: =AVERAGE(รายเดือน!HN18:HP18) -> 249.99999 | BY19: =AVERAGE(รายเดือน!HQ18:HS18) -> 249.99999 | BZ19: =AVERAGE(รายเดือน!HT18:HV18) -> 249.99999 | CA19: =AVERAGE(รายเดือน!HW18:HY18) -> 249.99999 | CB19: =AVERAGE(รายเดือน!HZ18:IB18) -> 249.99999 | CC19: =AVERAGE(รายเดือน!IC18:IE18) -> 249.99999 | CD19: =AVERAGE(รายเดือน!IF18:IH18) -> 249.99999 | CE19: =AVERAGE(รายเดือน!II18:IK18) -> 259.99999 | CF19: =AVERAGE(รายเดือน!IL18:IN18) -> 300.01999 | CG19: =AVERAGE(รายเดือน!IO18:IQ18) -> 294.98066 | CH19: =AVERAGE(รายเดือน!IR18:IT18) -> 325.14666 | CI19: =AVERAGE(รายเดือน!IU18:IW18) -> 336.78666 | CJ19: =AVERAGE(รายเดือน!IX18:IZ18) -> 379.19899
A20: 1.3 กลุ่มไม้ผล
A21: มะม่วงน้ำดอกไม้ | B21: บาท/กก. | C21: =AVERAGE(รายเดือน!C20:E20) -> 14.463333 | D21: =AVERAGE(รายเดือน!F20:H20) -> 9.4533333 | E21: =AVERAGE(รายเดือน!I20:K20) -> 6 | F21: =AVERAGE(รายเดือน!L20:N20) -> 16.443333 | G21: =AVERAGE(รายเดือน!O20:Q20) -> 20.37 | H21: =AVERAGE(รายเดือน!R20:T20) -> 8.7033333 | I21: =AVERAGE(รายเดือน!U20:W20) -> 17.49 | J21: =AVERAGE(รายเดือน!X20:Z20) -> 24.646667 | K21: =AVERAGE(รายเดือน!AA20:AC20) -> 20.586667 | L21: =AVERAGE(รายเดือน!AD20:AF20) -> 10.91 | M21: =AVERAGE(รายเดือน!AG20:AI20) -> 13.3 | N21: =AVERAGE(รายเดือน!AJ20:AL20) -> 17.356667 | O21: =AVERAGE(รายเดือน!AM20:AO20) -> 16.01 | P21: =AVERAGE(รายเดือน!AP20:AR20) -> 10.05 | Q21: =AVERAGE(รายเดือน!AS20:AU20) -> 16.026667 | R21: =AVERAGE(รายเดือน!AV20:AX20) -> 20.89 | S21: =AVERAGE(รายเดือน!AY20:BA20) -> 26.196667 | T21: =AVERAGE(รายเดือน!BB20:BD20) -> 12.266667 | U21: =AVERAGE(รายเดือน!BE20:BG20) -> 19.203333 | V21: =AVERAGE(รายเดือน!BH20:BJ20) -> 19.79 | W21: =AVERAGE(รายเดือน!BK20:BM20) -> 18.93 | X21: =AVERAGE(รายเดือน!BN20:BP20) -> 18.12 | Y21: =AVERAGE(รายเดือน!BQ20:BS20) -> 19.05 | Z21: =AVERAGE(รายเดือน!BT20:BV20) -> 19.39 | AA21: =AVERAGE(รายเดือน!BW20:BY20) -> 22.976667 | AB21: =AVERAGE(รายเดือน!BZ20:CB20) -> 20.05 | AC21: =AVERAGE(รายเดือน!CC20:CE20) -> 14.55 | AD21: =AVERAGE(รายเดือน!CF20:CH20) -> 16.5 | AE21: =AVERAGE(รายเดือน!CI20:CK20) -> 13.91 | AF21: =AVERAGE(รายเดือน!CL20:CN20) -> 12.996667 | AG21: =AVERAGE(รายเดือน!CO20:CQ20) -> 19.533333 | AH21: =AVERAGE(รายเดือน!CR20:CT20) -> 21.5 | AI21: =AVERAGE(รายเดือน!CU20:CW20) -> 19.173333 | AJ21: =AVERAGE(รายเดือน!CX20:CZ20) -> 18.493333 | AK21: =AVERAGE(รายเดือน!DA20:DC20) -> 21.95 | AL21: =AVERAGE(รายเดือน!DD20:DF20) -> 16.083333 | AM21: =AVERAGE(รายเดือน!DG20:DI20) -> 20.443333 | AN21: =AVERAGE(รายเดือน!DJ20:DL20) -> 19.213333 | AO21: =AVERAGE(รายเดือน!DM20:DO20) -> 19.053333 | AP21: =AVERAGE(รายเดือน!DP20:DR20) -> 16.76 | AQ21: =AVERAGE(รายเดือน!DS20:DU20) -> 25.04 | AR21: =AVERAGE(รายเดือน!DV20:DX20) -> 15.96 | AS21: =AVERAGE(รายเดือน!DY20:EA20) -> 24.006667 | AT21: =AVERAGE(รายเดือน!EB20:ED20) -> 35.04 | AU21: =AVERAGE(รายเดือน!EE20:EG20) -> 30.876667 | AV21: =AVERAGE(รายเดือน!EH20:EJ20) -> 27.456667 | AW21: =AVERAGE(รายเดือน!EK20:EM20) -> 51.276667 | AX21: =AVERAGE(รายเดือน!EN20:EP20) -> 35.37 | AY21: =AVERAGE(รายเดือน!EQ20:ES20) -> 29.093333 | AZ21: =AVERAGE(รายเดือน!ET20:EV20) -> 22.67 | BA21: =AVERAGE(รายเดือน!EW20:EY20) -> 29.603333 | BB21: =AVERAGE(รายเดือน!EZ20:FB20) -> 26.313333 | BC21: =AVERAGE(รายเดือน!FC20:FE20) -> 26.253333 | BD21: =AVERAGE(รายเดือน!FF20:FH20) -> 23.663333 | BE21: =AVERAGE(รายเดือน!FI20:FK20) -> 38.583333 | BF21: =AVERAGE(รายเดือน!FL20:FN20) -> 36.31 | BG21: =AVERAGE(รายเดือน!FO20:FQ20) -> 26.836667 | BH21: =AVERAGE(รายเดือน!FR20:FT20) -> 28.436667 | BI21: =AVERAGE(รายเดือน!FU20:FW20) -> 32.06 | BJ21: =AVERAGE(รายเดือน!FX20:FZ20) -> 29.556667 | BK21: =AVERAGE(รายเดือน!GA20:GC20) -> 25.04 | BL21: =AVERAGE(รายเดือน!GD20:GF20) -> 16.336667 | BM21: =AVERAGE(รายเดือน!GG20:GI20) -> 20.266667 | BN21: =AVERAGE(รายเดือน!GJ20:GL20) -> 18.66 | BO21: =AVERAGE(รายเดือน!GM20:GO20) -> 15.44 | BP21: =AVERAGE(รายเดือน!GP20:GR20) -> 10.566667 | BQ21: =AVERAGE(รายเดือน!GS20:GU20) -> 15.78 | BR21: =AVERAGE(รายเดือน!GV20:GX20) -> 21.716667 | BS21: =AVERAGE(รายเดือน!GY20:HA20) -> 19.743333 | BT21: =AVERAGE(รายเดือน!HB20:HD20) -> 19.006667 | BU21: =AVERAGE(รายเดือน!HE20:HG20) -> 21.043333 | BV21: =AVERAGE(รายเดือน!HH20:HJ20) -> 22.83 | BW21: =AVERAGE(รายเดือน!HK20:HM20) -> 18.07 | BX21: =AVERAGE(รายเดือน!HN20:HP20) -> 19.846667 | BY21: =AVERAGE(รายเดือน!HQ20:HS20) -> 20.356667 | BZ21: =AVERAGE(รายเดือน!HT20:HV20) -> 19.876667 | CA21: =AVERAGE(รายเดือน!HW20:HY20) -> 13.14 | CB21: =AVERAGE(รายเดือน!HZ20:IB20) -> 22.06 | CC21: =AVERAGE(รายเดือน!IC20:IE20) -> 21.036 | CD21: =AVERAGE(รายเดือน!IF20:IH20) -> 21.979999 | CE21: =AVERAGE(รายเดือน!II20:IK20) -> 16.3435 | CF21: =AVERAGE(รายเดือน!IL20:IN20) -> 12.993833 | CG21: =AVERAGE(รายเดือน!IO20:IQ20) -> 15.8825 | CH21: =AVERAGE(รายเดือน!IR20:IT20) -> 24.974999 | CI21: =AVERAGE(รายเดือน!IU20:IW20) -> 26.085166 | CJ21: =AVERAGE(รายเดือน!IX20:IZ20) -> 18.247055
A22: ส้มเขียวหวาน | B22: บาท/กก. | C22: =AVERAGE(รายเดือน!C21:E21) -> 10.623333 | D22: =AVERAGE(รายเดือน!F21:H21) -> 14.326667 | E22: =AVERAGE(รายเดือน!I21:K21) -> 18.633333 | F22: =AVERAGE(รายเดือน!L21:N21) -> 11.06 | G22: =AVERAGE(รายเดือน!O21:Q21) -> 9.1866667 | H22: =AVERAGE(รายเดือน!R21:T21) -> 11.39 | I22: =AVERAGE(รายเดือน!U21:W21) -> 11.23 | J22: =AVERAGE(รายเดือน!X21:Z21) -> 13.046667 | K22: =AVERAGE(รายเดือน!AA21:AC21) -> 11.143333 | L22: =AVERAGE(รายเดือน!AD21:AF21) -> 14.37 | M22: =AVERAGE(รายเดือน!AG21:AI21) -> 13.75 | N22: =AVERAGE(รายเดือน!AJ21:AL21) -> 9.7766667 | O22: =AVERAGE(รายเดือน!AM21:AO21) -> 11.803333 | P22: =AVERAGE(รายเดือน!AP21:AR21) -> 15.256667 | Q22: =AVERAGE(รายเดือน!AS21:AU21) -> 20.906667 | R22: =AVERAGE(รายเดือน!AV21:AX21) -> 19.486667 | S22: =AVERAGE(รายเดือน!AY21:BA21) -> 19.326667 | T22: =AVERAGE(รายเดือน!BB21:BD21) -> 25.913333 | U22: =AVERAGE(รายเดือน!BE21:BG21) -> 26.28 | V22: =AVERAGE(รายเดือน!BH21:BJ21) -> 25.633333 | W22: =AVERAGE(รายเดือน!BK21:BM21) -> 25.03 | X22: =AVERAGE(รายเดือน!BN21:BP21) -> 27.353333 | Y22: =AVERAGE(รายเดือน!BQ21:BS21) -> 26.33 | Z22: =AVERAGE(รายเดือน!BT21:BV21) -> 21.636667 | AA22: =AVERAGE(รายเดือน!BW21:BY21) -> 30.896667 | AB22: =AVERAGE(รายเดือน!BZ21:CB21) -> 28.883333 | AC22: =AVERAGE(รายเดือน!CC21:CE21) -> 30.516667 | AD22: =AVERAGE(รายเดือน!CF21:CH21) -> 27.88 | AE22: =AVERAGE(รายเดือน!CI21:CK21) -> 30.466667 | AF22: =AVERAGE(รายเดือน!CL21:CN21) -> 33.843333 | AG22: =AVERAGE(รายเดือน!CO21:CQ21) -> 37 | AH22: =AVERAGE(รายเดือน!CR21:CT21) -> 31.806667 | AI22: =AVERAGE(รายเดือน!CU21:CW21) -> 31.056667 | AJ22: =AVERAGE(รายเดือน!CX21:CZ21) -> 31.333333 | AK22: =AVERAGE(รายเดือน!DA21:DC21) -> 26.67 | AL22: =AVERAGE(รายเดือน!DD21:DF21) -> 24.723333 | AM22: =AVERAGE(รายเดือน!DG21:DI21) -> 33.75 | AN22: =AVERAGE(รายเดือน!DJ21:DL21) -> 56.666667 | AO22: =AVERAGE(รายเดือน!DM21:DO21) -> 55 | AP22: =AVERAGE(รายเดือน!DP21:DR21) -> 29.416667 | AQ22: =AVERAGE(รายเดือน!DS21:DU21) -> 43.083333 | AR22: =AVERAGE(รายเดือน!DV21:DX21) -> 38.333333 | AS22: =AVERAGE(รายเดือน!DY21:EA21) -> 47.416667 | AT22: =AVERAGE(รายเดือน!EB21:ED21) -> 37 | AU22: =AVERAGE(รายเดือน!EE21:EG21) -> 47.333333 | AV22: =AVERAGE(รายเดือน!EH21:EJ21) -> 50.416667 | AW22: =AVERAGE(รายเดือน!EK21:EM21) -> 50.416667 | AX22: =AVERAGE(รายเดือน!EN21:EP21) -> 46.166665 | AY22: =AVERAGE(รายเดือน!EQ21:ES21) -> 40.083332 | AZ22: =AVERAGE(รายเดือน!ET21:EV21) -> 41.166666 | BA22: =AVERAGE(รายเดือน!EW21:EY21) -> 42.999999 | BB22: =AVERAGE(รายเดือน!EZ21:FB21) -> 27.249999 | BC22: =AVERAGE(รายเดือน!FC21:FE21) -> 16.499999 | BD22: =AVERAGE(รายเดือน!FF21:FH21) -> 17.666665 | BE22: =AVERAGE(รายเดือน!FI21:FK21) -> 16.499999 | BF22: =AVERAGE(รายเดือน!FL21:FN21) -> 20.699999 | BG22: =AVERAGE(รายเดือน!FO21:FQ21) -> 27.399999 | BH22: =AVERAGE(รายเดือน!FR21:FT21) -> 22.622222 | BI22: =AVERAGE(รายเดือน!FU21:FW21) -> 32.083333 | BJ22: =AVERAGE(รายเดือน!FX21:FZ21) -> 29.538888 | BK22: =AVERAGE(รายเดือน!GA21:GC21) -> 24.866666 | BL22: =AVERAGE(รายเดือน!GD21:GF21) -> 25.227777 | BM22: =AVERAGE(รายเดือน!GG21:GI21) -> 27.249999 | BN22: =AVERAGE(รายเดือน!GJ21:GL21) -> 24.999999 | BO22: =AVERAGE(รายเดือน!GM21:GO21) -> 23.638888 | BP22: =AVERAGE(รายเดือน!GP21:GR21) -> 23.111111 | BQ22: =AVERAGE(รายเดือน!GS21:GU21) -> 19.999999 | BR22: =AVERAGE(รายเดือน!GV21:GX21) -> 19.999999 | BS22: =AVERAGE(รายเดือน!GY21:HA21) -> 18.450555 | BT22: =AVERAGE(รายเดือน!HB21:HD21) -> 24.999998 | BU22: =AVERAGE(รายเดือน!HE21:HG21) -> 20.999999 | BV22: =AVERAGE(รายเดือน!HH21:HJ21) -> 27.416666 | BW22: =AVERAGE(รายเดือน!HK21:HM21) -> 27.883332 | BX22: =AVERAGE(รายเดือน!HN21:HP21) -> 29.126665 | BY22: =AVERAGE(รายเดือน!HQ21:HS21) -> 22.499999 | BZ22: =AVERAGE(รายเดือน!HT21:HV21) -> 22.499999 | CA22: =AVERAGE(รายเดือน!HW21:HY21) -> 24.999998 | CB22: =AVERAGE(รายเดือน!HZ21:IB21) -> 21.666665 | CC22: =AVERAGE(รายเดือน!IC21:IE21) -> 22.499999 | CD22: =AVERAGE(รายเดือน!IF21:IH21) -> 22.499999 | CE22: =AVERAGE(รายเดือน!II21:IK21) -> 22.499999 | CF22: =AVERAGE(รายเดือน!IL21:IN21) -> 22.499999 | CG22: =AVERAGE(รายเดือน!IO21:IQ21) -> 22.499999 | CH22: =AVERAGE(รายเดือน!IR21:IT21) -> 22.499999 | CI22: =AVERAGE(รายเดือน!IU21:IW21) -> 22.499999 | CJ22: =AVERAGE(รายเดือน!IX21:IZ21) -> 22.499999
A23: ทุเรียนหมอนทองคละ | B23: บาท/กก. | C23: =AVERAGE(รายเดือน!C22:E22) -> 24 | D23: =AVERAGE(รายเดือน!F22:H22) -> 15.633333 | E23: =AVERAGE(รายเดือน!I22:K22) -> 16.323333 | F23: =AVERAGE(รายเดือน!L22:N22) -> 28.25 | G23: =AVERAGE(รายเดือน!O22:Q22) -> 29.083333 | H23: =AVERAGE(รายเดือน!R22:T22) -> 22.676667 | I23: =AVERAGE(รายเดือน!U22:W22) -> 15.316667 | J23: =AVERAGE(รายเดือน!X22:Z22) -> 22 | K23: =AVERAGE(รายเดือน!AA22:AC22) -> 29.556667 | L23: =AVERAGE(รายเดือน!AD22:AF22) -> 18.31 | M23: =AVERAGE(รายเดือน!AG22:AI22) -> 13.35 | N23: =AVERAGE(รายเดือน!AJ22:AL22) -> 20.07 | O23: =AVERAGE(รายเดือน!AM22:AO22) -> 38.053333 | P23: =AVERAGE(รายเดือน!AP22:AR22) -> 20.346667 | Q23: =AVERAGE(รายเดือน!AS22:AU22) -> 21.546667 | R23: =AVERAGE(รายเดือน!AV22:AX22) -> 35.293333 | S23: =AVERAGE(รายเดือน!AY22:BA22) -> 40.906667 | T23: =AVERAGE(รายเดือน!BB22:BD22) -> 25.663333 | U23: =AVERAGE(รายเดือน!BE22:BG22) -> 16.246667 | V23: =AVERAGE(รายเดือน!BH22:BJ22) -> 14.7 | W23: =AVERAGE(รายเดือน!BK22:BM22) -> 14.7 | X23: =AVERAGE(รายเดือน!BN22:BP22) -> 24.993333 | Y23: =AVERAGE(รายเดือน!BQ22:BS22) -> 25.856667 | Z23: =AVERAGE(รายเดือน!BT22:BV22) -> 50.71 | AA23: =AVERAGE(รายเดือน!BW22:BY22) -> 52 | AB23: =AVERAGE(รายเดือน!BZ22:CB22) -> 31.86 | AC23: =AVERAGE(รายเดือน!CC22:CE22) -> 26.846667 | AD23: =AVERAGE(รายเดือน!CF22:CH22) -> 33.02 | AE23: =AVERAGE(รายเดือน!CI22:CK22) -> 33.02 | AF23: =AVERAGE(รายเดือน!CL22:CN22) -> 33.103333 | AG23: =AVERAGE(รายเดือน!CO22:CQ22) -> 31.803333 | AH23: =AVERAGE(รายเดือน!CR22:CT22) -> 34.543333 | AI23: =AVERAGE(รายเดือน!CU22:CW22) -> 24.956667 | AJ23: =AVERAGE(รายเดือน!CX22:CZ22) -> 44.783333 | AK23: =AVERAGE(รายเดือน!DA22:DC22) -> 27.963333 | AL23: =AVERAGE(รายเดือน!DD22:DF22) -> 30.013333 | AM23: =AVERAGE(รายเดือน!DG22:DI22) -> 48.176667 | AN23: =AVERAGE(รายเดือน!DJ22:DL22) -> 39.726667 | AO23: =AVERAGE(รายเดือน!DM22:DO22) -> 25.616667 | AP23: =AVERAGE(รายเดือน!DP22:DR22) -> 48.06 | AQ23: =AVERAGE(รายเดือน!DS22:DU22) -> 58.473333 | AR23: =AVERAGE(รายเดือน!DV22:DX22) -> 49.846667 | AS23: =AVERAGE(รายเดือน!DY22:EA22) -> 42.273333 | AT23: =AVERAGE(รายเดือน!EB22:ED22) -> 53.04 | AU23: =AVERAGE(รายเดือน!EE22:EG22) -> 53.04 | AV23: =AVERAGE(รายเดือน!EH22:EJ22) -> 71.173333 | AW23: =AVERAGE(รายเดือน!EK22:EM22) -> 52.69 | AX23: =AVERAGE(รายเดือน!EN22:EP22) -> 49.493332 | AY23: =AVERAGE(รายเดือน!EQ22:ES22) -> 77.988886 | AZ23: =AVERAGE(รายเดือน!ET22:EV22) -> 77.845498 | BA23: =AVERAGE(รายเดือน!EW22:EY22) -> 64.897165 | BB23: =AVERAGE(รายเดือน!EZ22:FB22) -> 78.829998 | BC23: =AVERAGE(รายเดือน!FC22:FE22) -> 92.553328 | BD23: =AVERAGE(รายเดือน!FF22:FH22) -> 80.081554 | BE23: =AVERAGE(รายเดือน!FI22:FK22) -> 72.524998 | BF23: =AVERAGE(รายเดือน!FL22:FN22) -> 78.632498 | BG23: =AVERAGE(รายเดือน!FO22:FQ22) -> 92.798998 | BH23: =AVERAGE(รายเดือน!FR22:FT22) -> 108.41689 | BI23: =AVERAGE(รายเดือน!FU22:FW22) -> 84.763165 | BJ23: =AVERAGE(รายเดือน!FX22:FZ22) -> 85.614996 | BK23: =AVERAGE(รายเดือน!GA22:GC22) -> 116.41749 | BL23: =AVERAGE(รายเดือน!GD22:GF22) -> 102.02716 | BM23: =AVERAGE(รายเดือน!GG22:GI22) -> 97.081998 | BN23: =AVERAGE(รายเดือน!GJ22:GL22) -> 120.982 | BO23: =AVERAGE(รายเดือน!GM22:GO22) -> 148.05266 | BP23: =AVERAGE(รายเดือน!GP22:GR22) -> 129.67477 | BQ23: =AVERAGE(รายเดือน!GS22:GU22) -> 83.136776 | BR23: =AVERAGE(รายเดือน!GV22:GX22) -> 78.203331 | BS23: =AVERAGE(รายเดือน!GY22:HA22) -> 117.69111 | BT23: =AVERAGE(รายเดือน!HB22:HD22) -> 95.446332 | BU23: =AVERAGE(รายเดือน!HE22:HG22) -> 110.60583 | BV23: =AVERAGE(รายเดือน!HH22:HJ22) -> 118.47999 | BW23: =AVERAGE(รายเดือน!HK22:HM22) -> 117.21333 | BX23: =AVERAGE(รายเดือน!HN22:HP22) -> 93.63422 | BY23: =AVERAGE(รายเดือน!HQ22:HS22) -> 103.18116 | BZ23: =AVERAGE(รายเดือน!HT22:HV22) -> 101.072 | CA23: =AVERAGE(รายเดือน!HW22:HY22) -> 101.072 | CB23: =AVERAGE(รายเดือน!HZ22:IB22) -> 136.1 | CC23: =AVERAGE(รายเดือน!IC22:IE22) -> 108.0185 | CD23: =AVERAGE(รายเดือน!IF22:IH22) -> 95.293998 | CE23: =AVERAGE(รายเดือน!II22:IK22) -> 108.52933 | CF23: =AVERAGE(รายเดือน!IL22:IN22) -> 93.821275 | CG23: =AVERAGE(รายเดือน!IO22:IQ22) -> 81.082665 | CH23: =AVERAGE(รายเดือน!IR22:IT22) -> 89.387998 | CI23: =AVERAGE(รายเดือน!IU22:IW22) -> 97.447553 | CJ23: =AVERAGE(รายเดือน!IX22:IZ22) -> 100.15455
A24: สับปะรดปัตตาเวียส่งโรงงาน | B24: บาท/กก. | C24: =AVERAGE(รายเดือน!C23:E23) -> 3.7833333 | D24: =AVERAGE(รายเดือน!F23:H23) -> 3.6466667 | E24: =AVERAGE(รายเดือน!I23:K23) -> 4.1833333 | F24: =AVERAGE(รายเดือน!L23:N23) -> 3.34 | G24: =AVERAGE(รายเดือน!O23:Q23) -> 2.54 | H24: =AVERAGE(รายเดือน!R23:T23) -> 1.97 | I24: =AVERAGE(รายเดือน!U23:W23) -> 2.3066667 | J24: =AVERAGE(รายเดือน!X23:Z23) -> 3.2533333 | K24: =AVERAGE(รายเดือน!AA23:AC23) -> 3.6566667 | L24: =AVERAGE(รายเดือน!AD23:AF23) -> 4.4966667 | M24: =AVERAGE(รายเดือน!AG23:AI23) -> 4.9833333 | N24: =AVERAGE(รายเดือน!AJ23:AL23) -> 5.1266667 | O24: =AVERAGE(รายเดือน!AM23:AO23) -> 4.6433333 | P24: =AVERAGE(รายเดือน!AP23:AR23) -> 3.7766667 | Q24: =AVERAGE(รายเดือน!AS23:AU23) -> 5.7966667 | R24: =AVERAGE(รายเดือน!AV23:AX23) -> 3.9433333 | S24: =AVERAGE(รายเดือน!AY23:BA23) -> 4.29 | T24: =AVERAGE(รายเดือน!BB23:BD23) -> 5.6833333 | U24: =AVERAGE(รายเดือน!BE23:BG23) -> 5.8466667 | V24: =AVERAGE(รายเดือน!BH23:BJ23) -> 4.39 | W24: =AVERAGE(รายเดือน!BK23:BM23) -> 4.9766667 | X24: =AVERAGE(รายเดือน!BN23:BP23) -> 5.55 | Y24: =AVERAGE(รายเดือน!BQ23:BS23) -> 6.0066667 | Z24: =AVERAGE(รายเดือน!BT23:BV23) -> 5.79 | AA24: =AVERAGE(รายเดือน!BW23:BY23) -> 6.0466667 | AB24: =AVERAGE(รายเดือน!BZ23:CB23) -> 5.2066667 | AC24: =AVERAGE(รายเดือน!CC23:CE23) -> 4.81 | AD24: =AVERAGE(รายเดือน!CF23:CH23) -> 3.6466666 | AE24: =AVERAGE(รายเดือน!CI23:CK23) -> 3.2166667 | AF24: =AVERAGE(รายเดือน!CL23:CN23) -> 2.7966667 | AG24: =AVERAGE(รายเดือน!CO23:CQ23) -> 4.21 | AH24: =AVERAGE(รายเดือน!CR23:CT23) -> 3.6866667 | AI24: =AVERAGE(รายเดือน!CU23:CW23) -> 3.3366667 | AJ24: =AVERAGE(รายเดือน!CX23:CZ23) -> 4.4433333 | AK24: =AVERAGE(รายเดือน!DA23:DC23) -> 4.8766667 | AL24: =AVERAGE(รายเดือน!DD23:DF23) -> 5.5666667 | AM24: =AVERAGE(รายเดือน!DG23:DI23) -> 6.6166667 | AN24: =AVERAGE(รายเดือน!DJ23:DL23) -> 6.7133333 | AO24: =AVERAGE(รายเดือน!DM23:DO23) -> 6.15 | AP24: =AVERAGE(รายเดือน!DP23:DR23) -> 8.0233333 | AQ24: =AVERAGE(รายเดือน!DS23:DU23) -> 9.2166667 | AR24: =AVERAGE(รายเดือน!DV23:DX23) -> 9.78 | AS24: =AVERAGE(รายเดือน!DY23:EA23) -> 10.87 | AT24: =AVERAGE(รายเดือน!EB23:ED23) -> 11.516667 | AU24: =AVERAGE(รายเดือน!EE23:EG23) -> 10.24 | AV24: =AVERAGE(รายเดือน!EH23:EJ23) -> 10.543333 | AW24: =AVERAGE(รายเดือน!EK23:EM23) -> 11.536667 | AX24: =AVERAGE(รายเดือน!EN23:EP23) -> 9.8321664 | AY24: =AVERAGE(รายเดือน!EQ23:ES23) -> 6.8959998 | AZ24: =AVERAGE(รายเดือน!ET23:EV23) -> 4.9349999 | BA24: =AVERAGE(รายเดือน!EW23:EY23) -> 4.2886666 | BB24: =AVERAGE(รายเดือน!EZ23:FB23) -> 3.4473333 | BC24: =AVERAGE(รายเดือน!FC23:FE23) -> 3.7784999 | BD24: =AVERAGE(รายเดือน!FF23:FH23) -> 2.3244444 | BE24: =AVERAGE(รายเดือน!FI23:FK23) -> 2.5086666 | BF24: =AVERAGE(รายเดือน!FL23:FN23) -> 3.0138333 | BG24: =AVERAGE(รายเดือน!FO23:FQ23) -> 3.7743332 | BH24: =AVERAGE(รายเดือน!FR23:FT23) -> 6.3832221 | BI24: =AVERAGE(รายเดือน!FU23:FW23) -> 6.3353332 | BJ24: =AVERAGE(รายเดือน!FX23:FZ23) -> 7.1737776 | BK24: =AVERAGE(รายเดือน!GA23:GC23) -> 10.555166 | BL24: =AVERAGE(รายเดือน!GD23:GF23) -> 11.765 | BM24: =AVERAGE(รายเดือน!GG23:GI23) -> 13.104166 | BN24: =AVERAGE(รายเดือน!GJ23:GL23) -> 8.9539998 | BO24: =AVERAGE(รายเดือน!GM23:GO23) -> 7.1059998 | BP24: =AVERAGE(รายเดือน!GP23:GR23) -> 5.9092221 | BQ24: =AVERAGE(รายเดือน!GS23:GU23) -> 6.0824999 | BR24: =AVERAGE(รายเดือน!GV23:GX23) -> 5.4348332 | BS24: =AVERAGE(รายเดือน!GY23:HA23) -> 6.5941665 | BT24: =AVERAGE(รายเดือน!HB23:HD23) -> 5.9128888 | BU24: =AVERAGE(รายเดือน!HE23:HG23) -> 6.8288332 | BV24: =AVERAGE(รายเดือน!HH23:HJ23) -> 7.0051665 | BW24: =AVERAGE(รายเดือน!HK23:HM23) -> 7.3699998 | BX24: =AVERAGE(รายเดือน!HN23:HP23) -> 7.8494443 | BY24: =AVERAGE(รายเดือน!HQ23:HS23) -> 8.4169998 | BZ24: =AVERAGE(รายเดือน!HT23:HV23) -> 10.231833 | CA24: =AVERAGE(รายเดือน!HW23:HY23) -> 10.925 | CB24: =AVERAGE(รายเดือน!HZ23:IB23) -> 12.295 | CC24: =AVERAGE(รายเดือน!IC23:IE23) -> 12.051666 | CD24: =AVERAGE(รายเดือน!IF23:IH23) -> 12.25 | CE24: =AVERAGE(รายเดือน!II23:IK23) -> 13.583666 | CF24: =AVERAGE(รายเดือน!IL23:IN23) -> 12.060333 | CG24: =AVERAGE(รายเดือน!IO23:IQ23) -> 11.290166 | CH24: =AVERAGE(รายเดือน!IR23:IT23) -> 7.8091665 | CI24: =AVERAGE(รายเดือน!IU23:IW23) -> 6.4979998 | CJ24: =AVERAGE(รายเดือน!IX23:IZ23) -> 6.6547221
A25: ลำไยสดทั้งช่อพันธุ์อีดอ เกรด A | B25: บาท/กก. | C25: =AVERAGE(รายเดือน!C24:E24) -> 17.95 | D25: =AVERAGE(รายเดือน!F24:H24) -> 17.3 | E25: =AVERAGE(รายเดือน!I24:K24) -> 12.06 | F25: =AVERAGE(รายเดือน!L24:N24) -> 32.153333 | G25: =AVERAGE(รายเดือน!O24:Q24) -> 34.673333 | H25: =AVERAGE(รายเดือน!R24:T24) -> 36.106667 | I25: =AVERAGE(รายเดือน!U24:W24) -> 16.433333 | J25: =AVERAGE(รายเดือน!X24:Z24) -> 22.293333 | K25: =AVERAGE(รายเดือน!AA24:AC24) -> 28.716667 | L25: =AVERAGE(รายเดือน!AD24:AF24) -> 21.283333 | M25: =AVERAGE(รายเดือน!AG24:AI24) -> 15.356667 | N25: =AVERAGE(รายเดือน!AJ24:AL24) -> 24.693333 | O25: =AVERAGE(รายเดือน!AM24:AO24) -> 22.576667 | P25: =AVERAGE(รายเดือน!AP24:AR24) -> 27.99 | Q25: =AVERAGE(รายเดือน!AS24:AU24) -> 28.666667 | R25: =AVERAGE(รายเดือน!AV24:AX24) -> 26.316667 | S25: =AVERAGE(รายเดือน!AY24:BA24) -> 31.563333 | T25: =AVERAGE(รายเดือน!BB24:BD24) -> 33.253333 | U25: =AVERAGE(รายเดือน!BE24:BG24) -> 17.116667 | V25: =AVERAGE(รายเดือน!BH24:BJ24) -> 34.41 | W25: =AVERAGE(รายเดือน!BK24:BM24) -> 35.14 | X25: =AVERAGE(รายเดือน!BN24:BP24) -> 31.096667 | Y25: =AVERAGE(รายเดือน!BQ24:BS24) -> 27.716667 | Z25: =AVERAGE(รายเดือน!BT24:BV24) -> 28.986667 | AA25: =AVERAGE(รายเดือน!BW24:BY24) -> 35.33 | AB25: =AVERAGE(รายเดือน!BZ24:CB24) -> 37.103333 | AC25: =AVERAGE(รายเดือน!CC24:CE24) -> 20.91 | AD25: =AVERAGE(รายเดือน!CF24:CH24) -> 26.31 | AE25: =AVERAGE(รายเดือน!CI24:CK24) -> 24.58 | AF25: =AVERAGE(รายเดือน!CL24:CN24) -> 28.003333 | AG25: =AVERAGE(รายเดือน!CO24:CQ24) -> 22.593333 | AH25: =AVERAGE(รายเดือน!CR24:CT24) -> 27.133333 | AI25: =AVERAGE(รายเดือน!CU24:CW24) -> 29.756667 | AJ25: =AVERAGE(รายเดือน!CX24:CZ24) -> 30.003333 | AK25: =AVERAGE(รายเดือน!DA24:DC24) -> 24.503333 | AL25: =AVERAGE(รายเดือน!DD24:DF24) -> 31.733333 | AM25: =AVERAGE(รายเดือน!DG24:DI24) -> 37.083333 | AN25: =AVERAGE(รายเดือน!DJ24:DL24) -> 30.866667 | AO25: =AVERAGE(รายเดือน!DM24:DO24) -> 19.333333 | AP25: =AVERAGE(รายเดือน!DP24:DR24) -> 32.236667 | AQ25: =AVERAGE(รายเดือน!DS24:DU24) -> 37.373333 | AR25: =AVERAGE(รายเดือน!DV24:DX24) -> 25.583333 | AS25: =AVERAGE(รายเดือน!DY24:EA24) -> 26.45 | AT25: =AVERAGE(รายเดือน!EB24:ED24) -> 31.676667 | AU25: =AVERAGE(รายเดือน!EE24:EG24) -> 34.406667 | AV25: =AVERAGE(รายเดือน!EH24:EJ24) -> 35.206667 | AW25: =AVERAGE(รายเดือน!EK24:EM24) -> 31.64 | AX25: =AVERAGE(รายเดือน!EN24:EP24) -> 33.267833 | AY25: =AVERAGE(รายเดือน!EQ24:ES24) -> 25.779999 | AZ25: =AVERAGE(รายเดือน!ET24:EV24) -> 26.813333 | BA25: =AVERAGE(รายเดือน!EW24:EY24) -> 20.3775 | BB25: =AVERAGE(รายเดือน!EZ24:FB24) -> 23.644999 | BC25: =AVERAGE(รายเดือน!FC24:FE24) -> 27.560666 | BD25: =AVERAGE(รายเดือน!FF24:FH24) -> 25.892444 | BE25: =AVERAGE(รายเดือน!FI24:FK24) -> 25.964166 | BF25: =AVERAGE(รายเดือน!FL24:FN24) -> 30.451555 | BG25: =AVERAGE(รายเดือน!FO24:FQ24) -> 26.706833 | BH25: =AVERAGE(รายเดือน!FR24:FT24) -> 23.292222 | BI25: =AVERAGE(รายเดือน!FU24:FW24) -> 26.392499 | BJ25: =AVERAGE(รายเดือน!FX24:FZ24) -> 27.499999 | BK25: =AVERAGE(รายเดือน!GA24:GC24) -> 22.180833 | BL25: =AVERAGE(รายเดือน!GD24:GF24) -> 20.293333 | BM25: =AVERAGE(รายเดือน!GG24:GI24) -> 21.750499 | BN25: =AVERAGE(รายเดือน!GJ24:GL24) -> 22.924833 | BO25: =AVERAGE(รายเดือน!GM24:GO24) -> 27.246499 | BP25: =AVERAGE(รายเดือน!GP24:GR24) -> 25.361833 | BQ25: =AVERAGE(รายเดือน!GS24:GU24) -> 19.702833 | BR25: =AVERAGE(รายเดือน!GV24:GX24) -> 18.215833 | BS25: =AVERAGE(รายเดือน!GY24:HA24) -> 16.913333 | BT25: =AVERAGE(รายเดือน!HB24:HD24) -> 18.336055 | BU25: =AVERAGE(รายเดือน!HE24:HG24) -> 19.968166 | BV25: =AVERAGE(รายเดือน!HH24:HJ24) -> 21.333333 | BW25: =AVERAGE(รายเดือน!HK24:HM24) -> 25.888888 | BX25: =AVERAGE(รายเดือน!HN24:HP24) -> 29.572221 | BY25: =AVERAGE(รายเดือน!HQ24:HS24) -> 31.166666 | BZ25: =AVERAGE(รายเดือน!HT24:HV24) -> 27.616666 | CA25: =AVERAGE(รายเดือน!HW24:HY24) -> 29.921666 | CB25: =AVERAGE(รายเดือน!HZ24:IB24) -> 26.999999 | CC25: =AVERAGE(รายเดือน!IC24:IE24) -> 27.401166 | CD25: =AVERAGE(รายเดือน!IF24:IH24) -> 27.554166 | CE25: =AVERAGE(รายเดือน!II24:IK24) -> 21.962499 | CF25: =AVERAGE(รายเดือน!IL24:IN24) -> 17.911111 | CG25: =AVERAGE(รายเดือน!IO24:IQ24) -> 13.343333 | CH25: =AVERAGE(รายเดือน!IR24:IT24) -> 20.709166 | CI25: =AVERAGE(รายเดือน!IU24:IW24) -> 23.939166 | CJ25: =AVERAGE(รายเดือน!IX24:IZ24) -> 22.702444
A26: ลองกอง เบอร์1 | B26: บาท/กก. | C26: =AVERAGE(รายเดือน!C25:E25) -> 28.52 | D26: =AVERAGE(รายเดือน!F25:H25) -> 24.906667 | E26: =AVERAGE(รายเดือน!I25:K25) -> 21.78 | F26: =AVERAGE(รายเดือน!L25:N25) -> 33.403333 | G26: =AVERAGE(รายเดือน!O25:Q25) -> 38.33 | H26: =AVERAGE(รายเดือน!R25:T25) -> 37.713333 | I26: =AVERAGE(รายเดือน!U25:W25) -> 21.97 | J26: =AVERAGE(รายเดือน!X25:Z25) -> 25.79 | K26: =AVERAGE(รายเดือน!AA25:AC25) -> 25.79 | L26: =AVERAGE(รายเดือน!AD25:AF25) -> 21.426667 | M26: =AVERAGE(รายเดือน!AG25:AI25) -> 20.566667 | N26: =AVERAGE(รายเดือน!AJ25:AL25) -> 25 | O26: =AVERAGE(รายเดือน!AM25:AO25) -> 25 | P26: =AVERAGE(รายเดือน!AP25:AR25) -> 23.126667 | Q26: =AVERAGE(รายเดือน!AS25:AU25) -> 29.233333 | R26: =AVERAGE(รายเดือน!AV25:AX25) -> 33.33 | S26: =AVERAGE(รายเดือน!AY25:BA25) -> 33.33 | T26: =AVERAGE(รายเดือน!BB25:BD25) -> 25.193333 | U26: =AVERAGE(รายเดือน!BE25:BG25) -> 19.113333 | V26: =AVERAGE(รายเดือน!BH25:BJ25) -> 26.57 | W26: =AVERAGE(รายเดือน!BK25:BM25) -> 26.57 | X26: =AVERAGE(รายเดือน!BN25:BP25) -> 23.956667 | Y26: =AVERAGE(รายเดือน!BQ25:BS25) -> 18.193333 | Z26: =AVERAGE(รายเดือน!BT25:BV25) -> 17.053333 | AA26: =AVERAGE(รายเดือน!BW25:BY25) -> 19 | AB26: =AVERAGE(รายเดือน!BZ25:CB25) -> 36.533333 | AC26: =AVERAGE(รายเดือน!CC25:CE25) -> 21.923333 | AD26: =AVERAGE(รายเดือน!CF25:CH25) -> 25 | AE26: =AVERAGE(รายเดือน!CI25:CK25) -> 25 | AF26: =AVERAGE(รายเดือน!CL25:CN25) -> 33.896667 | AG26: =AVERAGE(รายเดือน!CO25:CQ25) -> 38.34 | AH26: =AVERAGE(รายเดือน!CR25:CT25) -> 32.856667 | AI26: =AVERAGE(รายเดือน!CU25:CW25) -> 23.33 | AJ26: =AVERAGE(รายเดือน!CX25:CZ25) -> 52.006667 | AK26: =AVERAGE(รายเดือน!DA25:DC25) -> 26.043333 | AL26: =AVERAGE(รายเดือน!DD25:DF25) -> 16.68 | AM26: =AVERAGE(รายเดือน!DG25:DI25) -> 16.68 | AN26: =AVERAGE(รายเดือน!DJ25:DL25) -> 52.75 | AO26: =AVERAGE(รายเดือน!DM25:DO25) -> 22.283333 | AP26: =AVERAGE(รายเดือน!DP25:DR25) -> 22.88 | AQ26: =AVERAGE(รายเดือน!DS25:DU25) -> 25 | AR26: =AVERAGE(รายเดือน!DV25:DX25) -> 50.693333 | AS26: =AVERAGE(รายเดือน!DY25:EA25) -> 29.686667 | AT26: =AVERAGE(รายเดือน!EB25:ED25) -> 25 | AU26: =AVERAGE(รายเดือน!EE25:EG25) -> 25 | AV26: =AVERAGE(รายเดือน!EH25:EJ25) -> 52.84 | AW26: =AVERAGE(รายเดือน!EK25:EM25) -> 43.383333 | AX26: =AVERAGE(รายเดือน!EN25:EP25) -> 24.286665 | AY26: =AVERAGE(รายเดือน!EQ25:ES25) -> 27.999997 | AZ26: =AVERAGE(รายเดือน!ET25:EV25) -> 40.265831 | BA26: =AVERAGE(รายเดือน!EW25:EY25) -> 37.582665 | BB26: =AVERAGE(รายเดือน!EZ25:FB25) -> 39.999998 | BC26: =AVERAGE(รายเดือน!FC25:FE25) -> 39.999998 | BD26: =AVERAGE(รายเดือน!FF25:FH25) -> 52.442164 | BE26: =AVERAGE(รายเดือน!FI25:FK25) -> 36.162721 | BF26: =AVERAGE(รายเดือน!FL25:FN25) -> 26.666666 | BG26: =AVERAGE(รายเดือน!FO25:FQ25) -> 26.666666 | BH26: =AVERAGE(รายเดือน!FR25:FT25) -> 39.902221 | BI26: =AVERAGE(รายเดือน!FU25:FW25) -> 29.897888 | BJ26: =AVERAGE(รายเดือน!FX25:FZ25) -> 19.556666 | BK26: =AVERAGE(รายเดือน!GA25:GC25) -> 19.556666 | BL26: =AVERAGE(รายเดือน!GD25:GF25) -> 41.294164 | BM26: =AVERAGE(รายเดือน!GG25:GI25) -> 39.604499 | BN26: =AVERAGE(รายเดือน!GJ25:GL25) -> 31.539999 | BO26: =AVERAGE(รายเดือน!GM25:GO25) -> 31.539999 | BP26: =AVERAGE(รายเดือน!GP25:GR25) -> 41.836666 | BQ26: =AVERAGE(รายเดือน!GS25:GU25) -> 25.33461 | BR26: =AVERAGE(รายเดือน!GV25:GX25) -> 20.833333 | BS26: =AVERAGE(รายเดือน!GY25:HA25) -> 20.833333 | BT26: =AVERAGE(รายเดือน!HB25:HD25) -> 36.71861 | BU26: =AVERAGE(รายเดือน!HE25:HG25) -> 51.249999 | BV26: =AVERAGE(รายเดือน!HH25:HJ25) -> 51.249999 | BW26: =AVERAGE(รายเดือน!HK25:HM25) -> 51.249999 | BX26: =AVERAGE(รายเดือน!HN25:HP25) -> 69.065998 | BY26: =AVERAGE(รายเดือน!HQ25:HS25) -> 44.857666 | BZ26: =AVERAGE(รายเดือน!HT25:HV25) -> 20.333332 | CA26: =AVERAGE(รายเดือน!HW25:HY25) -> 19.999998 | CB26: =AVERAGE(รายเดือน!HZ25:IB25) -> 62.086664 | CC26: =AVERAGE(รายเดือน!IC25:IE25) -> 39.419664 | CD26: =AVERAGE(รายเดือน!IF25:IH25) -> 15.9475 | CE26: =AVERAGE(รายเดือน!II25:IK25) -> 15.9475 | CF26: =AVERAGE(รายเดือน!IL25:IN25) -> 44.475164 | CG26: =AVERAGE(รายเดือน!IO25:IQ25) -> 33.439999 | CH26: =AVERAGE(รายเดือน!IR25:IT25) -> 21.166666 | CI26: =AVERAGE(รายเดือน!IU25:IW25) -> 21.166666 | CJ26: =AVERAGE(รายเดือน!IX25:IZ25) -> 46.698665
A27: เงาะโรงเรียน | B27: บาท/กก. | C27: =AVERAGE(รายเดือน!C26:E26) -> 25.5 | D27: =AVERAGE(รายเดือน!F26:H26) -> 9.56 | E27: =AVERAGE(รายเดือน!I26:K26) -> 7.7 | F27: =AVERAGE(รายเดือน!L26:N26) -> 8.87 | G27: =AVERAGE(รายเดือน!O26:Q26) -> 8.87 | H27: =AVERAGE(รายเดือน!R26:T26) -> 18.116667 | I27: =AVERAGE(รายเดือน!U26:W26) -> 13.266667 | J27: =AVERAGE(รายเดือน!X26:Z26) -> 15 | K27: =AVERAGE(รายเดือน!AA26:AC26) -> 11.363333 | L27: =AVERAGE(รายเดือน!AD26:AF26) -> 10.41 | M27: =AVERAGE(รายเดือน!AG26:AI26) -> 6.46 | N27: =AVERAGE(รายเดือน!AJ26:AL26) -> 6.48 | O27: =AVERAGE(รายเดือน!AM26:AO26) -> 13.653333 | P27: =AVERAGE(รายเดือน!AP26:AR26) -> 11.43 | Q27: =AVERAGE(รายเดือน!AS26:AU26) -> 10.83 | R27: =AVERAGE(รายเดือน!AV26:AX26) -> 11.67 | S27: =AVERAGE(รายเดือน!AY26:BA26) -> 11.67 | T27: =AVERAGE(รายเดือน!BB26:BD26) -> 20.703333 | U27: =AVERAGE(รายเดือน!BE26:BG26) -> 6.5366667 | V27: =AVERAGE(รายเดือน!BH26:BJ26) -> 6.66 | W27: =AVERAGE(รายเดือน!BK26:BM26) -> 6.66 | X27: =AVERAGE(รายเดือน!BN26:BP26) -> 13.923333 | Y27: =AVERAGE(รายเดือน!BQ26:BS26) -> 15.62 | Z27: =AVERAGE(รายเดือน!BT26:BV26) -> 14.64 | AA27: =AVERAGE(รายเดือน!BW26:BY26) -> 14.64 | AB27: =AVERAGE(รายเดือน!BZ26:CB26) -> 20.116667 | AC27: =AVERAGE(รายเดือน!CC26:CE26) -> 14.916667 | AD27: =AVERAGE(รายเดือน!CF26:CH26) -> 21 | AE27: =AVERAGE(รายเดือน!CI26:CK26) -> 21 | AF27: =AVERAGE(รายเดือน!CL26:CN26) -> 18.006667 | AG27: =AVERAGE(รายเดือน!CO26:CQ26) -> 15.24 | AH27: =AVERAGE(รายเดือน!CR26:CT26) -> 18.566667 | AI27: =AVERAGE(รายเดือน!CU26:CW26) -> 12.76 | AJ27: =AVERAGE(รายเดือน!CX26:CZ26) -> 34.816667 | AK27: =AVERAGE(รายเดือน!DA26:DC26) -> 15.983333 | AL27: =AVERAGE(รายเดือน!DD26:DF26) -> 20.056667 | AM27: =AVERAGE(รายเดือน!DG26:DI26) -> 24.623333 | AN27: =AVERAGE(รายเดือน!DJ26:DL26) -> 31.94 | AO27: =AVERAGE(รายเดือน!DM26:DO26) -> 14.703333 | AP27: =AVERAGE(รายเดือน!DP26:DR26) -> 33.69 | AQ27: =AVERAGE(รายเดือน!DS26:DU26) -> 33.69 | AR27: =AVERAGE(รายเดือน!DV26:DX26) -> 35.54 | AS27: =AVERAGE(รายเดือน!DY26:EA26) -> 15.653333 | AT27: =AVERAGE(รายเดือน!EB26:ED26) -> 13.98 | AU27: =AVERAGE(รายเดือน!EE26:EG26) -> 32.653333 | AV27: =AVERAGE(รายเดือน!EH26:EJ26) -> 39.623333 | AW27: =AVERAGE(รายเดือน!EK26:EM26) -> 34.14 | AX27: =AVERAGE(รายเดือน!EN26:EP26) -> 15.833333 | AY27: =AVERAGE(รายเดือน!EQ26:ES26) -> 15.833333 | AZ27: =AVERAGE(รายเดือน!ET26:EV26) -> 35.901164 | BA27: =AVERAGE(รายเดือน!EW26:EY26) -> 24.251833 | BB27: =AVERAGE(รายเดือน!EZ26:FB26) -> 26.484999 | BC27: =AVERAGE(รายเดือน!FC26:FE26) -> 26.484999 | BD27: =AVERAGE(รายเดือน!FF26:FH26) -> 30.088166 | BE27: =AVERAGE(รายเดือน!FI26:FK26) -> 19.4695 | BF27: =AVERAGE(รายเดือน!FL26:FN26) -> 27.999999 | BG27: =AVERAGE(รายเดือน!FO26:FQ26) -> 28.249999 | BH27: =AVERAGE(รายเดือน!FR26:FT26) -> 26.164222 | BI27: =AVERAGE(รายเดือน!FU26:FW26) -> 21.199333 | BJ27: =AVERAGE(รายเดือน!FX26:FZ26) -> 13.28 | BK27: =AVERAGE(รายเดือน!GA26:GC26) -> 13.28 | BL27: =AVERAGE(รายเดือน!GD26:GF26) -> 22.064999 | BM27: =AVERAGE(รายเดือน!GG26:GI26) -> 26.436333 | BN27: =AVERAGE(รายเดือน!GJ26:GL26) -> 16.579998 | BO27: =AVERAGE(รายเดือน!GM26:GO26) -> 16.579998 | BP27: =AVERAGE(รายเดือน!GP26:GR26) -> 21.434999 | BQ27: =AVERAGE(รายเดือน!GS26:GU26) -> 14.817333 | BR27: =AVERAGE(รายเดือน!GV26:GX26) -> 16.359999 | BS27: =AVERAGE(รายเดือน!GY26:HA26) -> 16.359999 | BT27: =AVERAGE(รายเดือน!HB26:HD26) -> 20.111166 | BU27: =AVERAGE(รายเดือน!HE26:HG26) -> 30.444999 | BV27: =AVERAGE(รายเดือน!HH26:HJ26) -> 35.654998 | BW27: =AVERAGE(รายเดือน!HK26:HM26) -> 35.654998 | BX27: =AVERAGE(รายเดือน!HN26:HP26) -> 33.957165 | BY27: =AVERAGE(รายเดือน!HQ26:HS26) -> 26.788833 | BZ27: =AVERAGE(รายเดือน!HT26:HV26) -> 11.4125 | CA27: =AVERAGE(รายเดือน!HW26:HY26) -> 11.4125 | CB27: =AVERAGE(รายเดือน!HZ26:IB26) -> 37.524165 | CC27: =AVERAGE(รายเดือน!IC26:IE26) -> 36.150833 | CD27: =AVERAGE(รายเดือน!IF26:IH26) -> 23.02 | CE27: =AVERAGE(รายเดือน!II26:IK26) -> 23.02 | CF27: =AVERAGE(รายเดือน!IL26:IN26) -> 44.336665 | CG27: =AVERAGE(รายเดือน!IO26:IQ26) -> 24.233499 | CH27: =AVERAGE(รายเดือน!IR26:IT26) -> 20.728 | CI27: =AVERAGE(รายเดือน!IU26:IW26) -> 20.728 | CJ27: =AVERAGE(รายเดือน!IX26:IZ26) -> 38.307832
A28: มังคุดคละ | B28: บาท/กก. | C28: =AVERAGE(รายเดือน!C27:E27) -> 24.37 | D28: =AVERAGE(รายเดือน!F27:H27) -> 11.78 | E28: =AVERAGE(รายเดือน!I27:K27) -> 16.823333 | F28: =AVERAGE(รายเดือน!L27:N27) -> 31.5 | G28: =AVERAGE(รายเดือน!O27:Q27) -> 31.5 | H28: =AVERAGE(รายเดือน!R27:T27) -> 32.723333 | I28: =AVERAGE(รายเดือน!U27:W27) -> 15.37 | J28: =AVERAGE(รายเดือน!X27:Z27) -> 17.5 | K28: =AVERAGE(รายเดือน!AA27:AC27) -> 17.5 | L28: =AVERAGE(รายเดือน!AD27:AF27) -> 13.203333 | M28: =AVERAGE(รายเดือน!AG27:AI27) -> 7.35 | N28: =AVERAGE(รายเดือน!AJ27:AL27) -> 8.03 | O28: =AVERAGE(รายเดือน!AM27:AO27) -> 8.03 | P28: =AVERAGE(รายเดือน!AP27:AR27) -> 18.583333 | Q28: =AVERAGE(รายเดือน!AS27:AU27) -> 16.46 | R28: =AVERAGE(รายเดือน!AV27:AX27) -> 20.11 | S28: =AVERAGE(รายเดือน!AY27:BA27) -> 20.11 | T28: =AVERAGE(รายเดือน!BB27:BD27) -> 25.38 | U28: =AVERAGE(รายเดือน!BE27:BG27) -> 6.0033333 | V28: =AVERAGE(รายเดือน!BH27:BJ27) -> 6.17 | W28: =AVERAGE(รายเดือน!BK27:BM27) -> 6.17 | X28: =AVERAGE(รายเดือน!BN27:BP27) -> 20.256667 | Y28: =AVERAGE(รายเดือน!BQ27:BS27) -> 13.77 | Z28: =AVERAGE(รายเดือน!BT27:BV27) -> 20 | AA28: =AVERAGE(รายเดือน!BW27:BY27) -> 20 | AB28: =AVERAGE(รายเดือน!BZ27:CB27) -> 46.016667 | AC28: =AVERAGE(รายเดือน!CC27:CE27) -> 14.536667 | AD28: =AVERAGE(รายเดือน!CF27:CH27) -> 15.07 | AE28: =AVERAGE(รายเดือน!CI27:CK27) -> 15.07 | AF28: =AVERAGE(รายเดือน!CL27:CN27) -> 20.82 | AG28: =AVERAGE(รายเดือน!CO27:CQ27) -> 15.8 | AH28: =AVERAGE(รายเดือน!CR27:CT27) -> 23.403333 | AI28: =AVERAGE(รายเดือน!CU27:CW27) -> 11.833333 | AJ28: =AVERAGE(รายเดือน!CX27:CZ27) -> 23.506667 | AK28: =AVERAGE(รายเดือน!DA27:DC27) -> 12.716667 | AL28: =AVERAGE(รายเดือน!DD27:DF27) -> 19 | AM28: =AVERAGE(รายเดือน!DG27:DI27) -> 40.5 | AN28: =AVERAGE(รายเดือน!DJ27:DL27) -> 55.486667 | AO28: =AVERAGE(รายเดือน!DM27:DO27) -> 9.3433333 | AP28: =AVERAGE(รายเดือน!DP27:DR27) -> 10 | AQ28: =AVERAGE(รายเดือน!DS27:DU27) -> 10 | AR28: =AVERAGE(รายเดือน!DV27:DX27) -> 63.446667 | AS28: =AVERAGE(รายเดือน!DY27:EA27) -> 17.85 | AT28: =AVERAGE(รายเดือน!EB27:ED27) -> 9.81 | AU28: =AVERAGE(รายเดือน!EE27:EG27) -> 9.81 | AV28: =AVERAGE(รายเดือน!EH27:EJ27) -> 54.223333 | AW28: =AVERAGE(รายเดือน!EK27:EM27) -> 30.246667 | AX28: =AVERAGE(รายเดือน!EN27:EP27) -> 19.8675 | AY28: =AVERAGE(รายเดือน!EQ27:ES27) -> 19.8675 | AZ28: =AVERAGE(รายเดือน!ET27:EV27) -> 98.273164 | BA28: =AVERAGE(รายเดือน!EW27:EY27) -> 23.409944 | BB28: =AVERAGE(รายเดือน!EZ27:FB27) -> 33.933332 | BC28: =AVERAGE(รายเดือน!FC27:FE27) -> 70.318883 | BD28: =AVERAGE(รายเดือน!FF27:FH27) -> 83.501053 | BE28: =AVERAGE(รายเดือน!FI27:FK27) -> 20.369333 | BF28: =AVERAGE(รายเดือน!FL27:FN27) -> 12.349999 | BG28: =AVERAGE(รายเดือน!FO27:FQ27) -> 12.349999 | BH28: =AVERAGE(รายเดือน!FR27:FT27) -> 50.907443 | BI28: =AVERAGE(รายเดือน!FU27:FW27) -> 16.621333 | BJ28: =AVERAGE(รายเดือน!FX27:FZ27) -> 15.969999 | BK28: =AVERAGE(รายเดือน!GA27:GC27) -> 53.846664 | BL28: =AVERAGE(รายเดือน!GD27:GF27) -> 48.029166 | BM28: =AVERAGE(รายเดือน!GG27:GI27) -> 34.620999 | BN28: =AVERAGE(รายเดือน!GJ27:GL27) -> 23.289999 | BO28: =AVERAGE(รายเดือน!GM27:GO27) -> 86.326663 | BP28: =AVERAGE(รายเดือน!GP27:GR27) -> 142.34894 | BQ28: =AVERAGE(รายเดือน!GS27:GU27) -> 17.455166 | BR28: =AVERAGE(รายเดือน!GV27:GX27) -> 15.599999 | BS28: =AVERAGE(รายเดือน!GY27:HA27) -> 67.06666 | BT28: =AVERAGE(รายเดือน!HB27:HD27) -> 79.481666 | BU28: =AVERAGE(รายเดือน!HE27:HG27) -> 18 | BV28: =AVERAGE(รายเดือน!HH27:HJ27) -> 18 | BW28: =AVERAGE(รายเดือน!HK27:HM27) -> 18 | BX28: =AVERAGE(รายเดือน!HN27:HP27) -> 67.734554 | BY28: =AVERAGE(รายเดือน!HQ27:HS27) -> 21.274833 | BZ28: =AVERAGE(รายเดือน!HT27:HV27) -> 16.483333 | CA28: =AVERAGE(รายเดือน!HW27:HY27) -> 16.483333 | CB28: =AVERAGE(รายเดือน!HZ27:IB27) -> 57.081665 | CC28: =AVERAGE(รายเดือน!IC27:IE27) -> 28.563999 | CD28: =AVERAGE(รายเดือน!IF27:IH27) -> 21.994 | CE28: =AVERAGE(รายเดือน!II27:IK27) -> 21.994 | CF28: =AVERAGE(รายเดือน!IL27:IN27) -> 51.276498 | CG28: =AVERAGE(รายเดือน!IO27:IQ27) -> 19.065277 | CH28: =AVERAGE(รายเดือน!IR27:IT27) -> 21.016666 | CI28: =AVERAGE(รายเดือน!IU27:IW27) -> 21.016666 | CJ28: =AVERAGE(รายเดือน!IX27:IZ27) -> 82.450997
A29: กล้วยหอมทอง | B29: บาท/กก. | C29: =AVERAGE(รายเดือน!C28:E28) -> 59.003333 | D29: =AVERAGE(รายเดือน!F28:H28) -> 65.14 | E29: =AVERAGE(รายเดือน!I28:K28) -> 85.12 | F29: =AVERAGE(รายเดือน!L28:N28) -> 76.2 | G29: =AVERAGE(รายเดือน!O28:Q28) -> 62.45 | H29: =AVERAGE(รายเดือน!R28:T28) -> 68.12 | I29: =AVERAGE(รายเดือน!U28:W28) -> 61.21 | J29: =AVERAGE(รายเดือน!X28:Z28) -> 60.25 | K29: =AVERAGE(รายเดือน!AA28:AC28) -> 64.323333 | L29: =AVERAGE(รายเดือน!AD28:AF28) -> 56.753333 | M29: =AVERAGE(รายเดือน!AG28:AI28) -> 45.12 | N29: =AVERAGE(รายเดือน!AJ28:AL28) -> 45.166667 | O29: =AVERAGE(รายเดือน!AM28:AO28) -> 44.483333 | P29: =AVERAGE(รายเดือน!AP28:AR28) -> 43.61 | Q29: =AVERAGE(รายเดือน!AS28:AU28) -> 50.57 | R29: =AVERAGE(รายเดือน!AV28:AX28) -> 46.79 | S29: =AVERAGE(รายเดือน!AY28:BA28) -> 53.51 | T29: =AVERAGE(รายเดือน!BB28:BD28) -> 49.186667 | U29: =AVERAGE(รายเดือน!BE28:BG28) -> 50.11 | V29: =AVERAGE(รายเดือน!BH28:BJ28) -> 57.983333 | W29: =AVERAGE(รายเดือน!BK28:BM28) -> 67.416667 | X29: =AVERAGE(รายเดือน!BN28:BP28) -> 63.333333 | Y29: =AVERAGE(รายเดือน!BQ28:BS28) -> 66.39 | Z29: =AVERAGE(รายเดือน!BT28:BV28) -> 77.776667 | AA29: =AVERAGE(รายเดือน!BW28:BY28) -> 96.11 | AB29: =AVERAGE(รายเดือน!BZ28:CB28) -> 110.88 | AC29: =AVERAGE(รายเดือน!CC28:CE28) -> 126.07 | AD29: =AVERAGE(รายเดือน!CF28:CH28) -> 146.55667 | AE29: =AVERAGE(รายเดือน!CI28:CK28) -> 150 | AF29: =AVERAGE(รายเดือน!CL28:CN28) -> 150.33333 | AG29: =AVERAGE(รายเดือน!CO28:CQ28) -> 150 | AH29: =AVERAGE(รายเดือน!CR28:CT28) -> 150.5 | AI29: =AVERAGE(รายเดือน!CU28:CW28) -> 153.86 | AJ29: =AVERAGE(รายเดือน!CX28:CZ28) -> 145.4 | AK29: =AVERAGE(รายเดือน!DA28:DC28) -> 131.25 | AL29: =AVERAGE(รายเดือน!DD28:DF28) -> 134.37333 | AM29: =AVERAGE(รายเดือน!DG28:DI28) -> 158.81333 | AN29: =AVERAGE(รายเดือน!DJ28:DL28) -> 137.59667 | AO29: =AVERAGE(รายเดือน!DM28:DO28) -> 149.15133 | AP29: =AVERAGE(รายเดือน!DP28:DR28) -> 152.70667 | AQ29: =AVERAGE(รายเดือน!DS28:DU28) -> 174.61 | AR29: =AVERAGE(รายเดือน!DV28:DX28) -> 161.44 | AS29: =AVERAGE(รายเดือน!DY28:EA28) -> 167.15333 | AT29: =AVERAGE(รายเดือน!EB28:ED28) -> 178.07 | AU29: =AVERAGE(รายเดือน!EE28:EG28) -> 183.63667 | AV29: =AVERAGE(รายเดือน!EH28:EJ28) -> 165.27667 | AW29: =AVERAGE(รายเดือน!EK28:EM28) -> 203.33333 | AX29: =AVERAGE(รายเดือน!EN28:EP28) -> 184.8935 | AY29: =AVERAGE(รายเดือน!EQ28:ES28) -> 186.9225 | AZ29: =AVERAGE(รายเดือน!ET28:EV28) -> 206.72133 | BA29: =AVERAGE(รายเดือน!EW28:EY28) -> 213.45 | BB29: =AVERAGE(รายเดือน!EZ28:FB28) -> 187.13833 | BC29: =AVERAGE(รายเดือน!FC28:FE28) -> 192.25 | BD29: =AVERAGE(รายเดือน!FF28:FH28) -> 182.31222 | BE29: =AVERAGE(รายเดือน!FI28:FK28) -> 190.16316 | BF29: =AVERAGE(รายเดือน!FL28:FN28) -> 192.74138 | BG29: =AVERAGE(รายเดือน!FO28:FQ28) -> 188.35816 | BH29: =AVERAGE(รายเดือน!FR28:FT28) -> 191.03666 | BI29: =AVERAGE(รายเดือน!FU28:FW28) -> 211.18 | BJ29: =AVERAGE(รายเดือน!FX28:FZ28) -> 233.29438 | BK29: =AVERAGE(รายเดือน!GA28:GC28) -> 215.18349 | BL29: =AVERAGE(รายเดือน!GD28:GF28) -> 215.09049 | BM29: =AVERAGE(รายเดือน!GG28:GI28) -> 219.01433 | BN29: =AVERAGE(รายเดือน!GJ28:GL28) -> 236.57166 | BO29: =AVERAGE(รายเดือน!GM28:GO28) -> 226.15833 | BP29: =AVERAGE(รายเดือน!GP28:GR28) -> 195.95733 | BQ29: =AVERAGE(รายเดือน!GS28:GU28) -> 195.22233 | BR29: =AVERAGE(รายเดือน!GV28:GX28) -> 202.5 | BS29: =AVERAGE(รายเดือน!GY28:HA28) -> 205.83333 | BT29: =AVERAGE(รายเดือน!HB28:HD28) -> 199.05555 | BU29: =AVERAGE(รายเดือน!HE28:HG28) -> 205.41666 | BV29: =AVERAGE(รายเดือน!HH28:HJ28) -> 199.83333 | BW29: =AVERAGE(รายเดือน!HK28:HM28) -> 196.66666 | BX29: =AVERAGE(รายเดือน!HN28:HP28) -> 204.74999 | BY29: =AVERAGE(รายเดือน!HQ28:HS28) -> 223.33449 | BZ29: =AVERAGE(รายเดือน!HT28:HV28) -> 217.95433 | CA29: =AVERAGE(รายเดือน!HW28:HY28) -> 223.47166 | CB29: =AVERAGE(รายเดือน!HZ28:IB28) -> 232.15166 | CC29: =AVERAGE(รายเดือน!IC28:IE28) -> 239.66699 | CD29: =AVERAGE(รายเดือน!IF28:IH28) -> 225.86833 | CE29: =AVERAGE(รายเดือน!II28:IK28) -> 217.55583 | CF29: =AVERAGE(รายเดือน!IL28:IN28) -> 231.11216 | CG29: =AVERAGE(รายเดือน!IO28:IQ28) -> 230.58333 | CH29: =AVERAGE(รายเดือน!IR28:IT28) -> 211.66499 | CI29: =AVERAGE(รายเดือน!IU28:IW28) -> 218.70416 | CJ29: =AVERAGE(รายเดือน!IX28:IZ28) -> 207.30472
A30: ลิ้นจี่พันธุ์ฮงฮวย เกรด A | B30: บาท/กก. | C30: =AVERAGE(รายเดือน!C29:E29) -> 6.67 | D30: =AVERAGE(รายเดือน!F29:H29) -> 8.7966667 | E30: =AVERAGE(รายเดือน!I29:K29) -> 9.17 | F30: =AVERAGE(รายเดือน!L29:N29) -> 9.17 | G30: =AVERAGE(รายเดือน!O29:Q29) -> 30.28 | H30: =AVERAGE(รายเดือน!R29:T29) -> 19.03 | I30: =AVERAGE(รายเดือน!U29:W29) -> 10.4 | J30: =AVERAGE(รายเดือน!X29:Z29) -> 10.4 | K30: =AVERAGE(รายเดือน!AA29:AC29) -> 10.4 | L30: =AVERAGE(รายเดือน!AD29:AF29) -> 8.3833333 | M30: =AVERAGE(รายเดือน!AG29:AI29) -> 6.5 | N30: =AVERAGE(รายเดือน!AJ29:AL29) -> 6.5 | O30: =AVERAGE(รายเดือน!AM29:AO29) -> 6.5 | P30: =AVERAGE(รายเดือน!AP29:AR29) -> 17.413333 | Q30: =AVERAGE(รายเดือน!AS29:AU29) -> 19.12 | R30: =AVERAGE(รายเดือน!AV29:AX29) -> 19.12 | S30: =AVERAGE(รายเดือน!AY29:BA29) -> 19.12 | T30: =AVERAGE(รายเดือน!BB29:BD29) -> 12.273333 | U30: =AVERAGE(รายเดือน!BE29:BG29) -> 8.75 | V30: =AVERAGE(รายเดือน!BH29:BJ29) -> 8.75 | W30: =AVERAGE(รายเดือน!BK29:BM29) -> 8.75 | X30: =AVERAGE(รายเดือน!BN29:BP29) -> 13.036667 | Y30: =AVERAGE(รายเดือน!BQ29:BS29) -> 16.5 | Z30: =AVERAGE(รายเดือน!BT29:BV29) -> 16.5 | AA30: =AVERAGE(รายเดือน!BW29:BY29) -> 16.5 | AB30: =AVERAGE(รายเดือน!BZ29:CB29) -> 23.56 | AC30: =AVERAGE(รายเดือน!CC29:CE29) -> 27.09 | AD30: =AVERAGE(รายเดือน!CF29:CH29) -> 27.09 | AE30: =AVERAGE(รายเดือน!CI29:CK29) -> 27.09 | AF30: =AVERAGE(รายเดือน!CL29:CN29) -> 12.713333 | AG30: =AVERAGE(รายเดือน!CO29:CQ29) -> 13.5 | AH30: =AVERAGE(รายเดือน!CR29:CT29) -> 13.5 | AI30: =AVERAGE(รายเดือน!CU29:CW29) -> 13.5 | AJ30: =AVERAGE(รายเดือน!CX29:CZ29) -> 17.456667 | AK30: =AVERAGE(รายเดือน!DA29:DC29) -> 23.5 | AL30: =AVERAGE(รายเดือน!DD29:DF29) -> 23.5 | AM30: =AVERAGE(รายเดือน!DG29:DI29) -> 23.5 | AN30: =AVERAGE(รายเดือน!DJ29:DL29) -> 15.593333 | AO30: =AVERAGE(รายเดือน!DM29:DO29) -> 11.54 | AP30: =AVERAGE(รายเดือน!DP29:DR29) -> 11.54 | AQ30: =AVERAGE(รายเดือน!DS29:DU29) -> 11.54 | AR30: =AVERAGE(รายเดือน!DV29:DX29) -> 13.986667 | AS30: =AVERAGE(รายเดือน!DY29:EA29) -> 14.41 | AT30: =AVERAGE(รายเดือน!EB29:ED29) -> 14.41 | AU30: =AVERAGE(รายเดือน!EE29:EG29) -> 14.41 | AV30: =AVERAGE(รายเดือน!EH29:EJ29) -> 23.636667 | AW30: =AVERAGE(รายเดือน!EK29:EM29) -> 29.33 | AX30: =AVERAGE(รายเดือน!EN29:EP29) -> 29.33 | AY30: =AVERAGE(รายเดือน!EQ29:ES29) -> 29.33 | AZ30: =AVERAGE(รายเดือน!ET29:EV29) -> 23.149166 | BA30: =AVERAGE(รายเดือน!EW29:EY29) -> 19.789999 | BB30: =AVERAGE(รายเดือน!EZ29:FB29) -> 19.789999 | BC30: =AVERAGE(รายเดือน!FC29:FE29) -> 19.789999 | BD30: =AVERAGE(รายเดือน!FF29:FH29) -> 19.263333 | BE30: =AVERAGE(รายเดือน!FI29:FK29) -> 13.833333 | BF30: =AVERAGE(รายเดือน!FL29:FN29) -> 13.833333 | BG30: =AVERAGE(รายเดือน!FO29:FQ29) -> 13.833333 | BH30: =AVERAGE(รายเดือน!FR29:FT29) -> 33.677776 | BI30: =AVERAGE(รายเดือน!FU29:FW29) -> 49.499995 | BJ30: =AVERAGE(รายเดือน!FX29:FZ29) -> 49.499995 | BK30: =AVERAGE(รายเดือน!GA29:GC29) -> 49.499995 | BL30: =AVERAGE(รายเดือน!GD29:GF29) -> 31.685331 | BM30: =AVERAGE(รายเดือน!GG29:GI29) -> 22.778 | BN30: =AVERAGE(รายเดือน!GJ29:GL29) -> 22.778 | BO30: =AVERAGE(รายเดือน!GM29:GO29) -> 22.778 | BP30: =AVERAGE(รายเดือน!GP29:GR29) -> 21.137333 | BQ30: =AVERAGE(รายเดือน!GS29:GU29) -> 14.999999 | BR30: =AVERAGE(รายเดือน!GV29:GX29) -> 14.999999 | BS30: =AVERAGE(รายเดือน!GY29:HA29) -> 14.999999 | BT30: =AVERAGE(รายเดือน!HB29:HD29) -> 16.249999 | BU30: =AVERAGE(รายเดือน!HE29:HG29) -> 15.999998 | BV30: =AVERAGE(รายเดือน!HH29:HJ29) -> 15.999998 | BW30: =AVERAGE(รายเดือน!HK29:HM29) -> 15.999998 | BX30: =AVERAGE(รายเดือน!HN29:HP29) -> 23.679998 | BY30: =AVERAGE(รายเดือน!HQ29:HS29) -> 26.999997 | BZ30: =AVERAGE(รายเดือน!HT29:HV29) -> 26.999997 | CA30: =AVERAGE(รายเดือน!HW29:HY29) -> 26.999997 | CB30: =AVERAGE(รายเดือน!HZ29:IB29) -> 26.999997 | CC30: =AVERAGE(รายเดือน!IC29:IE29) -> 26.999997 | CD30: =AVERAGE(รายเดือน!IF29:IH29) -> 26.999997 | CE30: =AVERAGE(รายเดือน!II29:IK29) -> 26.999997 | CF30: =AVERAGE(รายเดือน!IL29:IN29) -> 26.222221 | CG30: =AVERAGE(รายเดือน!IO29:IQ29) -> 24.999998 | CH30: =AVERAGE(รายเดือน!IR29:IT29) -> 24.999998 | CI30: =AVERAGE(รายเดือน!IU29:IW29) -> 24.999998 | CJ30: =AVERAGE(รายเดือน!IX29:IZ29) -> 22.499998
A31: 1.4 กลุ่มพืชผัก
A32: หอมแดงหัวกลาง | B32: บาท/กก. | C32: =AVERAGE(รายเดือน!C31:E31) -> 8.3066667 | D32: =AVERAGE(รายเดือน!F31:H31) -> 12.583333 | E32: =AVERAGE(รายเดือน!I31:K31) -> 13.59 | F32: =AVERAGE(รายเดือน!L31:N31) -> 21.113333 | G32: =AVERAGE(รายเดือน!O31:Q31) -> 17.103333 | H32: =AVERAGE(รายเดือน!R31:T31) -> 21 | I32: =AVERAGE(รายเดือน!U31:W31) -> 21 | J32: =AVERAGE(รายเดือน!X31:Z31) -> 20.5 | K32: =AVERAGE(รายเดือน!AA31:AC31) -> 9.6933333 | L32: =AVERAGE(รายเดือน!AD31:AF31) -> 7.3 | M32: =AVERAGE(รายเดือน!AG31:AI31) -> 7.3 | N32: =AVERAGE(รายเดือน!AJ31:AL31) -> 27.766667 | O32: =AVERAGE(รายเดือน!AM31:AO31) -> 13.47 | P32: =AVERAGE(รายเดือน!AP31:AR31) -> 23.83 | Q32: =AVERAGE(รายเดือน!AS31:AU31) -> 24.83 | R32: =AVERAGE(รายเดือน!AV31:AX31) -> 27.383333 | S32: =AVERAGE(รายเดือน!AY31:BA31) -> 12.27 | T32: =AVERAGE(รายเดือน!BB31:BD31) -> 16.116667 | U32: =AVERAGE(รายเดือน!BE31:BG31) -> 20.5 | V32: =AVERAGE(รายเดือน!BH31:BJ31) -> 19.61 | W32: =AVERAGE(รายเดือน!BK31:BM31) -> 11.43 | X32: =AVERAGE(รายเดือน!BN31:BP31) -> 11.5 | Y32: =AVERAGE(รายเดือน!BQ31:BS31) -> 11.5 | Z32: =AVERAGE(รายเดือน!BT31:BV31) -> 28.666667 | AA32: =AVERAGE(รายเดือน!BW31:BY31) -> 24.536667 | AB32: =AVERAGE(รายเดือน!BZ31:CB31) -> 17.666667 | AC32: =AVERAGE(รายเดือน!CC31:CE31) -> 18.5 | AD32: =AVERAGE(รายเดือน!CF31:CH31) -> 17.333333 | AE32: =AVERAGE(รายเดือน!CI31:CK31) -> 9.7366667 | AF32: =AVERAGE(รายเดือน!CL31:CN31) -> 9.45 | AG32: =AVERAGE(รายเดือน!CO31:CQ31) -> 9.45 | AH32: =AVERAGE(รายเดือน!CR31:CT31) -> 23.083333 | AI32: =AVERAGE(รายเดือน!CU31:CW31) -> 14.333333 | AJ32: =AVERAGE(รายเดือน!CX31:CZ31) -> 13 | AK32: =AVERAGE(รายเดือน!DA31:DC31) -> 13 | AL32: =AVERAGE(รายเดือน!DD31:DF31) -> 19.223333 | AM32: =AVERAGE(รายเดือน!DG31:DI31) -> 13.233333 | AN32: =AVERAGE(รายเดือน!DJ31:DL31) -> 7.7233333 | AO32: =AVERAGE(รายเดือน!DM31:DO31) -> 7.5 | AP32: =AVERAGE(รายเดือน!DP31:DR31) -> 10.916667 | AQ32: =AVERAGE(รายเดือน!DS31:DU31) -> 12.833333 | AR32: =AVERAGE(รายเดือน!DV31:DX31) -> 19.503333 | AS32: =AVERAGE(รายเดือน!DY31:EA31) -> 21 | AT32: =AVERAGE(รายเดือน!EB31:ED31) -> 27.666667 | AU32: =AVERAGE(รายเดือน!EE31:EG31) -> 26.176667 | AV32: =AVERAGE(รายเดือน!EH31:EJ31) -> 20.41 | AW32: =AVERAGE(รายเดือน!EK31:EM31) -> 20.41 | AX32: =AVERAGE(รายเดือน!EN31:EP31) -> 23.725555 | AY32: =AVERAGE(รายเดือน!EQ31:ES31) -> 19.900166 | AZ32: =AVERAGE(รายเดือน!ET31:EV31) -> 26.068333 | BA32: =AVERAGE(รายเดือน!EW31:EY31) -> 26.907499 | BB32: =AVERAGE(รายเดือน!EZ31:FB31) -> 41.885831 | BC32: =AVERAGE(รายเดือน!FC31:FE31) -> 13.094166 | BD32: =AVERAGE(รายเดือน!FF31:FH31) -> 11.999999 | BE32: =AVERAGE(รายเดือน!FI31:FK31) -> 11.999999 | BF32: =AVERAGE(รายเดือน!FL31:FN31) -> 15.999999 | BG32: =AVERAGE(รายเดือน!FO31:FQ31) -> 19.298666 | BH32: =AVERAGE(รายเดือน!FR31:FT31) -> 12.717777 | BI32: =AVERAGE(รายเดือน!FU31:FW31) -> 15 | BJ32: =AVERAGE(รายเดือน!FX31:FZ31) -> 15 | BK32: =AVERAGE(รายเดือน!GA31:GC31) -> 28.665666 | BL32: =AVERAGE(รายเดือน!GD31:GF31) -> 28.149999 | BM32: =AVERAGE(รายเดือน!GG31:GI31) -> 28.149999 | BN32: =AVERAGE(รายเดือน!GJ31:GL31) -> 28.149999 | BO32: =AVERAGE(รายเดือน!GM31:GO31) -> 30.193166 | BP32: =AVERAGE(รายเดือน!GP31:GR31) -> 24.83561 | BQ32: =AVERAGE(รายเดือน!GS31:GU31) -> 26.707499 | BR32: =AVERAGE(รายเดือน!GV31:GX31) -> 29.475 | BS32: =AVERAGE(รายเดือน!GY31:HA31) -> 23.404999 | BT32: =AVERAGE(รายเดือน!HB31:HD31) -> 33.75811 | BU32: =AVERAGE(รายเดือน!HE31:HG31) -> 37.054999 | BV32: =AVERAGE(รายเดือน!HH31:HJ31) -> 41.457499 | BW32: =AVERAGE(รายเดือน!HK31:HM31) -> 33.044999 | BX32: =AVERAGE(รายเดือน!HN31:HP31) -> 34.549997 | BY32: =AVERAGE(รายเดือน!HQ31:HS31) -> 34.549997 | BZ32: =AVERAGE(รายเดือน!HT31:HV31) -> 40.391664 | CA32: =AVERAGE(รายเดือน!HW31:HY31) -> 33.899166 | CB32: =AVERAGE(รายเดือน!HZ31:IB31) -> 40.693332 | CC32: =AVERAGE(รายเดือน!IC31:IE31) -> 40.693332 | CD32: =AVERAGE(รายเดือน!IF31:IH31) -> 41.016665 | CE32: =AVERAGE(รายเดือน!II31:IK31) -> 27.062499 | CF32: =AVERAGE(รายเดือน!IL31:IN31) -> 31.603888 | CG32: =AVERAGE(รายเดือน!IO31:IQ31) -> 31.927499 | CH32: =AVERAGE(รายเดือน!IR31:IT31) -> 33.345832 | CI32: =AVERAGE(รายเดือน!IU31:IW31) -> 22.286166 | CJ32: =AVERAGE(รายเดือน!IX31:IZ31) -> 32.319999
A33: กระเทียมแห้งคละ | B33: บาท/กก. | C33: =AVERAGE(รายเดือน!C32:E32) -> 21.656667 | D33: =AVERAGE(รายเดือน!F32:H32) -> 20.626667 | E33: =AVERAGE(รายเดือน!I32:K32) -> 21.543333 | F33: =AVERAGE(รายเดือน!L32:N32) -> 29.013333 | G33: =AVERAGE(รายเดือน!O32:Q32) -> 27.406667 | H33: =AVERAGE(รายเดือน!R32:T32) -> 29.18 | I33: =AVERAGE(รายเดือน!U32:W32) -> 37.58 | J33: =AVERAGE(รายเดือน!X32:Z32) -> 51.796667 | K33: =AVERAGE(รายเดือน!AA32:AC32) -> 39.356667 | L33: =AVERAGE(รายเดือน!AD32:AF32) -> 35.14 | M33: =AVERAGE(รายเดือน!AG32:AI32) -> 35.14 | N33: =AVERAGE(รายเดือน!AJ32:AL32) -> 35.14 | O33: =AVERAGE(รายเดือน!AM32:AO32) -> 19.643333 | P33: =AVERAGE(รายเดือน!AP32:AR32) -> 17.37 | Q33: =AVERAGE(รายเดือน!AS32:AU32) -> 21.503333 | R33: =AVERAGE(รายเดือน!AV32:AX32) -> 22.5 | S33: =AVERAGE(รายเดือน!AY32:BA32) -> 22.543333 | T33: =AVERAGE(รายเดือน!BB32:BD32) -> 26.046667 | U33: =AVERAGE(รายเดือน!BE32:BG32) -> 45.233333 | V33: =AVERAGE(รายเดือน!BH32:BJ32) -> 70.333333 | W33: =AVERAGE(รายเดือน!BK32:BM32) -> 64.746667 | X33: =AVERAGE(รายเดือน!BN32:BP32) -> 60.59 | Y33: =AVERAGE(รายเดือน!BQ32:BS32) -> 60.59 | Z33: =AVERAGE(รายเดือน!BT32:BV32) -> 60.59 | AA33: =AVERAGE(รายเดือน!BW32:BY32) -> 45.676667 | AB33: =AVERAGE(รายเดือน!BZ32:CB32) -> 34.37 | AC33: =AVERAGE(รายเดือน!CC32:CE32) -> 34.37 | AD33: =AVERAGE(รายเดือน!CF32:CH32) -> 34.37 | AE33: =AVERAGE(รายเดือน!CI32:CK32) -> 77.146667 | AF33: =AVERAGE(รายเดือน!CL32:CN32) -> 29.11 | AG33: =AVERAGE(รายเดือน!CO32:CQ32) -> 29.03 | AH33: =AVERAGE(รายเดือน!CR32:CT32) -> 29.03 | AI33: =AVERAGE(รายเดือน!CU32:CW32) -> 41.323333 | AJ33: =AVERAGE(รายเดือน!CX32:CZ32) -> 45.87 | AK33: =AVERAGE(รายเดือน!DA32:DC32) -> 45.87 | AL33: =AVERAGE(รายเดือน!DD32:DF32) -> 45.87 | AM33: =AVERAGE(รายเดือน!DG32:DI32) -> 69.596667 | AN33: =AVERAGE(รายเดือน!DJ32:DL32) -> 27.52 | AO33: =AVERAGE(รายเดือน!DM32:DO32) -> 27.52 | AP33: =AVERAGE(รายเดือน!DP32:DR32) -> 27.52 | AQ33: =AVERAGE(รายเดือน!DS32:DU32) -> 70.516667 | AR33: =AVERAGE(รายเดือน!DV32:DX32) -> 33.02 | AS33: =AVERAGE(รายเดือน!DY32:EA32) -> 33.02 | AT33: =AVERAGE(รายเดือน!EB32:ED32) -> 33.02 | AU33: =AVERAGE(รายเดือน!EE32:EG32) -> 61.456667 | AV33: =AVERAGE(รายเดือน!EH32:EJ32) -> 82.55 | AW33: =AVERAGE(รายเดือน!EK32:EM32) -> 82.55 | AX33: =AVERAGE(รายเดือน!EN32:EP32) -> 82.55 | AY33: =AVERAGE(รายเดือน!EQ32:ES32) -> 82.549999 | AZ33: =AVERAGE(รายเดือน!ET32:EV32) -> 82.549998 | BA33: =AVERAGE(รายเดือน!EW32:EY32) -> 82.549998 | BB33: =AVERAGE(รายเดือน!EZ32:FB32) -> 82.549998 | BC33: =AVERAGE(รายเดือน!FC32:FE32) -> 91.72408 | BD33: =AVERAGE(รายเดือน!FF32:FH32) -> 75.380663 | BE33: =AVERAGE(รายเดือน!FI32:FK32) -> 39.444332 | BF33: =AVERAGE(รายเดือน!FL32:FN32) -> 42.389998 | BG33: =AVERAGE(รายเดือน!FO32:FQ32) -> 35.249165 | BH33: =AVERAGE(รายเดือน!FR32:FT32) -> 31.415554 | BI33: =AVERAGE(รายเดือน!FU32:FW32) -> 32.909998 | BJ33: =AVERAGE(รายเดือน!FX32:FZ32) -> 32.909998 | BK33: =AVERAGE(รายเดือน!GA32:GC32) -> 35.275832 | BL33: =AVERAGE(รายเดือน!GD32:GF32) -> 37.200665 | BM33: =AVERAGE(รายเดือน!GG32:GI32) -> 44.619996 | BN33: =AVERAGE(รายเดือน!GJ32:GL32) -> 44.619996 | BO33: =AVERAGE(รายเดือน!GM32:GO32) -> 45.078498 | BP33: =AVERAGE(รายเดือน!GP32:GR32) -> 30.212443 | BQ33: =AVERAGE(รายเดือน!GS32:GU32) -> 31.759997 | BR33: =AVERAGE(รายเดือน!GV32:GX32) -> 31.759997 | BS33: =AVERAGE(รายเดือน!GY32:HA32) -> 35.507265 | BT33: =AVERAGE(รายเดือน!HB32:HD32) -> 39.367109 | BU33: =AVERAGE(รายเดือน!HE32:HG32) -> 41.829996 | BV33: =AVERAGE(รายเดือน!HH32:HJ32) -> 41.829996 | BW33: =AVERAGE(รายเดือน!HK32:HM32) -> 73.175831 | BX33: =AVERAGE(รายเดือน!HN32:HP32) -> 65.169993 | BY33: =AVERAGE(รายเดือน!HQ32:HS32) -> 65.169993 | BZ33: =AVERAGE(รายเดือน!HT32:HV32) -> 65.169993 | CA33: =AVERAGE(รายเดือน!HW32:HY32) -> 73.489163 | CB33: =AVERAGE(รายเดือน!HZ32:IB32) -> 72.190832 | CC33: =AVERAGE(รายเดือน!IC32:IE32) -> 79.823331 | CD33: =AVERAGE(รายเดือน!IF32:IH32) -> 79.823331 | CE33: =AVERAGE(รายเดือน!II32:IK32) -> 79.845442 | CF33: =AVERAGE(รายเดือน!IL32:IN32) -> 69.932219 | CG33: =AVERAGE(รายเดือน!IO32:IQ32) -> 63.509997 | CH33: =AVERAGE(รายเดือน!IR32:IT32) -> 63.509997 | CI33: =AVERAGE(รายเดือน!IU32:IW32) -> 72.904331 | CJ33: =AVERAGE(รายเดือน!IX32:IZ32) -> 71.391109
A34: มันฝรั่งโรงงาน | B34: บาท/กก. | C34: =AVERAGE(รายเดือน!C33:E33) -> 8.2533333 | D34: =AVERAGE(รายเดือน!F33:H33) -> 8.13 | E34: =AVERAGE(รายเดือน!I33:K33) -> 11.986667 | F34: =AVERAGE(รายเดือน!L33:N33) -> 12.233333 | G34: =AVERAGE(รายเดือน!O33:Q33) -> 8.7233333 | H34: =AVERAGE(รายเดือน!R33:T33) -> 8.4 | I34: =AVERAGE(รายเดือน!U33:W33) -> 9.5333333 | J34: =AVERAGE(รายเดือน!X33:Z33) -> 10.1 | K34: =AVERAGE(รายเดือน!AA33:AC33) -> 8.1 | L34: =AVERAGE(รายเดือน!AD33:AF33) -> 8.35 | M34: =AVERAGE(รายเดือน!AG33:AI33) -> 8.35 | N34: =AVERAGE(รายเดือน!AJ33:AL33) -> 11.783333 | O34: =AVERAGE(รายเดือน!AM33:AO33) -> 10.356667 | P34: =AVERAGE(รายเดือน!AP33:AR33) -> 8.7 | Q34: =AVERAGE(รายเดือน!AS33:AU33) -> 11.9 | R34: =AVERAGE(รายเดือน!AV33:AX33) -> 13.5 | S34: =AVERAGE(รายเดือน!AY33:BA33) -> 13.37 | T34: =AVERAGE(รายเดือน!BB33:BD33) -> 11.45 | U34: =AVERAGE(รายเดือน!BE33:BG33) -> 12.95 | V34: =AVERAGE(รายเดือน!BH33:BJ33) -> 13.7 | W34: =AVERAGE(รายเดือน!BK33:BM33) -> 10.94 | X34: =AVERAGE(รายเดือน!BN33:BP33) -> 10.65 | Y34: =AVERAGE(รายเดือน!BQ33:BS33) -> 12.683333 | Z34: =AVERAGE(รายเดือน!BT33:BV33) -> 13.7 | AA34: =AVERAGE(รายเดือน!BW33:BY33) -> 11.366667 | AB34: =AVERAGE(รายเดือน!BZ33:CB33) -> 10.75 | AC34: =AVERAGE(รายเดือน!CC33:CE33) -> 10.75 | AD34: =AVERAGE(รายเดือน!CF33:CH33) -> 10.75 | AE34: =AVERAGE(รายเดือน!CI33:CK33) -> 11.316667 | AF34: =AVERAGE(รายเดือน!CL33:CN33) -> 11.636667 | AG34: =AVERAGE(รายเดือน!CO33:CQ33) -> 13.7 | AH34: =AVERAGE(รายเดือน!CR33:CT33) -> 13.7 | AI34: =AVERAGE(รายเดือน!CU33:CW33) -> 11.256667 | AJ34: =AVERAGE(รายเดือน!CX33:CZ33) -> 11.866667 | AK34: =AVERAGE(รายเดือน!DA33:DC33) -> 13.7 | AL34: =AVERAGE(รายเดือน!DD33:DF33) -> 13.7 | AM34: =AVERAGE(รายเดือน!DG33:DI33) -> 12.7 | AN34: =AVERAGE(รายเดือน!DJ33:DL33) -> 12.2 | AO34: =AVERAGE(รายเดือน!DM33:DO33) -> 12.7 | AP34: =AVERAGE(รายเดือน!DP33:DR33) -> 13.7 | AQ34: =AVERAGE(รายเดือน!DS33:DU33) -> 11.516667 | AR34: =AVERAGE(รายเดือน!DV33:DX33) -> 12.1 | AS34: =AVERAGE(รายเดือน!DY33:EA33) -> 12.1 | AT34: =AVERAGE(รายเดือน!EB33:ED33) -> 13.7 | AU34: =AVERAGE(รายเดือน!EE33:EG33) -> 13.17 | AV34: =AVERAGE(รายเดือน!EH33:EJ33) -> 11.01 | AW34: =AVERAGE(รายเดือน!EK33:EM33) -> 13.003333 | AX34: =AVERAGE(รายเดือน!EN33:EP33) -> 14 | AY34: =AVERAGE(รายเดือน!EQ33:ES33) -> 12.033333 | AZ34: =AVERAGE(รายเดือน!ET33:EV33) -> 11.049999 | BA34: =AVERAGE(รายเดือน!EW33:EY33) -> 13.016666 | BB34: =AVERAGE(รายเดือน!EZ33:FB33) -> 14 | BC34: =AVERAGE(รายเดือน!FC33:FE33) -> 12.416666 | BD34: =AVERAGE(รายเดือน!FF33:FH33) -> 11.799444 | BE34: =AVERAGE(รายเดือน!FI33:FK33) -> 13.283333 | BF34: =AVERAGE(รายเดือน!FL33:FN33) -> 14 | BG34: =AVERAGE(รายเดือน!FO33:FQ33) -> 13.684 | BH34: =AVERAGE(รายเดือน!FR33:FT33) -> 13.88 | BI34: =AVERAGE(รายเดือน!FU33:FW33) -> 14 | BJ34: =AVERAGE(รายเดือน!FX33:FZ33) -> 14 | BK34: =AVERAGE(รายเดือน!GA33:GC33) -> 13.0525 | BL34: =AVERAGE(รายเดือน!GD33:GF33) -> 13.49 | BM34: =AVERAGE(รายเดือน!GG33:GI33) -> 14 | BN34: =AVERAGE(รายเดือน!GJ33:GL33) -> 14 | BO34: =AVERAGE(รายเดือน!GM33:GO33) -> 11.25 | BP34: =AVERAGE(รายเดือน!GP33:GR33) -> 11 | BQ34: =AVERAGE(รายเดือน!GS33:GU33) -> 13 | BR34: =AVERAGE(รายเดือน!GV33:GX33) -> 14 | BS34: =AVERAGE(รายเดือน!GY33:HA33) -> 12.19 | BT34: =AVERAGE(รายเดือน!HB33:HD33) -> 11.2 | BU34: =AVERAGE(รายเดือน!HE33:HG33) -> 11.2 | BV34: =AVERAGE(รายเดือน!HH33:HJ33) -> 11.2 | BW34: =AVERAGE(รายเดือน!HK33:HM33) -> 12.4 | BX34: =AVERAGE(รายเดือน!HN33:HP33) -> 13 | BY34: =AVERAGE(รายเดือน!HQ33:HS33) -> 13 | BZ34: =AVERAGE(รายเดือน!HT33:HV33) -> 12.75 | CA34: =AVERAGE(รายเดือน!HW33:HY33) -> 12.9125 | CB34: =AVERAGE(รายเดือน!HZ33:IB33) -> 13.273333 | CC34: =AVERAGE(รายเดือน!IC33:IE33) -> 13.25 | CD34: =AVERAGE(รายเดือน!IF33:IH33) -> 13.25 | CE34: =AVERAGE(รายเดือน!II33:IK33) -> 13.243333 | CF34: =AVERAGE(รายเดือน!IL33:IN33) -> 13.24 | CG34: =AVERAGE(รายเดือน!IO33:IQ33) -> 13.243333 | CH34: =AVERAGE(รายเดือน!IR33:IT33) -> 13.33 | CI34: =AVERAGE(รายเดือน!IU33:IW33) -> 13.468333 | CJ34: =AVERAGE(รายเดือน!IX33:IZ33) -> 13.134999
A35: หอมหัวใหญ่เบอร์ 1 | B35: บาท/กก. | C35: =AVERAGE(รายเดือน!C34:E34) -> 4.5733333 | D35: =AVERAGE(รายเดือน!F34:H34) -> 5.9833333 | E35: =AVERAGE(รายเดือน!I34:K34) -> 7.62 | F35: =AVERAGE(รายเดือน!L34:N34) -> 7.62 | G35: =AVERAGE(รายเดือน!O34:Q34) -> 7.8466667 | H35: =AVERAGE(รายเดือน!R34:T34) -> 9.0266667 | I35: =AVERAGE(รายเดือน!U34:W34) -> 8.83 | J35: =AVERAGE(รายเดือน!X34:Z34) -> 13.733333 | K35: =AVERAGE(รายเดือน!AA34:AC34) -> 7.8766667 | L35: =AVERAGE(รายเดือน!AD34:AF34) -> 4.13 | M35: =AVERAGE(รายเดือน!AG34:AI34) -> 4.13 | N35: =AVERAGE(รายเดือน!AJ34:AL34) -> 4.13 | O35: =AVERAGE(รายเดือน!AM34:AO34) -> 3.4566667 | P35: =AVERAGE(รายเดือน!AP34:AR34) -> 5 | Q35: =AVERAGE(รายเดือน!AS34:AU34) -> 5 | R35: =AVERAGE(รายเดือน!AV34:AX34) -> 6.25 | S35: =AVERAGE(รายเดือน!AY34:BA34) -> 4.6766667 | T35: =AVERAGE(รายเดือน!BB34:BD34) -> 9 | U35: =AVERAGE(รายเดือน!BE34:BG34) -> 9 | V35: =AVERAGE(รายเดือน!BH34:BJ34) -> 10.5 | W35: =AVERAGE(รายเดือน!BK34:BM34) -> 11.91 | X35: =AVERAGE(รายเดือน!BN34:BP34) -> 9.51 | Y35: =AVERAGE(รายเดือน!BQ34:BS34) -> 9.51 | Z35: =AVERAGE(รายเดือน!BT34:BV34) -> 9.51 | AA35: =AVERAGE(รายเดือน!BW34:BY34) -> 14.023333 | AB35: =AVERAGE(รายเดือน!BZ34:CB34) -> 11 | AC35: =AVERAGE(รายเดือน!CC34:CE34) -> 11 | AD35: =AVERAGE(รายเดือน!CF34:CH34) -> 11 | AE35: =AVERAGE(รายเดือน!CI34:CK34) -> 5.95 | AF35: =AVERAGE(รายเดือน!CL34:CN34) -> 5.51 | AG35: =AVERAGE(รายเดือน!CO34:CQ34) -> 5.51 | AH35: =AVERAGE(รายเดือน!CR34:CT34) -> 7.84 | AI35: =AVERAGE(รายเดือน!CU34:CW34) -> 9.83 | AJ35: =AVERAGE(รายเดือน!CX34:CZ34) -> 9.83 | AK35: =AVERAGE(รายเดือน!DA34:DC34) -> 9.83 | AL35: =AVERAGE(รายเดือน!DD34:DF34) -> 9.83 | AM35: =AVERAGE(รายเดือน!DG34:DI34) -> 10.14 | AN35: =AVERAGE(รายเดือน!DJ34:DL34) -> 10.32 | AO35: =AVERAGE(รายเดือน!DM34:DO34) -> 10.32 | AP35: =AVERAGE(รายเดือน!DP34:DR34) -> 10.32 | AQ35: =AVERAGE(รายเดือน!DS34:DU34) -> 8.9833333 | AR35: =AVERAGE(รายเดือน!DV34:DX34) -> 7.92 | AS35: =AVERAGE(รายเดือน!DY34:EA34) -> 7.92 | AT35: =AVERAGE(รายเดือน!EB34:ED34) -> 7.92 | AU35: =AVERAGE(รายเดือน!EE34:EG34) -> 13.536667 | AV35: =AVERAGE(รายเดือน!EH34:EJ34) -> 12 | AW35: =AVERAGE(รายเดือน!EK34:EM34) -> 12 | AX35: =AVERAGE(รายเดือน!EN34:EP34) -> 12 | AY35: =AVERAGE(รายเดือน!EQ34:ES34) -> 14.669833 | AZ35: =AVERAGE(รายเดือน!ET34:EV34) -> 14.415 | BA35: =AVERAGE(รายเดือน!EW34:EY34) -> 14.415 | BB35: =AVERAGE(รายเดือน!EZ34:FB34) -> 14.415 | BC35: =AVERAGE(รายเดือน!FC34:FE34) -> 10.25 | BD35: =AVERAGE(รายเดือน!FF34:FH34) -> 5.4999997 | BE35: =AVERAGE(รายเดือน!FI34:FK34) -> 5.4999997 | BF35: =AVERAGE(รายเดือน!FL34:FN34) -> 5.4999997 | BG35: =AVERAGE(รายเดือน!FO34:FQ34) -> 10.473889 | BH35: =AVERAGE(รายเดือน!FR34:FT34) -> 11.886666 | BI35: =AVERAGE(รายเดือน!FU34:FW34) -> 11.886666 | BJ35: =AVERAGE(รายเดือน!FX34:FZ34) -> 11.886666 | BK35: =AVERAGE(รายเดือน!GA34:GC34) -> 9.9327773 | BL35: =AVERAGE(รายเดือน!GD34:GF34) -> 6.2999994 | BM35: =AVERAGE(รายเดือน!GG34:GI34) -> 6.2999994 | BN35: =AVERAGE(รายเดือน!GJ34:GL34) -> 6.2999994 | BO35: =AVERAGE(รายเดือน!GM34:GO34) -> 9.333333 | BP35: =AVERAGE(รายเดือน!GP34:GR34) -> 6.7499998 | BQ35: =AVERAGE(รายเดือน!GS34:GU34) -> 6.7499998 | BR35: =AVERAGE(รายเดือน!GV34:GX34) -> 6.7499998 | BS35: =AVERAGE(รายเดือน!GY34:HA34) -> 12.754999 | BT35: =AVERAGE(รายเดือน!HB34:HD34) -> 11.03 | BU35: =AVERAGE(รายเดือน!HE34:HG34) -> 11.03 | BV35: =AVERAGE(รายเดือน!HH34:HJ34) -> 11.03 | BW35: =AVERAGE(รายเดือน!HK34:HM34) -> 14.09 | BX35: =AVERAGE(รายเดือน!HN34:HP34) -> 14.969999 | BY35: =AVERAGE(รายเดือน!HQ34:HS34) -> 14.969999 | BZ35: =AVERAGE(รายเดือน!HT34:HV34) -> 14.969999 | CA35: =AVERAGE(รายเดือน!HW34:HY34) -> 13.963332 | CB35: =AVERAGE(รายเดือน!HZ34:IB34) -> 11.629999 | CC35: =AVERAGE(รายเดือน!IC34:IE34) -> 11.629999 | CD35: =AVERAGE(รายเดือน!IF34:IH34) -> 11.629999 | CE35: =AVERAGE(รายเดือน!II34:IK34) -> 11.826277 | CF35: =AVERAGE(รายเดือน!IL34:IN34) -> 11.579999 | CG35: =AVERAGE(รายเดือน!IO34:IQ34) -> 11.579999 | CH35: =AVERAGE(รายเดือน!IR34:IT34) -> 11.579999 | CI35: =AVERAGE(รายเดือน!IU34:IW34) -> 9.6619998 | CJ35: =AVERAGE(รายเดือน!IX34:IZ34) -> 5.0659999
A36: 1.5 กลุ่มพืชน้ำมัน
A37: ปาล์มน้ำมันทั้งทะลายคละ | B37: บาท/กก. | C37: =AVERAGE(รายเดือน!C36:E36) -> 2.4233333 | D37: =AVERAGE(รายเดือน!F36:H36) -> 2.5833333 | E37: =AVERAGE(รายเดือน!I36:K36) -> 3.13 | F37: =AVERAGE(รายเดือน!L36:N36) -> 2.9166667 | G37: =AVERAGE(รายเดือน!O36:Q36) -> 2.6633333 | H37: =AVERAGE(รายเดือน!R36:T36) -> 1.9766667 | I37: =AVERAGE(รายเดือน!U36:W36) -> 2.3833333 | J37: =AVERAGE(รายเดือน!X36:Z36) -> 2.68 | K37: =AVERAGE(รายเดือน!AA36:AC36) -> 3.0233333 | L37: =AVERAGE(รายเดือน!AD36:AF36) -> 3.8533333 | M37: =AVERAGE(รายเดือน!AG36:AI36) -> 4.2433333 | N37: =AVERAGE(รายเดือน!AJ36:AL36) -> 4.9133333 | O37: =AVERAGE(รายเดือน!AM36:AO36) -> 5.3433333 | P37: =AVERAGE(รายเดือน!AP36:AR36) -> 4.82 | Q37: =AVERAGE(รายเดือน!AS36:AU36) -> 4.5866667 | R37: =AVERAGE(รายเดือน!AV36:AX36) -> 2.7066667 | S37: =AVERAGE(รายเดือน!AY36:BA36) -> 3.3666667 | T37: =AVERAGE(รายเดือน!BB36:BD36) -> 3.8333333 | U37: =AVERAGE(รายเดือน!BE36:BG36) -> 3.58 | V37: =AVERAGE(รายเดือน!BH36:BJ36) -> 3.82 | W37: =AVERAGE(รายเดือน!BK36:BM36) -> 3.6433333 | X37: =AVERAGE(รายเดือน!BN36:BP36) -> 3.5533333 | Y37: =AVERAGE(รายเดือน!BQ36:BS36) -> 4.48 | Z37: =AVERAGE(รายเดือน!BT36:BV36) -> 6.0733333 | AA37: =AVERAGE(รายเดือน!BW36:BY36) -> 6.9433333 | AB37: =AVERAGE(รายเดือน!BZ36:CB36) -> 5.14 | AC37: =AVERAGE(รายเดือน!CC36:CE36) -> 4.9433333 | AD37: =AVERAGE(รายเดือน!CF36:CH36) -> 4.5366667 | AE37: =AVERAGE(รายเดือน!CI36:CK36) -> 5.3533333 | AF37: =AVERAGE(รายเดือน!CL36:CN36) -> 5.3233333 | AG37: =AVERAGE(รายเดือน!CO36:CQ36) -> 4.95 | AH37: =AVERAGE(รายเดือน!CR36:CT36) -> 3.4633333 | AI37: =AVERAGE(รายเดือน!CU36:CW36) -> 3.3566667 | AJ37: =AVERAGE(รายเดือน!CX36:CZ36) -> 3.2133333 | AK37: =AVERAGE(รายเดือน!DA36:DC36) -> 3.5066667 | AL37: =AVERAGE(รายเดือน!DD36:DF36) -> 4.39 | AM37: =AVERAGE(รายเดือน!DG36:DI36) -> 5.1366667 | AN37: =AVERAGE(รายเดือน!DJ36:DL36) -> 3.5433333 | AO37: =AVERAGE(รายเดือน!DM36:DO36) -> 4.1066667 | AP37: =AVERAGE(รายเดือน!DP36:DR36) -> 4.63 | AQ37: =AVERAGE(รายเดือน!DS36:DU36) -> 5.0666667 | AR37: =AVERAGE(รายเดือน!DV36:DX36) -> 3.7 | AS37: =AVERAGE(รายเดือน!DY36:EA36) -> 3.49 | AT37: =AVERAGE(รายเดือน!EB36:ED36) -> 4.2033333 | AU37: =AVERAGE(รายเดือน!EE36:EG36) -> 4.8633333 | AV37: =AVERAGE(รายเดือน!EH36:EJ36) -> 5.2666667 | AW37: =AVERAGE(รายเดือน!EK36:EM36) -> 6.0966667 | AX37: =AVERAGE(รายเดือน!EN36:EP36) -> 5.4851665 | AY37: =AVERAGE(รายเดือน!EQ36:ES36) -> 5.3803332 | AZ37: =AVERAGE(รายเดือน!ET36:EV36) -> 4.0709999 | BA37: =AVERAGE(รายเดือน!EW36:EY36) -> 3.5678333 | BB37: =AVERAGE(รายเดือน!EZ36:FB36) -> 3.2064999 | BC37: =AVERAGE(รายเดือน!FC36:FE36) -> 3.1018333 | BD37: =AVERAGE(รายเดือน!FF36:FH36) -> 3.3043332 | BE37: =AVERAGE(รายเดือน!FI36:FK36) -> 3.2589999 | BF37: =AVERAGE(รายเดือน!FL36:FN36) -> 2.6149444 | BG37: =AVERAGE(รายเดือน!FO36:FQ36) -> 2.3836666 | BH37: =AVERAGE(รายเดือน!FR36:FT36) -> 2.2749444 | BI37: =AVERAGE(รายเดือน!FU36:FW36) -> 2.5359999 | BJ37: =AVERAGE(รายเดือน!FX36:FZ36) -> 3.656111 | BK37: =AVERAGE(รายเดือน!GA36:GC36) -> 5.3193332 | BL37: =AVERAGE(รายเดือน!GD36:GF36) -> 2.9911666 | BM37: =AVERAGE(รายเดือน!GG36:GI36) -> 3.6558332 | BN37: =AVERAGE(รายเดือน!GJ36:GL36) -> 6.2669999 | BO37: =AVERAGE(รายเดือน!GM36:GO36) -> 6.2478332 | BP37: =AVERAGE(รายเดือน!GP36:GR36) -> 5.2848332 | BQ37: =AVERAGE(รายเดือน!GS36:GU36) -> 6.7536665 | BR37: =AVERAGE(รายเดือน!GV36:GX36) -> 8.5858331 | BS37: =AVERAGE(รายเดือน!GY36:HA36) -> 9.5008331 | BT37: =AVERAGE(รายเดือน!HB36:HD36) -> 9.7799997 | BU37: =AVERAGE(รายเดือน!HE36:HG36) -> 6.0949999 | BV37: =AVERAGE(รายเดือน!HH36:HJ36) -> 5.2171665 | BW37: =AVERAGE(รายเดือน!HK36:HM36) -> 4.9058332 | BX37: =AVERAGE(รายเดือน!HN36:HP36) -> 5.4082221 | BY37: =AVERAGE(รายเดือน!HQ36:HS36) -> 5.2893332 | BZ37: =AVERAGE(รายเดือน!HT36:HV36) -> 5.5084999 | CA37: =AVERAGE(รายเดือน!HW36:HY36) -> 5.6591665 | CB37: =AVERAGE(รายเดือน!HZ36:IB36) -> 4.4116666 | CC37: =AVERAGE(รายเดือน!IC36:IE36) -> 5.7483332 | CD37: =AVERAGE(รายเดือน!IF36:IH36) -> 7.7091665 | CE37: =AVERAGE(รายเดือน!II36:IK36) -> 7.7289998 | CF37: =AVERAGE(รายเดือน!IL36:IN36) -> 4.4135554 | CG37: =AVERAGE(รายเดือน!IO36:IQ36) -> 6.3763332 | CH37: =AVERAGE(รายเดือน!IR36:IT36) -> 6.6816665 | CI37: =AVERAGE(รายเดือน!IU36:IW36) -> 6.6414998 | CJ37: =AVERAGE(รายเดือน!IX36:IZ36) -> 7.2076665
A38: มะพร้าวผลแก่ขนาดใหญ่ | B38: บาท/ร้อยผล | C38: =AVERAGE(รายเดือน!C37:E37) -> 451.33333 | D38: =AVERAGE(รายเดือน!F37:H37) -> 424.33333 | E38: =AVERAGE(รายเดือน!I37:K37) -> 387.66667 | F38: =AVERAGE(รายเดือน!L37:N37) -> 520 | G38: =AVERAGE(รายเดือน!O37:Q37) -> 708.66667 | H38: =AVERAGE(รายเดือน!R37:T37) -> 636 | I38: =AVERAGE(รายเดือน!U37:W37) -> 462 | J38: =AVERAGE(รายเดือน!X37:Z37) -> 539.66667 | K38: =AVERAGE(รายเดือน!AA37:AC37) -> 523.33333 | L38: =AVERAGE(รายเดือน!AD37:AF37) -> 421 | M38: =AVERAGE(รายเดือน!AG37:AI37) -> 337.33333 | N38: =AVERAGE(รายเดือน!AJ37:AL37) -> 404.66667 | O38: =AVERAGE(รายเดือน!AM37:AO37) -> 481 | P38: =AVERAGE(รายเดือน!AP37:AR37) -> 615.66667 | Q38: =AVERAGE(รายเดือน!AS37:AU37) -> 607.66667 | R38: =AVERAGE(รายเดือน!AV37:AX37) -> 680 | S38: =AVERAGE(รายเดือน!AY37:BA37) -> 648 | T38: =AVERAGE(รายเดือน!BB37:BD37) -> 619 | U38: =AVERAGE(รายเดือน!BE37:BG37) -> 528.66667 | V38: =AVERAGE(รายเดือน!BH37:BJ37) -> 528 | W38: =AVERAGE(รายเดือน!BK37:BM37) -> 543 | X38: =AVERAGE(รายเดือน!BN37:BP37) -> 580.66667 | Y38: =AVERAGE(รายเดือน!BQ37:BS37) -> 585.33333 | Z38: =AVERAGE(รายเดือน!BT37:BV37) -> 886.33333 | AA38: =AVERAGE(รายเดือน!BW37:BY37) -> 1419 | AB38: =AVERAGE(รายเดือน!BZ37:CB37) -> 1401.3333 | AC38: =AVERAGE(รายเดือน!CC37:CE37) -> 1247 | AD38: =AVERAGE(รายเดือน!CF37:CH37) -> 1245.6667 | AE38: =AVERAGE(รายเดือน!CI37:CK37) -> 1191.3333 | AF38: =AVERAGE(รายเดือน!CL37:CN37) -> 633.66667 | AG38: =AVERAGE(รายเดือน!CO37:CQ37) -> 324.66667 | AH38: =AVERAGE(รายเดือน!CR37:CT37) -> 350.33333 | AI38: =AVERAGE(รายเดือน!CU37:CW37) -> 495.33333 | AJ38: =AVERAGE(รายเดือน!CX37:CZ37) -> 732.66667 | AK38: =AVERAGE(รายเดือน!DA37:DC37) -> 773.33333 | AL38: =AVERAGE(รายเดือน!DD37:DF37) -> 1394.6667 | AM38: =AVERAGE(รายเดือน!DG37:DI37) -> 1541.6667 | AN38: =AVERAGE(รายเดือน!DJ37:DL37) -> 1352.6667 | AO38: =AVERAGE(รายเดือน!DM37:DO37) -> 831.66667 | AP38: =AVERAGE(รายเดือน!DP37:DR37) -> 929 | AQ38: =AVERAGE(รายเดือน!DS37:DU37) -> 986 | AR38: =AVERAGE(รายเดือน!DV37:DX37) -> 996.33333 | AS38: =AVERAGE(รายเดือน!DY37:EA37) -> 735.66667 | AT38: =AVERAGE(รายเดือน!EB37:ED37) -> 1256.6667 | AU38: =AVERAGE(รายเดือน!EE37:EG37) -> 1749 | AV38: =AVERAGE(รายเดือน!EH37:EJ37) -> 1358.6667 | AW38: =AVERAGE(รายเดือน!EK37:EM37) -> 1150.6667 | AX38: =AVERAGE(รายเดือน!EN37:EP37) -> 1635.2683 | AY38: =AVERAGE(รายเดือน!EQ37:ES37) -> 1821.8336 | AZ38: =AVERAGE(รายเดือน!ET37:EV37) -> 1739.7086 | BA38: =AVERAGE(รายเดือน!EW37:EY37) -> 1573.0775 | BB38: =AVERAGE(รายเดือน!EZ37:FB37) -> 1676.6668 | BC38: =AVERAGE(รายเดือน!FC37:FE37) -> 1496.5955 | BD38: =AVERAGE(รายเดือน!FF37:FH37) -> 936.0712 | BE38: =AVERAGE(รายเดือน!FI37:FK37) -> 535.07015 | BF38: =AVERAGE(รายเดือน!FL37:FN37) -> 498.97305 | BG38: =AVERAGE(รายเดือน!FO37:FQ37) -> 619.38649 | BH38: =AVERAGE(รายเดือน!FR37:FT37) -> 688.32576 | BI38: =AVERAGE(รายเดือน!FU37:FW37) -> 687.84398 | BJ38: =AVERAGE(รายเดือน!FX37:FZ37) -> 1169.4081 | BK38: =AVERAGE(รายเดือน!GA37:GC37) -> 1582.6048 | BL38: =AVERAGE(รายเดือน!GD37:GF37) -> 1315.5446 | BM38: =AVERAGE(รายเดือน!GG37:GI37) -> 1256.1163 | BN38: =AVERAGE(รายเดือน!GJ37:GL37) -> 1689.9025 | BO38: =AVERAGE(รายเดือน!GM37:GO37) -> 1546.884 | BP38: =AVERAGE(รายเดือน!GP37:GR37) -> 1230.3902 | BQ38: =AVERAGE(รายเดือน!GS37:GU37) -> 881.77915 | BR38: =AVERAGE(รายเดือน!GV37:GX37) -> 1231.1308 | BS38: =AVERAGE(รายเดือน!GY37:HA37) -> 1297.3233 | BT38: =AVERAGE(รายเดือน!HB37:HD37) -> 1098.4278 | BU38: =AVERAGE(รายเดือน!HE37:HG37) -> 816.50765 | BV38: =AVERAGE(รายเดือน!HH37:HJ37) -> 951.56114 | BW38: =AVERAGE(รายเดือน!HK37:HM37) -> 1111.6525 | BX38: =AVERAGE(รายเดือน!HN37:HP37) -> 994.27597 | BY38: =AVERAGE(รายเดือน!HQ37:HS37) -> 800.74498 | BZ38: =AVERAGE(รายเดือน!HT37:HV37) -> 1102.8925 | CA38: =AVERAGE(รายเดือน!HW37:HY37) -> 1503.3958 | CB38: =AVERAGE(รายเดือน!HZ37:IB37) -> 1448.3258 | CC38: =AVERAGE(รายเดือน!IC37:IE37) -> 1374.4566 | CD38: =AVERAGE(รายเดือน!IF37:IH37) -> 2113.8624 | CE38: =AVERAGE(รายเดือน!II37:IK37) -> 2078.8706 | CF38: =AVERAGE(รายเดือน!IL37:IN37) -> 2002.2373 | CG38: =AVERAGE(รายเดือน!IO37:IQ37) -> 1660.6751 | CH38: =AVERAGE(รายเดือน!IR37:IT37) -> 1682.6925 | CI38: =AVERAGE(รายเดือน!IU37:IW37) -> 1185.988 | CJ38: =AVERAGE(รายเดือน!IX37:IZ37) -> 793.67559
A39: ถั่วเหลืองคละ | B39: บาท/กก. | C39: =AVERAGE(รายเดือน!C38:E38) -> 11.806667 | D39: =AVERAGE(รายเดือน!F38:H38) -> 10.51 | E39: =AVERAGE(รายเดือน!I38:K38) -> 10.816667 | F39: =AVERAGE(รายเดือน!L38:N38) -> 9.84 | G39: =AVERAGE(รายเดือน!O38:Q38) -> 10.25 | H39: =AVERAGE(รายเดือน!R38:T38) -> 10.07 | I39: =AVERAGE(รายเดือน!U38:W38) -> 10.623333 | J39: =AVERAGE(รายเดือน!X38:Z38) -> 10.91 | K39: =AVERAGE(รายเดือน!AA38:AC38) -> 11.076667 | L39: =AVERAGE(รายเดือน!AD38:AF38) -> 10.186667 | M39: =AVERAGE(รายเดือน!AG38:AI38) -> 11.23 | N39: =AVERAGE(รายเดือน!AJ38:AL38) -> 12.843333 | O39: =AVERAGE(รายเดือน!AM38:AO38) -> 16.373333 | P39: =AVERAGE(รายเดือน!AP38:AR38) -> 17.243333 | Q39: =AVERAGE(รายเดือน!AS38:AU38) -> 17.346667 | R39: =AVERAGE(รายเดือน!AV38:AX38) -> 15.9 | S39: =AVERAGE(รายเดือน!AY38:BA38) -> 15.476667 | T39: =AVERAGE(รายเดือน!BB38:BD38) -> 14.56 | U39: =AVERAGE(รายเดือน!BE38:BG38) -> 13.983333 | V39: =AVERAGE(รายเดือน!BH38:BJ38) -> 14.31 | W39: =AVERAGE(รายเดือน!BK38:BM38) -> 14.55 | X39: =AVERAGE(รายเดือน!BN38:BP38) -> 14.06 | Y39: =AVERAGE(รายเดือน!BQ38:BS38) -> 14.06 | Z39: =AVERAGE(รายเดือน!BT38:BV38) -> 14.49 | AA39: =AVERAGE(รายเดือน!BW38:BY38) -> 15.133333 | AB39: =AVERAGE(รายเดือน!BZ38:CB38) -> 14.32 | AC39: =AVERAGE(รายเดือน!CC38:CE38) -> 13.84 | AD39: =AVERAGE(รายเดือน!CF38:CH38) -> 15.31 | AE39: =AVERAGE(รายเดือน!CI38:CK38) -> 14.636667 | AF39: =AVERAGE(รายเดือน!CL38:CN38) -> 16.686667 | AG39: =AVERAGE(รายเดือน!CO38:CQ38) -> 17.28 | AH39: =AVERAGE(รายเดือน!CR38:CT38) -> 18.566667 | AI39: =AVERAGE(รายเดือน!CU38:CW38) -> 18.243333 | AJ39: =AVERAGE(รายเดือน!CX38:CZ38) -> 19.27 | AK39: =AVERAGE(รายเดือน!DA38:DC38) -> 19.183333 | AL39: =AVERAGE(รายเดือน!DD38:DF38) -> 17.906667 | AM39: =AVERAGE(รายเดือน!DG38:DI38) -> 18.96 | AN39: =AVERAGE(รายเดือน!DJ38:DL38) -> 19.756667 | AO39: =AVERAGE(รายเดือน!DM38:DO38) -> 18.233333 | AP39: =AVERAGE(รายเดือน!DP38:DR38) -> 15.486667 | AQ39: =AVERAGE(รายเดือน!DS38:DU38) -> 14.406667 | AR39: =AVERAGE(รายเดือน!DV38:DX38) -> 15.373333 | AS39: =AVERAGE(รายเดือน!DY38:EA38) -> 15.303333 | AT39: =AVERAGE(รายเดือน!EB38:ED38) -> 15.21 | AU39: =AVERAGE(รายเดือน!EE38:EG38) -> 15.233333 | AV39: =AVERAGE(รายเดือน!EH38:EJ38) -> 14.38 | AW39: =AVERAGE(รายเดือน!EK38:EM38) -> 14.203333 | AX39: =AVERAGE(รายเดือน!EN38:EP38) -> 13.732666 | AY39: =AVERAGE(รายเดือน!EQ38:ES38) -> 14.817777 | AZ39: =AVERAGE(รายเดือน!ET38:EV38) -> 16.898333 | BA39: =AVERAGE(รายเดือน!EW38:EY38) -> 13.172222 | BB39: =AVERAGE(รายเดือน!EZ38:FB38) -> 15.05 | BC39: =AVERAGE(รายเดือน!FC38:FE38) -> 16.361666 | BD39: =AVERAGE(รายเดือน!FF38:FH38) -> 16.962499 | BE39: =AVERAGE(รายเดือน!FI38:FK38) -> 16.599999 | BF39: =AVERAGE(รายเดือน!FL38:FN38) -> 16.900666 | BG39: =AVERAGE(รายเดือน!FO38:FQ38) -> 16.335166 | BH39: =AVERAGE(รายเดือน!FR38:FT38) -> 17.444999 | BI39: =AVERAGE(รายเดือน!FU38:FW38) -> 16.229999 | BJ39: =AVERAGE(รายเดือน!FX38:FZ38) -> 15.616666 | BK39: =AVERAGE(รายเดือน!GA38:GC38) -> 16.414499 | BL39: =AVERAGE(รายเดือน!GD38:GF38) -> 17.587666 | BM39: =AVERAGE(รายเดือน!GG38:GI38) -> 16.597222 | BN39: =AVERAGE(รายเดือน!GJ38:GL38) -> 17.210833 | BO39: =AVERAGE(รายเดือน!GM38:GO38) -> 17.064333 | BP39: =AVERAGE(รายเดือน!GP38:GR38) -> 17.928888 | BQ39: =AVERAGE(รายเดือน!GS38:GU38) -> 18.03 | BR39: =AVERAGE(รายเดือน!GV38:GX38) -> 16.359999 | BS39: =AVERAGE(รายเดือน!GY38:HA38) -> 16.949165 | BT39: =AVERAGE(รายเดือน!HB38:HD38) -> 19.537777 | BU39: =AVERAGE(รายเดือน!HE38:HG38) -> 20.499999 | BV39: =AVERAGE(รายเดือน!HH38:HJ38) -> 19.361111 | BW39: =AVERAGE(รายเดือน!HK38:HM38) -> 25.545833 | BX39: =AVERAGE(รายเดือน!HN38:HP38) -> 21.716888 | BY39: =AVERAGE(รายเดือน!HQ38:HS38) -> 22.942499 | BZ39: =AVERAGE(รายเดือน!HT38:HV38) -> 18.439666 | CA39: =AVERAGE(รายเดือน!HW38:HY38) -> 17.649999 | CB39: =AVERAGE(รายเดือน!HZ38:IB38) -> 19.652499 | CC39: =AVERAGE(รายเดือน!IC38:IE38) -> 17.166666 | CD39: =AVERAGE(รายเดือน!IF38:IH38) -> 17.034166 | CE39: =AVERAGE(รายเดือน!II38:IK38) -> 17.093333 | CF39: =AVERAGE(รายเดือน!IL38:IN38) -> 20.032499 | CG39: =AVERAGE(รายเดือน!IO38:IQ38) -> 19.999998 | CH39: =AVERAGE(รายเดือน!IR38:IT38) -> 17.84 | CI39: =AVERAGE(รายเดือน!IU38:IW38) -> 17.944666 | CJ39: =AVERAGE(รายเดือน!IX38:IZ38) -> 19
A40: ถั่วลิสงเปลือกแห้ง | B40: บาท/กก. | C40: =AVERAGE(รายเดือน!C39:E39) -> 15 | D40: =AVERAGE(รายเดือน!F39:H39) -> 15.586667 | E40: =AVERAGE(รายเดือน!I39:K39) -> 13.87 | F40: =AVERAGE(รายเดือน!L39:N39) -> 14.376667 | G40: =AVERAGE(รายเดือน!O39:Q39) -> 15.106667 | H40: =AVERAGE(รายเดือน!R39:T39) -> 16.366667 | I40: =AVERAGE(รายเดือน!U39:W39) -> 12.886667 | J40: =AVERAGE(รายเดือน!X39:Z39) -> 11.95 | K40: =AVERAGE(รายเดือน!AA39:AC39) -> 13.41 | L40: =AVERAGE(รายเดือน!AD39:AF39) -> 15.063333 | M40: =AVERAGE(รายเดือน!AG39:AI39) -> 14.64 | N40: =AVERAGE(รายเดือน!AJ39:AL39) -> 14.523333 | O40: =AVERAGE(รายเดือน!AM39:AO39) -> 15.38 | P40: =AVERAGE(รายเดือน!AP39:AR39) -> 17.706667 | Q40: =AVERAGE(รายเดือน!AS39:AU39) -> 18.676667 | R40: =AVERAGE(รายเดือน!AV39:AX39) -> 19.08 | S40: =AVERAGE(รายเดือน!AY39:BA39) -> 19.496667 | T40: =AVERAGE(รายเดือน!BB39:BD39) -> 20.606667 | U40: =AVERAGE(รายเดือน!BE39:BG39) -> 19.89 | V40: =AVERAGE(รายเดือน!BH39:BJ39) -> 21.833333 | W40: =AVERAGE(รายเดือน!BK39:BM39) -> 20.62 | X40: =AVERAGE(รายเดือน!BN39:BP39) -> 20.86 | Y40: =AVERAGE(รายเดือน!BQ39:BS39) -> 20.763333 | Z40: =AVERAGE(รายเดือน!BT39:BV39) -> 20.61 | AA40: =AVERAGE(รายเดือน!BW39:BY39) -> 20.486667 | AB40: =AVERAGE(รายเดือน!BZ39:CB39) -> 22.82 | AC40: =AVERAGE(รายเดือน!CC39:CE39) -> 24.55 | AD40: =AVERAGE(รายเดือน!CF39:CH39) -> 24.8 | AE40: =AVERAGE(รายเดือน!CI39:CK39) -> 25.796667 | AF40: =AVERAGE(รายเดือน!CL39:CN39) -> 25.65 | AG40: =AVERAGE(รายเดือน!CO39:CQ39) -> 24.333333 | AH40: =AVERAGE(รายเดือน!CR39:CT39) -> 34.243333 | AI40: =AVERAGE(รายเดือน!CU39:CW39) -> 40.083333 | AJ40: =AVERAGE(รายเดือน!CX39:CZ39) -> 37.723333 | AK40: =AVERAGE(รายเดือน!DA39:DC39) -> 39.973333 | AL40: =AVERAGE(รายเดือน!DD39:DF39) -> 44.933333 | AM40: =AVERAGE(รายเดือน!DG39:DI39) -> 42.333333 | AN40: =AVERAGE(รายเดือน!DJ39:DL39) -> 37.223333 | AO40: =AVERAGE(รายเดือน!DM39:DO39) -> 38.203333 | AP40: =AVERAGE(รายเดือน!DP39:DR39) -> 45.883333 | AQ40: =AVERAGE(รายเดือน!DS39:DU39) -> 39 | AR40: =AVERAGE(รายเดือน!DV39:DX39) -> 41.333333 | AS40: =AVERAGE(รายเดือน!DY39:EA39) -> 44.85 | AT40: =AVERAGE(รายเดือน!EB39:ED39) -> 50.406667 | AU40: =AVERAGE(รายเดือน!EE39:EG39) -> 40 | AV40: =AVERAGE(รายเดือน!EH39:EJ39) -> 44.496667 | AW40: =AVERAGE(รายเดือน!EK39:EM39) -> 43 | AX40: =AVERAGE(รายเดือน!EN39:EP39) -> 47.833332 | AY40: =AVERAGE(รายเดือน!EQ39:ES39) -> 49.974999 | AZ40: =AVERAGE(รายเดือน!ET39:EV39) -> 41.730166 | BA40: =AVERAGE(รายเดือน!EW39:EY39) -> 32.492833 | BB40: =AVERAGE(รายเดือน!EZ39:FB39) -> 37.973332 | BC40: =AVERAGE(รายเดือน!FC39:FE39) -> 41.639332 | BD40: =AVERAGE(รายเดือน!FF39:FH39) -> 48.45461 | BE40: =AVERAGE(รายเดือน!FI39:FK39) -> 42.499996 | BF40: =AVERAGE(รายเดือน!FL39:FN39) -> 44.635776 | BG40: =AVERAGE(รายเดือน!FO39:FQ39) -> 58.251943 | BH40: =AVERAGE(รายเดือน!FR39:FT39) -> 63.149443 | BI40: =AVERAGE(รายเดือน!FU39:FW39) -> 53.647666 | BJ40: =AVERAGE(รายเดือน!FX39:FZ39) -> 49.311054 | BK40: =AVERAGE(รายเดือน!GA39:GC39) -> 51.709665 | BL40: =AVERAGE(รายเดือน!GD39:GF39) -> 55.639499 | BM40: =AVERAGE(รายเดือน!GG39:GI39) -> 42.799999 | BN40: =AVERAGE(รายเดือน!GJ39:GL39) -> 49.482499 | BO40: =AVERAGE(รายเดือน!GM39:GO39) -> 52.100499 | BP40: =AVERAGE(รายเดือน!GP39:GR39) -> 46.776721 | BQ40: =AVERAGE(รายเดือน!GS39:GU39) -> 42.569666 | BR40: =AVERAGE(รายเดือน!GV39:GX39) -> 44.646999 | BS40: =AVERAGE(รายเดือน!GY39:HA39) -> 45.264999 | BT40: =AVERAGE(รายเดือน!HB39:HD39) -> 41.069499 | BU40: =AVERAGE(รายเดือน!HE39:HG39) -> 47.178666 | BV40: =AVERAGE(รายเดือน!HH39:HJ39) -> 39.724999 | BW40: =AVERAGE(รายเดือน!HK39:HM39) -> 38.889999 | BX40: =AVERAGE(รายเดือน!HN39:HP39) -> 43.321999 | BY40: =AVERAGE(รายเดือน!HQ39:HS39) -> 42.380166 | BZ40: =AVERAGE(รายเดือน!HT39:HV39) -> 45.656166 | CA40: =AVERAGE(รายเดือน!HW39:HY39) -> 45.871666 | CB40: =AVERAGE(รายเดือน!HZ39:IB39) -> 49.773332 | CC40: =AVERAGE(รายเดือน!IC39:IE39) -> 39.999999 | CD40: =AVERAGE(รายเดือน!IF39:IH39) -> 39.999999 | CE40: =AVERAGE(รายเดือน!II39:IK39) -> 45.789999 | CF40: =AVERAGE(รายเดือน!IL39:IN39) -> 63.282054 | CG40: =AVERAGE(รายเดือน!IO39:IQ39) -> 61.743499 | CH40: =AVERAGE(รายเดือน!IR39:IT39) -> 61.145832 | CI40: =AVERAGE(รายเดือน!IU39:IW39) -> 75.860832 | CJ40: =AVERAGE(รายเดือน!IX39:IZ39) -> 65.047054
A41: 1.6 กลุ่มพืชเส้นใย | AL41: =AVERAGE(รายเดือน!DD40:DF40) -> #DIV/0! | AM41: =AVERAGE(รายเดือน!DG40:DI40) -> #DIV/0! | AN41: =AVERAGE(รายเดือน!DJ40:DL40) -> #DIV/0! | AO41: =AVERAGE(รายเดือน!DM40:DO40) -> #DIV/0! | AP41: =AVERAGE(รายเดือน!DP40:DR40) -> #DIV/0! | AQ41: =AVERAGE(รายเดือน!DS40:DU40) -> #DIV/0! | AR41: =AVERAGE(รายเดือน!DV40:DX40) -> #DIV/0! | AS41: =AVERAGE(รายเดือน!DY40:EA40) -> #DIV/0! | AT41: =AVERAGE(รายเดือน!EB40:ED40) -> #DIV/0! | AU41: =AVERAGE(รายเดือน!EE40:EG40) -> #DIV/0! | AV41: =AVERAGE(รายเดือน!EH40:EJ40) -> #DIV/0! | AW41: =AVERAGE(รายเดือน!EK40:EM40) -> #DIV/0! | AY41: =AVERAGE(รายเดือน!EQ40:ES40) -> #DIV/0! | AZ41: =AVERAGE(รายเดือน!ET40:EV40) -> #DIV/0! | BA41: =AVERAGE(รายเดือน!EW40:EY40) -> #DIV/0! | BB41: =AVERAGE(รายเดือน!EZ40:FB40) -> #DIV/0! | BC41: =AVERAGE(รายเดือน!FC40:FE40) -> #DIV/0! | BD41: =AVERAGE(รายเดือน!FF40:FH40) -> #DIV/0! | BE41: =AVERAGE(รายเดือน!FI40:FK40) -> #DIV/0! | BF41: =AVERAGE(รายเดือน!FL40:FN40) -> #DIV/0! | BG41: =AVERAGE(รายเดือน!FO40:FQ40) -> #DIV/0! | BH41: =AVERAGE(รายเดือน!FR40:FT40) -> #DIV/0! | BI41: =AVERAGE(รายเดือน!FU40:FW40) -> #DIV/0! | BJ41: =AVERAGE(รายเดือน!FX40:FZ40) -> #DIV/0! | BK41: =AVERAGE(รายเดือน!GA40:GC40) -> #DIV/0! | BL41: =AVERAGE(รายเดือน!GD40:GF40) -> #DIV/0! | BM41: =AVERAGE(รายเดือน!GG40:GI40) -> #DIV/0! | BN41: =AVERAGE(รายเดือน!GJ40:GL40) -> #DIV/0! | BO41: =AVERAGE(รายเดือน!GM40:GO40) -> #DIV/0! | BP41: =AVERAGE(รายเดือน!GP40:GR40) -> #DIV/0! | BQ41: =AVERAGE(รายเดือน!GS40:GU40) -> #DIV/0! | BR41: =AVERAGE(รายเดือน!GV40:GX40) -> #DIV/0! | BS41: =AVERAGE(รายเดือน!GY40:HA40) -> #DIV/0! | BT41: =AVERAGE(รายเดือน!HB40:HD40) -> #DIV/0! | BU41: =AVERAGE(รายเดือน!HE40:HG40) -> #DIV/0! | BV41: =AVERAGE(รายเดือน!HH40:HJ40) -> #DIV/0! | BW41: =AVERAGE(รายเดือน!HK40:HM40) -> #DIV/0! | BX41: =AVERAGE(รายเดือน!HN40:HP40) -> #DIV/0! | BY41: =AVERAGE(รายเดือน!HQ40:HS40) -> #DIV/0! | BZ41: =AVERAGE(รายเดือน!HT40:HV40) -> #DIV/0! | CA41: =AVERAGE(รายเดือน!HW40:HY40) -> #DIV/0! | CB41: =AVERAGE(รายเดือน!HZ40:IB40) -> #DIV/0! | CC41: =AVERAGE(รายเดือน!IC40:IE40) -> #DIV/0! | CD41: =AVERAGE(รายเดือน!IF40:IH40) -> #DIV/0! | CE41: =AVERAGE(รายเดือน!II40:IK40) -> #DIV/0! | CF41: =AVERAGE(รายเดือน!IL40:IN40) -> #DIV/0! | CG41: =AVERAGE(รายเดือน!IO40:IQ40) -> #DIV/0! | CH41: =AVERAGE(รายเดือน!IR40:IT40) -> #DIV/0! | CI41: =AVERAGE(รายเดือน!IU40:IW40) -> #DIV/0! | CJ41: =AVERAGE(รายเดือน!IX40:IZ40) -> #DIV/0!
A42: ฝ้ายรวมเมล็ดชนิดคละ | B42: บาท/กก. | C42: =AVERAGE(รายเดือน!C41:E41) -> 0.1 | D42: =AVERAGE(รายเดือน!D41:F41) -> 0.1 | E42: =AVERAGE(รายเดือน!E41:G41) -> 0.1 | F42: =AVERAGE(รายเดือน!F41:H41) -> 0.1 | G42: =AVERAGE(รายเดือน!G41:I41) -> 0.1 | H42: =AVERAGE(รายเดือน!H41:J41) -> 0.1 | I42: =AVERAGE(รายเดือน!I41:K41) -> 0.1 | J42: =AVERAGE(รายเดือน!J41:L41) -> 0.1 | ... Z42: =AVERAGE(รายเดือน!Z41:AB41) -> 0.1 | AA42: =AVERAGE(รายเดือน!BW41:BY41) -> 0.1 | AB42: =AVERAGE(รายเดือน!BZ41:CB41) -> 0.1 | AC42: =AVERAGE(รายเดือน!CC41:CE41) -> 0.1 | AD42: =AVERAGE(รายเดือน!CF41:CH41) -> 0.1 | AE42: =AVERAGE(รายเดือน!CI41:CK41) -> 0.1 | AF42: =AVERAGE(รายเดือน!CL41:CN41) -> 0.1 | AG42: =AVERAGE(รายเดือน!CO41:CQ41) -> 0.1 | AH42: =AVERAGE(รายเดือน!CR41:CT41) -> 0.1 | AI42: =AVERAGE(รายเดือน!CU41:CW41) -> 0.1 | AJ42: =AVERAGE(รายเดือน!CX41:CZ41) -> 0.1 | AK42: =AVERAGE(รายเดือน!DA41:DC41) -> 0.1 | AL42: =AVERAGE(รายเดือน!DD41:DF41) -> 0.1 | AM42: =AVERAGE(รายเดือน!DG41:DI41) -> 0.1 | AN42: =AVERAGE(รายเดือน!DJ41:DL41) -> 0.1 | AO42: =AVERAGE(รายเดือน!DM41:DO41) -> 0.1 | AP42: =AVERAGE(รายเดือน!DP41:DR41) -> 0.1 | AQ42: =AVERAGE(รายเดือน!DS41:DU41) -> 0.1 | AR42: =AVERAGE(รายเดือน!DV41:DX41) -> 0.1 | AS42: =AVERAGE(รายเดือน!DY41:EA41) -> 0.1 | AT42: =AVERAGE(รายเดือน!EB41:ED41) -> 0.1 | AU42: =AVERAGE(รายเดือน!EE41:EG41) -> 0.1 | AV42: =AVERAGE(รายเดือน!EH41:EJ41) -> 0.1 | AW42: =AVERAGE(รายเดือน!EK41:EM41) -> 0.1 | AY42: =AVERAGE(รายเดือน!EQ41:ES41) -> 0.1 | AZ42: =AVERAGE(รายเดือน!ET41:EV41) -> 0.1 | BA42: =AVERAGE(รายเดือน!EW41:EY41) -> 0.1 | BB42: =AVERAGE(รายเดือน!EZ41:FB41) -> 0.1 | BC42: =AVERAGE(รายเดือน!FC41:FE41) -> 0.1 | BD42: =AVERAGE(รายเดือน!FF41:FH41) -> 0.1 | BE42: =AVERAGE(รายเดือน!FI41:FK41) -> 0.1 | BF42: =AVERAGE(รายเดือน!FL41:FN41) -> 0.1 | BG42: =AVERAGE(รายเดือน!FO41:FQ41) -> 0.1 | BH42: =AVERAGE(รายเดือน!FR41:FT41) -> 0.1 | BI42: =AVERAGE(รายเดือน!FU41:FW41) -> 0.1 | BJ42: =AVERAGE(รายเดือน!FX41:FZ41) -> 0.1 | BK42: =AVERAGE(รายเดือน!GA41:GC41) -> 0.1 | BL42: =AVERAGE(รายเดือน!GD41:GF41) -> 0.1 | BM42: =AVERAGE(รายเดือน!GG41:GI41) -> 0.1 | BN42: =AVERAGE(รายเดือน!GJ41:GL41) -> 0.1 | BO42: =AVERAGE(รายเดือน!GM41:GO41) -> 0.1 | BP42: =AVERAGE(รายเดือน!GP41:GR41) -> 0.1 | BQ42: =AVERAGE(รายเดือน!GS41:GU41) -> 0.1 | BR42: =AVERAGE(รายเดือน!GV41:GX41) -> 0.1 | BS42: =AVERAGE(รายเดือน!GY41:HA41) -> 0.1 | BT42: =AVERAGE(รายเดือน!HB41:HD41) -> 0.1 | BU42: =AVERAGE(รายเดือน!HE41:HG41) -> 0.1 | BV42: =AVERAGE(รายเดือน!HH41:HJ41) -> 0.1 | BW42: =AVERAGE(รายเดือน!HK41:HM41) -> 0.1 | BX42: =AVERAGE(รายเดือน!HN41:HP41) -> 0.1 | BY42: =AVERAGE(รายเดือน!HQ41:HS41) -> 0.1 | BZ42: =AVERAGE(รายเดือน!HT41:HV41) -> 0.1 | CA42: =AVERAGE(รายเดือน!HW41:HY41) -> 0.1 | CB42: =AVERAGE(รายเดือน!HZ41:IB41) -> 0.1 | CC42: =AVERAGE(รายเดือน!IC41:IE41) -> 0.1 | CD42: =AVERAGE(รายเดือน!IF41:IH41) -> 0.1 | CE42: =AVERAGE(รายเดือน!II41:IK41) -> 0.1 | CF42: =AVERAGE(รายเดือน!IL41:IN41) -> 0.1 | CG42: =AVERAGE(รายเดือน!IO41:IQ41) -> 0.1 | CH42: =AVERAGE(รายเดือน!IR41:IT41) -> 0.1 | CI42: =AVERAGE(รายเดือน!IU41:IW41) -> 0.1 | CJ42: =AVERAGE(รายเดือน!IX41:IZ41) -> 0
A43: 1.6 กลุ่มพืชไม้ดอก
A44: กล้วยไม้ ก้านช่อดอกยาว 45-54 ซม. | B44: บาท/ช่อ | C44: =AVERAGE(รายเดือน!C43:E43) -> 2.8266667 | D44: =AVERAGE(รายเดือน!F43:H43) -> 5.35 | E44: =AVERAGE(รายเดือน!I43:K43) -> 5.3166667 | F44: =AVERAGE(รายเดือน!L43:N43) -> 3.41 | G44: =AVERAGE(รายเดือน!O43:Q43) -> 4.95 | H44: =AVERAGE(รายเดือน!R43:T43) -> 6.24 | I44: =AVERAGE(รายเดือน!U43:W43) -> 3.4933333 | J44: =AVERAGE(รายเดือน!X43:Z43) -> 3.03 | K44: =AVERAGE(รายเดือน!AA43:AC43) -> 4.0466667 | L44: =AVERAGE(รายเดือน!AD43:AF43) -> 3.57 | M44: =AVERAGE(รายเดือน!AG43:AI43) -> 3.43 | N44: =AVERAGE(รายเดือน!AJ43:AL43) -> 2.8033333 | O44: =AVERAGE(รายเดือน!AM43:AO43) -> 3.6033333 | P44: =AVERAGE(รายเดือน!AP43:AR43) -> 3.87 | Q44: =AVERAGE(รายเดือน!AS43:AU43) -> 3.2066667 | R44: =AVERAGE(รายเดือน!AV43:AX43) -> 2.6733333 | S44: =AVERAGE(รายเดือน!AY43:BA43) -> 3.4466667 | T44: =AVERAGE(รายเดือน!BB43:BD43) -> 3.89 | U44: =AVERAGE(รายเดือน!BE43:BG43) -> 2.5066667 | V44: =AVERAGE(รายเดือน!BH43:BJ43) -> 2.34 | W44: =AVERAGE(รายเดือน!BK43:BM43) -> 2.5233333 | X44: =AVERAGE(รายเดือน!BN43:BP43) -> 2.8033333 | Y44: =AVERAGE(รายเดือน!BQ43:BS43) -> 3.4 | Z44: =AVERAGE(รายเดือน!BT43:BV43) -> 2.17 | AA44: =AVERAGE(รายเดือน!BW43:BY43) -> 3.4733333 | AB44: =AVERAGE(รายเดือน!BZ43:CB43) -> 3.0933333 | AC44: =AVERAGE(รายเดือน!CC43:CE43) -> 2.5933333 | AD44: =AVERAGE(รายเดือน!CF43:CH43) -> 2.75 | AE44: =AVERAGE(รายเดือน!CI43:CK43) -> 4.5366667 | AF44: =AVERAGE(รายเดือน!CL43:CN43) -> 4.8166667 | AG44: =AVERAGE(รายเดือน!CO43:CQ43) -> 3.0933333 | AH44: =AVERAGE(รายเดือน!CR43:CT43) -> 3.0766667 | AI44: =AVERAGE(รายเดือน!CU43:CW43) -> 3.22 | AJ44: =AVERAGE(รายเดือน!CX43:CZ43) -> 1.8733333 | AK44: =AVERAGE(รายเดือน!DA43:DC43) -> 2.8566667 | AL44: =AVERAGE(รายเดือน!DD43:DF43) -> 1.8066667 | AM44: =AVERAGE(รายเดือน!DG43:DI43) -> 2.37 | AN44: =AVERAGE(รายเดือน!DJ43:DL43) -> 2.2533333 | AO44: =AVERAGE(รายเดือน!DM43:DO43) -> 1.8353333 | AP44: =AVERAGE(รายเดือน!DP43:DR43) -> 1.6166667 | AQ44: =AVERAGE(รายเดือน!DS43:DU43) -> 1.9166667 | AR44: =AVERAGE(รายเดือน!DV43:DX43) -> 2.2 | AS44: =AVERAGE(รายเดือน!DY43:EA43) -> 1.8333333 | AT44: =AVERAGE(รายเดือน!EB43:ED43) -> 2.0833333 | AU44: =AVERAGE(รายเดือน!EE43:EG43) -> 1.8366667 | AV44: =AVERAGE(รายเดือน!EH43:EJ43) -> 2.7933333 | AW44: =AVERAGE(รายเดือน!EK43:EM43) -> 2.9766667 | AX44: =AVERAGE(รายเดือน!EN43:EP43) -> 1.3455 | AY44: =AVERAGE(รายเดือน!EQ43:ES43) -> 1.5741666 | AZ44: =AVERAGE(รายเดือน!ET43:EV43) -> 2.1884999 | BA44: =AVERAGE(รายเดือน!EW43:EY43) -> 1.8631666 | BB44: =AVERAGE(รายเดือน!EZ43:FB43) -> 2.1854999 | BC44: =AVERAGE(รายเดือน!FC43:FE43) -> 3.1413333 | BD44: =AVERAGE(รายเดือน!FF43:FH43) -> 2.1014444 | BE44: =AVERAGE(รายเดือน!FI43:FK43) -> 1.0155 | BF44: =AVERAGE(รายเดือน!FL43:FN43) -> 1.0566667 | BG44: =AVERAGE(รายเดือน!FO43:FQ43) -> 2.0848333 | BH44: =AVERAGE(รายเดือน!FR43:FT43) -> 2.1758333 | BI44: =AVERAGE(รายเดือน!FU43:FW43) -> 2.6418333 | BJ44: =AVERAGE(รายเดือน!FX43:FZ43) -> 1.1138889 | BK44: =AVERAGE(รายเดือน!GA43:GC43) -> 1.3945 | BL44: =AVERAGE(รายเดือน!GD43:GF43) -> 0.64833332 | BM44: =AVERAGE(รายเดือน!GG43:GI43) -> 1.5551666 | BN44: =AVERAGE(รายเดือน!GJ43:GL43) -> 1.211 | BO44: =AVERAGE(รายเดือน!GM43:GO43) -> 1.2016666 | BP44: =AVERAGE(รายเดือน!GP43:GR43) -> 1.4821666 | BQ44: =AVERAGE(รายเดือน!GS43:GU43) -> 0.87888887 | BR44: =AVERAGE(รายเดือน!GV43:GX43) -> 0.97166664 | BS44: =AVERAGE(รายเดือน!GY43:HA43) -> 1.7666666 | BT44: =AVERAGE(รายเดือน!HB43:HD43) -> 4.5073332 | BU44: =AVERAGE(รายเดือน!HE43:HG43) -> 3.4849999 | BV44: =AVERAGE(รายเดือน!HH43:HJ43) -> 2.6513333 | BW44: =AVERAGE(รายเดือน!HK43:HM43) -> 3.3733332 | BX44: =AVERAGE(รายเดือน!HN43:HP43) -> 3.5553888 | BY44: =AVERAGE(รายเดือน!HQ43:HS43) -> 4.7808332 | BZ44: =AVERAGE(รายเดือน!HT43:HV43) -> 0.96916664 | CA44: =AVERAGE(รายเดือน!HW43:HY43) -> 0.93833331 | CB44: =AVERAGE(รายเดือน!HZ43:IB43) -> 1.8466666 | CC44: =AVERAGE(รายเดือน!IC43:IE43) -> 2.009 | CD44: =AVERAGE(รายเดือน!IF43:IH43) -> 0.94916664 | CE44: =AVERAGE(รายเดือน!II43:IK43) -> 1.7708333 | CF44: =AVERAGE(รายเดือน!IL43:IN43) -> 2.498611 | CG44: =AVERAGE(รายเดือน!IO43:IQ43) -> 1.9548333 | CH44: =AVERAGE(รายเดือน!IR43:IT43) -> 0.84499998 | CI44: =AVERAGE(รายเดือน!IU43:IW43) -> 2.4249999 | CJ44: =AVERAGE(รายเดือน!IX43:IZ43) -> 3.1888888
A45: 2. หมวดปศุสัตว์
A46: สุกร (น้ำหนัก 100 กก.ขึ้นไป) | B46: บาท/กก. | C46: =AVERAGE(รายเดือน!C45:E45) -> 47.953333 | D46: =AVERAGE(รายเดือน!F45:H45) -> 51.88 | E46: =AVERAGE(รายเดือน!I45:K45) -> 50.653333 | F46: =AVERAGE(รายเดือน!L45:N45) -> 47.73 | G46: =AVERAGE(รายเดือน!O45:Q45) -> 49.34 | H46: =AVERAGE(รายเดือน!R45:T45) -> 49.206667 | I46: =AVERAGE(รายเดือน!U45:W45) -> 47.08 | J46: =AVERAGE(รายเดือน!X45:Z45) -> 42.643333 | K46: =AVERAGE(รายเดือน!AA45:AC45) -> 33.653333 | L46: =AVERAGE(รายเดือน!AD45:AF45) -> 37.096667 | M46: =AVERAGE(รายเดือน!AG45:AI45) -> 41.033333 | N46: =AVERAGE(รายเดือน!AJ45:AL45) -> 41.55 | O46: =AVERAGE(รายเดือน!AM45:AO45) -> 51.52 | P46: =AVERAGE(รายเดือน!AP45:AR45) -> 55.913333 | Q46: =AVERAGE(รายเดือน!AS45:AU45) -> 53.406667 | R46: =AVERAGE(รายเดือน!AV45:AX45) -> 52.5 | S46: =AVERAGE(รายเดือน!AY45:BA45) -> 54.83 | T46: =AVERAGE(รายเดือน!BB45:BD45) -> 60.04 | U46: =AVERAGE(รายเดือน!BE45:BG45) -> 57.176667 | V46: =AVERAGE(รายเดือน!BH45:BJ45) -> 55.486667 | W46: =AVERAGE(รายเดือน!BK45:BM45) -> 59.29 | X46: =AVERAGE(รายเดือน!BN45:BP45) -> 62.02 | Y46: =AVERAGE(รายเดือน!BQ45:BS45) -> 61.743333 | Z46: =AVERAGE(รายเดือน!BT45:BV45) -> 56.913333 | AA46: =AVERAGE(รายเดือน!BW45:BY45) -> 58.296667 | AB46: =AVERAGE(รายเดือน!BZ45:CB45) -> 67.933333 | AC46: =AVERAGE(รายเดือน!CC45:CE45) -> 73.623333 | AD46: =AVERAGE(รายเดือน!CF45:CH45) -> 61.776667 | AE46: =AVERAGE(รายเดือน!CI45:CK45) -> 56.636667 | AF46: =AVERAGE(รายเดือน!CL45:CN45) -> 59.64 | AG46: =AVERAGE(รายเดือน!CO45:CQ45) -> 56.76 | AH46: =AVERAGE(รายเดือน!CR45:CT45) -> 53.566667 | AI46: =AVERAGE(รายเดือน!CU45:CW45) -> 60.443333 | AJ46: =AVERAGE(รายเดือน!CX45:CZ45) -> 65.246667 | AK46: =AVERAGE(รายเดือน!DA45:DC45) -> 68.563333 | AL46: =AVERAGE(รายเดือน!DD45:DF45) -> 67.143333 | AM46: =AVERAGE(รายเดือน!DG45:DI45) -> 72.863333 | AN46: =AVERAGE(รายเดือน!DJ45:DL45) -> 79.213333 | AO46: =AVERAGE(รายเดือน!DM45:DO45) -> 78.243333 | AP46: =AVERAGE(รายเดือน!DP45:DR45) -> 69.876667 | AQ46: =AVERAGE(รายเดือน!DS45:DU45) -> 63.363333 | AR46: =AVERAGE(รายเดือน!DV45:DX45) -> 66.5 | AS46: =AVERAGE(รายเดือน!DY45:EA45) -> 68.646667 | AT46: =AVERAGE(รายเดือน!EB45:ED45) -> 65.776667 | AU46: =AVERAGE(รายเดือน!EE45:EG45) -> 64.753333 | AV46: =AVERAGE(รายเดือน!EH45:EJ45) -> 69.563333 | AW46: =AVERAGE(รายเดือน!EK45:EM45) -> 69.723333 | AX46: =AVERAGE(รายเดือน!EN45:EP45) -> 63.732999 | AY46: =AVERAGE(รายเดือน!EQ45:ES45) -> 60.352332 | AZ46: =AVERAGE(รายเดือน!ET45:EV45) -> 62.417665 | BA46: =AVERAGE(รายเดือน!EW45:EY45) -> 60.295665 | BB46: =AVERAGE(รายเดือน!EZ45:FB45) -> 52.850665 | BC46: =AVERAGE(รายเดือน!FC45:FE45) -> 47.558666 | BD46: =AVERAGE(รายเดือน!FF45:FH45) -> 56.209832 | BE46: =AVERAGE(รายเดือน!FI45:FK45) -> 59.035165 | BF46: =AVERAGE(รายเดือน!FL45:FN45) -> 59.969943 | BG46: =AVERAGE(รายเดือน!FO45:FQ45) -> 65.966999 | BH46: =AVERAGE(รายเดือน!FR45:FT45) -> 70.892109 | BI46: =AVERAGE(รายเดือน!FU45:FW45) -> 68.394165 | BJ46: =AVERAGE(รายเดือน!FX45:FZ45) -> 60.688276 | BK46: =AVERAGE(รายเดือน!GA45:GC45) -> 69.165498 | BL46: =AVERAGE(รายเดือน!GD45:GF45) -> 67.235998 | BM46: =AVERAGE(รายเดือน!GG45:GI45) -> 76.490498 | BN46: =AVERAGE(รายเดือน!GJ45:GL45) -> 74.562498 | BO46: =AVERAGE(รายเดือน!GM45:GO45) -> 75.794499 | BP46: =AVERAGE(รายเดือน!GP45:GR45) -> 74.842831 | BQ46: =AVERAGE(รายเดือน!GS45:GU45) -> 69.116498 | BR46: =AVERAGE(รายเดือน!GV45:GX45) -> 72.846665 | BS46: =AVERAGE(รายเดือน!GY45:HA45) -> 93.712498 | BT46: =AVERAGE(รายเดือน!HB45:HD45) -> 96.446275 | BU46: =AVERAGE(รายเดือน!HE45:HG45) -> 103.97983 | BV46: =AVERAGE(รายเดือน!HH45:HJ45) -> 103.709 | BW46: =AVERAGE(รายเดือน!HK45:HM45) -> 94.049164 | BX46: =AVERAGE(รายเดือน!HN45:HP45) -> 82.355942 | BY46: =AVERAGE(รายเดือน!HQ45:HS45) -> 70.308832 | BZ46: =AVERAGE(รายเดือน!HT45:HV45) -> 65.067332 | CA46: =AVERAGE(รายเดือน!HW45:HY45) -> 66.282498 | CB46: =AVERAGE(รายเดือน!HZ45:IB45) -> 68.446665 | CC46: =AVERAGE(รายเดือน!IC45:IE45) -> 70.184665 | CD46: =AVERAGE(รายเดือน!IF45:IH45) -> 70.739165 | CE46: =AVERAGE(รายเดือน!II45:IK45) -> 73.853332 | CF46: =AVERAGE(รายเดือน!IL45:IN45) -> 83.522664 | CG46: =AVERAGE(รายเดือน!IO45:IQ45) -> 73.360165 | CH46: =AVERAGE(รายเดือน!IR45:IT45) -> 63.909998 | CI46: =AVERAGE(รายเดือน!IU45:IW45) -> 62.736332 | CJ46: =AVERAGE(รายเดือน!IX45:IZ45) -> 66.453998
A47: ไก่รุ่นพันธุ์เนื้อ | B47: บาท/กก. | C47: =AVERAGE(รายเดือน!C46:E46) -> 33.25 | D47: =AVERAGE(รายเดือน!F46:H46) -> 37.483333 | E47: =AVERAGE(รายเดือน!I46:K46) -> 37.503333 | F47: =AVERAGE(รายเดือน!L46:N46) -> 35.306667 | G47: =AVERAGE(รายเดือน!O46:Q46) -> 33.646667 | H47: =AVERAGE(รายเดือน!R46:T46) -> 33.076667 | I47: =AVERAGE(รายเดือน!U46:W46) -> 29.166667 | J47: =AVERAGE(รายเดือน!X46:Z46) -> 30.323333 | K47: =AVERAGE(รายเดือน!AA46:AC46) -> 30.196667 | L47: =AVERAGE(รายเดือน!AD46:AF46) -> 32.64 | M47: =AVERAGE(รายเดือน!AG46:AI46) -> 36.31 | N47: =AVERAGE(รายเดือน!AJ46:AL46) -> 35.466667 | O47: =AVERAGE(รายเดือน!AM46:AO46) -> 36.2 | P47: =AVERAGE(รายเดือน!AP46:AR46) -> 38.153333 | Q47: =AVERAGE(รายเดือน!AS46:AU46) -> 37.563333 | R47: =AVERAGE(รายเดือน!AV46:AX46) -> 37.006667 | S47: =AVERAGE(รายเดือน!AY46:BA46) -> 35.193333 | T47: =AVERAGE(รายเดือน!BB46:BD46) -> 37.2 | U47: =AVERAGE(รายเดือน!BE46:BG46) -> 39.263333 | V47: =AVERAGE(รายเดือน!BH46:BJ46) -> 40.216667 | W47: =AVERAGE(รายเดือน!BK46:BM46) -> 43.06 | X47: =AVERAGE(รายเดือน!BN46:BP46) -> 42.933333 | Y47: =AVERAGE(รายเดือน!BQ46:BS46) -> 43.306667 | Z47: =AVERAGE(รายเดือน!BT46:BV46) -> 41.833333 | AA47: =AVERAGE(รายเดือน!BW46:BY46) -> 45.953333 | AB47: =AVERAGE(รายเดือน!BZ46:CB46) -> 49.7 | AC47: =AVERAGE(รายเดือน!CC46:CE46) -> 46.806667 | AD47: =AVERAGE(รายเดือน!CF46:CH46) -> 44.763333 | AE47: =AVERAGE(รายเดือน!CI46:CK46) -> 41.373333 | AF47: =AVERAGE(รายเดือน!CL46:CN46) -> 42.486667 | AG47: =AVERAGE(รายเดือน!CO46:CQ46) -> 41.013333 | AH47: =AVERAGE(รายเดือน!CR46:CT46) -> 41.26 | AI47: =AVERAGE(รายเดือน!CU46:CW46) -> 42.636667 | AJ47: =AVERAGE(รายเดือน!CX46:CZ46) -> 44.05 | AK47: =AVERAGE(รายเดือน!DA46:DC46) -> 43.873333 | AL47: =AVERAGE(รายเดือน!DD46:DF46) -> 42.423333 | AM47: =AVERAGE(รายเดือน!DG46:DI46) -> 42.99 | AN47: =AVERAGE(รายเดือน!DJ46:DL46) -> 42.326667 | AO47: =AVERAGE(รายเดือน!DM46:DO46) -> 43.09 | AP47: =AVERAGE(รายเดือน!DP46:DR46) -> 40.956667 | AQ47: =AVERAGE(รายเดือน!DS46:DU46) -> 38.68 | AR47: =AVERAGE(รายเดือน!DV46:DX46) -> 38.426667 | AS47: =AVERAGE(รายเดือน!DY46:EA46) -> 39.986667 | AT47: =AVERAGE(รายเดือน!EB46:ED46) -> 36.323333 | AU47: =AVERAGE(รายเดือน!EE46:EG46) -> 37.88 | AV47: =AVERAGE(รายเดือน!EH46:EJ46) -> 38.376667 | AW47: =AVERAGE(รายเดือน!EK46:EM46) -> 37.973333 | AX47: =AVERAGE(รายเดือน!EN46:EP46) -> 35.214666 | AY47: =AVERAGE(รายเดือน!EQ46:ES46) -> 35.465166 | AZ47: =AVERAGE(รายเดือน!ET46:EV46) -> 38.652832 | BA47: =AVERAGE(รายเดือน!EW46:EY46) -> 39.102166 | BB47: =AVERAGE(รายเดือน!EZ46:FB46) -> 35.920832 | BC47: =AVERAGE(รายเดือน!FC46:FE46) -> 35.669332 | BD47: =AVERAGE(รายเดือน!FF46:FH46) -> 34.57911 | BE47: =AVERAGE(รายเดือน!FI46:FK46) -> 34.056333 | BF47: =AVERAGE(รายเดือน!FL46:FN46) -> 33.351166 | BG47: =AVERAGE(รายเดือน!FO46:FQ46) -> 36.184499 | BH47: =AVERAGE(รายเดือน!FR46:FT46) -> 36.983888 | BI47: =AVERAGE(รายเดือน!FU46:FW46) -> 36.928499 | BJ47: =AVERAGE(รายเดือน!FX46:FZ46) -> 37.267443 | BK47: =AVERAGE(รายเดือน!GA46:GC46) -> 39.138332 | BL47: =AVERAGE(รายเดือน!GD46:GF46) -> 34.348166 | BM47: =AVERAGE(รายเดือน!GG46:GI46) -> 34.650833 | BN47: =AVERAGE(รายเดือน!GJ46:GL46) -> 33.778833 | BO47: =AVERAGE(รายเดือน!GM46:GO46) -> 34.793499 | BP47: =AVERAGE(รายเดือน!GP46:GR46) -> 34.616777 | BQ47: =AVERAGE(รายเดือน!GS46:GU46) -> 34.014833 | BR47: =AVERAGE(รายเดือน!GV46:GX46) -> 36.015332 | BS47: =AVERAGE(รายเดือน!GY46:HA46) -> 40.438332 | BT47: =AVERAGE(รายเดือน!HB46:HD46) -> 42.52811 | BU47: =AVERAGE(รายเดือน!HE46:HG46) -> 47.641499 | BV47: =AVERAGE(รายเดือน!HH46:HJ46) -> 45.238499 | BW47: =AVERAGE(รายเดือน!HK46:HM46) -> 44.909166 | BX47: =AVERAGE(รายเดือน!HN46:HP46) -> 45.114054 | BY47: =AVERAGE(รายเดือน!HQ46:HS46) -> 43.682332 | BZ47: =AVERAGE(รายเดือน!HT46:HV46) -> 40.504166 | CA47: =AVERAGE(รายเดือน!HW46:HY46) -> 40.281666 | CB47: =AVERAGE(รายเดือน!HZ46:IB46) -> 40.976666 | CC47: =AVERAGE(รายเดือน!IC46:IE46) -> 41.014666 | CD47: =AVERAGE(รายเดือน!IF46:IH46) -> 40.683332 | CE47: =AVERAGE(รายเดือน!II46:IK46) -> 41.638999 | CF47: =AVERAGE(รายเดือน!IL46:IN46) -> 42.334888 | CG47: =AVERAGE(รายเดือน!IO46:IQ46) -> 42.158832 | CH47: =AVERAGE(รายเดือน!IR46:IT46) -> 41.828332 | CI47: =AVERAGE(รายเดือน!IU46:IW46) -> 42.259666 | CJ47: =AVERAGE(รายเดือน!IX46:IZ46) -> 40.834554
A48: ไข่ไก่สดคละ | B48: บาท/ร้อยฟอง | C48: =AVERAGE(รายเดือน!C47:E47) -> 241.66667 | D48: =AVERAGE(รายเดือน!F47:H47) -> 252.33333 | E48: =AVERAGE(รายเดือน!I47:K47) -> 262.66667 | F48: =AVERAGE(รายเดือน!L47:N47) -> 231 | G48: =AVERAGE(รายเดือน!O47:Q47) -> 205.66667 | H48: =AVERAGE(รายเดือน!R47:T47) -> 207.33333 | I48: =AVERAGE(รายเดือน!U47:W47) -> 193 | J48: =AVERAGE(รายเดือน!X47:Z47) -> 195.33333 | K48: =AVERAGE(รายเดือน!AA47:AC47) -> 195.33333 | L48: =AVERAGE(รายเดือน!AD47:AF47) -> 199 | M48: =AVERAGE(รายเดือน!AG47:AI47) -> 219.33333 | N48: =AVERAGE(รายเดือน!AJ47:AL47) -> 210.33333 | O48: =AVERAGE(รายเดือน!AM47:AO47) -> 223 | P48: =AVERAGE(รายเดือน!AP47:AR47) -> 245.33333 | Q48: =AVERAGE(รายเดือน!AS47:AU47) -> 237.66667 | R48: =AVERAGE(รายเดือน!AV47:AX47) -> 227.66667 | S48: =AVERAGE(รายเดือน!AY47:BA47) -> 210 | T48: =AVERAGE(รายเดือน!BB47:BD47) -> 244.66667 | U48: =AVERAGE(รายเดือน!BE47:BG47) -> 254.33333 | V48: =AVERAGE(รายเดือน!BH47:BJ47) -> 238.33333 | W48: =AVERAGE(รายเดือน!BK47:BM47) -> 247.66667 | X48: =AVERAGE(รายเดือน!BN47:BP47) -> 262 | Y48: =AVERAGE(รายเดือน!BQ47:BS47) -> 278 | Z48: =AVERAGE(รายเดือน!BT47:BV47) -> 271.33333 | AA48: =AVERAGE(รายเดือน!BW47:BY47) -> 283.66667 | AB48: =AVERAGE(รายเดือน!BZ47:CB47) -> 302.33333 | AC48: =AVERAGE(รายเดือน!CC47:CE47) -> 300 | AD48: =AVERAGE(รายเดือน!CF47:CH47) -> 317.33333 | AE48: =AVERAGE(รายเดือน!CI47:CK47) -> 265.33333 | AF48: =AVERAGE(รายเดือน!CL47:CN47) -> 261 | AG48: =AVERAGE(รายเดือน!CO47:CQ47) -> 255.33333 | AH48: =AVERAGE(รายเดือน!CR47:CT47) -> 242 | AI48: =AVERAGE(รายเดือน!CU47:CW47) -> 271.66667 | AJ48: =AVERAGE(รายเดือน!CX47:CZ47) -> 300.33333 | AK48: =AVERAGE(รายเดือน!DA47:DC47) -> 324.33333 | AL48: =AVERAGE(รายเดือน!DD47:DF47) -> 327.66667 | AM48: =AVERAGE(รายเดือน!DG47:DI47) -> 321.33333 | AN48: =AVERAGE(รายเดือน!DJ47:DL47) -> 315 | AO48: =AVERAGE(รายเดือน!DM47:DO47) -> 311.66667 | AP48: =AVERAGE(รายเดือน!DP47:DR47) -> 286.33333 | AQ48: =AVERAGE(รายเดือน!DS47:DU47) -> 253.66667 | AR48: =AVERAGE(รายเดือน!DV47:DX47) -> 257.33333 | AS48: =AVERAGE(รายเดือน!DY47:EA47) -> 285 | AT48: =AVERAGE(รายเดือน!EB47:ED47) -> 278.66667 | AU48: =AVERAGE(รายเดือน!EE47:EG47) -> 285.33333 | AV48: =AVERAGE(รายเดือน!EH47:EJ47) -> 292.66667 | AW48: =AVERAGE(รายเดือน!EK47:EM47) -> 309 | AX48: =AVERAGE(รายเดือน!EN47:EP47) -> 291.94833 | AY48: =AVERAGE(รายเดือน!EQ47:ES47) -> 270.29283 | AZ48: =AVERAGE(รายเดือน!ET47:EV47) -> 263.40616 | BA48: =AVERAGE(รายเดือน!EW47:EY47) -> 274.21433 | BB48: =AVERAGE(รายเดือน!EZ47:FB47) -> 252.49216 | BC48: =AVERAGE(รายเดือน!FC47:FE47) -> 257.88766 | BD48: =AVERAGE(รายเดือน!FF47:FH47) -> 273.61544 | BE48: =AVERAGE(รายเดือน!FI47:FK47) -> 280.57199 | BF48: =AVERAGE(รายเดือน!FL47:FN47) -> 260.17744 | BG48: =AVERAGE(รายเดือน!FO47:FQ47) -> 269.91933 | BH48: =AVERAGE(รายเดือน!FR47:FT47) -> 272.8996 | BI48: =AVERAGE(รายเดือน!FU47:FW47) -> 286.74899 | BJ48: =AVERAGE(รายเดือน!FX47:FZ47) -> 285.95977 | BK48: =AVERAGE(รายเดือน!GA47:GC47) -> 276.75099 | BL48: =AVERAGE(รายเดือน!GD47:GF47) -> 283.277 | BM48: =AVERAGE(รายเดือน!GG47:GI47) -> 285.51766 | BN48: =AVERAGE(รายเดือน!GJ47:GL47) -> 280.99616 | BO48: =AVERAGE(รายเดือน!GM47:GO47) -> 274.77916 | BP48: =AVERAGE(รายเดือน!GP47:GR47) -> 280.70871 | BQ48: =AVERAGE(รายเดือน!GS47:GU47) -> 294.8975 | BR48: =AVERAGE(รายเดือน!GV47:GX47) -> 282.89083 | BS48: =AVERAGE(รายเดือน!GY47:HA47) -> 301.62333 | BT48: =AVERAGE(รายเดือน!HB47:HD47) -> 325.005 | BU48: =AVERAGE(รายเดือน!HE47:HG47) -> 338.30766 | BV48: =AVERAGE(รายเดือน!HH47:HJ47) -> 345.55033 | BW48: =AVERAGE(รายเดือน!HK47:HM47) -> 338.21833 | BX48: =AVERAGE(รายเดือน!HN47:HP47) -> 348.81177 | BY48: =AVERAGE(รายเดือน!HQ47:HS47) -> 364.25066 | BZ48: =AVERAGE(รายเดือน!HT47:HV47) -> 372.75749 | CA48: =AVERAGE(รายเดือน!HW47:HY47) -> 356.09832 | CB48: =AVERAGE(รายเดือน!HZ47:IB47) -> 361.16666 | CC48: =AVERAGE(รายเดือน!IC47:IE47) -> 378.83916 | CD48: =AVERAGE(รายเดือน!IF47:IH47) -> 369.50499 | CE48: =AVERAGE(รายเดือน!II47:IK47) -> 348.97499 | CF48: =AVERAGE(รายเดือน!IL47:IN47) -> 344.53749 | CG48: =AVERAGE(รายเดือน!IO47:IQ47) -> 347.90899 | CH48: =AVERAGE(รายเดือน!IR47:IT47) -> 349.26832 | CI48: =AVERAGE(รายเดือน!IU47:IW47) -> 339.86033 | CJ48: =AVERAGE(รายเดือน!IX47:IZ47) -> 359.56766
A49: โคพันธุ์ลูกผสม (ขนาดกลาง) | B49: บาท/ตัว | C49: =AVERAGE(รายเดือน!C48:E48) -> 14655.333 | D49: =AVERAGE(รายเดือน!F48:H48) -> 14437 | E49: =AVERAGE(รายเดือน!I48:K48) -> 14172.333 | F49: =AVERAGE(รายเดือน!L48:N48) -> 14409.333 | G49: =AVERAGE(รายเดือน!O48:Q48) -> 14932.333 | H49: =AVERAGE(รายเดือน!R48:T48) -> 14885.333 | I49: =AVERAGE(รายเดือน!U48:W48) -> 15033.667 | J49: =AVERAGE(รายเดือน!X48:Z48) -> 14896.667 | K49: =AVERAGE(รายเดือน!AA48:AC48) -> 14798 | L49: =AVERAGE(รายเดือน!AD48:AF48) -> 14993.333 | M49: =AVERAGE(รายเดือน!AG48:AI48) -> 13949.667 | N49: =AVERAGE(รายเดือน!AJ48:AL48) -> 13407 | O49: =AVERAGE(รายเดือน!AM48:AO48) -> 13445.333 | P49: =AVERAGE(รายเดือน!AP48:AR48) -> 13154.333 | Q49: =AVERAGE(รายเดือน!AS48:AU48) -> 13230 | R49: =AVERAGE(รายเดือน!AV48:AX48) -> 13029.667 | S49: =AVERAGE(รายเดือน!AY48:BA48) -> 14208 | T49: =AVERAGE(รายเดือน!BB48:BD48) -> 13248 | U49: =AVERAGE(รายเดือน!BE48:BG48) -> 12924 | V49: =AVERAGE(รายเดือน!BH48:BJ48) -> 13108 | W49: =AVERAGE(รายเดือน!BK48:BM48) -> 13086.333 | X49: =AVERAGE(รายเดือน!BN48:BP48) -> 12796.333 | Y49: =AVERAGE(รายเดือน!BQ48:BS48) -> 12969.333 | Z49: =AVERAGE(รายเดือน!BT48:BV48) -> 13140 | AA49: =AVERAGE(รายเดือน!BW48:BY48) -> 13273 | AB49: =AVERAGE(รายเดือน!BZ48:CB48) -> 14354.333 | AC49: =AVERAGE(รายเดือน!CC48:CE48) -> 15756 | AD49: =AVERAGE(รายเดือน!CF48:CH48) -> 16323.333 | AE49: =AVERAGE(รายเดือน!CI48:CK48) -> 16735.333 | AF49: =AVERAGE(รายเดือน!CL48:CN48) -> 17005.667 | AG49: =AVERAGE(รายเดือน!CO48:CQ48) -> 17420.333 | AH49: =AVERAGE(รายเดือน!CR48:CT48) -> 18215 | AI49: =AVERAGE(รายเดือน!CU48:CW48) -> 19057.667 | AJ49: =AVERAGE(รายเดือน!CX48:CZ48) -> 19870.333 | AK49: =AVERAGE(รายเดือน!DA48:DC48) -> 22084.333 | AL49: =AVERAGE(รายเดือน!DD48:DF48) -> 23439.333 | AM49: =AVERAGE(รายเดือน!DG48:DI48) -> 26484.333 | AN49: =AVERAGE(รายเดือน!DJ48:DL48) -> 28527.333 | AO49: =AVERAGE(รายเดือน!DM48:DO48) -> 29660.333 | AP49: =AVERAGE(รายเดือน!DP48:DR48) -> 34889 | AQ49: =AVERAGE(รายเดือน!DS48:DU48) -> 36205.667 | AR49: =AVERAGE(รายเดือน!DV48:DX48) -> 36308.333 | AS49: =AVERAGE(รายเดือน!DY48:EA48) -> 37142 | AT49: =AVERAGE(รายเดือน!EB48:ED48) -> 37052.333 | AU49: =AVERAGE(รายเดือน!EE48:EG48) -> 37172.667 | AV49: =AVERAGE(รายเดือน!EH48:EJ48) -> 36160.333 | AW49: =AVERAGE(รายเดือน!EK48:EM48) -> 35560.667 | AX49: =AVERAGE(รายเดือน!EN48:EP48) -> 35524.014 | AY49: =AVERAGE(รายเดือน!EQ48:ES48) -> 34658.46 | AZ49: =AVERAGE(รายเดือน!ET48:EV48) -> 34005.699 | BA49: =AVERAGE(รายเดือน!EW48:EY48) -> 33273.807 | BB49: =AVERAGE(รายเดือน!EZ48:FB48) -> 32951.522 | BC49: =AVERAGE(รายเดือน!FC48:FE48) -> 32022.037 | BD49: =AVERAGE(รายเดือน!FF48:FH48) -> 31692.111 | BE49: =AVERAGE(รายเดือน!FI48:FK48) -> 31412.926 | BF49: =AVERAGE(รายเดือน!FL48:FN48) -> 31003.431 | BG49: =AVERAGE(รายเดือน!FO48:FQ48) -> 30981.192 | BH49: =AVERAGE(รายเดือน!FR48:FT48) -> 31278.761 | BI49: =AVERAGE(รายเดือน!FU48:FW48) -> 30977.28 | BJ49: =AVERAGE(รายเดือน!FX48:FZ48) -> 31395.891 | BK49: =AVERAGE(รายเดือน!GA48:GC48) -> 32010.436 | BL49: =AVERAGE(รายเดือน!GD48:GF48) -> 31744.17 | BM49: =AVERAGE(รายเดือน!GG48:GI48) -> 32955.195 | BN49: =AVERAGE(รายเดือน!GJ48:GL48) -> 34010.808 | BO49: =AVERAGE(รายเดือน!GM48:GO48) -> 34191.065 | BP49: =AVERAGE(รายเดือน!GP48:GR48) -> 34098.704 | BQ49: =AVERAGE(รายเดือน!GS48:GU48) -> 33289.531 | BR49: =AVERAGE(รายเดือน!GV48:GX48) -> 33691.318 | BS49: =AVERAGE(รายเดือน!GY48:HA48) -> 34788.45 | BT49: =AVERAGE(รายเดือน!HB48:HD48) -> 35013.214 | BU49: =AVERAGE(รายเดือน!HE48:HG48) -> 35120.792 | BV49: =AVERAGE(รายเดือน!HH48:HJ48) -> 34762.891 | BW49: =AVERAGE(รายเดือน!HK48:HM48) -> 34115.558 | BX49: =AVERAGE(รายเดือน!HN48:HP48) -> 32769.88 | BY49: =AVERAGE(รายเดือน!HQ48:HS48) -> 31641.373 | BZ49: =AVERAGE(รายเดือน!HT48:HV48) -> 31223.74 | CA49: =AVERAGE(รายเดือน!HW48:HY48) -> 30721.338 | CB49: =AVERAGE(รายเดือน!HZ48:IB48) -> 29850.454 | CC49: =AVERAGE(รายเดือน!IC48:IE48) -> 28103.692 | CD49: =AVERAGE(รายเดือน!IF48:IH48) -> 27461.818 | CE49: =AVERAGE(รายเดือน!II48:IK48) -> 26788.538 | CF49: =AVERAGE(รายเดือน!IL48:IN48) -> 24672.174 | CG49: =AVERAGE(รายเดือน!IO48:IQ48) -> 19937.83 | CH49: =AVERAGE(รายเดือน!IR48:IT48) -> 19490.995 | CI49: =AVERAGE(รายเดือน!IU48:IW48) -> 19343.006 | CJ49: =AVERAGE(รายเดือน!IX48:IZ48) -> 20274.504
A50: 3. หมวดประมง
A51: กุ้งขาวแวนนาไม (70 ตัว/กก.) | B51: บาท/กก. | C51: =AVERAGE(รายเดือน!C50:E50) -> 125.66667 | D51: =AVERAGE(รายเดือน!F50:H50) -> 112.66667 | E51: =AVERAGE(รายเดือน!I50:K50) -> 119 | F51: =AVERAGE(รายเดือน!L50:N50) -> 130 | G51: =AVERAGE(รายเดือน!O50:Q50) -> 134 | H51: =AVERAGE(รายเดือน!R50:T50) -> 116 | I51: =AVERAGE(รายเดือน!U50:W50) -> 108.66667 | J51: =AVERAGE(รายเดือน!X50:Z50) -> 107.33333 | K51: =AVERAGE(รายเดือน!AA50:AC50) -> 109 | L51: =AVERAGE(รายเดือน!AD50:AF50) -> 93 | M51: =AVERAGE(รายเดือน!AG50:AI50) -> 88.333333 | N51: =AVERAGE(รายเดือน!AJ50:AL50) -> 109.66667 | O51: =AVERAGE(รายเดือน!AM50:AO50) -> 106.66667 | P51: =AVERAGE(รายเดือน!AP50:AR50) -> 104.66667 | Q51: =AVERAGE(รายเดือน!AS50:AU50) -> 111 | R51: =AVERAGE(รายเดือน!AV50:AX50) -> 104 | S51: =AVERAGE(รายเดือน!AY50:BA50) -> 120.66667 | T51: =AVERAGE(รายเดือน!BB50:BD50) -> 105.66667 | U51: =AVERAGE(รายเดือน!BE50:BG50) -> 99.666667 | V51: =AVERAGE(รายเดือน!BH50:BJ50) -> 101 | W51: =AVERAGE(รายเดือน!BK50:BM50) -> 106 | X51: =AVERAGE(รายเดือน!BN50:BP50) -> 103 | Y51: =AVERAGE(รายเดือน!BQ50:BS50) -> 113 | Z51: =AVERAGE(รายเดือน!BT50:BV50) -> 119.66667 | AA51: =AVERAGE(รายเดือน!BW50:BY50) -> 130 | AB51: =AVERAGE(รายเดือน!BZ50:CB50) -> 132.66667 | AC51: =AVERAGE(รายเดือน!CC50:CE50) -> 125.66667 | AD51: =AVERAGE(รายเดือน!CF50:CH50) -> 127 | AE51: =AVERAGE(รายเดือน!CI50:CK50) -> 130.66667 | AF51: =AVERAGE(รายเดือน!CL50:CN50) -> 114.33333 | AG51: =AVERAGE(รายเดือน!CO50:CQ50) -> 126 | AH51: =AVERAGE(รายเดือน!CR50:CT50) -> 136 | AI51: =AVERAGE(รายเดือน!CU50:CW50) -> 154.33333 | AJ51: =AVERAGE(รายเดือน!CX50:CZ50) -> 182.33333 | AK51: =AVERAGE(รายเดือน!DA50:DC50) -> 202.66667 | AL51: =AVERAGE(รายเดือน!DD50:DF50) -> 248.33333 | AM51: =AVERAGE(รายเดือน!DG50:DI50) -> 263 | AN51: =AVERAGE(รายเดือน!DJ50:DL50) -> 211.66667 | AO51: =AVERAGE(รายเดือน!DM50:DO50) -> 212 | AP51: =AVERAGE(รายเดือน!DP50:DR50) -> 203.66667 | AQ51: =AVERAGE(รายเดือน!DS50:DU50) -> 199.33333 | AR51: =AVERAGE(รายเดือน!DV50:DX50) -> 176 | AS51: =AVERAGE(รายเดือน!DY50:EA50) -> 178.33333 | AT51: =AVERAGE(รายเดือน!EB50:ED50) -> 163.66667 | AU51: =AVERAGE(รายเดือน!EE50:EG50) -> 182 | AV51: =AVERAGE(รายเดือน!EH50:EJ50) -> 177.66667 | AW51: =AVERAGE(รายเดือน!EK50:EM50) -> 182.66667 | AX51: =AVERAGE(รายเดือน!EN50:EP50) -> 177.27733 | AY51: =AVERAGE(รายเดือน!EQ50:ES50) -> 211.62783 | AZ51: =AVERAGE(รายเดือน!ET50:EV50) -> 176.5515 | BA51: =AVERAGE(รายเดือน!EW50:EY50) -> 175.7235 | BB51: =AVERAGE(รายเดือน!EZ50:FB50) -> 176.656 | BC51: =AVERAGE(รายเดือน!FC50:FE50) -> 181.389 | BD51: =AVERAGE(รายเดือน!FF50:FH50) -> 136.89672 | BE51: =AVERAGE(รายเดือน!FI50:FK50) -> 149.91933 | BF51: =AVERAGE(รายเดือน!FL50:FN50) -> 136.88827 | BG51: =AVERAGE(รายเดือน!FO50:FQ50) -> 161.07666 | BH51: =AVERAGE(รายเดือน!FR50:FT50) -> 142.05727 | BI51: =AVERAGE(รายเดือน!FU50:FW50) -> 136.86533 | BJ51: =AVERAGE(รายเดือน!FX50:FZ50) -> 136.73372 | BK51: =AVERAGE(รายเดือน!GA50:GC50) -> 141.2275 | BL51: =AVERAGE(รายเดือน!GD50:GF50) -> 137.127 | BM51: =AVERAGE(รายเดือน!GG50:GI50) -> 141.11233 | BN51: =AVERAGE(รายเดือน!GJ50:GL50) -> 140.84666 | BO51: =AVERAGE(รายเดือน!GM50:GO50) -> 143.00233 | BP51: =AVERAGE(รายเดือน!GP50:GR50) -> 143.22116 | BQ51: =AVERAGE(รายเดือน!GS50:GU50) -> 128.1945 | BR51: =AVERAGE(รายเดือน!GV50:GX50) -> 145.89266 | BS51: =AVERAGE(รายเดือน!GY50:HA50) -> 174.23833 | BT51: =AVERAGE(รายเดือน!HB50:HD50) -> 149.25855 | BU51: =AVERAGE(รายเดือน!HE50:HG50) -> 143.41416 | BV51: =AVERAGE(รายเดือน!HH50:HJ50) -> 142.20516 | BW51: =AVERAGE(รายเดือน!HK50:HM50) -> 155.82916 | BX51: =AVERAGE(รายเดือน!HN50:HP50) -> 126.62116 | BY51: =AVERAGE(รายเดือน!HQ50:HS50) -> 107.7325 | BZ51: =AVERAGE(รายเดือน!HT50:HV50) -> 119.36483 | CA51: =AVERAGE(รายเดือน!HW50:HY50) -> 127.43166 | CB51: =AVERAGE(รายเดือน!HZ50:IB50) -> 123.5225 | CC51: =AVERAGE(รายเดือน!IC50:IE50) -> 129.031 | CD51: =AVERAGE(รายเดือน!IF50:IH50) -> 143.64083 | CE51: =AVERAGE(รายเดือน!II50:IK50) -> 156.637 | CF51: =AVERAGE(รายเดือน!IL50:IN50) -> 137.88461 | CG51: =AVERAGE(รายเดือน!IO50:IQ50) -> 139.592 | CH51: =AVERAGE(รายเดือน!IR50:IT50) -> 147.46 | CI51: =AVERAGE(รายเดือน!IU50:IW50) -> 146.7075 | CJ51: =AVERAGE(รายเดือน!IX50:IZ50) -> 123.7545
A52: ที่มา : สำนักงานเศรษฐกิจการเกษตร

Sheet รายเดือน
A1: ราคาสินค้าเกษตรที่เกษตรกรขายได้ ณ ไร่นา
A3: รายการสินค้า | B3: หน่วย | C3: 2548 | O3: 2549 | AA3: 2550 | AM3: 2551 | AY3: 2552 | BK3: 2553 | BW3: 2554 | CI3: 2555 | CU3: 2556 | DG3: 2557 | DS3: 2558 | EE3: 2559 | EQ3: 2560 | FC3: 2561 | FO3: 2562 | GA3: 2563 | GM3: 2564 | GY3: 2565 | HK3: 2566 | HW3: 2567 | II3: 2568 | IU3: 2569
C4: ม.ค. | D4: ก.พ. | E4: มี.ค. | F4: เม.ย. | G4: พ.ค. | H4: มิ.ย. | I4: ก.ค. | J4: ส.ค. | K4: ก.ย. | L4: ต.ค. | M4: พ.ย. | N4: ธ.ค. | O4: ม.ค. | P4: ก.พ. | Q4: มี.ค. | R4: เม.ย. | S4: พ.ค. | T4: มิ.ย. | U4: ก.ค. | V4: ส.ค. | W4: ก.ย. | X4: ต.ค. | Y4: พ.ย. | Z4: ธ.ค. | AA4: ม.ค. | AB4: ก.พ. | AC4: มี.ค. | AD4: เม.ย. | AE4: พ.ค. | AF4: มิ.ย. | AG4: ก.ค. | AH4: ส.ค. | AI4: ก.ย. | AJ4: ต.ค. | AK4: พ.ย. | AL4: ธ.ค. | AM4: ม.ค. | AN4: ก.พ. | AO4: มี.ค. | AP4: เม.ย. | AQ4: พ.ค. | AR4: มิ.ย. | AS4: ก.ค. | AT4: ส.ค. | AU4: ก.ย. | AV4: ต.ค. | AW4: พ.ย. | AX4: ธ.ค. | AY4: ม.ค. | AZ4: ก.พ. | BA4: มี.ค. | BB4: เม.ย. | BC4: พ.ค. | BD4: มิ.ย. | BE4: ก.ค. | BF4: ส.ค. | BG4: ก.ย. | BH4: ต.ค. | BI4: พ.ย. | BJ4: ธ.ค. | BK4: ม.ค. | BL4: ก.พ. | BM4: มี.ค. | BN4: เม.ย. | BO4: พ.ค. | BP4: มิ.ย. | BQ4: ก.ค. | BR4: ส.ค. | BS4: ก.ย. | BT4: ต.ค. | BU4: พ.ย. | BV4: ธ.ค. | BW4: ม.ค. | BX4: ก.พ. | BY4: มี.ค. | BZ4: เม.ย. | CA4: พ.ค. | CB4: มิ.ย. | CC4: ก.ค. | CD4: ส.ค. | CE4: ก.ย. | CF4: ต.ค. | CG4: พ.ย. | CH4: ธ.ค. | CI4: ม.ค. | CJ4: ก.พ. | CK4: มี.ค. | CL4: เม.ย. | CM4: พ.ค. | CN4: มิ.ย. | CO4: ก.ค. | CP4: ส.ค. | CQ4: ก.ย. | CR4: ต.ค. | CS4: พ.ย. | CT4: ธ.ค. | CU4: ม.ค. | CV4: ก.พ. | CW4: มี.ค. | CX4: เม.ย. | CY4: พ.ค. | CZ4: มิ.ย. | DA4: ก.ค. | DB4: ส.ค. | DC4: ก.ย. | DD4: ต.ค. | DE4: พ.ย. | DF4: ธ.ค. | DG4: ม.ค. | DH4: ก.พ. | DI4: มี.ค. | DJ4: เม.ย. | DK4: พ.ค. | DL4: มิ.ย. | DM4: ก.ค. | DN4: ส.ค. | DO4: ก.ย. | DP4: ต.ค. | DQ4: พ.ย. | DR4: ธ.ค. | DS4: ม.ค. | DT4: ก.พ. | DU4: มี.ค. | DV4: เม.ย. | DW4: พ.ค. | DX4: มิ.ย. | DY4: ก.ค. | DZ4: ส.ค. | EA4: ก.ย. | EB4: ต.ค. | EC4: พ.ย. | ED4: ธ.ค. | EE4: ม.ค. | EF4: ก.พ. | EG4: มี.ค. | EH4: เม.ย. | EI4: พ.ค. | EJ4: มิ.ย. | EK4: ก.ค. | EL4: ส.ค. | EM4: ก.ย. | EN4: ต.ค. | EO4: พ.ย. | EP4: ธ.ค. | EQ4: ม.ค. | ER4: ก.พ. | ES4: มี.ค. | ET4: เม.ย. | EU4: พ.ค. | EV4: มิ.ย. | EW4: ก.ค. | EX4: ส.ค. | EY4: ก.ย. | EZ4: ต.ค. | FA4: พ.ย. | FB4: ธ.ค. | FC4: ม.ค. | FD4: ก.พ. | FE4: มี.ค. | FF4: เม.ย. | FG4: พ.ค. | FH4: มิ.ย. | FI4: ก.ค. | FJ4: ส.ค. | FK4: ก.ย. | FL4: ต.ค. | FM4: พ.ย. | FN4: ธ.ค. | FO4: ม.ค. | FP4: ก.พ. | FQ4: มี.ค. | FR4: เม.ย. | FS4: พ.ค. | FT4: มิ.ย. | FU4: ก.ค. | FV4: ส.ค. | FW4: ก.ย. | FX4: ต.ค. | FY4: พ.ย. | FZ4: ธ.ค. | GA4: ม.ค. | GB4: ก.พ. | GC4: มี.ค. | GD4: เม.ย. | GE4: พ.ค. | GF4: มิ.ย. | GG4: ก.ค. | GH4: ส.ค. | GI4: ก.ย. | GJ4: ต.ค. | GK4: พ.ย. | GL4: ธ.ค. | GM4: ม.ค. | GN4: ก.พ. | GO4: มี.ค. | GP4: เม.ย. | GQ4: พ.ค. | GR4: มิ.ย. | GS4: ก.ค. | GT4: ส.ค. | GU4: ก.ย. | GV4: ต.ค. | GW4: พ.ย. | GX4: ธ.ค. | GY4: ม.ค. | GZ4: ก.พ. | HA4: มี.ค. | HB4: เม.ย. | HC4: พ.ค. | HD4: มิ.ย. | HE4: ก.ค. | HF4: ส.ค. | HG4: ก.ย. | HH4: ต.ค. | HI4: พ.ย. | HJ4: ธ.ค. | HK4: ม.ค. | HL4: ก.พ. | HM4: มี.ค. | HN4: เม.ย. | HO4: พ.ค. | HP4: มิ.ย. | HQ4: ก.ค. | HR4: ส.ค. | HS4: ก.ย. | HT4: ต.ค. | HU4: พ.ย. | HV4: ธ.ค. | HW4: ม.ค. | HX4: ก.พ. | HY4: มี.ค. | HZ4: เม.ย. | IA4: พ.ค. | IB4: มิ.ย. | IC4: ก.ค. | ID4: ส.ค. | IE4: ก.ย. | IF4: ต.ค. | IG4: พ.ย. | IH4: ธ.ค. | II4: ม.ค. | IJ4: ก.พ. | IK4: มี.ค. | IL4: เม.ย. | IM4: พ.ค. | IN4: มิ.ย. | IO4: ก.ค. | IP4: ส.ค. | IQ4: ก.ย. | IR4: ต.ค. | IS4: พ.ย. | IT4: ธ.ค. | IU4: ม.ค. | IV4: ก.พ. | IW4: มี.ค. | IX4: เม.ย. | IY4: พ.ค. | IZ4: มิ.ย. | JA4: ก.ค. | JB4: ส.ค. | JC4: ก.ย. | JD4: ต.ค. | JE4: พ.ย. | JF4: ธ.ค.
A5: 1. หมวดพืชผลสำคัญ
A6: 1.1 กลุ่มธัญพืชและพืชอาหาร
A7: ข้าวเปลือก
A8: ข้าวเปลือกเจ้าความชื้น 15% | B8: บาท/ตัน | C8: 6423 | D8: 6568 | E8: 6568 | F8: 6556 | G8: 6471 | H8: 6614 | I8: 6718 | J8: 6754 | K8: 6840 | L8: 6900 | M8: 6692 | N8: 6744 | O8: 6696 | P8: 6633 | Q8: 6649 | R8: 6880 | S8: 6782 | T8: 6621 | U8: 6740 | V8: 6632 | W8: 6759 | X8: 6655 | Y8: 6380 | Z8: 6400 | AA8: 6500 | AB8: 6637 | AC8: 6464 | AD8: 6339 | AE8: 6430 | AF8: 6544 | AG8: 6465 | AH8: 6405 | AI8: 6369 | AJ8: 6346 | AK8: 6589 | AL8: 6837 | AM8: 6955 | AN8: 7439 | AO8: 9497 | AP8: 12936 | AQ8: 12366 | AR8: 12459 | AS8: 12165 | AT8: 11475 | AU8: 11857 | AV8: 10692 | AW8: 9843 | AX8: 9618 | AY8: 10005 | AZ8: 10029 | BA8: 10334 | BB8: 9857 | BC8: 9924 | BD8: 10037 | BE8: 10158 | BF8: 9005 | BG8: 9318 | BH8: 8460 | BI8: 8948 | BJ8: 9825 | BK8: 9326 | BL8: 9400 | BM8: 8692 | BN8: 7891 | BO8: 7808 | BP8: 7956 | BQ8: 8189 | BR8: 8220 | BS8: 8492 | BT8: 8184 | BU8: 8229 | BV8: 8415 | BW8: 8543 | BX8: 8903 | BY8: 8384 | BZ8: 8026 | CA8: 7982 | CB8: 8591 | CC8: 8993 | CD8: 9523 | CE8: 9949 | CF8: 10217.416 | CG8: 10305 | CH8: 10322 | CI8: 9641 | CJ8: 9645 | CK8: 9921 | CL8: 10000 | CM8: 10242 | CN8: 10467 | CO8: 10326 | CP8: 9914 | CQ8: 10584 | CR8: 10123 | CS8: 10160 | CT8: 10221 | CU8: 10526 | CV8: 10559 | CW8: 10158 | CX8: 9753 | CY8: 9799 | CZ8: 9897 | DA8: 9578 | DB8: 9329 | DC8: 8480 | DD8: 8280 | DE8: 8126 | DF8: 8134 | DG8: 7914 | DH8: 7827 | DI8: 7482 | DJ8: 6982 | DK8: 7034 | DL8: 7337 | DM8: 7870 | DN8: 8339 | DO8: 8055 | DP8: 7980 | DQ8: 7878 | DR8: 7862 | DS8: 7895 | DT8: 7873 | DU8: 7723 | DV8: 7607 | DW8: 7674 | DX8: 7624 | DY8: 8029 | DZ8: 8121 | EA8: 7614 | EB8: 7676 | EC8: 7698 | ED8: 7543 | EE8: 7663 | EF8: 7900 | EG8: 7773 | EH8: 7727 | EI8: 8074 | EJ8: 8452 | EK8: 8670 | EL8: 8735 | EM8: 7999 | EN8: 7486.6679 | EO8: 7057.0273 | EP8: 7272.1923 | EQ8: 7517.2258 | ER8: 7357.6448 | ES8: 7477.5948 | ET8: 7551.1148 | EU8: 7663.8218 | EV8: 8195.3573 | EW8: 8084.3578 | EX8: 7776.2623 | EY8: 7631.9698 | EZ8: 7357.5679 | FA8: 8028.1398 | FB8: 8223.0348 | FC8: 7804 | FD8: 7609.4173 | FE8: 7635.4698 | FF8: 7837.5897 | FG8: 8017.9448 | FH8: 7978.6798 | FI8: 7540.5648 | FJ8: 7492.5939 | FK8: 7553.1398 | FL8: 7641.3173 | FM8: 8004.4318 | FN8: 8042.3864 | FO8: 7744.5273 | FP8: 7620.1898 | FQ8: 7609.5558 | FR8: 7836.8397 | FS8: 7833.6678 | FT8: 7782.2948 | FU8: 7693.8523 | FV8: 7896.9918 | FW8: 7827.1298 | FX8: 7921.0098 | FY8: 7880.9538 | FZ8: 7705.2097 | GA8: 7755.6038 | GB8: 8165.8498 | GC8: 8654.9823 | GD8: 9453.0073 | GE8: 9318.5258 | GF8: 9051.6998 | GG8: 8910.0758 | GH8: 9297.2948 | GI8: 9418.9323 | GJ8: 8803.8658 | GK8: 8280.6798 | GL8: 8408.1223 | GM8: 9001 | GN8: 9148 | GO8: 9312.3678 | GP8: 9068.223 | GQ8: 8741.8038 | GR8: 8473.6073 | GS8: 8256.6648 | GT8: 7507.7058 | GU8: 7442.0048 | GV8: 7586.4448 | GW8: 7695.7498 | GX8: 7788.4498 | GY8: 7934.2423 | GZ8: 7850.6473 | HA8: 8191.6948 | HB8: 8490.7864 | HC8: 8741.1038 | HD8: 9094.1148 | HE8: 9068.9923 | HF8: 9057.8378 | HG8: 9220.4048 | HH8: 9180.0038 | HI8: 9218.1898 | HJ8: 9129.2598 | HK8: 9659.7298 | HL8: 9749.4648 | HM8: 9759.7273 | HN8: 9898.9263 | HO8: 9914.3478 | HP8: 9958.5623 | HQ8: 10482.71 | HR8: 11843.615 | HS8: 13179 | HT8: 12957.92 | HU8: 10737.415 | HV8: 10285.472 | HW8: 11323.675 | HX8: 11771.96 | HY8: 11292.507 | HZ8: 10454 | IA8: 10801.292 | IB8: 11125.917 | IC8: 10954.206 | ID8: 10761.532 | IE8: 10601.66 | IF8: 9616.6473 | IG8: 9593.4523 | IH8: 9286.5173 | II8: 9180.3723 | IJ8: 8647.5173 | IK8: 8176.2878 | IL8: 7308.0464 | IM8: 7205.0073 | IN8: 7013.5879 | IO8: 6939.4423 | IP8: 6711.6348 | IQ8: 6618.1879 | IR8: 6417.8648 | IS8: 6348.8698 | IT8: 7096.9623 | IU8: 7363.4723 | IV8: 7324.04 | IW8: 7169.7159 | IX8: 7218.4464 | IY8: 7289.4198 | IZ8: 7777.3078 | JA8: 8311.9248
A9: ข้าวเปลือกเจ้าหอมมะลิ | B9: บาท/ตัน | C9: 7604 | D9: 7736 | E9: 7816 | F9: 7913 | G9: 7769 | H9: 7630 | I9: 7486 | J9: 7618 | K9: 7816 | L9: 7850 | M9: 7393 | N9: 7579 | O9: 7628 | P9: 7873 | Q9: 7960 | R9: 8028 | S9: 8069 | T9: 8160 | U9: 8353 | V9: 8612 | W9: 8642 | X9: 8685 | Y9: 8262 | Z9: 7882 | AA9: 8072 | AB9: 8274 | AC9: 8388 | AD9: 8526 | AE9: 8643 | AF9: 8778 | AG9: 8864 | AH9: 9016 | AI9: 9033 | AJ9: 9028 | AK9: 8927 | AL9: 9691 | AM9: 10150 | AN9: 11906 | AO9: 12995 | AP9: 16389 | AQ9: 17292 | AR9: 15570 | AS9: 14307 | AT9: 13621 | AU9: 13197 | AV9: 13424 | AW9: 12728 | AX9: 12089 | AY9: 12188 | AZ9: 12755 | BA9: 13182 | BB9: 13175 | BC9: 13133 | BD9: 13078 | BE9: 13551 | BF9: 13372 | BG9: 14857 | BH9: 15203 | BI9: 13502 | BJ9: 14155 | BK9: 14106 | BL9: 14337 | BM9: 13948 | BN9: 13607 | BO9: 13178 | BP9: 12803 | BQ9: 13125 | BR9: 13528 | BS9: 13895 | BT9: 14070 | BU9: 13184 | BV9: 12837 | BW9: 12511 | BX9: 12304 | BY9: 11821 | BZ9: 12113 | CA9: 12202 | CB9: 12287 | CC9: 12471 | CD9: 12942 | CE9: 13275 | CF9: 14265.19 | CG9: 15219 | CH9: 15004 | CI9: 15201 | CJ9: 15024 | CK9: 14770 | CL9: 14752 | CM9: 14628 | CN9: 14616 | CO9: 14832 | CP9: 15369 | CQ9: 15538 | CR9: 15813 | CS9: 15302 | CT9: 15386 | CU9: 15702 | CV9: 16070 | CW9: 15862 | CX9: 15643 | CY9: 15809 | CZ9: 15870 | DA9: 15576 | DB9: 15675 | DC9: 15776 | DD9: 15708 | DE9: 14984 | DF9: 14313 | DG9: 14252 | DH9: 14223 | DI9: 14186 | DJ9: 13902 | DK9: 13846 | DL9: 13812 | DM9: 13886 | DN9: 13992 | DO9: 14094 | DP9: 14179 | DQ9: 13367 | DR9: 11649 | DS9: 12565 | DT9: 13103 | DU9: 13571 | DV9: 13470 | DW9: 13341 | DX9: 13134 | DY9: 13098 | DZ9: 13073 | EA9: 13282 | EB9: 13099 | EC9: 12018 | ED9: 11518 | EE9: 10918 | EF9: 10798 | EG9: 10725 | EH9: 10588 | EI9: 10901 | EJ9: 11062 | EK9: 11130 | EL9: 11009 | EM9: 10698 | EN9: 9516.5918 | EO9: 8293.7373 | EP9: 9181.7898 | EQ9: 9240.0918 | ER9: 9307.9373 | ES9: 9259.5998 | ET9: 9091.6198 | EU9: 9136.7798 | EV9: 9438.1698 | EW9: 10094.852 | EX9: 10476.685 | EY9: 11341.582 | EZ9: 11530.748 | FA9: 11039.815 | FB9: 12302.834 | FC9: 13358.9 | FD9: 14474.962 | FE9: 15106.228 | FF9: 15235.576 | FG9: 15538.642 | FH9: 15886.988 | FI9: 15990.775 | FJ9: 15349.608 | FK9: 15138 | FL9: 14865 | FM9: 15279.952 | FN9: 15244.046 | FO9: 15145 | FP9: 15590.062 | FQ9: 15720.796 | FR9: 15646.163 | FS9: 15725.948 | FT9: 15770.967 | FU9: 15508.097 | FV9: 16034.968 | FW9: 16562.477 | FX9: 16290.685 | FY9: 14322.164 | FZ9: 13529.173 | GA9: 13756.614 | GB9: 13914.012 | GC9: 13949.442 | GD9: 14471.44 | GE9: 14871.368 | GF9: 14868.187 | GG9: 14630.03 | GH9: 14408.61 | GI9: 13237.592 | GJ9: 11715.484 | GK9: 10402.807 | GL9: 11185.197 | GM9: 11812.29 | GN9: 11862.29 | GO9: 11822.976 | GP9: 11835.796 | GQ9: 11432.628 | GR9: 10796.812 | GS9: 10320.217 | GT9: 9902.7618 | GU9: 9812.6098 | GV9: 9725.3773 | GW9: 9371.8598 | GX9: 9951.8073 | GY9: 11044.972 | GZ9: 11451.352 | HA9: 11657.665 | HB9: 11770.913 | HC9: 12832.228 | HD9: 13934.06 | HE9: 13737.227 | HF9: 13633.012 | HG9: 13629.177 | HH9: 14140.608 | HI9: 13468.517 | HJ9: 12898 | HK9: 13305.69 | HL9: 13347 | HM9: 13426.397 | HN9: 13363.78 | HO9: 13531.838 | HP9: 13834.787 | HQ9: 13995.074 | HR9: 14684.937 | HS9: 15034 | HT9: 14706.268 | HU9: 13292.552 | HV9: 13580.182 | HW9: 14044.157 | HX9: 14212.447 | HY9: 14225.695 | HZ9: 13995.055 | IA9: 14424.325 | IB9: 14942.227 | IC9: 15008.642 | ID9: 15211.29 | IE9: 15509.582 | IF9: 15685.555 | IG9: 14983.975 | IH9: 14687.562 | II9: 15003.202 | IJ9: 15222.377 | IK9: 15256.192 | IL9: 15399.556 | IM9: 15501.015 | IN9: 15576.006 | IO9: 15320.75 | IP9: 14912.642 | IQ9: 14810.046 | IR9: 14598.257 | IS9: 13856.645 | IT9: 14851.445 | IU9: 15579.57 | IV9: 15789.447 | IW9: 15915.806 | IX9: 15951.546 | IY9: 16073.51 | IZ9: 16378.824 | JA9: 16437.5
