Workbook

Sheet รายปี
A1: ราคาสินค้าเกษตรที่เกษตรกรขายได้ ณ ไร่นา
A3: รายการสินค้า | B3: หน่วย | C3: 2548 | D3: 2549 | E3: 2550 | F3: 2551 | G3: 2552 | H3: 2553 | I3: 2554 | J3: 2555 | K3: 2556 | L3: 2557 | M3: 2558 | N3: 2559 | O3: 2560 | P3: 2561 | Q3: 2562 | R3: 2563 | S3: 2564 | T3: 2565 | U3: 2566 | V3: 2567 | W3: 2568
A5: ภาคเกษตรกรรม
A6: 1. หมวดพืชผลสำคัญ
A7: 1.1 กลุ่มธัญพืชและพืชอาหาร
A8: ข้าวเปลือก
A9: ข้าวเปลือกเจ้าความชื้น 15% | B9: บาท/ตัน | C9: =AVERAGE(รายเดือน!C8:N8) -> 6654 | D9: =AVERAGE(รายเดือน!O8:Z8) -> 6652.25 | E9: =AVERAGE(รายเดือน!AA8:AL8) -> 6493.75 | F9: =AVERAGE(รายเดือน!AM8:AX8) -> 10608.5 | G9: =AVERAGE(รายเดือน!AY8:BJ8) -> 9658.3333 | H9: =AVERAGE(รายเดือน!BK8:BV8) -> 8400.1667 | I9: =AVERAGE(รายเดือน!BW8:CH8) -> 9144.868 | J9: =AVERAGE(รายเดือน!CI8:CT8) -> 10103.667 | K9: =AVERAGE(รายเดือน!CU8:DF8) -> 9384.9167 | L9: =AVERAGE(รายเดือน!DG8:DR8) -> 7713.3333 | M9: =AVERAGE(รายเดือน!DS8:ED8) -> 7756.4167 | N9: =AVERAGE(รายเดือน!EE8:EP8) -> 7900.7406 | O9: =AVERAGE(รายเดือน!EQ8:FB8) -> 7738.6743 | P9: =AVERAGE(รายเดือน!FC8:FN8) -> 7763.128 | Q9: =AVERAGE(รายเดือน!FO8:FZ8) -> 7779.3519 | R9: =AVERAGE(รายเดือน!GA8:GL8) -> 8793.22 | S9: =AVERAGE(รายเดือน!GM8:GX8) -> 8335.1685 | T9: =AVERAGE(รายเดือน!GY8:HJ8) -> 8764.7731 | U9: =AVERAGE(รายเดือน!HK8:HV8) -> 10702.241 | V9: =AVERAGE(รายเดือน!HW8:IH8) -> 10631.947 | W9: =AVERAGE(รายเดือน!II8:IT8) -> 7305.3151
A10: ข้าวเปลือกเจ้าหอมมะลิ | B10: บาท/ตัน | C10: =AVERAGE(รายเดือน!C9:N9) -> 7684.1667 | D10: =AVERAGE(รายเดือน!O9:Z9) -> 8179.5 | E10: =AVERAGE(รายเดือน!AA9:AL9) -> 8770 | F10: =AVERAGE(รายเดือน!AM9:AX9) -> 13639 | G10: =AVERAGE(รายเดือน!AY9:BJ9) -> 13512.583 | H10: =AVERAGE(รายเดือน!BK9:BV9) -> 13551.5 | I10: =AVERAGE(รายเดือน!BW9:CH9) -> 13034.516 | J10: =AVERAGE(รายเดือน!CI9:CT9) -> 15102.583 | K10: =AVERAGE(รายเดือน!CU9:DF9) -> 15582.333 | L10: =AVERAGE(รายเดือน!DG9:DR9) -> 13782.333 | M10: =AVERAGE(รายเดือน!DS9:ED9) -> 12939.333 | N10: =AVERAGE(รายเดือน!EE9:EP9) -> 10401.76 | O10: =AVERAGE(รายเดือน!EQ9:FB9) -> 10188.393 | P10: =AVERAGE(รายเดือน!FC9:FN9) -> 15122.39 | Q10: =AVERAGE(รายเดือน!FO9:FZ9) -> 15487.208 | R10: =AVERAGE(รายเดือน!GA9:GL9) -> 13450.899 | S10: =AVERAGE(รายเดือน!GM9:GX9) -> 10720.619 | T10: =AVERAGE(รายเดือน!GY9:HJ9) -> 12849.811 | U10: =AVERAGE(รายเดือน!HK9:HV9) -> 13841.875 | V10: =AVERAGE(รายเดือน!HW9:IH9) -> 14744.209 | W10: =AVERAGE(รายเดือน!II9:IT9) -> 15025.678
A11: ข้าวเปลือกเหนียวเมล็ดยาว | B11: บาท/ตัน | C11: =AVERAGE(รายเดือน!C10:N10) -> 5968.25 | D11: =AVERAGE(รายเดือน!O10:Z10) -> 7767.0833 | E11: =AVERAGE(รายเดือน!AA10:AL10) -> 10915.833 | F11: =AVERAGE(รายเดือน!AM10:AX10) -> 8067.5 | G11: =AVERAGE(รายเดือน!AY10:BJ10) -> 7880 | H11: =AVERAGE(รายเดือน!BK10:BV10) -> 13392 | I11: =AVERAGE(รายเดือน!BW10:CH10) -> 14708.7 | J11: =AVERAGE(รายเดือน!CI10:CT10) -> 12690.167 | K11: =AVERAGE(รายเดือน!CU10:DF10) -> 12866 | L11: =AVERAGE(รายเดือน!DG10:DR10) -> 11856.167 | M11: =AVERAGE(รายเดือน!DS10:ED10) -> 11365.583 | N11: =AVERAGE(รายเดือน!EE10:EP10) -> 12057.722 | O11: =AVERAGE(รายเดือน!EQ10:FB10) -> 10149.283 | P11: =AVERAGE(รายเดือน!FC10:FN10) -> 9420.9544 | Q11: =AVERAGE(รายเดือน!FO10:FZ10) -> 12171.666 | R11: =AVERAGE(รายเดือน!GA10:GL10) -> 14164.964 | S11: =AVERAGE(รายเดือน!GM10:GX10) -> 9539.086 | T11: =AVERAGE(รายเดือน!GY10:HJ10) -> 9227.9158 | U11: =AVERAGE(รายเดือน!HK10:HV10) -> 11403.222 | V11: =AVERAGE(รายเดือน!HW10:IH10) -> 12123.135 | W11: =AVERAGE(รายเดือน!II10:IT10) -> 11914.69
A12: อ้อยโรงงาน | B12: บาท/ตัน | C12: =AVERAGE(รายเดือน!C11:N11) -> 546.66667 | D12: =AVERAGE(รายเดือน!O11:Z11) -> 665.83333 | E12: =AVERAGE(รายเดือน!AA11:AL11) -> 632.91667 | F12: =AVERAGE(รายเดือน!AM11:AX11) -> 645.08333 | G12: =AVERAGE(รายเดือน!AY11:BJ11) -> 754.66667 | H12: =AVERAGE(รายเดือน!BK11:BV11) -> 947.0575 | I12: =AVERAGE(รายเดือน!BW11:CH11) -> 929.91667 | J12: =AVERAGE(รายเดือน!CI11:CT11) -> 963.16667 | K12: =AVERAGE(รายเดือน!CU11:DF11) -> 965.91667 | L12: =AVERAGE(รายเดือน!DG11:DR11) -> 918 | M12: =AVERAGE(รายเดือน!DS11:ED11) -> 796.5 | N12: =AVERAGE(รายเดือน!EE11:EP11) -> 750.51937 | O12: =AVERAGE(รายเดือน!EQ11:FB11) -> 972.57318 | P12: =AVERAGE(รายเดือน!FC11:FN11) -> 763.41911 | Q12: =AVERAGE(รายเดือน!FO11:FZ11) -> 668.14644 | R12: =AVERAGE(รายเดือน!GA11:GL11) -> 716.76707 | S12: =AVERAGE(รายเดือน!GM11:GX11) -> 928.72481 | T12: =AVERAGE(รายเดือน!GY11:HJ11) -> 1073.4471 | U12: =AVERAGE(รายเดือน!HK11:HV11) -> 1165.8171 | V12: =AVERAGE(รายเดือน!HW11:IH11) -> 1450.4731 | W12: =AVERAGE(รายเดือน!II11:IT11) -> 1139.2462
A13: มันสำปะหลังสดคละ | B13: บาท/กก. | C13: =AVERAGE(รายเดือน!C12:N12) -> 1.3525 | D13: =AVERAGE(รายเดือน!O12:Z12) -> 1.0866667 | E13: =AVERAGE(รายเดือน!AA12:AL12) -> 1.46 | F13: =AVERAGE(รายเดือน!AM12:AX12) -> 1.8058333 | G13: =AVERAGE(รายเดือน!AY12:BJ12) -> 1.2516667 | H13: =AVERAGE(รายเดือน!BK12:BV12) -> 2.3283333 | I13: =AVERAGE(รายเดือน!BW12:CH12) -> 2.3808333 | J13: =AVERAGE(รายเดือน!CI12:CT12) -> 2.0158333 | K13: =AVERAGE(รายเดือน!CU12:DF12) -> 2.13 | L13: =AVERAGE(รายเดือน!DG12:DR12) -> 2.1033333 | M13: =AVERAGE(รายเดือน!DS12:ED12) -> 2.1558333 | N13: =AVERAGE(รายเดือน!EE12:EP12) -> 1.5210833 | O13: =AVERAGE(รายเดือน!EQ12:FB12) -> 1.4024583 | P13: =AVERAGE(รายเดือน!FC12:FN12) -> 2.3798194 | Q13: =AVERAGE(รายเดือน!FO12:FZ12) -> 1.8898611 | R13: =AVERAGE(รายเดือน!GA12:GL12) -> 1.7964583 | S13: =AVERAGE(รายเดือน!GM12:GX12) -> 2.0671666 | T13: =AVERAGE(รายเดือน!GY12:HJ12) -> 2.5218472 | U13: =AVERAGE(รายเดือน!HK12:HV12) -> 2.9061388 | V13: =AVERAGE(รายเดือน!HW12:IH12) -> 2.3322499 | W13: =AVERAGE(รายเดือน!II12:IT12) -> 1.7138194
A14: ข้าวโพดเลี้ยงสัตว์ ความชื้น 14.5% | B14: บาท/กก. | C14: =AVERAGE(รายเดือน!C13:N13) -> 4.8733333 | D14: =AVERAGE(รายเดือน!O13:Z13) -> 5.275 | E14: =AVERAGE(รายเดือน!AA13:AL13) -> 6.8091667 | F14: =AVERAGE(รายเดือน!AM13:AX13) -> 7.8508333 | G14: =AVERAGE(รายเดือน!AY13:BJ13) -> 6.1383333 | H14: =AVERAGE(รายเดือน!BK13:BV13) -> 7.9716667 | I14: =AVERAGE(รายเดือน!BW13:CH13) -> 8.1608333 | J14: =AVERAGE(รายเดือน!CI13:CT13) -> 9.0483333 | K14: =AVERAGE(รายเดือน!CU13:DF13) -> 7.8966667 | L14: =AVERAGE(รายเดือน!DG13:DR13) -> 7.2408333 | M14: =AVERAGE(รายเดือน!DS13:ED13) -> 8.0216667 | N14: =AVERAGE(รายเดือน!EE13:EP13) -> 7.316375 | O14: =AVERAGE(รายเดือน!EQ13:FB13) -> 6.1729165 | P14: =AVERAGE(รายเดือน!FC13:FN13) -> 7.920097 | Q14: =AVERAGE(รายเดือน!FO13:FZ13) -> 7.8091387 | R14: =AVERAGE(รายเดือน!GA13:GL13) -> 7.6718748 | S14: =AVERAGE(รายเดือน!GM13:GX13) -> 8.2026387 | T14: =AVERAGE(รายเดือน!GY13:HJ13) -> 9.8120692 | U14: =AVERAGE(รายเดือน!HK13:HV13) -> 10.178986 | V14: =AVERAGE(รายเดือน!HW13:IH13) -> 8.6511665 | W14: =AVERAGE(รายเดือน!II13:IT13) -> 8.2392776
A15: ถั่วเขียวผิวมันใหญ่ | B15: บาท/กก. | C15: =AVERAGE(รายเดือน!C14:N14) -> 17.8375 | D15: =AVERAGE(รายเดือน!O14:Z14) -> 18.643333 | E15: =AVERAGE(รายเดือน!AA14:AL14) -> 19.8825 | F15: =AVERAGE(รายเดือน!AM14:AX14) -> 17.8475 | G15: =AVERAGE(รายเดือน!AY14:BJ14) -> 20.586667 | H15: =AVERAGE(รายเดือน!BK14:BV14) -> 32.785 | I15: =AVERAGE(รายเดือน!BW14:CH14) -> 26.943611 | J15: =AVERAGE(รายเดือน!CI14:CT14) -> 20.439167 | K15: =AVERAGE(รายเดือน!CU14:DF14) -> 24.250833 | L15: =AVERAGE(รายเดือน!DG14:DR14) -> 32.63 | M15: =AVERAGE(รายเดือน!DS14:ED14) -> 33.579167 | N15: =AVERAGE(รายเดือน!EE14:EP14) -> 29.745542 | O15: =AVERAGE(รายเดือน!EQ14:FB14) -> 24.903749 | P15: =AVERAGE(รายเดือน!FC14:FN14) -> 21.333291 | Q15: =AVERAGE(รายเดือน!FO14:FZ14) -> 21.708611 | R15: =AVERAGE(รายเดือน!GA14:GL14) -> 23.725124 | S15: =AVERAGE(รายเดือน!GM14:GX14) -> 24.852958 | T15: =AVERAGE(รายเดือน!GY14:HJ14) -> 24.948291 | U15: =AVERAGE(รายเดือน!HK14:HV14) -> 27.376583 | V15: =AVERAGE(รายเดือน!HW14:IH14) -> 26.071457 | W15: =AVERAGE(รายเดือน!II14:IT14) -> 22.428749
A16: 1.2 กลุ่มไม้ยืนต้น
A17: ยางแผ่นดิบชั้น 3 | B17: บาท/กก. | C17: =AVERAGE(รายเดือน!C16:N16) -> 52.19 | D17: =AVERAGE(รายเดือน!O16:Z16) -> 68.184167 | E17: =AVERAGE(รายเดือน!AA16:AL16) -> 68.778333 | F17: =AVERAGE(รายเดือน!AM16:AX16) -> 76.5225 | G17: =AVERAGE(รายเดือน!AY16:BJ16) -> 56.3575 | H17: =AVERAGE(รายเดือน!BK16:BV16) -> 102.69917 | I17: =AVERAGE(รายเดือน!BW16:CH16) -> 127.95767 | J17: =AVERAGE(รายเดือน!CI16:CT16) -> 89.974167 | K17: =AVERAGE(รายเดือน!CU16:DF16) -> 74.755 | L17: =AVERAGE(รายเดือน!DG16:DR16) -> 55.415 | M17: =AVERAGE(รายเดือน!DS16:ED16) -> 44.91 | N17: =AVERAGE(รายเดือน!EE16:EP16) -> 48.359 | O17: =AVERAGE(รายเดือน!EQ16:FB16) -> 57.534374 | P17: =AVERAGE(รายเดือน!FC16:FN16) -> 41.478235 | Q17: =AVERAGE(รายเดือน!FO16:FZ16) -> 41.976874 | R17: =AVERAGE(รายเดือน!GA16:GL16) -> 42.922707 | S17: =AVERAGE(รายเดือน!GM16:GX16) -> 52.657013 | T17: =AVERAGE(รายเดือน!GY16:HJ16) -> 53.451082 | U17: =AVERAGE(รายเดือน!HK16:HV16) -> 45.365152 | V17: =AVERAGE(รายเดือน!HW16:IH16) -> 69.874873 | W17: =AVERAGE(รายเดือน!II16:IT16) -> 60.29554
A18: สารกาแฟ (โรบัสต้า) | B18: บาท/กก. | C18: =AVERAGE(รายเดือน!C17:N17) -> 29.35 | D18: =AVERAGE(รายเดือน!O17:Z17) -> 40.3425 | E18: =AVERAGE(รายเดือน!AA17:AL17) -> 48.900833 | F18: =AVERAGE(รายเดือน!AM17:AX17) -> 65.063333 | G18: =AVERAGE(รายเดือน!AY17:BJ17) -> 66.440833 | H18: =AVERAGE(รายเดือน!BK17:BV17) -> 60.366667 | I18: =AVERAGE(รายเดือน!BW17:CH17) -> 71.334167 | J18: =AVERAGE(รายเดือน!CI17:CT17) -> 66.6425 | K18: =AVERAGE(รายเดือน!CU17:DF17) -> 74.325833 | L18: =AVERAGE(รายเดือน!DG17:DR17) -> 66.25 | M18: =AVERAGE(รายเดือน!DS17:ED17) -> 68.4575 | N18: =AVERAGE(รายเดือน!EE17:EP17) -> 67.720833 | O18: =AVERAGE(รายเดือน!EQ17:FB17) -> 81.53541 | P18: =AVERAGE(รายเดือน!FC17:FN17) -> 68.076054 | Q18: =AVERAGE(รายเดือน!FO17:FZ17) -> 69.470202 | R18: =AVERAGE(รายเดือน!GA17:GL17) -> 67.242219 | S18: =AVERAGE(รายเดือน!GM17:GX17) -> 68.718538 | T18: =AVERAGE(รายเดือน!GY17:HJ17) -> 68.537286 | U18: =AVERAGE(รายเดือน!HK17:HV17) -> 74.11958 | V18: =AVERAGE(รายเดือน!HW17:IH17) -> 125.73562 | W18: =AVERAGE(รายเดือน!II17:IT17) -> 188.43055
A19: พริกไทยดำคละ | B19: บาท/กก. | C19: =AVERAGE(รายเดือน!C18:N18) -> 57.619167 | D19: =AVERAGE(รายเดือน!O18:Z18) -> 69.870833 | E19: =AVERAGE(รายเดือน!AA18:AL18) -> 132.17333 | F19: =AVERAGE(รายเดือน!AM18:AX18) -> 145 | G19: =AVERAGE(รายเดือน!AY18:BJ18) -> 91.875 | H19: =AVERAGE(รายเดือน!BK18:BV18) -> 132.11083 | I19: =AVERAGE(รายเดือน!BW18:CH18) -> 159.965 | J19: =AVERAGE(รายเดือน!CI18:CT18) -> 180.13333 | K19: =AVERAGE(รายเดือน!CU18:DF18) -> 185.04167 | L19: =AVERAGE(รายเดือน!DG18:DR18) -> 275.04583 | M19: =AVERAGE(รายเดือน!DS18:ED18) -> 352.7 | N19: =AVERAGE(รายเดือน!EE18:EP18) -> 352.11 | O19: =AVERAGE(รายเดือน!EQ18:FB18) -> 213.39583 | P19: =AVERAGE(รายเดือน!FC18:FN18) -> 133.91666 | Q19: =AVERAGE(รายเดือน!FO18:FZ18) -> 95.326387 | R19: =AVERAGE(รายเดือน!GA18:GL18) -> 97.687498 | S19: =AVERAGE(รายเดือน!GM18:GX18) -> 143.90277 | T19: =AVERAGE(รายเดือน!GY18:HJ18) -> 165.50137 | U19: =AVERAGE(รายเดือน!HK18:HV18) -> 242.49999 | V19: =AVERAGE(รายเดือน!HW18:IH18) -> 249.99999 | W19: =AVERAGE(รายเดือน!II18:IT18) -> 295.03683
A20: 1.3 กลุ่มไม้ผล
A21: มะม่วงน้ำดอกไม้ | B21: บาท/กก. | C21: =AVERAGE(รายเดือน!C20:N20) -> 11.59 | D21: =AVERAGE(รายเดือน!O20:Z20) -> 17.8025 | E21: =AVERAGE(รายเดือน!AA20:AL20) -> 15.538333 | F21: =AVERAGE(รายเดือน!AM20:AX20) -> 15.744167 | G21: =AVERAGE(รายเดือน!AY20:BJ20) -> 19.364167 | H21: =AVERAGE(รายเดือน!BK20:BV20) -> 18.8725 | I21: =AVERAGE(รายเดือน!BW20:CH20) -> 18.519167 | J21: =AVERAGE(รายเดือน!CI20:CT20) -> 16.985 | K21: =AVERAGE(รายเดือน!CU20:DF20) -> 18.925 | L21: =AVERAGE(รายเดือน!DG20:DR20) -> 18.8675 | M21: =AVERAGE(รายเดือน!DS20:ED20) -> 25.011667 | N21: =AVERAGE(รายเดือน!EE20:EP20) -> 36.245 | O21: =AVERAGE(รายเดือน!EQ20:FB20) -> 26.92 | P21: =AVERAGE(รายเดือน!FC20:FN20) -> 31.2025 | Q21: =AVERAGE(รายเดือน!FO20:FZ20) -> 29.2225 | R21: =AVERAGE(รายเดือน!GA20:GL20) -> 20.075833 | S21: =AVERAGE(รายเดือน!GM20:GX20) -> 15.875833 | T21: =AVERAGE(รายเดือน!GY20:HJ20) -> 20.655833 | U21: =AVERAGE(รายเดือน!HK20:HV20) -> 19.5375 | V21: =AVERAGE(รายเดือน!HW20:IH20) -> 19.554 | W21: =AVERAGE(รายเดือน!II20:IT20) -> 17.548708
A22: ส้มเขียวหวาน | B22: บาท/กก. | C22: =AVERAGE(รายเดือน!C21:N21) -> 13.660833 | D22: =AVERAGE(รายเดือน!O21:Z21) -> 11.213333 | E22: =AVERAGE(รายเดือน!AA21:AL21) -> 12.26 | F22: =AVERAGE(รายเดือน!AM21:AX21) -> 16.863333 | G22: =AVERAGE(รายเดือน!AY21:BJ21) -> 24.288333 | H22: =AVERAGE(รายเดือน!BK21:BV21) -> 25.0875 | I22: =AVERAGE(รายเดือน!BW21:CH21) -> 29.544167 | J22: =AVERAGE(รายเดือน!CI21:CT21) -> 33.279167 | K22: =AVERAGE(รายเดือน!CU21:DF21) -> 28.445833 | L22: =AVERAGE(รายเดือน!DG21:DR21) -> 43.708333 | M22: =AVERAGE(รายเดือน!DS21:ED21) -> 41.458333 | N22: =AVERAGE(รายเดือน!EE21:EP21) -> 48.583333 | O22: =AVERAGE(รายเดือน!EQ21:FB21) -> 37.874999 | P22: =AVERAGE(รายเดือน!FC21:FN21) -> 17.841666 | Q22: =AVERAGE(รายเดือน!FO21:FZ21) -> 27.91111 | R22: =AVERAGE(รายเดือน!GA21:GL21) -> 25.58611 | S22: =AVERAGE(รายเดือน!GM21:GX21) -> 21.687499 | T22: =AVERAGE(รายเดือน!GY21:HJ21) -> 22.966804 | U22: =AVERAGE(รายเดือน!HK21:HV21) -> 25.502499 | V22: =AVERAGE(รายเดือน!HW21:IH21) -> 22.916665 | W22: =AVERAGE(รายเดือน!II21:IT21) -> 22.499999
A23: ทุเรียนหมอนทองคละ | B23: บาท/กก. | C23: =AVERAGE(รายเดือน!C22:N22) -> 21.051667 | D23: =AVERAGE(รายเดือน!O22:Z22) -> 22.269167 | E23: =AVERAGE(รายเดือน!AA22:AL22) -> 20.321667 | F23: =AVERAGE(รายเดือน!AM22:AX22) -> 28.81 | G23: =AVERAGE(รายเดือน!AY22:BJ22) -> 24.379167 | H23: =AVERAGE(รายเดือน!BK22:BV22) -> 29.065 | I23: =AVERAGE(รายเดือน!BW22:CH22) -> 35.931667 | J23: =AVERAGE(รายเดือน!CI22:CT22) -> 33.1175 | K23: =AVERAGE(รายเดือน!CU22:DF22) -> 31.929167 | L23: =AVERAGE(รายเดือน!DG22:DR22) -> 40.395 | M23: =AVERAGE(รายเดือน!DS22:ED22) -> 50.908333 | N23: =AVERAGE(รายเดือน!EE22:EP22) -> 56.599166 | O23: =AVERAGE(รายเดือน!EQ22:FB22) -> 74.890387 | P23: =AVERAGE(รายเดือน!FC22:FN22) -> 80.948095 | Q23: =AVERAGE(รายเดือน!FO22:FZ22) -> 92.898511 | R23: =AVERAGE(รายเดือน!GA22:GL22) -> 109.12716 | S23: =AVERAGE(รายเดือน!GM22:GX22) -> 109.76689 | T23: =AVERAGE(รายเดือน!GY22:HJ22) -> 110.55582 | U23: =AVERAGE(รายเดือน!HK22:HV22) -> 103.77518 | V23: =AVERAGE(รายเดือน!HW22:IH22) -> 110.12112 | W23: =AVERAGE(รายเดือน!II22:IT22) -> 93.205317
A24: สับปะรดปัตตาเวียส่งโรงงาน | B24: บาท/กก. | C24: =AVERAGE(รายเดือน!C23:N23) -> 3.7383333 | D24: =AVERAGE(รายเดือน!O23:Z23) -> 2.5175 | E24: =AVERAGE(รายเดือน!AA23:AL23) -> 4.5658333 | F24: =AVERAGE(รายเดือน!AM23:AX23) -> 4.54 | G24: =AVERAGE(รายเดือน!AY23:BJ23) -> 5.0525 | H24: =AVERAGE(รายเดือน!BK23:BV23) -> 5.5808333 | I24: =AVERAGE(รายเดือน!BW23:CH23) -> 4.9275 | J24: =AVERAGE(รายเดือน!CI23:CT23) -> 3.4775 | K24: =AVERAGE(รายเดือน!CU23:DF23) -> 4.5558333 | L24: =AVERAGE(รายเดือน!DG23:DR23) -> 6.8758333 | M24: =AVERAGE(รายเดือน!DS23:ED23) -> 10.345833 | N24: =AVERAGE(รายเดือน!EE23:EP23) -> 10.538042 | O24: =AVERAGE(รายเดือน!EQ23:FB23) -> 4.8917499 | P24: =AVERAGE(รายเดือน!FC23:FN23) -> 2.906361 | Q24: =AVERAGE(รายเดือน!FO23:FZ23) -> 5.9166665 | R24: =AVERAGE(รายเดือน!GA23:GL23) -> 11.094583 | S24: =AVERAGE(รายเดือน!GM23:GX23) -> 6.1331387 | T24: =AVERAGE(รายเดือน!GY23:HJ23) -> 6.5852637 | U24: =AVERAGE(รายเดือน!HK23:HV23) -> 8.4670693 | V24: =AVERAGE(รายเดือน!HW23:IH23) -> 11.880416 | W24: =AVERAGE(รายเดือน!II23:IT23) -> 11.185833
A25: ลำไยสดทั้งช่อพันธุ์อีดอ เกรด A | B25: บาท/กก. | C25: =AVERAGE(รายเดือน!C24:N24) -> 19.865833 | D25: =AVERAGE(รายเดือน!O24:Z24) -> 27.376667 | E25: =AVERAGE(รายเดือน!AA24:AL24) -> 22.5125 | F25: =AVERAGE(รายเดือน!AM24:AX24) -> 26.3875 | G25: =AVERAGE(รายเดือน!AY24:BJ24) -> 29.085833 | H25: =AVERAGE(รายเดือน!BK24:BV24) -> 30.735 | I25: =AVERAGE(รายเดือน!BW24:CH24) -> 29.913333 | J25: =AVERAGE(รายเดือน!CI24:CT24) -> 25.5775 | K25: =AVERAGE(รายเดือน!CU24:DF24) -> 28.999167 | L25: =AVERAGE(รายเดือน!DG24:DR24) -> 29.88 | M25: =AVERAGE(รายเดือน!DS24:ED24) -> 30.270833 | N25: =AVERAGE(รายเดือน!EE24:EP24) -> 33.630291 | O25: =AVERAGE(รายเดือน!EQ24:FB24) -> 24.153958 | P25: =AVERAGE(รายเดือน!FC24:FN24) -> 27.467208 | Q25: =AVERAGE(รายเดือน!FO24:FZ24) -> 25.972888 | R25: =AVERAGE(รายเดือน!GA24:GL24) -> 21.787374 | S25: =AVERAGE(รายเดือน!GM24:GX24) -> 22.631749 | T25: =AVERAGE(รายเดือน!GY24:HJ24) -> 19.137722 | U25: =AVERAGE(รายเดือน!HK24:HV24) -> 28.56111 | V25: =AVERAGE(รายเดือน!HW24:IH24) -> 27.969249 | W25: =AVERAGE(รายเดือน!II24:IT24) -> 18.481527
A26: ลองกอง เบอร์1 | B26: บาท/กก. | C26: =AVERAGE(รายเดือน!C25:N25) -> 27.1525 | D26: =AVERAGE(รายเดือน!O25:Z25) -> 30.950833 | E26: =AVERAGE(รายเดือน!AA25:AL25) -> 23.195833 | F26: =AVERAGE(รายเดือน!AM25:AX25) -> 27.6725 | G26: =AVERAGE(รายเดือน!AY25:BJ25) -> 26.051667 | H26: =AVERAGE(รายเดือน!BK25:BV25) -> 21.443333 | I26: =AVERAGE(รายเดือน!BW25:CH25) -> 25.614167 | J26: =AVERAGE(รายเดือน!CI25:CT25) -> 32.523333 | K26: =AVERAGE(รายเดือน!CU25:DF25) -> 29.515 | L26: =AVERAGE(รายเดือน!DG25:DR25) -> 28.648333 | M26: =AVERAGE(รายเดือน!DS25:ED25) -> 32.595 | N26: =AVERAGE(รายเดือน!EE25:EP25) -> 36.3775 | O26: =AVERAGE(รายเดือน!EQ25:FB25) -> 36.462123 | P26: =AVERAGE(รายเดือน!FC25:FN25) -> 38.817887 | Q26: =AVERAGE(รายเดือน!FO25:FZ25) -> 29.00586 | R26: =AVERAGE(รายเดือน!GA25:GL25) -> 32.998832 | S26: =AVERAGE(รายเดือน!GM25:GX25) -> 29.886152 | T26: =AVERAGE(รายเดือน!GY25:HJ25) -> 40.012985 | U26: =AVERAGE(รายเดือน!HK25:HV25) -> 46.376749 | V26: =AVERAGE(รายเดือน!HW25:IH25) -> 34.363457 | W26: =AVERAGE(รายเดือน!II25:IT25) -> 28.757332
A27: เงาะโรงเรียน | B27: บาท/กก. | C27: =AVERAGE(รายเดือน!C26:N26) -> 12.9075 | D27: =AVERAGE(รายเดือน!O26:Z26) -> 13.813333 | E27: =AVERAGE(รายเดือน!AA26:AL26) -> 8.6783333 | F27: =AVERAGE(รายเดือน!AM26:AX26) -> 11.895833 | G27: =AVERAGE(รายเดือน!AY26:BJ26) -> 11.3925 | H27: =AVERAGE(รายเดือน!BK26:BV26) -> 12.710833 | I27: =AVERAGE(รายเดือน!BW26:CH26) -> 17.668333 | J27: =AVERAGE(รายเดือน!CI26:CT26) -> 18.203333 | K27: =AVERAGE(รายเดือน!CU26:DF26) -> 20.904167 | L27: =AVERAGE(รายเดือน!DG26:DR26) -> 26.239167 | M27: =AVERAGE(รายเดือน!DS26:ED26) -> 24.715833 | N27: =AVERAGE(รายเดือน!EE26:EP26) -> 30.5625 | O27: =AVERAGE(รายเดือน!EQ26:FB26) -> 25.617832 | P27: =AVERAGE(รายเดือน!FC26:FN26) -> 26.010666 | Q27: =AVERAGE(รายเดือน!FO26:FZ26) -> 22.223388 | R27: =AVERAGE(รายเดือน!GA26:GL26) -> 19.590333 | S27: =AVERAGE(รายเดือน!GM26:GX26) -> 17.298082 | T27: =AVERAGE(รายเดือน!GY26:HJ26) -> 25.642791 | U27: =AVERAGE(รายเดือน!HK26:HV26) -> 26.953374 | V27: =AVERAGE(รายเดือน!HW26:IH26) -> 27.026874 | W27: =AVERAGE(รายเดือน!II26:IT26) -> 28.079541
A28: มังคุดคละ | B28: บาท/กก. | C28: =AVERAGE(รายเดือน!C27:N27) -> 21.118333 | D28: =AVERAGE(รายเดือน!O27:Z27) -> 24.273333 | E28: =AVERAGE(รายเดือน!AA27:AL27) -> 11.520833 | F28: =AVERAGE(รายเดือน!AM27:AX27) -> 15.795833 | G28: =AVERAGE(รายเดือน!AY27:BJ27) -> 14.415833 | H28: =AVERAGE(รายเดือน!BK27:BV27) -> 15.049167 | I28: =AVERAGE(รายเดือน!BW27:CH27) -> 23.905833 | J28: =AVERAGE(รายเดือน!CI27:CT27) -> 18.773333 | K28: =AVERAGE(รายเดือน!CU27:DF27) -> 16.764167 | L28: =AVERAGE(รายเดือน!DG27:DR27) -> 28.8325 | M28: =AVERAGE(รายเดือน!DS27:ED27) -> 25.276667 | N28: =AVERAGE(รายเดือน!EE27:EP27) -> 28.536875 | O28: =AVERAGE(รายเดือน!EQ27:FB27) -> 43.870985 | P28: =AVERAGE(รายเดือน!FC27:FN27) -> 46.634817 | Q28: =AVERAGE(รายเดือน!FO27:FZ27) -> 23.962194 | R28: =AVERAGE(รายเดือน!GA27:GL27) -> 39.946707 | S28: =AVERAGE(รายเดือน!GM27:GX27) -> 65.432692 | T28: =AVERAGE(รายเดือน!GY27:HJ27) -> 45.637081 | U28: =AVERAGE(รายเดือน!HK27:HV27) -> 30.87318 | V28: =AVERAGE(รายเดือน!HW27:IH27) -> 31.030749 | W28: =AVERAGE(รายเดือน!II27:IT27) -> 28.33811
A29: กล้วยหอมทอง | B29: บาท/กก. | C29: =AVERAGE(รายเดือน!C28:N28) -> 71.365833 | D29: =AVERAGE(รายเดือน!O28:Z28) -> 63.0075 | E29: =AVERAGE(รายเดือน!AA28:AL28) -> 52.840833 | F29: =AVERAGE(รายเดือน!AM28:AX28) -> 46.363333 | G29: =AVERAGE(รายเดือน!AY28:BJ28) -> 52.6975 | H29: =AVERAGE(รายเดือน!BK28:BV28) -> 68.729167 | I29: =AVERAGE(รายเดือน!BW28:CH28) -> 119.90417 | J29: =AVERAGE(รายเดือน!CI28:CT28) -> 150.20833 | K29: =AVERAGE(รายเดือน!CU28:DF28) -> 141.22083 | L29: =AVERAGE(รายเดือน!DG28:DR28) -> 149.567 | M29: =AVERAGE(รายเดือน!DS28:ED28) -> 170.31833 | N29: =AVERAGE(รายเดือน!EE28:EP28) -> 184.28504 | O29: =AVERAGE(รายเดือน!EQ28:FB28) -> 198.55804 | P29: =AVERAGE(รายเดือน!FC28:FN28) -> 189.36669 | Q29: =AVERAGE(รายเดือน!FO28:FZ28) -> 205.9673 | R29: =AVERAGE(รายเดือน!GA28:GL28) -> 221.46499 | S29: =AVERAGE(รายเดือน!GM28:GX28) -> 204.9595 | T29: =AVERAGE(รายเดือน!GY28:HJ28) -> 202.53472 | U29: =AVERAGE(รายเดือน!HK28:HV28) -> 210.67637 | V29: =AVERAGE(รายเดือน!HW28:IH28) -> 230.28966 | W29: =AVERAGE(รายเดือน!II28:IT28) -> 222.72908
A30: ลิ้นจี่พันธุ์ฮงฮวย เกรด A | B30: บาท/กก. | C30: =AVERAGE(รายเดือน!C29:N29) -> 8.4516667 | D30: =AVERAGE(รายเดือน!O29:Z29) -> 17.5275 | E30: =AVERAGE(รายเดือน!AA29:AL29) -> 7.9458333 | F30: =AVERAGE(รายเดือน!AM29:AX29) -> 15.538333 | G30: =AVERAGE(รายเดือน!AY29:BJ29) -> 12.223333 | H30: =AVERAGE(รายเดือน!BK29:BV29) -> 13.696667 | I30: =AVERAGE(รายเดือน!BW29:CH29) -> 23.56 | J30: =AVERAGE(รายเดือน!CI29:CT29) -> 16.700833 | K30: =AVERAGE(รายเดือน!CU29:DF29) -> 19.489167 | L30: =AVERAGE(รายเดือน!DG29:DR29) -> 15.543333 | M30: =AVERAGE(รายเดือน!DS29:ED29) -> 13.586667 | N30: =AVERAGE(รายเดือน!EE29:EP29) -> 24.176667 | O30: =AVERAGE(รายเดือน!EQ29:FB29) -> 23.014791 | P30: =AVERAGE(รายเดือน!FC29:FN29) -> 16.679999 | Q30: =AVERAGE(รายเดือน!FO29:FZ29) -> 36.627775 | R30: =AVERAGE(รายเดือน!GA29:GL29) -> 31.685331 | S30: =AVERAGE(รายเดือน!GM29:GX29) -> 18.478832 | T30: =AVERAGE(รายเดือน!GY29:HJ29) -> 15.812499 | U30: =AVERAGE(รายเดือน!HK29:HV29) -> 23.419998 | V30: =AVERAGE(รายเดือน!HW29:IH29) -> 26.999997 | W30: =AVERAGE(รายเดือน!II29:IT29) -> 25.805553
A31: 1.4 กลุ่มพืชผัก
A32: หอมแดงหัวกลาง | B32: บาท/กก. | C32: =AVERAGE(รายเดือน!C31:N31) -> 13.898333 | D32: =AVERAGE(รายเดือน!O31:Z31) -> 19.900833 | E32: =AVERAGE(รายเดือน!AA31:AL31) -> 13.015 | F32: =AVERAGE(รายเดือน!AM31:AX31) -> 22.378333 | G32: =AVERAGE(รายเดือน!AY31:BJ31) -> 17.124167 | H32: =AVERAGE(รายเดือน!BK31:BV31) -> 15.774167 | I32: =AVERAGE(รายเดือน!BW31:CH31) -> 19.509167 | J32: =AVERAGE(รายเดือน!CI31:CT31) -> 12.93 | K32: =AVERAGE(รายเดือน!CU31:DF31) -> 14.889167 | L32: =AVERAGE(รายเดือน!DG31:DR31) -> 9.8433333 | M32: =AVERAGE(รายเดือน!DS31:ED31) -> 20.250833 | N32: =AVERAGE(รายเดือน!EE31:EP31) -> 22.680555 | O32: =AVERAGE(รายเดือน!EQ31:FB31) -> 28.690457 | P32: =AVERAGE(รายเดือน!FC31:FN31) -> 13.273541 | Q32: =AVERAGE(รายเดือน!FO31:FZ31) -> 15.504111 | R32: =AVERAGE(รายเดือน!GA31:GL31) -> 28.278916 | S32: =AVERAGE(รายเดือน!GM31:GX31) -> 27.802819 | T32: =AVERAGE(รายเดือน!GY31:HJ31) -> 33.918902 | U32: =AVERAGE(รายเดือน!HK31:HV31) -> 35.634164 | V32: =AVERAGE(รายเดือน!HW31:IH31) -> 39.075624 | W32: =AVERAGE(รายเดือน!II31:IT31) -> 30.98493
A33: กระเทียมแห้งคละ | B33: บาท/กก. | C33: =AVERAGE(รายเดือน!C32:N32) -> 23.21 | D33: =AVERAGE(รายเดือน!O32:Z32) -> 36.490833 | E33: =AVERAGE(รายเดือน!AA32:AL32) -> 36.194167 | F33: =AVERAGE(รายเดือน!AM32:AX32) -> 20.254167 | G33: =AVERAGE(รายเดือน!AY32:BJ32) -> 41.039167 | H33: =AVERAGE(รายเดือน!BK32:BV32) -> 61.629167 | I33: =AVERAGE(รายเดือน!BW32:CH32) -> 37.196667 | J33: =AVERAGE(รายเดือน!CI32:CT32) -> 41.079167 | K33: =AVERAGE(รายเดือน!CU32:DF32) -> 44.733333 | L33: =AVERAGE(รายเดือน!DG32:DR32) -> 38.039167 | M33: =AVERAGE(รายเดือน!DS32:ED32) -> 42.394167 | N33: =AVERAGE(รายเดือน!EE32:EP32) -> 77.276667 | O33: =AVERAGE(รายเดือน!EQ32:FB32) -> 82.549998 | P33: =AVERAGE(รายเดือน!FC32:FN32) -> 62.234768 | Q33: =AVERAGE(รายเดือน!FO32:FZ32) -> 33.121179 | R33: =AVERAGE(รายเดือน!GA32:GL32) -> 40.429122 | S33: =AVERAGE(รายเดือน!GM32:GX32) -> 34.702734 | T33: =AVERAGE(รายเดือน!GY32:HJ32) -> 39.633591 | U33: =AVERAGE(รายเดือน!HK32:HV32) -> 67.171453 | V33: =AVERAGE(รายเดือน!HW32:IH32) -> 76.331664 | W33: =AVERAGE(รายเดือน!II32:IT32) -> 69.199414
A34: มันฝรั่งโรงงาน | B34: บาท/กก. | C34: =AVERAGE(รายเดือน!C33:N33) -> 10.150833 | D34: =AVERAGE(รายเดือน!O33:Z33) -> 9.1891667 | E34: =AVERAGE(รายเดือน!AA33:AL33) -> 9.1458333 | F34: =AVERAGE(รายเดือน!AM33:AX33) -> 11.114167 | G34: =AVERAGE(รายเดือน!AY33:BJ33) -> 12.8675 | H34: =AVERAGE(รายเดือน!BK33:BV33) -> 11.993333 | I34: =AVERAGE(รายเดือน!BW33:CH33) -> 10.904167 | J34: =AVERAGE(รายเดือน!CI33:CT33) -> 12.588333 | K34: =AVERAGE(รายเดือน!CU33:DF33) -> 12.630833 | L34: =AVERAGE(รายเดือน!DG33:DR33) -> 12.825 | M34: =AVERAGE(รายเดือน!DS33:ED33) -> 12.354167 | N34: =AVERAGE(รายเดือน!EE33:EP33) -> 12.795833 | O34: =AVERAGE(รายเดือน!EQ33:FB33) -> 12.524999 | P34: =AVERAGE(รายเดือน!FC33:FN33) -> 12.874861 | Q34: =AVERAGE(รายเดือน!FO33:FZ33) -> 13.891 | R34: =AVERAGE(รายเดือน!GA33:GL33) -> 13.635625 | S34: =AVERAGE(รายเดือน!GM33:GX33) -> 12.3125 | T34: =AVERAGE(รายเดือน!GY33:HJ33) -> 11.4475 | U34: =AVERAGE(รายเดือน!HK33:HV33) -> 12.7875 | V34: =AVERAGE(รายเดือน!HW33:IH33) -> 13.171458 | W34: =AVERAGE(รายเดือน!II33:IT33) -> 13.264166
A35: หอมหัวใหญ่เบอร์ 1 | B35: บาท/กก. | C35: =AVERAGE(รายเดือน!C34:N34) -> 6.4491667 | D35: =AVERAGE(รายเดือน!O34:Z34) -> 9.8591667 | E35: =AVERAGE(รายเดือน!AA34:AL34) -> 5.0666667 | F35: =AVERAGE(รายเดือน!AM34:AX34) -> 4.9266667 | G35: =AVERAGE(รายเดือน!AY34:BJ34) -> 8.2941667 | H35: =AVERAGE(รายเดือน!BK34:BV34) -> 10.11 | I35: =AVERAGE(รายเดือน!BW34:CH34) -> 11.755833 | J35: =AVERAGE(รายเดือน!CI34:CT34) -> 6.2025 | K35: =AVERAGE(รายเดือน!CU34:DF34) -> 9.83 | L35: =AVERAGE(รายเดือน!DG34:DR34) -> 10.275 | M35: =AVERAGE(รายเดือน!DS34:ED34) -> 8.1858333 | N35: =AVERAGE(รายเดือน!EE34:EP34) -> 12.384167 | O35: =AVERAGE(รายเดือน!EQ34:FB34) -> 14.478708 | P35: =AVERAGE(รายเดือน!FC34:FN34) -> 6.6874997 | Q35: =AVERAGE(รายเดือน!FO34:FZ34) -> 11.533472 | R35: =AVERAGE(รายเดือน!GA34:GL34) -> 7.2081939 | S35: =AVERAGE(รายเดือน!GM34:GX34) -> 7.3958331 | T35: =AVERAGE(รายเดือน!GY34:HJ34) -> 11.46125 | U35: =AVERAGE(รายเดือน!HK34:HV34) -> 14.749999 | V35: =AVERAGE(รายเดือน!HW34:IH34) -> 12.213333 | W35: =AVERAGE(รายเดือน!II34:IT34) -> 11.641568
A36: 1.5 กลุ่มพืชน้ำมัน
A37: ปาล์มน้ำมันทั้งทะลายคละ | B37: บาท/กก. | C37: =AVERAGE(รายเดือน!C36:N36) -> 2.7633333 | D37: =AVERAGE(รายเดือน!O36:Z36) -> 2.4258333 | E37: =AVERAGE(รายเดือน!AA36:AL36) -> 4.0083333 | F37: =AVERAGE(รายเดือน!AM36:AX36) -> 4.3641667 | G37: =AVERAGE(รายเดือน!AY36:BJ36) -> 3.65 | H37: =AVERAGE(รายเดือน!BK36:BV36) -> 4.4375 | I37: =AVERAGE(รายเดือน!BW36:CH36) -> 5.3908333 | J37: =AVERAGE(รายเดือน!CI36:CT36) -> 4.7725 | K37: =AVERAGE(รายเดือน!CU36:DF36) -> 3.6166667 | L37: =AVERAGE(รายเดือน!DG36:DR36) -> 4.3541667 | M37: =AVERAGE(รายเดือน!DS36:ED36) -> 4.115 | N37: =AVERAGE(รายเดือน!EE36:EP36) -> 5.4279583 | O37: =AVERAGE(รายเดือน!EQ36:FB36) -> 4.0564166 | P37: =AVERAGE(รายเดือน!FC36:FN36) -> 3.0700277 | Q37: =AVERAGE(รายเดือน!FO36:FZ36) -> 2.7126805 | R37: =AVERAGE(รายเดือน!GA36:GL36) -> 4.5583332 | S37: =AVERAGE(รายเดือน!GM36:GX36) -> 6.7180415 | T37: =AVERAGE(รายเดือน!GY36:HJ36) -> 7.6482498 | U37: =AVERAGE(รายเดือน!HK36:HV36) -> 5.2779721 | V37: =AVERAGE(รายเดือน!HW36:IH36) -> 5.8820832 | W37: =AVERAGE(รายเดือน!II36:IT36) -> 6.3001387
A38: มะพร้าวผลแก่ขนาดใหญ่ | B38: บาท/ร้อยผล | C38: =AVERAGE(รายเดือน!C37:N37) -> 445.83333 | D38: =AVERAGE(รายเดือน!O37:Z37) -> 586.58333 | E38: =AVERAGE(รายเดือน!AA37:AL37) -> 421.58333 | F38: =AVERAGE(รายเดือน!AM37:AX37) -> 596.08333 | G38: =AVERAGE(รายเดือน!AY37:BJ37) -> 580.91667 | H38: =AVERAGE(รายเดือน!BK37:BV37) -> 648.83333 | I38: =AVERAGE(รายเดือน!BW37:CH37) -> 1328.25 | J38: =AVERAGE(รายเดือน!CI37:CT37) -> 625 | K38: =AVERAGE(รายเดือน!CU37:DF37) -> 849 | L38: =AVERAGE(รายเดือน!DG37:DR37) -> 1163.75 | M38: =AVERAGE(รายเดือน!DS37:ED37) -> 993.66667 | N38: =AVERAGE(รายเดือน!EE37:EP37) -> 1473.4004 | O38: =AVERAGE(รายเดือน!EQ37:FB37) -> 1702.8216 | P38: =AVERAGE(รายเดือน!FC37:FN37) -> 866.67747 | Q38: =AVERAGE(รายเดือน!FO37:FZ37) -> 791.24108 | R38: =AVERAGE(รายเดือน!GA37:GL37) -> 1461.0421 | S38: =AVERAGE(รายเดือน!GM37:GX37) -> 1222.546 | T38: =AVERAGE(รายเดือน!GY37:HJ37) -> 1040.955 | U38: =AVERAGE(รายเดือน!HK37:HV37) -> 1002.3915 | V38: =AVERAGE(รายเดือน!HW37:IH37) -> 1610.0102 | W38: =AVERAGE(รายเดือน!II37:IT37) -> 1856.1189
A39: ถั่วเหลืองคละ | B39: บาท/กก. | C39: =AVERAGE(รายเดือน!C38:N38) -> 10.743333 | D39: =AVERAGE(รายเดือน!O38:Z38) -> 10.463333 | E39: =AVERAGE(รายเดือน!AA38:AL38) -> 11.334167 | F39: =AVERAGE(รายเดือน!AM38:AX38) -> 16.715833 | G39: =AVERAGE(รายเดือน!AY38:BJ38) -> 14.5825 | H39: =AVERAGE(รายเดือน!BK38:BV38) -> 14.29 | I39: =AVERAGE(รายเดือน!BW38:CH38) -> 14.650833 | J39: =AVERAGE(รายเดือน!CI38:CT38) -> 16.7925 | K39: =AVERAGE(รายเดือน!CU38:DF38) -> 18.650833 | L39: =AVERAGE(รายเดือน!DG38:DR38) -> 18.109167 | M39: =AVERAGE(รายเดือน!DS38:ED38) -> 15.073333 | N39: =AVERAGE(รายเดือน!EE38:EP38) -> 14.387333 | O39: =AVERAGE(รายเดือน!EQ38:FB38) -> 14.984583 | P39: =AVERAGE(รายเดือน!FC38:FN38) -> 16.706208 | Q39: =AVERAGE(รายเดือน!FO38:FZ38) -> 16.406708 | R39: =AVERAGE(รายเดือน!GA38:GL38) -> 16.952555 | S39: =AVERAGE(รายเดือน!GM38:GX38) -> 17.345805 | T39: =AVERAGE(รายเดือน!GY38:HJ38) -> 19.087013 | U39: =AVERAGE(รายเดือน!HK38:HV38) -> 22.161222 | V39: =AVERAGE(รายเดือน!HW38:IH38) -> 17.875833 | W39: =AVERAGE(รายเดือน!II38:IT38) -> 18.741457
A40: ถั่วลิสงเปลือกแห้ง | B40: บาท/กก. | C40: =AVERAGE(รายเดือน!C39:N39) -> 14.708333 | D40: =AVERAGE(รายเดือน!O39:Z39) -> 14.0775 | E40: =AVERAGE(รายเดือน!AA39:AL39) -> 14.409167 | F40: =AVERAGE(รายเดือน!AM39:AX39) -> 17.710833 | G40: =AVERAGE(รายเดือน!AY39:BJ39) -> 20.456667 | H40: =AVERAGE(รายเดือน!BK39:BV39) -> 20.713333 | I40: =AVERAGE(รายเดือน!BW39:CH39) -> 23.164167 | J40: =AVERAGE(รายเดือน!CI39:CT39) -> 27.505833 | K40: =AVERAGE(รายเดือน!CU39:DF39) -> 40.678333 | L40: =AVERAGE(รายเดือน!DG39:DR39) -> 40.910833 | M40: =AVERAGE(รายเดือน!DS39:ED39) -> 43.8975 | N40: =AVERAGE(รายเดือน!EE39:EP39) -> 43.8325 | O40: =AVERAGE(รายเดือน!EQ39:FB39) -> 40.542832 | P40: =AVERAGE(รายเดือน!FC39:FN39) -> 44.307429 | Q40: =AVERAGE(รายเดือน!FO39:FZ39) -> 56.090027 | R40: =AVERAGE(รายเดือน!GA39:GL39) -> 49.907916 | S40: =AVERAGE(รายเดือน!GM39:GX39) -> 46.523471 | T40: =AVERAGE(รายเดือน!GY39:HJ39) -> 43.309541 | U40: =AVERAGE(รายเดือน!HK39:HV39) -> 42.562082 | V40: =AVERAGE(รายเดือน!HW39:IH39) -> 43.911249 | W40: =AVERAGE(รายเดือน!II39:IT39) -> 57.990346
A41: 1.6 กลุ่มพืชเส้นใย | K41: =AVERAGE(รายเดือน!CU40:DF40) -> #DIV/0! | L41: =AVERAGE(รายเดือน!DG40:DR40) -> #DIV/0! | M41: =AVERAGE(รายเดือน!DS40:ED40) -> #DIV/0! | O41: =AVERAGE(รายเดือน!EQ40:FB40) -> #DIV/0! | P41: =AVERAGE(รายเดือน!FC40:FN40) -> #DIV/0! | Q41: =AVERAGE(รายเดือน!FO40:FZ40) -> #DIV/0! | R41: =AVERAGE(รายเดือน!GA40:GL40) -> #DIV/0! | S41: =AVERAGE(รายเดือน!GM40:GX40) -> #DIV/0! | T41: =AVERAGE(รายเดือน!GY40:HJ40) -> #DIV/0! | U41: =AVERAGE(รายเดือน!HK40:HV40) -> #DIV/0! | V41: =AVERAGE(รายเดือน!HW40:IH40) -> #DIV/0! | W41: =AVERAGE(รายเดือน!II40:IT40) -> #DIV/0!
A42: ฝ้ายรวมเมล็ดชนิดคละ | B42: บาท/กก. | C42: =AVERAGE(รายเดือน!C41:N41) -> 0.1 | D42: =AVERAGE(รายเดือน!O41:Z41) -> 0.1 | E42: =AVERAGE(รายเดือน!AA41:AL41) -> 0.1 | F42: =AVERAGE(รายเดือน!AM41:AX41) -> 0.1 | G42: =AVERAGE(รายเดือน!AY41:BJ41) -> 0.1 | H42: =AVERAGE(รายเดือน!BK41:BV41) -> 0.1 | I42: =AVERAGE(รายเดือน!BW41:CH41) -> 0.1 | J42: =AVERAGE(รายเดือน!CI41:CT41) -> 0.1 | K42: =AVERAGE(รายเดือน!CU41:DF41) -> 0.1 | L42: =AVERAGE(รายเดือน!DG41:DR41) -> 0.1 | M42: =AVERAGE(รายเดือน!DS41:ED41) -> 0.1 | O42: =AVERAGE(รายเดือน!EQ41:FB41) -> 0.1 | P42: =AVERAGE(รายเดือน!FC41:FN41) -> 0.1 | Q42: =AVERAGE(รายเดือน!FO41:FZ41) -> 0.1 | R42: =AVERAGE(รายเดือน!GA41:GL41) -> 0.1 | S42: =AVERAGE(รายเดือน!GM41:GX41) -> 0.1 | T42: =AVERAGE(รายเดือน!GY41:HJ41) -> 0.1 | U42: =AVERAGE(รายเดือน!HK41:HV41) -> 0.1 | V42: =AVERAGE(รายเดือน!HW41:IH41) -> 0.1 | W42: =AVERAGE(รายเดือน!II41:IT41) -> 0.1
...

Sheet รายไตรมาส
A1: ราคาสินค้าเกษตรที่เกษตรกรขายได้ ณ ไร่นา
A3: รายการสินค้า | B3: หน่วย | C3: 2548 | G3: 2549 | K3: 2550 | O3: 2551 | S3: 2552 | W3: 2553 | AA3: 2554 | AE3: 2555 | AI3: 2556 | AM3: 2557 | AQ3: 2558 | AU3: 2559 | AY3: 2560 | BC3: 2561 | BG3: 2562 | BK3: 2563 | BO3: 2564 | BS3: 2565 | BW3: 2566 | CA3: 2567 | CE3: 2568 | CI3: 2569
C4: ไตรมาส 1 | D4: ไตรมาส 2 | E4: ไตรมาส 3 | F4: ไตรมาส 4 | G4: ไตรมาส 1 | H4: ไตรมาส 2 | I4: ไตรมาส 3 | J4: ไตรมาส 4 | K4: ไตรมาส 1 | L4: ไตรมาส 2 | M4: ไตรมาส 3 | N4: ไตรมาส 4 | O4: ไตรมาส 1 | P4: ไตรมาส 2 | Q4: ไตรมาส 3 | R4: ไตรมาส 4 | S4: ไตรมาส 1 | T4: ไตรมาส 2 | U4: ไตรมาส 3 | V4: ไตรมาส 4 | W4: ไตรมาส 1 | X4: ไตรมาส 2 | Y4: ไตรมาส 3 | Z4: ไตรมาส 4 | AA4: ไตรมาส 1 | AB4: ไตรมาส 2 | AC4: ไตรมาส 3 | AD4: ไตรมาส 4 | AE4: ไตรมาส 1 | AF4: ไตรมาส 2 | AG4: ไตรมาส 3 | AH4: ไตรมาส 4 | AI4: ไตรมาส 1 | AJ4: ไตรมาส 2 | AK4: ไตรมาส 3 | AL4: ไตรมาส 4 | AM4: ไตรมาส 1 | AN4: ไตรมาส 2 | AO4: ไตรมาส 3 | AP4: ไตรมาส 4 | AQ4: ไตรมาส 1 | AR4: ไตรมาส 2 | AS4: ไตรมาส 3 | AT4: ไตรมาส 4 | AU4: ไตรมาส 1 | AV4: ไตรมาส 2 | AW4: ไตรมาส 3 | AX4: ไตรมาส 4 | AY4: ไตรมาส 1 | AZ4: ไตรมาส 2 | BA4: ไตรมาส 3 | BB4: ไตรมาส 4 | BC4: ไตรมาส 1 | BD4: ไตรมาส 2 | BE4: ไตรมาส 3 | BF4: ไตรมาส 4 | BG4: ไตรมาส 1 | BH4: ไตรมาส 2 | BI4: ไตรมาส 3 | BJ4: ไตรมาส 4 | BK4: ไตรมาส 1 | BL4: ไตรมาส 2 | BM4: ไตรมาส 3 | BN4: ไตรมาส 4 | BO4: ไตรมาส 1 | BP4: ไตรมาส 2 | BQ4: ไตรมาส 3 | BR4: ไตรมาส 4 | BS4: ไตรมาส 1 | BT4: ไตรมาส 2 | BU4: ไตรมาส 3 | BV4: ไตรมาส 4 | BW4: ไตรมาส 1 | BX4: ไตรมาส 2 | BY4: ไตรมาส 3 | BZ4: ไตรมาส 4 | CA4: ไตรมาส 1 | CB4: ไตรมาส 2 | CC4: ไตรมาส 3 | CD4: ไตรมาส 4 | CE4: ไตรมาส 1 | CF4: ไตรมาส 2 | CG4: ไตรมาส 3 | CH4: ไตรมาส 4 | CI4: ไตรมาส 1 | CJ4: ไตรมาส 2 | CK4: ไตรมาส 3 | CL4: ไตรมาส 4
A5: ภาคเกษตรกรรม
A6: 1. หมวดพืชผลสำคัญ
A7: 1.1 กลุ่มธัญพืชและพืชอาหาร
A8: ข้าวเปลือก
A9: ข้าวเปลือกเจ้าความชื้น 15% | B9: บาท/ตัน | C9: =AVERAGE(รายเดือน!C8:E8) -> 6519.6667 | D9: =AVERAGE(รายเดือน!F8:H8) -> 6547 | E9: =AVERAGE(รายเดือน!I8:K8) -> 6770.6667 | F9: =AVERAGE(รายเดือน!L8:N8) -> 6778.6667 | G9: =AVERAGE(รายเดือน!O8:Q8) -> 6659.3333 | H9: =AVERAGE(รายเดือน!R8:T8) -> 6761 | I9: =AVERAGE(รายเดือน!U8:W8) -> 6710.3333 | J9: =AVERAGE(รายเดือน!X8:Z8) -> 6478.3333 | K9: =AVERAGE(รายเดือน!AA8:AC8) -> 6533.6667 | L9: =AVERAGE(รายเดือน!AD8:AF8) -> 6437.6667 | M9: =AVERAGE(รายเดือน!AG8:AI8) -> 6413 | N9: =AVERAGE(รายเดือน!AJ8:AL8) -> 6590.6667 | O9: =AVERAGE(รายเดือน!AM8:AO8) -> 7963.6667 | P9: =AVERAGE(รายเดือน!AP8:AR8) -> 12587 | Q9: =AVERAGE(รายเดือน!AS8:AU8) -> 11832.333 | R9: =AVERAGE(รายเดือน!AV8:AX8) -> 10051 | S9: =AVERAGE(รายเดือน!AY8:BA8) -> 10122.667 | T9: =AVERAGE(รายเดือน!BB8:BD8) -> 9939.3333 | U9: =AVERAGE(รายเดือน!BE8:BG8) -> 9493.6667 | V9: =AVERAGE(รายเดือน!BH8:BJ8) -> 9077.6667 | W9: =AVERAGE(รายเดือน!BK8:BM8) -> 9139.3333 | X9: =AVERAGE(รายเดือน!BN8:BP8) -> 7885 | Y9: =AVERAGE(รายเดือน!BQ8:BS8) -> 8300.3333 | Z9: =AVERAGE(รายเดือน!BT8:BV8) -> 8276 | AA9: =AVERAGE(รายเดือน!BW8:BY8) -> 8610 | AB9: =AVERAGE(รายเดือน!BZ8:CB8) -> 8199.6667 | AC9: =AVERAGE(รายเดือน!CC8:CE8) -> 9488.3333 | AD9: =AVERAGE(รายเดือน!CF8:CH8) -> 10281.472 | AE9: =AVERAGE(รายเดือน!CI8:CK8) -> 9735.6667 | AF9: =AVERAGE(รายเดือน!CL8:CN8) -> 10236.333 | AG9: =AVERAGE(รายเดือน!CO8:CQ8) -> 10274.667 | AH9: =AVERAGE(รายเดือน!CR8:CT8) -> 10168 | AI9: =AVERAGE(รายเดือน!CU8:CW8) -> 10414.333 | AJ9: =AVERAGE(รายเดือน!CX8:CZ8) -> 9816.3333 | AK9: =AVERAGE(รายเดือน!DA8:DC8) -> 9129 | AL9: =AVERAGE(รายเดือน!DD8:DF8) -> 8180 | AM9: =AVERAGE(รายเดือน!DG8:DI8) -> 7741 | AN9: =AVERAGE(รายเดือน!DJ8:DL8) -> 7117.6667 | AO9: =AVERAGE(รายเดือน!DM8:DO8) -> 8088 | AP9: =AVERAGE(รายเดือน!DP8:DR8) -> 7906.6667 | AQ9: =AVERAGE(รายเดือน!DS8:DU8) -> 7830.3333 | AR9: =AVERAGE(รายเดือน!DV8:DX8) -> 7635 | AS9: =AVERAGE(รายเดือน!DY8:EA8) -> 7921.3333 | AT9: =AVERAGE(รายเดือน!EB8:ED8) -> 7639 | AU9: =AVERAGE(รายเดือน!EE8:EG8) -> 7778.6667 | AV9: =AVERAGE(รายเดือน!EH8:EJ8) -> 8084.3333 | AW9: =AVERAGE(รายเดือน!EK8:EM8) -> 8468 | AX9: =AVERAGE(รายเดือน!EN8:EP8) -> 7271.9625 | AY9: =AVERAGE(รายเดือน!EQ8:ES8) -> 7450.8218 | AZ9: =AVERAGE(รายเดือน!ET8:EV8) -> 7803.4313 | BA9: =AVERAGE(รายเดือน!EW8:EY8) -> 7830.8633 | BB9: =AVERAGE(รายเดือน!EZ8:FB8) -> 7869.5808 | BC9: =AVERAGE(รายเดือน!FC8:FE8) -> 7682.9624 | BD9: =AVERAGE(รายเดือน!FF8:FH8) -> 7944.7381 | BE9: =AVERAGE(รายเดือน!FI8:FK8) -> 7528.7662 | BF9: =AVERAGE(รายเดือน!FL8:FN8) -> 7896.0452 | BG9: =AVERAGE(รายเดือน!FO8:FQ8) -> 7658.091 | BH9: =AVERAGE(รายเดือน!FR8:FT8) -> 7817.6008 | BI9: =AVERAGE(รายเดือน!FU8:FW8) -> 7805.9913 | BJ9: =AVERAGE(รายเดือน!FX8:FZ8) -> 7835.7245 | BK9: =AVERAGE(รายเดือน!GA8:GC8) -> 8192.1453 | BL9: =AVERAGE(รายเดือน!GD8:GF8) -> 9274.411 | BM9: =AVERAGE(รายเดือน!GG8:GI8) -> 9208.7676 | BN9: =AVERAGE(รายเดือน!GJ8:GL8) -> 8497.556 | BO9: =AVERAGE(รายเดือน!GM8:GO8) -> 9153.7893 | BP9: =AVERAGE(รายเดือน!GP8:GR8) -> 8761.2114 | BQ9: =AVERAGE(รายเดือน!GS8:GU8) -> 7735.4585 | BR9: =AVERAGE(รายเดือน!GV8:GX8) -> 7690.2148 | BS9: =AVERAGE(รายเดือน!GY8:HA8) -> 7992.1948 | BT9: =AVERAGE(รายเดือน!HB8:HD8) -> 8775.335 | BU9: =AVERAGE(รายเดือน!HE8:HG8) -> 9115.745 | BV9: =AVERAGE(รายเดือน!HH8:HJ8) -> 9175.8178 | BW9: =AVERAGE(รายเดือน!HK8:HM8) -> 9722.9739 | BX9: =AVERAGE(รายเดือน!HN8:HP8) -> 9923.9455 | BY9: =AVERAGE(รายเดือน!HQ8:HS8) -> 11835.108 | BZ9: =AVERAGE(รายเดือน!HT8:HV8) -> 11326.936 | CA9: =AVERAGE(รายเดือน!HW8:HY8) -> 11462.714 | CB9: =AVERAGE(รายเดือน!HZ8:IB8) -> 10793.736 | CC9: =AVERAGE(รายเดือน!IC8:IE8) -> 10772.466 | CD9: =AVERAGE(รายเดือน!IF8:IH8) -> 9498.8723 | CE9: =AVERAGE(รายเดือน!II8:IK8) -> 8668.0591 | CF9: =AVERAGE(รายเดือน!IL8:IN8) -> 7175.5472 | CG9: =AVERAGE(รายเดือน!IO8:IQ8) -> 6756.4217 | CH9: =AVERAGE(รายเดือน!IR8:IT8) -> 6621.2323 | CI9: =AVERAGE(รายเดือน!IU8:IW8) -> 7285.7427 | CJ9: =AVERAGE(รายเดือน!IX8:IZ8) -> 7428.3914
A10: ข้าวเปลือกเจ้าหอมมะลิ | B10: บาท/ตัน | C10: =AVERAGE(รายเดือน!C9:E9) -> 7718.6667 | D10: =AVERAGE(รายเดือน!F9:H9) -> 7770.6667 | E10: =AVERAGE(รายเดือน!I9:K9) -> 7640 | F10: =AVERAGE(รายเดือน!L9:N9) -> 7607.3333 | G10: =AVERAGE(รายเดือน!O9:Q9) -> 7820.3333 | H10: =AVERAGE(รายเดือน!R9:T9) -> 8085.6667 | I10: =AVERAGE(รายเดือน!U9:W9) -> 8535.6667 | J10: =AVERAGE(รายเดือน!X9:Z9) -> 8276.3333 | K10: =AVERAGE(รายเดือน!AA9:AC9) -> 8244.6667 | L10: =AVERAGE(รายเดือน!AD9:AF9) -> 8649 | M10: =AVERAGE(รายเดือน!AG9:AI9) -> 8971 | N10: =AVERAGE(รายเดือน!AJ9:AL9) -> 9215.3333 | O10: =AVERAGE(รายเดือน!AM9:AO9) -> 11683.667 | P10: =AVERAGE(รายเดือน!AP9:AR9) -> 16417 | Q10: =AVERAGE(รายเดือน!AS9:AU9) -> 13708.333 | R10: =AVERAGE(รายเดือน!AV9:AX9) -> 12747 | S10: =AVERAGE(รายเดือน!AY9:BA9) -> 12708.333 | T10: =AVERAGE(รายเดือน!BB9:BD9) -> 13128.667 | U10: =AVERAGE(รายเดือน!BE9:BG9) -> 13926.667 | V10: =AVERAGE(รายเดือน!BH9:BJ9) -> 14286.667 | W10: =AVERAGE(รายเดือน!BK9:BM9) -> 14130.333 | X10: =AVERAGE(รายเดือน!BN9:BP9) -> 13196 | Y10: =AVERAGE(รายเดือน!BQ9:BS9) -> 13516 | Z10: =AVERAGE(รายเดือน!BT9:BV9) -> 13363.667 | AA10: =AVERAGE(รายเดือน!BW9:BY9) -> 12212 | AB10: =AVERAGE(รายเดือน!BZ9:CB9) -> 12200.667 | AC10: =AVERAGE(รายเดือน!CC9:CE9) -> 12896 | AD10: =AVERAGE(รายเดือน!CF9:CH9) -> 14829.397 | AE10: =AVERAGE(รายเดือน!CI9:CK9) -> 14998.333 | AF10: =AVERAGE(รายเดือน!CL9:CN9) -> 14665.333 | AG10: =AVERAGE(รายเดือน!CO9:CQ9) -> 15246.333 | AH10: =AVERAGE(รายเดือน!CR9:CT9) -> 15500.333 | AI10: =AVERAGE(รายเดือน!CU9:CW9) -> 15878 | AJ10: =AVERAGE(รายเดือน!CX9:CZ9) -> 15774 | AK10: =AVERAGE(รายเดือน!DA9:DC9) -> 15675.667 | AL10: =AVERAGE(รายเดือน!DD9:DF9) -> 15001.667 | AM10: =AVERAGE(รายเดือน!DG9:DI9) -> 14220.333 | AN10: =AVERAGE(รายเดือน!DJ9:DL9) -> 13853.333 | AO10: =AVERAGE(รายเดือน!DM9:DO9) -> 13990.667 | AP10: =AVERAGE(รายเดือน!DP9:DR9) -> 13065 | AQ10: =AVERAGE(รายเดือน!DS9:DU9) -> 13079.667 | AR10: =AVERAGE(รายเดือน!DV9:DX9) -> 13315 | AS10: =AVERAGE(รายเดือน!DY9:EA9) -> 13151 | AT10: =AVERAGE(รายเดือน!EB9:ED9) -> 12211.667 | AU10: =AVERAGE(รายเดือน!EE9:EG9) -> 10813.667 | AV10: =AVERAGE(รายเดือน!EH9:EJ9) -> 10850.333 | AW10: =AVERAGE(รายเดือน!EK9:EM9) -> 10945.667 | AX10: =AVERAGE(รายเดือน!EN9:EP9) -> 8997.373 | AY10: =AVERAGE(รายเดือน!EQ9:ES9) -> 9269.2096 | AZ10: =AVERAGE(รายเดือน!ET9:EV9) -> 9222.1898 | BA10: =AVERAGE(รายเดือน!EW9:EY9) -> 10637.706 | BB10: =AVERAGE(รายเดือน!EZ9:FB9) -> 11624.466 | BC10: =AVERAGE(รายเดือน!FC9:FE9) -> 14313.363 | BD10: =AVERAGE(รายเดือน!FF9:FH9) -> 15553.735 | BE10: =AVERAGE(รายเดือน!FI9:FK9) -> 15492.794 | BF10: =AVERAGE(รายเดือน!FL9:FN9) -> 15129.666 | BG10: =AVERAGE(รายเดือน!FO9:FQ9) -> 15485.286 | BH10: =AVERAGE(รายเดือน!FR9:FT9) -> 15714.359 | BI10: =AVERAGE(รายเดือน!FU9:FW9) -> 16035.181 | BJ10: =AVERAGE(รายเดือน!FX9:FZ9) -> 14714.007 | BK10: =AVERAGE(รายเดือน!GA9:GC9) -> 13873.356 | BL10: =AVERAGE(รายเดือน!GD9:GF9) -> 14736.998 | BM10: =AVERAGE(รายเดือน!GG9:GI9) -> 14092.077 | BN10: =AVERAGE(รายเดือน!GJ9:GL9) -> 11101.163 | BO10: =AVERAGE(รายเดือน!GM9:GO9) -> 11832.518 | BP10: =AVERAGE(รายเดือน!GP9:GR9) -> 11355.079 | BQ10: =AVERAGE(รายเดือน!GS9:GU9) -> 10011.863 | BR10: =AVERAGE(รายเดือน!GV9:GX9) -> 9683.0148 | BS10: =AVERAGE(รายเดือน!GY9:HA9) -> 11384.663 | BT10: =AVERAGE(รายเดือน!HB9:HD9) -> 12845.733 | BU10: =AVERAGE(รายเดือน!HE9:HG9) -> 13666.472 | BV10: =AVERAGE(รายเดือน!HH9:HJ9) -> 13502.375 | BW10: =AVERAGE(รายเดือน!HK9:HM9) -> 13359.696 | BX10: =AVERAGE(รายเดือน!HN9:HP9) -> 13576.801 | BY10: =AVERAGE(รายเดือน!HQ9:HS9) -> 14571.337 | BZ10: =AVERAGE(รายเดือน!HT9:HV9) -> 13859.667 | CA10: =AVERAGE(รายเดือน!HW9:HY9) -> 14160.766 | CB10: =AVERAGE(รายเดือน!HZ9:IB9) -> 14453.869 | CC10: =AVERAGE(รายเดือน!IC9:IE9) -> 15243.171 | CD10: =AVERAGE(รายเดือน!IF9:IH9) -> 15119.03 | CE10: =AVERAGE(รายเดือน!II9:IK9) -> 15160.59 | CF10: =AVERAGE(รายเดือน!IL9:IN9) -> 15492.192 | CG10: =AVERAGE(รายเดือน!IO9:IQ9) -> 15014.479 | CH10: =AVERAGE(รายเดือน!IR9:IT9) -> 14435.449 | CI10: =AVERAGE(รายเดือน!IU9:IW9) -> 15761.607 | CJ10: =AVERAGE(รายเดือน!IX9:IZ9) -> 16134.626
A11: ข้าวเปลือกเหนียวเมล็ดยาว | B11: บาท/ตัน | C11: =AVERAGE(รายเดือน!C10:E10) -> 5969.3333 | D11: =AVERAGE(รายเดือน!F10:H10) -> 6071 | E11: =AVERAGE(รายเดือน!I10:K10) -> 6091.6667 | F11: =AVERAGE(รายเดือน!L10:N10) -> 5741 | G11: =AVERAGE(รายเดือน!O10:Q10) -> 6326.6667 | H11: =AVERAGE(รายเดือน!R10:T10) -> 6806.3333 | I11: =AVERAGE(รายเดือน!U10:W10) -> 8735 | J11: =AVERAGE(รายเดือน!X10:Z10) -> 9200.3333 | K11: =AVERAGE(รายเดือน!AA10:AC10) -> 10295.333 | L11: =AVERAGE(รายเดือน!AD10:AF10) -> 10990.333 | M11: =AVERAGE(รายเดือน!AG10:AI10) -> 12135.667 | N11: =AVERAGE(รายเดือน!AJ10:AL10) -> 10242 | O11: =AVERAGE(รายเดือน!AM10:AO10) -> 8561.6667 | P11: =AVERAGE(รายเดือน!AP10:AR10) -> 9852.6667 | Q11: =AVERAGE(รายเดือน!AS10:AU10) -> 7466.3333 | R11: =AVERAGE(รายเดือน!AV10:AX10) -> 6389.3333 | S11: =AVERAGE(รายเดือน!AY10:BA10) -> 7641.6667 | T11: =AVERAGE(รายเดือน!BB10:BD10) -> 7338 | U11: =AVERAGE(รายเดือน!BE10:BG10) -> 7302.6667 | V11: =AVERAGE(รายเดือน!BH10:BJ10) -> 9237.6667 | W11: =AVERAGE(รายเดือน!BK10:BM10) -> 11448.333 | X11: =AVERAGE(รายเดือน!BN10:BP10) -> 11652.333 | Y11: =AVERAGE(รายเดือน!BQ10:BS10) -> 15184 | Z11: =AVERAGE(รายเดือน!BT10:BV10) -> 15283.333 | AA11: =AVERAGE(รายเดือน!BW10:BY10) -> 14374.333 | AB11: =AVERAGE(รายเดือน!BZ10:CB10) -> 15116.333 | AC11: =AVERAGE(รายเดือน!CC10:CE10) -> 15497.333 | AD11: =AVERAGE(รายเดือน!CF10:CH10) -> 13846.802 | AE11: =AVERAGE(รายเดือน!CI10:CK10) -> 13047.333 | AF11: =AVERAGE(รายเดือน!CL10:CN10) -> 12791.667 | AG11: =AVERAGE(รายเดือน!CO10:CQ10) -> 12910.333 | AH11: =AVERAGE(รายเดือน!CR10:CT10) -> 12011.333 | AI11: =AVERAGE(รายเดือน!CU10:CW10) -> 12643.333 | AJ11: =AVERAGE(รายเดือน!CX10:CZ10) -> 12945 | AK11: =AVERAGE(รายเดือน!DA10:DC10) -> 13193.667 | AL11: =AVERAGE(รายเดือน!DD10:DF10) -> 12682 | AM11: =AVERAGE(รายเดือน!DG10:DI10) -> 12104.667 | AN11: =AVERAGE(รายเดือน!DJ10:DL10) -> 12339.667 | AO11: =AVERAGE(รายเดือน!DM10:DO10) -> 12561.333 | AP11: =AVERAGE(รายเดือน!DP10:DR10) -> 10419 | AQ11: =AVERAGE(รายเดือน!DS10:DU10) -> 10753 | AR11: =AVERAGE(รายเดือน!DV10:DX10) -> 11137 | AS11: =AVERAGE(รายเดือน!DY10:EA10) -> 11845 | AT11: =AVERAGE(รายเดือน!EB10:ED10) -> 11727.333 | AU11: =AVERAGE(รายเดือน!EE10:EG10) -> 11608 | AV11: =AVERAGE(รายเดือน!EH10:EJ10) -> 12631.333 | AW11: =AVERAGE(รายเดือน!EK10:EM10) -> 13003 | AX11: =AVERAGE(รายเดือน!EN10:EP10) -> 10988.556 | AY11: =AVERAGE(รายเดือน!EQ10:ES10) -> 10866.918 | AZ11: =AVERAGE(รายเดือน!ET10:EV10) -> 10577.981 | BA11: =AVERAGE(รายเดือน!EW10:EY10) -> 10156.589 | BB11: =AVERAGE(รายเดือน!EZ10:FB10) -> 8995.6435 | BC11: =AVERAGE(รายเดือน!FC10:FE10) -> 9586.3024 | BD11: =AVERAGE(รายเดือน!FF10:FH10) -> 9324.3351 | BE11: =AVERAGE(รายเดือน!FI10:FK10) -> 9104.4878 | BF11: =AVERAGE(รายเดือน!FL10:FN10) -> 9668.6924 | BG11: =AVERAGE(รายเดือน!FO10:FQ10) -> 10120.401 | BH11: =AVERAGE(รายเดือน!FR10:FT10) -> 11315.015 | BI11: =AVERAGE(รายเดือน!FU10:FW10) -> 13086.866 | BJ11: =AVERAGE(รายเดือน!FX10:FZ10) -> 14164.382 | BK11: =AVERAGE(รายเดือน!GA10:GC10) -> 14607.366 | BL11: =AVERAGE(รายเดือน!GD10:GF10) -> 15669.798 | BM11: =AVERAGE(รายเดือน!GG10:GI10) -> 15420.389 | BN11: =AVERAGE(รายเดือน!GJ10:GL10) -> 10962.305 | BO11: =AVERAGE(รายเดือน!GM10:GO10) -> 10668.762 | BP11: =AVERAGE(รายเดือน!GP10:GR10) -> 10553.871 | BQ11: =AVERAGE(รายเดือน!GS10:GU10) -> 9159.0241 | BR11: =AVERAGE(รายเดือน!GV10:GX10) -> 7774.6875 | BS11: =AVERAGE(รายเดือน!GY10:HA10) -> 9106.5314 | BT11: =AVERAGE(รายเดือน!HB10:HD10) -> 8902.2349 | BU11: =AVERAGE(รายเดือน!HE10:HG10) -> 9150.9305 | BV11: =AVERAGE(รายเดือน!HH10:HJ10) -> 9751.9666 | BW11: =AVERAGE(รายเดือน!HK10:HM10) -> 10639.757 | BX11: =AVERAGE(รายเดือน!HN10:HP10) -> 11000.784 | BY11: =AVERAGE(รายเดือน!HQ10:HS10) -> 11959.284 | BZ11: =AVERAGE(รายเดือน!HT10:HV10) -> 12013.064 | CA11: =AVERAGE(รายเดือน!HW10:HY10) -> 11303.091 | CB11: =AVERAGE(รายเดือน!HZ10:IB10) -> 12179.791 | CC11: =AVERAGE(รายเดือน!IC10:IE10) -> 12574.367 | CD11: =AVERAGE(รายเดือน!IF10:IH10) -> 12435.291 | CE11: =AVERAGE(รายเดือน!II10:IK10) -> 12454.644 | CF11: =AVERAGE(รายเดือน!IL10:IN10) -> 12571.485 | CG11: =AVERAGE(รายเดือน!IO10:IQ10) -> 11943.492 | CH11: =AVERAGE(รายเดือน!IR10:IT10) -> 10689.138 | CI11: =AVERAGE(รายเดือน!IU10:IW10) -> 11414.838 | CJ11: =AVERAGE(รายเดือน!IX10:IZ10) -> 11732.828
A12: อ้อยโรงงาน | B12: บาท/ตัน | C12: =AVERAGE(รายเดือน!C11:E11) -> 522 | D12: =AVERAGE(รายเดือน!F11:H11) -> 520 | E12: =AVERAGE(รายเดือน!I11:K11) -> 520 | F12: =AVERAGE(รายเดือน!L11:N11) -> 624.66667 | G12: =AVERAGE(รายเดือน!O11:Q11) -> 698 | H12: =AVERAGE(รายเดือน!R11:T11) -> 652 | I12: =AVERAGE(รายเดือน!U11:W11) -> 652 | J12: =AVERAGE(รายเดือน!X11:Z11) -> 661.33333 | K12: =AVERAGE(รายเดือน!AA11:AC11) -> 683 | L12: =AVERAGE(รายเดือน!AD11:AF11) -> 634.33333 | M12: =AVERAGE(รายเดือน!AG11:AI11) -> 620 | N12: =AVERAGE(รายเดือน!AJ11:AL11) -> 594.33333 | O12: =AVERAGE(รายเดือน!AM11:AO11) -> 588 | P12: =AVERAGE(รายเดือน!AP11:AR11) -> 639 | Q12: =AVERAGE(รายเดือน!AS11:AU11) -> 675 | R12: =AVERAGE(รายเดือน!AV11:AX11) -> 678.33333 | S12: =AVERAGE(รายเดือน!AY11:BA11) -> 707.33333 | T12: =AVERAGE(รายเดือน!BB11:BD11) -> 751 | U12: =AVERAGE(รายเดือน!BE11:BG11) -> 751 | V12: =AVERAGE(รายเดือน!BH11:BJ11) -> 809.33333 | W12: =AVERAGE(รายเดือน!BK11:BM11) -> 876 | X12: =AVERAGE(รายเดือน!BN11:BP11) -> 1009 | Y12: =AVERAGE(รายเดือน!BQ11:BS11) -> 1009 | Z12: =AVERAGE(รายเดือน!BT11:BV11) -> 894.23 | AA12: =AVERAGE(รายเดือน!BW11:BY11) -> 932.66667 | AB12: =AVERAGE(รายเดือน!BZ11:CB11) -> 923 | AC12: =AVERAGE(รายเดือน!CC11:CE11) -> 910 | AD12: =AVERAGE(รายเดือน!CF11:CH11) -> 954 | AE12: =AVERAGE(รายเดือน!CI11:CK11) -> 955.33333 | AF12: =AVERAGE(รายเดือน!CL11:CN11) -> 969.66667 | AG12: =AVERAGE(รายเดือน!CO11:CQ11) -> 974 | AH12: =AVERAGE(รายเดือน!CR11:CT11) -> 953.66667 | AI12: =AVERAGE(รายเดือน!CU11:CW11) -> 918 | AJ12: =AVERAGE(รายเดือน!CX11:CZ11) -> 1020 | AK12: =AVERAGE(รายเดือน!DA11:DC11) -> 1028 | AL12: =AVERAGE(รายเดือน!DD11:DF11) -> 897.66667 | AM12: =AVERAGE(รายเดือน!DG11:DI11) -> 868.66667 | AN12: =AVERAGE(รายเดือน!DJ11:DL11) -> 948 | AO12: =AVERAGE(รายเดือน!DM11:DO11) -> 958 | AP12: =AVERAGE(รายเดือน!DP11:DR11) -> 897.33333 | AQ12: =AVERAGE(รายเดือน!DS11:DU11) -> 850.33333 | AR12: =AVERAGE(รายเดือน!DV11:DX11) -> 838.33333 | AS12: =AVERAGE(รายเดือน!DY11:EA11) -> 777 | AT12: =AVERAGE(รายเดือน!EB11:ED11) -> 720.33333 | AU12: =AVERAGE(รายเดือน!EE11:EG11) -> 757.66667 | AV12: =AVERAGE(รายเดือน!EH11:EJ11) -> 708.66667 | AW12: =AVERAGE(รายเดือน!EK11:EM11) -> 712 | AX12: =AVERAGE(รายเดือน!EN11:EP11) -> 823.74413 | AY12: =AVERAGE(รายเดือน!EQ11:ES11) -> 975.60031 | AZ12: =AVERAGE(รายเดือน!ET11:EV11) -> 999.51748 | BA12: =AVERAGE(รายเดือน!EW11:EY11) -> 999.51748 | BB12: =AVERAGE(รายเดือน!EZ11:FB11) -> 915.65748 | BC12: =AVERAGE(รายเดือน!FC11:FE11) -> 771.62482 | BD12: =AVERAGE(รายเดือน!FF11:FH11) -> 792.15376 | BE12: =AVERAGE(รายเดือน!FI11:FK11) -> 812.15798 | BF12: =AVERAGE(รายเดือน!FL11:FN11) -> 677.73987 | BG12: =AVERAGE(รายเดือน!FO11:FQ11) -> 592.56449 | BH12: =AVERAGE(รายเดือน!FR11:FT11) -> 683.31909 | BI12: =AVERAGE(รายเดือน!FU11:FW11) -> 712.13199 | BJ12: =AVERAGE(รายเดือน!FX11:FZ11) -> 684.57021 | BK12: =AVERAGE(รายเดือน!GA11:GC11) -> 695.00665 | BL12: =AVERAGE(รายเดือน!GD11:GF11) -> 713.48748 | BM12: =AVERAGE(รายเดือน!GG11:GI11) -> 713.48748 | BN12: =AVERAGE(รายเดือน!GJ11:GL11) -> 745.08665 | BO12: =AVERAGE(รายเดือน!GM11:GO11) -> 905.98898 | BP12: =AVERAGE(รายเดือน!GP11:GR11) -> 929.71198 | BQ12: =AVERAGE(รายเดือน!GS11:GU11) -> 929.71198 | BR12: =AVERAGE(รายเดือน!GV11:GX11) -> 949.48631 | BS12: =AVERAGE(รายเดือน!GY11:HA11) -> 1056.27 | BT12: =AVERAGE(รายเดือน!HB11:HD11) -> 1072.8875 | BU12: =AVERAGE(รายเดือน!HE11:HG11) -> 1072.8875 | BV12: =AVERAGE(รายเดือน!HH11:HJ11) -> 1091.7433 | BW12: =AVERAGE(รายเดือน!HK11:HM11) -> 1123.1716 | BX12: =AVERAGE(รายเดือน!HN11:HP11) -> 1161.72 | BY12: =AVERAGE(รายเดือน!HQ11:HS11) -> 1161.72 | BZ12: =AVERAGE(รายเดือน!HT11:HV11) -> 1216.6566 | CA12: =AVERAGE(รายเดือน!HW11:HY11) -> 1447.4291 | CB12: =AVERAGE(รายเดือน!HZ11:IB11) -> 1494.4225 | CC12: =AVERAGE(รายเดือน!IC11:IE11) -> 1494.4225 | CD12: =AVERAGE(รายเดือน!IF11:IH11) -> 1365.6183 | CE12: =AVERAGE(รายเดือน!II11:IK11) -> 1131.4966 | CF12: =AVERAGE(รายเดือน!IL11:IN11) -> 1167.4499 | CG12: =AVERAGE(รายเดือน!IO11:IQ11) -> 1167.4499 | CH12: =AVERAGE(รายเดือน!IR11:IT11) -> 1090.5883 | CI12: =AVERAGE(รายเดือน!IU11:IW11) -> 878.75481 | CJ12: =AVERAGE(รายเดือน!IX11:IZ11) -> 881.31198
A13: มันสำปะหลังสดคละ | B13: บาท/กก. | C13: =AVERAGE(รายเดือน!C12:E12) -> 1.39 | D13: =AVERAGE(รายเดือน!F12:H12) -> 1.3933333 | E13: =AVERAGE(รายเดือน!I12:K12) -> 1.3333333 | F13: =AVERAGE(รายเดือน!L12:N12) -> 1.2933333 | G13: =AVERAGE(รายเดือน!O12:Q12) -> 1.3466667 | H13: =AVERAGE(รายเดือน!R12:T12) -> 1.0533333 | I13: =AVERAGE(รายเดือน!U12:W12) -> 0.94666667 | J13: =AVERAGE(รายเดือน!X12:Z12) -> 1 | K13: =AVERAGE(รายเดือน!AA12:AC12) -> 1.17 | L13: =AVERAGE(รายเดือน!AD12:AF12) -> 1.27 | M13: =AVERAGE(รายเดือน!AG12:AI12) -> 1.6766667 | N13: =AVERAGE(รายเดือน!AJ12:AL12) -> 1.7233333 | O13: =AVERAGE(รายเดือน!AM12:AO12) -> 2.0933333 | P13: =AVERAGE(รายเดือน!AP12:AR12) -> 2.1166667 | Q13: =AVERAGE(รายเดือน!AS12:AU12) -> 1.74 | R13: =AVERAGE(รายเดือน!AV12:AX12) -> 1.2733333 | S13: =AVERAGE(รายเดือน!AY12:BA12) -> 1.17 | T13: =AVERAGE(รายเดือน!BB12:BD12) -> 1.1233333 | U13: =AVERAGE(รายเดือน!BE12:BG12) -> 1.22 | V13: =AVERAGE(รายเดือน!BH12:BJ12) -> 1.4933333 | W13: =AVERAGE(รายเดือน!BK12:BM12) -> 1.8633333 | X13: =AVERAGE(รายเดือน!BN12:BP12) -> 2.18 | Y13: =AVERAGE(รายเดือน!BQ12:BS12) -> 2.7033333 | Z13: =AVERAGE(รายเดือน!BT12:BV12) -> 2.5666667 | AA13: =AVERAGE(รายเดือน!BW12:BY12) -> 2.9033333 | AB13: =AVERAGE(รายเดือน!BZ12:CB12) -> 2.5066667 | AC13: =AVERAGE(รายเดือน!CC12:CE12) -> 1.98 | AD13: =AVERAGE(รายเดือน!CF12:CH12) -> 2.1333333 | AE13: =AVERAGE(รายเดือน!CI12:CK12) -> 1.96 | AF13: =AVERAGE(รายเดือน!CL12:CN12) -> 1.8866667 | AG13: =AVERAGE(รายเดือน!CO12:CQ12) -> 2.06 | AH13: =AVERAGE(รายเดือน!CR12:CT12) -> 2.1566667 | AI13: =AVERAGE(รายเดือน!CU12:CW12) -> 2.08 | AJ13: =AVERAGE(รายเดือน!CX12:CZ12) -> 2.2233333 | AK13: =AVERAGE(รายเดือน!DA12:DC12) -> 2.1433333 | AL13: =AVERAGE(รายเดือน!DD12:DF12) -> 2.0733333 | AM13: =AVERAGE(รายเดือน!DG12:DI12) -> 2.2 | AN13: =AVERAGE(รายเดือน!DJ12:DL12) -> 2.1133333 | AO13: =AVERAGE(รายเดือน!DM12:DO12) -> 1.9033333 | AP13: =AVERAGE(รายเดือน!DP12:DR12) -> 2.1966667 | AQ13: =AVERAGE(รายเดือน!DS12:DU12) -> 2.2033333 | AR13: =AVERAGE(รายเดือน!DV12:DX12) -> 2.1533333 | AS13: =AVERAGE(รายเดือน!DY12:EA12) -> 2.2566667 | AT13: =AVERAGE(รายเดือน!EB12:ED12) -> 2.01 | AU13: =AVERAGE(รายเดือน!EE12:EG12) -> 1.81 | AV13: =AVERAGE(รายเดือน!EH12:EJ12) -> 1.73 | AW13: =AVERAGE(รายเดือน!EK12:EM12) -> 1.2633333 | AX13: =AVERAGE(รายเดือน!EN12:EP12) -> 1.281 | AY13: =AVERAGE(รายเดือน!EQ12:ES12) -> 1.5055 | AZ13: =AVERAGE(รายเดือน!ET12:EV12) -> 1.2025 | BA13: =AVERAGE(รายเดือน!EW12:EY12) -> 1.226 | BB13: =AVERAGE(รายเดือน!EZ12:FB12) -> 1.6758333 | BC13: =AVERAGE(รายเดือน!FC12:FE12) -> 2.1641666 | BD13: =AVERAGE(รายเดือน!FF12:FH12) -> 2.5098333 | BE13: =AVERAGE(รายเดือน!FI12:FK12) -> 2.4153333 | BF13: =AVERAGE(รายเดือน!FL12:FN12) -> 2.4299444 | BG13: =AVERAGE(รายเดือน!FO12:FQ12) -> 2.1771666 | BH13: =AVERAGE(รายเดือน!FR12:FT12) -> 1.8611666 | BI13: =AVERAGE(รายเดือน!FU12:FW12) -> 1.6643333 | BJ13: =AVERAGE(รายเดือน!FX12:FZ12) -> 1.8567777 | BK13: =AVERAGE(รายเดือน!GA12:GC12) -> 1.9196666 | BL13: =AVERAGE(รายเดือน!GD12:GF12) -> 1.6736666 | BM13: =AVERAGE(รายเดือน!GG12:GI12) -> 1.71 | BN13: =AVERAGE(รายเดือน!GJ12:GL12) -> 1.8825 | BO13: =AVERAGE(รายเดือน!GM12:GO12) -> 2.0781666 | BP13: =AVERAGE(รายเดือน!GP12:GR12) -> 1.9716666 | BQ13: =AVERAGE(รายเดือน!GS12:GU12) -> 2.0368333 | BR13: =AVERAGE(รายเดือน!GV12:GX12) -> 2.1819999 | BS13: =AVERAGE(รายเดือน!GY12:HA12) -> 2.2966666 | BT13: =AVERAGE(รายเดือน!HB12:HD12) -> 2.4932222 | BU13: =AVERAGE(รายเดือน!HE12:HG12) -> 2.7008333 | BV13: =AVERAGE(รายเดือน!HH12:HJ12) -> 2.5966666 | BW13: =AVERAGE(รายเดือน!HK12:HM12) -> 2.87 | BX13: =AVERAGE(รายเดือน!HN12:HP12) -> 3.0095555 | BY13: =AVERAGE(รายเดือน!HQ12:HS12) -> 2.8239999 | BZ13: =AVERAGE(รายเดือน!HT12:HV12) -> 2.9209999 | CA13: =AVERAGE(รายเดือน!HW12:HY12) -> 3.0408333 | CB13: =AVERAGE(รายเดือน!HZ12:IB12) -> 2.3516666 | CC13: =AVERAGE(รายเดือน!IC12:IE12) -> 1.924 | CD13: =AVERAGE(รายเดือน!IF12:IH12) -> 2.0125 | CE13: =AVERAGE(รายเดือน!II12:IK12) -> 1.7893333 | CF13: =AVERAGE(รายเดือน!IL12:IN12) -> 1.4372777 | CG13: =AVERAGE(รายเดือน!IO12:IQ12) -> 1.6603333 | CH13: =AVERAGE(รายเดือน!IR12:IT12) -> 1.9683333 | CI13: =AVERAGE(รายเดือน!IU12:IW12) -> 2.327 | CJ13: =AVERAGE(รายเดือน!IX12:IZ12) -> 2.5767777
A14: ข้าวโพดเลี้ยงสัตว์ ความชื้น 14.5% | B14: บาท/กก. | C14: =AVERAGE(รายเดือน!C13:E13) -> 4.98 | D14: =AVERAGE(รายเดือน!F13:H13) -> 4.8866667 | E14: =AVERAGE(รายเดือน!I13:K13) -> 4.89 | F14: =AVERAGE(รายเดือน!L13:N13) -> 4.7366667 | G14: =AVERAGE(รายเดือน!O13:Q13) -> 4.7666667 | H14: =AVERAGE(รายเดือน!R13:T13) -> 5.4766667 | I14: =AVERAGE(รายเดือน!U13:W13) -> 5.34 | J14: =AVERAGE(รายเดือน!X13:Z13) -> 5.5166667 | K14: =AVERAGE(รายเดือน!AA13:AC13) -> 6.8833333 | L14: =AVERAGE(รายเดือน!AD13:AF13) -> 6.8266667 | M14: =AVERAGE(รายเดือน!AG13:AI13) -> 6.27 | N14: =AVERAGE(รายเดือน!AJ13:AL13) -> 7.2566667 | O14: =AVERAGE(รายเดือน!AM13:AO13) -> 7.85 | P14: =AVERAGE(รายเดือน!AP13:AR13) -> 8.35 | Q14: =AVERAGE(รายเดือน!AS13:AU13) -> 8.7 | R14: =AVERAGE(รายเดือน!AV13:AX13) -> 6.5033333 | S14: =AVERAGE(รายเดือน!AY13:BA13) -> 6.4066667 | T14: =AVERAGE(รายเดือน!BB13:BD13) -> 6.55 | U14: =AVERAGE(รายเดือน!BE13:BG13) -> 5.5666667 | V14: =AVERAGE(รายเดือน!BH13:BJ13) -> 6.03 | W14: =AVERAGE(รายเดือน!BK13:BM13) -> 7.2366667 | X14: =AVERAGE(รายเดือน!BN13:BP13) -> 8.3166667 | Y14: =AVERAGE(รายเดือน!BQ13:BS13) -> 8.39 | Z14: =AVERAGE(รายเดือน!BT13:BV13) -> 7.9433333 | AA14: =AVERAGE(รายเดือน!BW13:BY13) -> 8.3166667 | AB14: =AVERAGE(รายเดือน!BZ13:CB13) -> 8.54 | AC14: =AVERAGE(รายเดือน!CC13:CE13) -> 7.5566667 | AD14: =AVERAGE(รายเดือน!CF13:CH13) -> 8.23 | AE14: =AVERAGE(รายเดือน!CI13:CK13) -> 8.5866667 | AF14: =AVERAGE(รายเดือน!CL13:CN13) -> 9.0766667 | AG14: =AVERAGE(รายเดือน!CO13:CQ13) -> 9.48 | AH14: =AVERAGE(รายเดือน!CR13:CT13) -> 9.05 | AI14: =AVERAGE(รายเดือน!CU13:CW13) -> 8.7566667 | AJ14: =AVERAGE(รายเดือน!CX13:CZ13) -> 8.5866667 | AK14: =AVERAGE(รายเดือน!DA13:DC13) -> 7.6066667 | AL14: =AVERAGE(รายเดือน!DD13:DF13) -> 6.6366667 | AM14: =AVERAGE(รายเดือน!DG13:DI13) -> 6.6766667 | AN14: =AVERAGE(รายเดือน!DJ13:DL13) -> 7.36 | AO14: =AVERAGE(รายเดือน!DM13:DO13) -> 7.44 | AP14: =AVERAGE(รายเดือน!DP13:DR13) -> 7.4866667 | AQ14: =AVERAGE(รายเดือน!DS13:DU13) -> 8.5066667 | AR14: =AVERAGE(รายเดือน!DV13:DX13) -> 8.2566667 | AS14: =AVERAGE(รายเดือน!DY13:EA13) -> 7.9133333 | AT14: =AVERAGE(รายเดือน!EB13:ED13) -> 7.41 | AU14: =AVERAGE(รายเดือน!EE13:EG13) -> 7.89 | AV14: =AVERAGE(รายเดือน!EH13:EJ13) -> 7.7033333 | AW14: =AVERAGE(รายเดือน!EK13:EM13) -> 7.58 | AX14: =AVERAGE(รายเดือน!EN13:EP13) -> 6.0921665 | AY14: =AVERAGE(รายเดือน!EQ13:ES13) -> 6.3343332 | AZ14: =AVERAGE(รายเดือน!ET13:EV13) -> 6.1239998 | BA14: =AVERAGE(รายเดือน!EW13:EY13) -> 5.9149999 | BB14: =AVERAGE(รายเดือน!EZ13:FB13) -> 6.3183333 | BC14: =AVERAGE(รายเดือน!FC13:FE13) -> 8.2009998 | BD14: =AVERAGE(รายเดือน!FF13:FH13) -> 8.5321664 | BE14: =AVERAGE(รายเดือน!FI13:FK13) -> 6.8366665 | BF14: =AVERAGE(รายเดือน!FL13:FN13) -> 8.1105553 | BG14: =AVERAGE(รายเดือน!FO13:FQ13) -> 8.4058331 | BH14: =AVERAGE(รายเดือน!FR13:FT13) -> 7.710222 | BI14: =AVERAGE(รายเดือน!FU13:FW13) -> 7.4838332 | BJ14: =AVERAGE(รายเดือน!FX13:FZ13) -> 7.6366665 | BK14: =AVERAGE(รายเดือน!GA13:GC13) -> 7.5648332 | BL14: =AVERAGE(รายเดือน!GD13:GF13) -> 7.7094998 | BM14: =AVERAGE(รายเดือน!GG13:GI13) -> 7.7388332 | BN14: =AVERAGE(รายเดือน!GJ13:GL13) -> 7.6743332 | BO14: =AVERAGE(รายเดือน!GM13:GO13) -> 8.1198332 | BP14: =AVERAGE(รายเดือน!GP13:GR13) -> 7.8978887 | BQ14: =AVERAGE(รายเดือน!GS13:GU13) -> 8.0808331 | BR14: =AVERAGE(รายเดือน!GV13:GX13) -> 8.7119998 | BS14: =AVERAGE(รายเดือน!GY13:HA13) -> 8.9616664 | BT14: =AVERAGE(รายเดือน!HB13:HD13) -> 10.170611 | BU14: =AVERAGE(รายเดือน!HE13:HG13) -> 9.8189998 | BV14: =AVERAGE(รายเดือน!HH13:HJ13) -> 10.297 | BW14: =AVERAGE(รายเดือน!HK13:HM13) -> 11.288333 | BX14: =AVERAGE(รายเดือน!HN13:HP13) -> 10.728111 | BY14: =AVERAGE(รายเดือน!HQ13:HS13) -> 9.7186664 | BZ14: =AVERAGE(รายเดือน!HT13:HV13) -> 8.9808331 | CA14: =AVERAGE(รายเดือน!HW13:HY13) -> 8.8683331 | CB14: =AVERAGE(รายเดือน!HZ13:IB13) -> 8.6433331 | CC14: =AVERAGE(รายเดือน!IC13:IE13) -> 8.8304998 | CD14: =AVERAGE(รายเดือน!IF13:IH13) -> 8.2624998 | CE14: =AVERAGE(รายเดือน!II13:IK13) -> 8.6554998 | CF14: =AVERAGE(รายเดือน!IL13:IN13) -> 8.6566109 | CG14: =AVERAGE(รายเดือน!IO13:IQ13) -> 7.8249998 | CH14: =AVERAGE(รายเดือน!IR13:IT13) -> 7.8199998 | CI14: =AVERAGE(รายเดือน!IU13:IW13) -> 7.8586665 | CJ14: =AVERAGE(รายเดือน!IX13:IZ13) -> 8.3181665
